{"text_format":"1","workbook":"xlsx","n_sheets":25,"sheets":["Introduction","Project Information","PHIUS","Certificate & Label Data Review","Must Correct Report","Verification Phase","1a. Rater Design Checklist","1b. Rater Field Checklist","2. Unit Testing Results","3a. Common Area Ventilation","3b. Central Exhaust Duct Test","4. Appliances","5. Envelope Compliance Options","5a. Envelope R-Values","5b. Envelope U-Factors","5c. Total UA Compliance","6. Fenestration","7. Heated Plenum or Garage","8. DHW_SHW Schedule","9. Heating and Cooling Schedule","10. Lighting","10. Lighting APC","11. Ventilation Schedule","Reference Tables","Dropdowns"],"not_rendered":{"charts":0,"images":6,"macros":1,"external_links":1,"defined_names":23,"comments":5,"pivot_tables":0},"unopened":[],"bounds":{"document_bytes":16777216,"sheet_cells":100000,"rows_first":2000,"rows_last":500,"rows_between":2000,"halvings":0,"cell_chars":16384,"cell_head_chars":4096},"cells_cut":0,"cells_raw":0,"read":"whole","date_system":"1900"}

{"sheet":"Introduction","index":0,"n_rows":44,"n_cols":4,"rows_kept":44,"cut":false,"hidden":false,"merged":[[40,1,40,2],[5,1,5,3],[29,1,29,2],[30,1,30,2],[3,2,3,3]]}
[]
[null,"ENERGY STAR Multifamily New Construction, Version 1, Revision 02: Multifamily Workbook Edition 01"]
[]
[null,"Introduction: ","This entire spreadsheet is optional for ERI path projects, but it may be useful for project teams looking for alternate tracking options. It is submitted to the MRO initially to document compliance with requirements at Design, and then again after construction is complete. All information provided at Proposed Design enables the MRO to comment on whether the item is designed for compliance. Where information is not provided or is not adequately described at Proposed Design, MRO may at their discretion approve the submittal or request a re-submission. Items required to be completed at Design, are indicated below in the Tab Instructions and/or on each tab.\n\nWhile the Rater attests that each requirement is met by checking a box and providing photo documentation, these tabs allow the MRO to verify that the checklist requirements have been met, where photos may not be effective/efficient. Worksheets may be unprotected without a password, but it is not recommended.\n\nAs needed, EPA will update and release new versions of this Multifamily Workbook.\n\nHave suggestions or need help? Send questions and comments to the ENERGY STAR Homes & Apartments team at energystarhomes@energystar.gov "]
[]
[null,"Table of Contents"]
[null,"Tab Number","Tab Name","Tab Instructions"]
[null,null,"Project Information","Enter general project information in this tab. This information will autopopulate tabs throughout the workbook."]
[null,null,"Must Correct Report","Select the 'Generate MC Report' button on the Rater Design Checklist or the Rater Field Checklist tabs to unhide the report. Update report to share Must Correct items with your project team."]
[null,null,"Verification Phase","Select the 'Generate VP Report' button on the Rater Field Checklist tab to unhide the report. Update report to share note the Verification Phase checklist items fall under. Print to share report with your project team."]
[null,null,"PHIUS","Projects pursuing PHIUS should select 'Yes' on the Project Information tab (J8). Populate energy details for the project to demonstrate 6,500 kWh/yr per person (without renewables)."]
[null,"1a","Rater Design Checklist","Use buttons at the top to enter project details. Applicable checklist items will display. Use the Show Footnote(s)/Hide Footnote(s) buttons to display applicable footnotes as needed. View is optimized for 100% Zoom. Must have Rater Verified column completed at Proposed Design submittal. This tab is not reviewed during the As-Built submittal."]
[null,"1b","Rater Field Checklist","Use buttons at the top to enter project details. Applicable checklist items will display. Use the Show Footnote(s)/Hide Footnote(s) buttons to display applicable footnotes as needed. View is optimized for 100% Zoom. This tab is only reviewed during the As-Built submittal."]
[null,2,"Unit Testing Results","Enter data/test results into yellow and orange cells. See instructions on each tab for further details. The Unit Types table is required to be completed at Proposed Design Submittal."]
[null,"3a","Common Area Ventilation","Enter design values into yellow cells, for the Proposed Design submittal, and tested values for the As-Built Submittal. See instructions on each tab for further details."]
[null,"3b","Central Exhaust Duct Test","Enter data into yellow/orange cells, for the Proposed Design submittal, and tested values for the As-Built Submittal. See instructions on each tab for further details."]
[null,4,"Appliances","Enter data into yellow and orange cells. See instructions on each tab for further details."]
[null,5,"Envelope Compliance Options","Use this tab to indicate how envelope compliance will be calculated (R, U, or Total UA)."]
[null,"5a","Envelope R-Values","Enter data into yellow and orange cells. See instructions on each tab for further details."]
[null,"5b","Envelope U-Factors","Enter data into yellow and orange cells. See instructions on each tab for further details."]
[null,"5c","Total UA Compliance","Enter data into yellow and orange cells. See instructions on each tab for further details."]
[null,6,"Fenestration","Enter data into yellow and orange cells. See instructions on each tab for further details."]
[null,7,"Heated Plenum or Garage","Enter data into yellow and orange cells. See instructions on each tab for further details."]
[null,8,"DHW/SHW Schedule","Enter data into yellow and orange cells. See instructions on each tab for further details."]
[null,9,"Heating and Cooling Schedule","Enter data into yellow and orange cells. See instructions on each tab for further details."]
[null,10,"Lighting","Enter data into yellow and orange cells. See instructions on each tab for further details."]
[null,11,"Ventilation Schedule","Enter data into yellow and orange cells. See instructions on each tab for further details."]
[null,null,"Reference Tables","Use to refer to Footnote tables and workbook lookup tables."]
[]
[null,"Cell Colors"]
[null,"Enter Project Information"]
[null,"Yellow","Proposed Design Submittal (PDS) - Enter Data"]
[null,"Yellow","Proposed Design Submittal (PDS) - Dropdown Selection"]
[null,"Orange","As-Built Submittal (ABS) - Enter Data"]
[null,"Orange","As-Built Submittal (ABS) - Dropdown Selection"]
[null,"Blue","Optional - Enter data"]
[null,"Blue","Optional - Dropdown Selection"]
[null,"Gray","Enter Sampling Plan Details and Description"]
[null,null,"Add/Remove Rows or Columns to Tables"]
[]
[null,"Automated Cells - Do Not Update"]
[null,null,"Equation - Do not update"]
[null,"PASS","Requirement Passed"]
[null,"FAIL","Requirement Failed"]

{"sheet":"Project Information","index":1,"n_rows":34,"n_cols":10,"rows_kept":34,"cut":false,"hidden":false,"merged":[[1,2,1,10],[33,1,33,2],[33,3,33,7],[35,1,35,15],[30,3,30,7],[29,3,29,7],[30,1,30,2],[32,1,32,2],[32,3,32,7],[3,1,3,10],[14,1,14,7],[20,1,20,7],[25,1,25,7],[4,2,4,3],[5,2,5,3],[7,2,7,3],[4,6,4,7],[7,5,7,6],[15,5,15,7],[21,2,21,7],[22,2,22,7],[11,2,11,3],[8,3,8,9],[11,8,11,9],[9,7,9,8],[8,1,8,2],[9,2,9,3],[10,3,10,4],[10,8,10,9],[29,1,29,2],[15,2,15,3],[17,2,17,3],[27,3,27,7],[26,1,26,2],[27,1,27,2],[17,5,17,7],[26,3,26,7]]}
[]
[null,"Introduction: ","Insert general project information in this tab. This information will autopopulate tabs throughout the workbook.\n\nMROs can copy the summary table at the bottom of this page to into their reporting spreadsheet to submit projects to EPA."]
[]
[null,"Project Details"]
[null,"Project Name: ","Smith Crossing",null,null,"Permit Date: ","2020-06-25"]
[null,"Project Address: ","3248 Huger Street",null,"City: ","Columbia","State: ","SC"]
[]
[null,"Pathway: ","Prescriptive",null,"Version: \n(Prescriptive and ERI Only)","Version 1",null,null,"PHIUS?","Yes"]
[null,"Heating & Cooling Equipment Pathway:",null,"Track B - HVAC Testing by FT Agent"]
[null,"Stories:",5,null,"Climate Zone:","CZ 4",null,"Number of Buildings:",null,2]
[null,"Project Square Feet:",200000,"Number of Units: ",null,50,null,"Townhomes?","No"]
[null,"Market Sector: ","Market Rate",null,"Number of IAP Units: ",0,null,"Project Type:","New Construction"]
[]
[]
[null,"Builder / Developer Details"]
[null,"Builder / Developer 1\nCompany Name: ","Woodland & Burke",null,"Builder / Developer 1\nEmployee: ","Alice Doe"]
[]
[null,"Builder / Developer 2\nCompany Name: ",null,null,"Builder / Developer 2\nEmployee: "]
[]
[]
[null,"Rater Details"]
[null,"Rater Company Name: ","Green & Bean Verifiers"]
[null,"Rater Employee: ","Favia Pilaf"]
[]
[]
[null,"Other Professional Details"]
[null,"ASHRAE Modeler Company Name: ",null,"MEP & Sons"]
[null,"ASHRAE Modeler Employee: ",null,"Dave Saunders"]
[]
[null,"Functional Testing Agent Company Name: ",null,"TB Commissioning"]
[null,"Functional Testing (FT) Agent Employee: ",null,"Tyler Burke"]
[]
[null,"Licensed Professional Company Name: \n(Optional)                                        .   ",null,"Energy Design Services"]
[null,"Licensed Professional Employee: \n(Optional)                                        .   ",null,"Christopher Harte"]

{"sheet":"PHIUS","index":2,"n_rows":39,"n_cols":3,"rows_kept":39,"cut":false,"hidden":false,"merged":[[24,2,24,5],[3,1,3,5],[1,1,1,5],[26,1,26,5],[5,2,5,5],[6,2,6,5],[21,2,21,5],[22,2,22,5],[7,2,7,5],[8,2,8,5],[9,2,9,5],[10,2,10,5],[12,2,12,5],[13,2,13,5],[11,2,11,5],[14,2,14,5],[17,2,17,5],[20,2,20,5],[15,2,15,5],[16,2,16,5],[18,2,18,5],[19,2,19,5]]}
[]
[null,"ENERGY STAR Multifamily New Construction, Version 1, Revision 02: Multifamily Workbook Edition 03"]
[]
[null,"PHIUS+ 2018 Source Energy Report"]
[]
[null,"Project Name",{"$f":"'Project Information'!C5","v":"Smith Crossing"}]
[null,"Climate",{"$f":"'Project Information'!F10","v":"CZ 4"}]
[null,"Type"]
[null,"Interior conditioned floor area"]
[null,"Number of units",{"$f":"'Project Information'!F11","v":50}]
[null,"Occupants"]
[]
[null,"Source energy use"]
[null,"Specific source energy use"]
[]
[null,"Source energy use"]
[null,"Source energy use per person"]
[]
[null,"Net source energy use (with 100% renewables)"]
[null,"Specific net source energy use (with 100% renewables)"]
[]
[null,"New source energy use (with 100% renewables)"]
[null,"Specific source energy use per person (with 100% renewables)"]
[]
[null,"PHIUS+ Source Zero"]
[]
[null,"Total Use By Type"]
[null,"Type","Source energy\n[kWh/yr]"]
[null,"Space heating"]
[null,"Space cooling"]
[null,"Hot water"]
[null,"Auxiliary energy/fans"]
[null,"Appliances"]
[null,"Lighting"]
[null,"Miscellaneous loads"]
[null,"Renewable electricity production"]
[null,"Total (with 100% Renewables)",{"$f":"SUM(C29:C36)","v":0}]
[null,"Total (No Renewable)",{"$f":"SUM(C29:C35)","v":0}]
[null,"Total Source Energy (No Renewable) Per Person",{"$f":"IFERROR(C38/C11,\"\")","v":""}]

{"sheet":"Certificate & Label Data Review","index":3,"n_rows":105,"n_cols":31,"rows_kept":105,"cut":false,"hidden":true,"merged":[[6,24,7,24],[6,14,7,14],[6,15,7,15],[6,13,7,13],[6,17,7,17],[6,16,7,16],[6,18,7,18],[6,23,7,23],[6,22,7,22],[6,19,7,19],[6,21,7,21],[6,20,7,20],[6,30,7,30],[6,27,7,27],[6,25,7,25],[6,26,7,26],[6,28,7,28],[6,29,7,29],[1,6,1,21],[6,12,7,12],[6,1,6,4],[6,6,7,6],[6,7,7,7],[6,8,7,8],[6,9,7,9],[6,10,7,10],[6,11,7,11],[1,2,1,4]]}
[]
[null,null,"1b. Rater Field Checklist\nCount of Builder Verified Items",null,null,null,"EPA Reporting Tracker Details - Copy values in columns G:U\nNote: This table is to be used by MROs for EPA Reporting"]
[null,null,null,{"$f":"COUNTIFS(RaterFieldChecklist[Builder Verified 3],\"<>\",RaterFieldChecklist[Builder Verified 3],\"<>N/A\",RaterFieldChecklist[Builder Verified 3],\"<>-\")","v":2},null,null,"Builder / \nDev 1 ","Builder / \nDeveloper 2","Rater ","ASHRAE Modeler","FT Agent ","Project Name (optional)","Address","City","State","# units ","Sq Footage","MF Type","Version","MFNC Path ","Market Sector","# IAP units"]
[null,null,null,null,null,null,{"$f":"IF('Project Information'!$C$16=\"\",\"\",'Project Information'!$C$16)","v":"Woodland & Burke"},{"$f":"IF('Project Information'!$C$18=\"\",\"\",'Project Information'!$C$18)","v":""},{"$f":"IF('Project Information'!$C$22=\"\",\"\",'Project Information'!$C$22)","v":"Green & Bean Verifiers"},{"$f":"IF('Project Information'!$D$27=\"\",\"\",'Project Information'!$D$27)","v":"MEP & Sons"},{"$f":"IF('Project Information'!$D$30=\"\",\"\",'Project Information'!$D$30)","v":"TB Commissioning"},{"$f":"IF('Project Information'!$C$5=\"\",\"\",'Project Information'!$C$5)","v":"Smith Crossing"},{"$f":"IF('Project Information'!$C$6=\"\",\"\",'Project Information'!$C$6)","v":"3248 Huger Street"},{"$f":"IF('Project Information'!$F$6=\"\",\"\",'Project Information'!$F$6)","v":"Columbia"},{"$f":"IF('Project Information'!$H$6=\"\",\"\",'Project Information'!$H$6)","v":"SC"},{"$f":"IF('Project Information'!$F$11=\"\",\"\",'Project Information'!$F$11)","v":50},{"$f":"IF('Project Information'!$C$11=\"\",\"\",'Project Information'!$C$11)","v":200000},{"$f":"IF('Project Information'!$C$11=\"\",\"\",\nIF(OR('Project Information'!$C$11=1,'Project Information'!$C$11=2,'Project Information'!$C$11=3),\"Multifamily Low Rise\",\nIF(OR('Project Information'!$C$11=4,'Project Information'!$C$11>4),\"Multifamily High Rise\",\"\")))","v":"Multifamily High Rise"},{"$f":"IF('Project Information'!$F$8=\"\",\"\",'Project Information'!$F$8)","v":"Version 1"},{"$f":"IF('Project Information'!$C$8=\"\",\"\",'Project Information'!$C$8)","v":"Prescriptive"},{"$f":"IF('Project Information'!$C$12=\"\",\"\",'Project Information'!$C$12)","v":"Market Rate"},{"$f":"IF('Project Information'!$F$12=\"\",\"\",'Project Information'!$F$12)","v":0}]
[]
[]
[null,"UNIT DETAILS",null,null,null,null,"Infiltration Rate (ACH50)","Ceiling Insulation (R-Value)","Wall Insulation  (R-Value)","Floor Insulation  (R-Value)","Slab Insulation (R-Value)","Window U-Value","Window SHGC","Total Duct Leakage (CFM25 per 100 sq ft)","Duct Leakage to the Outdoors  (CFM25 per 100 sq ft)","Primary Heating System Type","Primary Heating Fuel","Primary Heating Efficiency","Primary Heating Efficiency Unit","Primary Cooling System Type","Primary Cooling Fuel","Primary Cooling Efficiency","Primary Cooling Efficiency Unit","Primary Hot Water System Type","Primary Hot Water Fuel","Primary Hot Water Efficiency (EF)","% ENERGY STAR Qualified Lighting","# ES Refrigerators","# ES Ceiling Fans","# ES Dishwashers","# ES Exhaust Fans"]
[null,"UNIT","UNIT TYPE","SQUARE FOOTAGE","ENCLOSURE AREA"]
[null,{"$f":"IF('2. Unit Testing Results'!$C21=\"\",\"\",'2. Unit Testing Results'!$C21)","v":101},{"$f":"IF('2. Unit Testing Results'!$D21=\"\",\"\",'2. Unit Testing Results'!$D21)","v":"A1"},{"$f":"IF('2. Unit Testing Results'!$E21=\"\",\"\",'2. Unit Testing Results'!$E21)","v":515},{"$f":"IF('2. Unit Testing Results'!$F21=\"\",\"\",'2. Unit Testing Results'!$F21)","v":1990},null,{"$f":"IF($B9=\"\",\"\",\n(('2. Unit Testing Results'!$X21)*60)\n/((VLOOKUP($C9,'2. Unit Testing Results'!$C$5:$S$13,4))*(VLOOKUP($C9,'2. Unit Testing Results'!$C$5:$S$13,6)))\n)","v":{"$error":"#VALUE!"}},{"$f":"IF($B9=\"\",\"\",\nVLOOKUP($C9,'2. Unit Testing Results'!$C$5:$BD$13,19))","v":{"$error":"#N/A"}},{"$f":"IF($B9=\"\",\"\",\nVLOOKUP($C9,'2. Unit Testing Results'!$C$5:$BD$13,20))","v":{"$error":"#N/A"}},{"$f":"IF($B9=\"\",\"\",\nVLOOKUP($C9,'2. Unit Testing Results'!$C$5:$BD$13,22))","v":{"$error":"#N/A"}},{"$f":"IF($B9=\"\",\"\",\nVLOOKUP($C9,'2. Unit Testing Results'!$C$5:$BD$13,24))","v":{"$error":"#N/A"}},{"$f":"IF($B9=\"\",\"\",\nVLOOKUP($C9,'2. Unit Testing Results'!$C$5:$BD$13,26))","v":{"$error":"#N/A"}},{"$f":"IF($B9=\"\",\"\",\nVLOOKUP($C9,'2. Unit Testing Results'!$C$5:$BD$13,28))","v":{"$error":"#N/A"}},{"$f":"IF($B9=\"\",\"\",'2. Unit Testing Results'!$Q21)","v":"Yes"},{"$f":"IF($B9=\"\",\"\",'2. Unit Testing Results'!$V21)","v":"PASS"},{"$f":"IF($B9=\"\",\"\",\nVLOOKUP($C9,'2. Unit Testing Results'!$C$5:$BD$13,30))","v":{"$error":"#N/A"}},{"$f":"IF($B9=\"\",\"\",\nVLOOKUP($C9,'2. Unit Testing Results'!$C$5:$BD$13,32))","v":{"$error":"#N/A"}},{"$f":"IF($B9=\"\",\"\",\nVLOOKUP($C9,'2. Unit Testing Results'!$C$5:$BD$13,34))","v":{"$error":"#N/A"}},{"$f":"IF($B9=\"\",\"\",\nVLOOKUP($C9,'2. Unit Testing Results'!$C$5:$BD$13,36))","v":{"$error":"#N/A"}},{"$f":"IF($B9=\"\",\"\",\nVLOOKUP($C9,'2. Unit Testing Results'!$C$5:$BD$13,37))","v":{"$error":"#N/A"}},{"$f":"IF($B9=\"\",\"\",\nVLOOKUP($C9,'2. Unit Testing Results'!$C$5:$BD$13,38))","v":{"$error":"#N/A"}},{"$f":"IF($B9=\"\",\"\",\nVLOOKUP($C9,'2. Unit Testing Results'!$C$5:$BD$13,40))","v":{"$error":"#N/A"}},{"$f":"IF($B9=\"\",\"\",\nVLOOKUP($C9,'2. Unit Testing Results'!$C$5:$BD$13,42))","v":{"$error":"#N/A"}},{"$f":"IF($B9=\"\",\"\",\nVLOOKUP($C9,'2. Unit Testing Results'!$C$5:$BD$13,44))","v":{"$error":"#N/A"}},{"$f":"IF($B9=\"\",\"\",\nVLOOKUP($C9,'2. Unit Testing Results'!$C$5:$BD$13,46))","v":{"$error":"#N/A"}},{"$f":"IF($B9=\"\",\"\",\nVLOOKUP($C9,'2. Unit Testing Results'!$C$5:$BD$13,48))","v":{"$error":"#N/A"}},{"$f":"IF($B9=\"\",\"\",\nVLOOKUP($C9,'2. Unit Testing Results'!$C$5:$BD$13,50))","v":{"$error":"#N/A"}},{"$f":"IF($B9=\"\",\"\",\nVLOOKUP($C9,'2. Unit Testing Results'!$C$5:$BD$13,51))","v":{"$error":"#N/A"}},{"$f":"IF($B9=\"\",\"\",\nVLOOKUP($C9,'2. Unit Testing Results'!$C$5:$BD$13,52))","v":{"$error":"#N/A"}},{"$f":"IF($B9=\"\",\"\",\nVLOOKUP($C9,'2. Unit Testing Results'!$C$5:$BD$13,53))","v":{"$error":"#N/A"}},{"$f":"IF($B9=\"\",\"\",\nVLOOKUP($C9,'2. Unit Testing Results'!$C$5:$BD$13,54))","v":{"$error":"#N/A"}}]
[null,{"$f":"IF('2. Unit Testing Results'!$C22=\"\",\"\",'2. Unit Testing Results'!$C22)","v":102},{"$f":"IF('2. Unit Testing Results'!$D22=\"\",\"\",'2. Unit Testing Results'!$D22)","v":"B3"},{"$f":"IF('2. Unit Testing Results'!$E22=\"\",\"\",'2. Unit Testing Results'!$E22)","v":815},{"$f":"IF('2. Unit Testing Results'!$F22=\"\",\"\",'2. Unit Testing Results'!$F22)","v":3742},null,{"$f":"IF($B10=\"\",\"\",\n(('2. Unit Testing Results'!$X22)*60)\n/((VLOOKUP($C10,'2. Unit Testing Results'!$C$5:$S$13,4))*(VLOOKUP($C10,'2. Unit Testing Results'!$C$5:$S$13,6)))\n)","v":{"$error":"#VALUE!"}},{"$f":"IF($B10=\"\",\"\",\nVLOOKUP($C10,'2. Unit Testing Results'!$C$5:$BD$13,19))","v":{"$error":"#N/A"}},{"$f":"IF($B10=\"\",\"\",\nVLOOKUP($C10,'2. Unit Testing Results'!$C$5:$BD$13,20))","v":{"$error":"#N/A"}},{"$f":"IF($B10=\"\",\"\",\nVLOOKUP($C10,'2. Unit Testing Results'!$C$5:$BD$13,22))","v":{"$error":"#N/A"}},{"$f":"IF($B10=\"\",\"\",\nVLOOKUP($C10,'2. Unit Testing Results'!$C$5:$BD$13,24))","v":{"$error":"#N/A"}},{"$f":"IF($B10=\"\",\"\",\nVLOOKUP($C10,'2. Unit Testing Results'!$C$5:$BD$13,26))","v":{"$error":"#N/A"}},{"$f":"IF($B10=\"\",\"\",\nVLOOKUP($C10,'2. Unit Testing Results'!$C$5:$BD$13,28))","v":{"$error":"#N/A"}},{"$f":"IF($B10=\"\",\"\",'2. Unit Testing Results'!$Q22)","v":"Yes"},{"$f":"IF($B10=\"\",\"\",'2. Unit Testing Results'!$V22)","v":"PASS"},{"$f":"IF($B10=\"\",\"\",\nVLOOKUP($C10,'2. Unit Testing Results'!$C$5:$BD$13,30))","v":{"$error":"#N/A"}},{"$f":"IF($B10=\"\",\"\",\nVLOOKUP($C10,'2. Unit Testing Results'!$C$5:$BD$13,32))","v":{"$error":"#N/A"}},{"$f":"IF($B10=\"\",\"\",\nVLOOKUP($C10,'2. Unit Testing Results'!$C$5:$BD$13,34))","v":{"$error":"#N/A"}},{"$f":"IF($B10=\"\",\"\",\nVLOOKUP($C10,'2. Unit Testing Results'!$C$5:$BD$13,36))","v":{"$error":"#N/A"}},{"$f":"IF($B10=\"\",\"\",\nVLOOKUP($C10,'2. Unit Testing Results'!$C$5:$BD$13,37))","v":{"$error":"#N/A"}},{"$f":"IF($B10=\"\",\"\",\nVLOOKUP($C10,'2. Unit Testing Results'!$C$5:$BD$13,38))","v":{"$error":"#N/A"}},{"$f":"IF($B10=\"\",\"\",\nVLOOKUP($C10,'2. Unit Testing Results'!$C$5:$BD$13,40))","v":{"$error":"#N/A"}},{"$f":"IF($B10=\"\",\"\",\nVLOOKUP($C10,'2. Unit Testing Results'!$C$5:$BD$13,42))","v":{"$error":"#N/A"}},{"$f":"IF($B10=\"\",\"\",\nVLOOKUP($C10,'2. Unit Testing Results'!$C$5:$BD$13,44))","v":{"$error":"#N/A"}},{"$f":"IF($B10=\"\",\"\",\nVLOOKUP($C10,'2. Unit Testing Results'!$C$5:$BD$13,46))","v":{"$error":"#N/A"}},{"$f":"IF($B10=\"\",\"\",\nVLOOKUP($C10,'2. Unit Testing Results'!$C$5:$BD$13,48))","v":{"$error":"#N/A"}},{"$f":"IF($B10=\"\",\"\",\nVLOOKUP($C10,'2. Unit Testing Results'!$C$5:$BD$13,50))","v":{"$error":"#N/A"}},{"$f":"IF($B10=\"\",\"\",\nVLOOKUP($C10,'2. Unit Testing Results'!$C$5:$BD$13,51))","v":{"$error":"#N/A"}},{"$f":"IF($B10=\"\",\"\",\nVLOOKUP($C10,'2. Unit Testing Results'!$C$5:$BD$13,52))","v":{"$error":"#N/A"}},{"$f":"IF($B10=\"\",\"\",\nVLOOKUP($C10,'2. Unit Testing Results'!$C$5:$BD$13,53))","v":{"$error":"#N/A"}},{"$f":"IF($B10=\"\",\"\",\nVLOOKUP($C10,'2. Unit Testing Results'!$C$5:$BD$13,54))","v":{"$error":"#N/A"}}]
[null,{"$f":"IF('2. Unit Testing Results'!$C23=\"\",\"\",'2. Unit Testing Results'!$C23)","v":103},{"$f":"IF('2. Unit Testing Results'!$D23=\"\",\"\",'2. Unit Testing Results'!$D23)","v":"Studio"},{"$f":"IF('2. Unit Testing Results'!$E23=\"\",\"\",'2. Unit Testing Results'!$E23)","v":1800},{"$f":"IF('2. Unit Testing Results'!$F23=\"\",\"\",'2. Unit Testing Results'!$F23)","v":6141},null,{"$f":"IF($B11=\"\",\"\",\n(('2. Unit Testing Results'!$X23)*60)\n/((VLOOKUP($C11,'2. Unit Testing Results'!$C$5:$S$13,4))*(VLOOKUP($C11,'2. Unit Testing Results'!$C$5:$S$13,6)))\n)","v":{"$error":"#VALUE!"}},{"$f":"IF($B11=\"\",\"\",\nVLOOKUP($C11,'2. Unit Testing Results'!$C$5:$BD$13,19))","v":19},{"$f":"IF($B11=\"\",\"\",\nVLOOKUP($C11,'2. Unit Testing Results'!$C$5:$BD$13,20))","v":19},{"$f":"IF($B11=\"\",\"\",\nVLOOKUP($C11,'2. Unit Testing Results'!$C$5:$BD$13,22))","v":0},{"$f":"IF($B11=\"\",\"\",\nVLOOKUP($C11,'2. Unit Testing Results'!$C$5:$BD$13,24))","v":10},{"$f":"IF($B11=\"\",\"\",\nVLOOKUP($C11,'2. Unit Testing Results'!$C$5:$BD$13,26))","v":0.3},{"$f":"IF($B11=\"\",\"\",\nVLOOKUP($C11,'2. Unit Testing Results'!$C$5:$BD$13,28))","v":0.32},{"$f":"IF($B11=\"\",\"\",'2. Unit Testing Results'!$Q23)","v":"Yes"},{"$f":"IF($B11=\"\",\"\",'2. Unit Testing Results'!$V23)","v":"PASS"},{"$f":"IF($B11=\"\",\"\",\nVLOOKUP($C11,'2. Unit Testing Results'!$C$5:$BD$13,30))","v":"Furnace"},{"$f":"IF($B11=\"\",\"\",\nVLOOKUP($C11,'2. Unit Testing Results'!$C$5:$BD$13,32))","v":"NG"},{"$f":"IF($B11=\"\",\"\",\nVLOOKUP($C11,'2. Unit Testing Results'!$C$5:$BD$13,34))","v":92.5},{"$f":"IF($B11=\"\",\"\",\nVLOOKUP($C11,'2. Unit Testing Results'!$C$5:$BD$13,36))","v":"AFUE"},{"$f":"IF($B11=\"\",\"\",\nVLOOKUP($C11,'2. Unit Testing Results'!$C$5:$BD$13,38))","v":"Electricity"},{"$f":"IF($B11=\"\",\"\",\nVLOOKUP($C11,'2. Unit Testing Results'!$C$5:$BD$13,39))","v":0},{"$f":"IF($B11=\"\",\"\",\nVLOOKUP($C11,'2. Unit Testing Results'!$C$5:$BD$13,40))","v":9},{"$f":"IF($B11=\"\",\"\",\nVLOOKUP($C11,'2. Unit Testing Results'!$C$5:$BD$13,42))","v":"HSPF"},{"$f":"IF($B11=\"\",\"\",\nVLOOKUP($C11,'2. Unit Testing Results'!$C$5:$BD$13,44))","v":"Storage"},{"$f":"IF($B11=\"\",\"\",\nVLOOKUP($C11,'2. Unit Testing Results'!$C$5:$BD$13,46))","v":"Gas"},{"$f":"IF($B11=\"\",\"\",\nVLOOKUP($C11,'2. Unit Testing Results'!$C$5:$BD$13,48))","v":0.98},{"$f":"IF($B11=\"\",\"\",\nVLOOKUP($C11,'2. Unit Testing Results'!$C$5:$BD$13,50))","v":90},{"$f":"IF($B11=\"\",\"\",\nVLOOKUP($C11,'2. Unit Testing Results'!$C$5:$BD$13,51))","v":1},{"$f":"IF($B11=\"\",\"\",\nVLOOKUP($C11,'2. Unit Testing Results'!$C$5:$BD$13,52))","v":0},{"$f":"IF($B11=\"\",\"\",\nVLOOKUP($C11,'2. Unit Testing Results'!$C$5:$BD$13,53))","v":1},{"$f":"IF($B11=\"\",\"\",\nVLOOKUP($C11,'2. Unit Testing Results'!$C$5:$BD$13,54))","v":1}]
[null,{"$f":"IF('2. Unit Testing Results'!$C25=\"\",\"\",'2. Unit Testing Results'!$C25)","v":105},{"$f":"IF('2. Unit Testing Results'!$D25=\"\",\"\",'2. Unit Testing Results'!$D25)","v":"Studio"},{"$f":"IF('2. Unit Testing Results'!$E25=\"\",\"\",'2. Unit Testing Results'!$E25)","v":1800},{"$f":"IF('2. Unit Testing Results'!$F25=\"\",\"\",'2. Unit Testing Results'!$F25)","v":6141},null,{"$f":"IF($B12=\"\",\"\",\n(('2. Unit Testing Results'!$X25)*60)\n/((VLOOKUP($C12,'2. Unit Testing Results'!$C$5:$S$13,4))*(VLOOKUP($C12,'2. Unit Testing Results'!$C$5:$S$13,6)))\n)","v":{"$error":"#VALUE!"}},{"$f":"IF($B12=\"\",\"\",\nVLOOKUP($C12,'2. Unit Testing Results'!$C$5:$BD$13,19))","v":19},{"$f":"IF($B12=\"\",\"\",\nVLOOKUP($C12,'2. Unit Testing Results'!$C$5:$BD$13,20))","v":19},{"$f":"IF($B12=\"\",\"\",\nVLOOKUP($C12,'2. Unit Testing Results'!$C$5:$BD$13,22))","v":0},{"$f":"IF($B12=\"\",\"\",\nVLOOKUP($C12,'2. Unit Testing Results'!$C$5:$BD$13,24))","v":10},{"$f":"IF($B12=\"\",\"\",\nVLOOKUP($C12,'2. Unit Testing Results'!$C$5:$BD$13,26))","v":0.3},{"$f":"IF($B12=\"\",\"\",\nVLOOKUP($C12,'2. Unit Testing Results'!$C$5:$BD$13,28))","v":0.32},{"$f":"IF($B12=\"\",\"\",'2. Unit Testing Results'!$Q25)","v":"Yes"},{"$f":"IF($B12=\"\",\"\",'2. Unit Testing Results'!$V25)","v":"FAIL"},{"$f":"IF($B12=\"\",\"\",\nVLOOKUP($C12,'2. Unit Testing Results'!$C$5:$BD$13,30))","v":"Furnace"},{"$f":"IF($B12=\"\",\"\",\nVLOOKUP($C12,'2. Unit Testing Results'!$C$5:$BD$13,32))","v":"NG"},{"$f":"IF($B12=\"\",\"\",\nVLOOKUP($C12,'2. Unit Testing Results'!$C$5:$BD$13,34))","v":92.5},{"$f":"IF($B12=\"\",\"\",\nVLOOKUP($C12,'2. Unit Testing Results'!$C$5:$BD$13,36))","v":"AFUE"},{"$f":"IF($B12=\"\",\"\",\nVLOOKUP($C12,'2. Unit Testing Results'!$C$5:$BD$13,38))","v":"Electricity"},{"$f":"IF($B12=\"\",\"\",\nVLOOKUP($C12,'2. Unit Testing Results'!$C$5:$BD$13,39))","v":0},{"$f":"IF($B12=\"\",\"\",\nVLOOKUP($C12,'2. Unit Testing Results'!$C$5:$BD$13,40))","v":9},{"$f":"IF($B12=\"\",\"\",\nVLOOKUP($C12,'2. Unit Testing Results'!$C$5:$BD$13,42))","v":"HSPF"},{"$f":"IF($B12=\"\",\"\",\nVLOOKUP($C12,'2. Unit Testing Results'!$C$5:$BD$13,44))","v":"Storage"},{"$f":"IF($B12=\"\",\"\",\nVLOOKUP($C12,'2. Unit Testing Results'!$C$5:$BD$13,46))","v":"Gas"},{"$f":"IF($B12=\"\",\"\",\nVLOOKUP($C12,'2. Unit Testing Results'!$C$5:$BD$13,48))","v":0.98},{"$f":"IF($B12=\"\",\"\",\nVLOOKUP($C12,'2. Unit Testing Results'!$C$5:$BD$13,50))","v":90},{"$f":"IF($B12=\"\",\"\",\nVLOOKUP($C12,'2. Unit Testing Results'!$C$5:$BD$13,51))","v":1},{"$f":"IF($B12=\"\",\"\",\nVLOOKUP($C12,'2. Unit Testing Results'!$C$5:$BD$13,52))","v":0},{"$f":"IF($B12=\"\",\"\",\nVLOOKUP($C12,'2. Unit Testing Results'!$C$5:$BD$13,53))","v":1},{"$f":"IF($B12=\"\",\"\",\nVLOOKUP($C12,'2. Unit Testing Results'!$C$5:$BD$13,54))","v":1}]
[null,{"$f":"IF('2. Unit Testing Results'!$C26=\"\",\"\",'2. Unit Testing Results'!$C26)","v":106},{"$f":"IF('2. Unit Testing Results'!$D26=\"\",\"\",'2. Unit Testing Results'!$D26)","v":"B1"},{"$f":"IF('2. Unit Testing Results'!$E26=\"\",\"\",'2. Unit Testing Results'!$E26)","v":650},{"$f":"IF('2. Unit Testing Results'!$F26=\"\",\"\",'2. Unit Testing Results'!$F26)","v":2220},null,{"$f":"IF($B13=\"\",\"\",\n(('2. Unit Testing Results'!$X26)*60)\n/((VLOOKUP($C13,'2. Unit Testing Results'!$C$5:$S$13,4))*(VLOOKUP($C13,'2. Unit Testing Results'!$C$5:$S$13,6)))\n)","v":{"$error":"#VALUE!"}},{"$f":"IF($B13=\"\",\"\",\nVLOOKUP($C13,'2. Unit Testing Results'!$C$5:$BD$13,19))","v":{"$error":"#N/A"}},{"$f":"IF($B13=\"\",\"\",\nVLOOKUP($C13,'2. Unit Testing Results'!$C$5:$BD$13,20))","v":{"$error":"#N/A"}},{"$f":"IF($B13=\"\",\"\",\nVLOOKUP($C13,'2. Unit Testing Results'!$C$5:$BD$13,22))","v":{"$error":"#N/A"}},{"$f":"IF($B13=\"\",\"\",\nVLOOKUP($C13,'2. Unit Testing Results'!$C$5:$BD$13,24))","v":{"$error":"#N/A"}},{"$f":"IF($B13=\"\",\"\",\nVLOOKUP($C13,'2. Unit Testing Results'!$C$5:$BD$13,26))","v":{"$error":"#N/A"}},{"$f":"IF($B13=\"\",\"\",\nVLOOKUP($C13,'2. Unit Testing Results'!$C$5:$BD$13,28))","v":{"$error":"#N/A"}},{"$f":"IF($B13=\"\",\"\",'2. Unit Testing Results'!$Q26)","v":"Yes"},{"$f":"IF($B13=\"\",\"\",'2. Unit Testing Results'!$V26)","v":"FAIL"},{"$f":"IF($B13=\"\",\"\",\nVLOOKUP($C13,'2. Unit Testing Results'!$C$5:$BD$13,30))","v":{"$error":"#N/A"}},{"$f":"IF($B13=\"\",\"\",\nVLOOKUP($C13,'2. Unit Testing Results'!$C$5:$BD$13,32))","v":{"$error":"#N/A"}},{"$f":"IF($B13=\"\",\"\",\nVLOOKUP($C13,'2. Unit Testing Results'!$C$5:$BD$13,34))","v":{"$error":"#N/A"}},{"$f":"IF($B13=\"\",\"\",\nVLOOKUP($C13,'2. Unit Testing Results'!$C$5:$BD$13,36))","v":{"$error":"#N/A"}},{"$f":"IF($B13=\"\",\"\",\nVLOOKUP($C13,'2. Unit Testing Results'!$C$5:$BD$13,38))","v":{"$error":"#N/A"}},{"$f":"IF($B13=\"\",\"\",\nVLOOKUP($C13,'2. Unit Testing Results'!$C$5:$BD$13,39))","v":{"$error":"#N/A"}},{"$f":"IF($B13=\"\",\"\",\nVLOOKUP($C13,'2. Unit Testing Results'!$C$5:$BD$13,40))","v":{"$error":"#N/A"}},{"$f":"IF($B13=\"\",\"\",\nVLOOKUP($C13,'2. Unit Testing Results'!$C$5:$BD$13,42))","v":{"$error":"#N/A"}},{"$f":"IF($B13=\"\",\"\",\nVLOOKUP($C13,'2. Unit Testing Results'!$C$5:$BD$13,44))","v":{"$error":"#N/A"}},{"$f":"IF($B13=\"\",\"\",\nVLOOKUP($C13,'2. Unit Testing Results'!$C$5:$BD$13,46))","v":{"$error":"#N/A"}},{"$f":"IF($B13=\"\",\"\",\nVLOOKUP($C13,'2. Unit Testing Results'!$C$5:$BD$13,48))","v":{"$error":"#N/A"}},{"$f":"IF($B13=\"\",\"\",\nVLOOKUP($C13,'2. Unit Testing Results'!$C$5:$BD$13,50))","v":{"$error":"#N/A"}},{"$f":"IF($B13=\"\",\"\",\nVLOOKUP($C13,'2. Unit Testing Results'!$C$5:$BD$13,51))","v":{"$error":"#N/A"}},{"$f":"IF($B13=\"\",\"\",\nVLOOKUP($C13,'2. Unit Testing Results'!$C$5:$BD$13,52))","v":{"$error":"#N/A"}},{"$f":"IF($B13=\"\",\"\",\nVLOOKUP($C13,'2. Unit Testing Results'!$C$5:$BD$13,53))","v":{"$error":"#N/A"}},{"$f":"IF($B13=\"\",\"\",\nVLOOKUP($C13,'2. Unit Testing Results'!$C$5:$BD$13,54))","v":{"$error":"#N/A"}}]
[null,{"$f":"IF('2. Unit Testing Results'!$C27=\"\",\"\",'2. Unit Testing Results'!$C27)","v":107},{"$f":"IF('2. Unit Testing Results'!$D27=\"\",\"\",'2. Unit Testing Results'!$D27)","v":"B3"},{"$f":"IF('2. Unit Testing Results'!$E27=\"\",\"\",'2. Unit Testing Results'!$E27)","v":815},{"$f":"IF('2. Unit Testing Results'!$F27=\"\",\"\",'2. Unit Testing Results'!$F27)","v":3742},null,{"$f":"IF($B14=\"\",\"\",\n(('2. Unit Testing Results'!$X27)*60)\n/((VLOOKUP($C14,'2. Unit Testing Results'!$C$5:$S$13,4))*(VLOOKUP($C14,'2. Unit Testing Results'!$C$5:$S$13,6)))\n)","v":{"$error":"#VALUE!"}},{"$f":"IF($B14=\"\",\"\",\nVLOOKUP($C14,'2. Unit Testing Results'!$C$5:$BD$13,19))","v":{"$error":"#N/A"}},{"$f":"IF($B14=\"\",\"\",\nVLOOKUP($C14,'2. Unit Testing Results'!$C$5:$BD$13,20))","v":{"$error":"#N/A"}},{"$f":"IF($B14=\"\",\"\",\nVLOOKUP($C14,'2. Unit Testing Results'!$C$5:$BD$13,22))","v":{"$error":"#N/A"}},{"$f":"IF($B14=\"\",\"\",\nVLOOKUP($C14,'2. Unit Testing Results'!$C$5:$BD$13,24))","v":{"$error":"#N/A"}},{"$f":"IF($B14=\"\",\"\",\nVLOOKUP($C14,'2. Unit Testing Results'!$C$5:$BD$13,26))","v":{"$error":"#N/A"}},{"$f":"IF($B14=\"\",\"\",\nVLOOKUP($C14,'2. Unit Testing Results'!$C$5:$BD$13,28))","v":{"$error":"#N/A"}},{"$f":"IF($B14=\"\",\"\",'2. Unit Testing Results'!$Q27)","v":"Yes"},{"$f":"IF($B14=\"\",\"\",'2. Unit Testing Results'!$V27)","v":"PASS"},{"$f":"IF($B14=\"\",\"\",\nVLOOKUP($C14,'2. Unit Testing Results'!$C$5:$BD$13,30))","v":{"$error":"#N/A"}},{"$f":"IF($B14=\"\",\"\",\nVLOOKUP($C14,'2. Unit Testing Results'!$C$5:$BD$13,32))","v":{"$error":"#N/A"}},{"$f":"IF($B14=\"\",\"\",\nVLOOKUP($C14,'2. Unit Testing Results'!$C$5:$BD$13,34))","v":{"$error":"#N/A"}},{"$f":"IF($B14=\"\",\"\",\nVLOOKUP($C14,'2. Unit Testing Results'!$C$5:$BD$13,36))","v":{"$error":"#N/A"}},{"$f":"IF($B14=\"\",\"\",\nVLOOKUP($C14,'2. Unit Testing Results'!$C$5:$BD$13,38))","v":{"$error":"#N/A"}},{"$f":"IF($B14=\"\",\"\",\nVLOOKUP($C14,'2. Unit Testing Results'!$C$5:$BD$13,39))","v":{"$error":"#N/A"}},{"$f":"IF($B14=\"\",\"\",\nVLOOKUP($C14,'2. Unit Testing Results'!$C$5:$BD$13,40))","v":{"$error":"#N/A"}},{"$f":"IF($B14=\"\",\"\",\nVLOOKUP($C14,'2. Unit Testing Results'!$C$5:$BD$13,42))","v":{"$error":"#N/A"}},{"$f":"IF($B14=\"\",\"\",\nVLOOKUP($C14,'2. Unit Testing Results'!$C$5:$BD$13,44))","v":{"$error":"#N/A"}},{"$f":"IF($B14=\"\",\"\",\nVLOOKUP($C14,'2. Unit Testing Results'!$C$5:$BD$13,46))","v":{"$error":"#N/A"}},{"$f":"IF($B14=\"\",\"\",\nVLOOKUP($C14,'2. Unit Testing Results'!$C$5:$BD$13,48))","v":{"$error":"#N/A"}},{"$f":"IF($B14=\"\",\"\",\nVLOOKUP($C14,'2. Unit Testing Results'!$C$5:$BD$13,50))","v":{"$error":"#N/A"}},{"$f":"IF($B14=\"\",\"\",\nVLOOKUP($C14,'2. Unit Testing Results'!$C$5:$BD$13,51))","v":{"$error":"#N/A"}},{"$f":"IF($B14=\"\",\"\",\nVLOOKUP($C14,'2. Unit Testing Results'!$C$5:$BD$13,52))","v":{"$error":"#N/A"}},{"$f":"IF($B14=\"\",\"\",\nVLOOKUP($C14,'2. Unit Testing Results'!$C$5:$BD$13,53))","v":{"$error":"#N/A"}},{"$f":"IF($B14=\"\",\"\",\nVLOOKUP($C14,'2. Unit Testing Results'!$C$5:$BD$13,54))","v":{"$error":"#N/A"}}]
[null,{"$f":"IF('2. Unit Testing Results'!$C28=\"\",\"\",'2. Unit Testing Results'!$C28)","v":108},{"$f":"IF('2. Unit Testing Results'!$D28=\"\",\"\",'2. Unit Testing Results'!$D28)","v":"B2"},{"$f":"IF('2. Unit Testing Results'!$E28=\"\",\"\",'2. Unit Testing Results'!$E28)","v":800},{"$f":"IF('2. Unit Testing Results'!$F28=\"\",\"\",'2. Unit Testing Results'!$F28)","v":3040},null,{"$f":"IF($B15=\"\",\"\",\n(('2. Unit Testing Results'!$X28)*60)\n/((VLOOKUP($C15,'2. Unit Testing Results'!$C$5:$S$13,4))*(VLOOKUP($C15,'2. Unit Testing Results'!$C$5:$S$13,6)))\n)","v":{"$error":"#VALUE!"}},{"$f":"IF($B15=\"\",\"\",\nVLOOKUP($C15,'2. Unit Testing Results'!$C$5:$BD$13,19))","v":{"$error":"#N/A"}},{"$f":"IF($B15=\"\",\"\",\nVLOOKUP($C15,'2. Unit Testing Results'!$C$5:$BD$13,20))","v":{"$error":"#N/A"}},{"$f":"IF($B15=\"\",\"\",\nVLOOKUP($C15,'2. Unit Testing Results'!$C$5:$BD$13,22))","v":{"$error":"#N/A"}},{"$f":"IF($B15=\"\",\"\",\nVLOOKUP($C15,'2. Unit Testing Results'!$C$5:$BD$13,24))","v":{"$error":"#N/A"}},{"$f":"IF($B15=\"\",\"\",\nVLOOKUP($C15,'2. Unit Testing Results'!$C$5:$BD$13,26))","v":{"$error":"#N/A"}},{"$f":"IF($B15=\"\",\"\",\nVLOOKUP($C15,'2. Unit Testing Results'!$C$5:$BD$13,28))","v":{"$error":"#N/A"}},{"$f":"IF($B15=\"\",\"\",'2. Unit Testing Results'!$Q28)","v":"Yes"},{"$f":"IF($B15=\"\",\"\",'2. Unit Testing Results'!$V28)","v":"FAIL"},{"$f":"IF($B15=\"\",\"\",\nVLOOKUP($C15,'2. Unit Testing Results'!$C$5:$BD$13,30))","v":{"$error":"#N/A"}},{"$f":"IF($B15=\"\",\"\",\nVLOOKUP($C15,'2. Unit Testing Results'!$C$5:$BD$13,32))","v":{"$error":"#N/A"}},{"$f":"IF($B15=\"\",\"\",\nVLOOKUP($C15,'2. Unit Testing Results'!$C$5:$BD$13,34))","v":{"$error":"#N/A"}},{"$f":"IF($B15=\"\",\"\",\nVLOOKUP($C15,'2. Unit Testing Results'!$C$5:$BD$13,36))","v":{"$error":"#N/A"}},{"$f":"IF($B15=\"\",\"\",\nVLOOKUP($C15,'2. Unit Testing Results'!$C$5:$BD$13,38))","v":{"$error":"#N/A"}},{"$f":"IF($B15=\"\",\"\",\nVLOOKUP($C15,'2. Unit Testing Results'!$C$5:$BD$13,39))","v":{"$error":"#N/A"}},{"$f":"IF($B15=\"\",\"\",\nVLOOKUP($C15,'2. Unit Testing Results'!$C$5:$BD$13,40))","v":{"$error":"#N/A"}},{"$f":"IF($B15=\"\",\"\",\nVLOOKUP($C15,'2. Unit Testing Results'!$C$5:$BD$13,42))","v":{"$error":"#N/A"}},{"$f":"IF($B15=\"\",\"\",\nVLOOKUP($C15,'2. Unit Testing Results'!$C$5:$BD$13,44))","v":{"$error":"#N/A"}},{"$f":"IF($B15=\"\",\"\",\nVLOOKUP($C15,'2. Unit Testing Results'!$C$5:$BD$13,46))","v":{"$error":"#N/A"}},{"$f":"IF($B15=\"\",\"\",\nVLOOKUP($C15,'2. Unit Testing Results'!$C$5:$BD$13,48))","v":{"$error":"#N/A"}},{"$f":"IF($B15=\"\",\"\",\nVLOOKUP($C15,'2. Unit Testing Results'!$C$5:$BD$13,50))","v":{"$error":"#N/A"}},{"$f":"IF($B15=\"\",\"\",\nVLOOKUP($C15,'2. Unit Testing Results'!$C$5:$BD$13,51))","v":{"$error":"#N/A"}},{"$f":"IF($B15=\"\",\"\",\nVLOOKUP($C15,'2. Unit Testing Results'!$C$5:$BD$13,52))","v":{"$error":"#N/A"}},{"$f":"IF($B15=\"\",\"\",\nVLOOKUP($C15,'2. Unit Testing Results'!$C$5:$BD$13,53))","v":{"$error":"#N/A"}},{"$f":"IF($B15=\"\",\"\",\nVLOOKUP($C15,'2. Unit Testing Results'!$C$5:$BD$13,54))","v":{"$error":"#N/A"}}]
[null,{"$f":"IF('2. Unit Testing Results'!$C29=\"\",\"\",'2. Unit Testing Results'!$C29)","v":109},{"$f":"IF('2. Unit Testing Results'!$D29=\"\",\"\",'2. Unit Testing Results'!$D29)","v":"A2"},{"$f":"IF('2. Unit Testing Results'!$E29=\"\",\"\",'2. Unit Testing Results'!$E29)","v":678},{"$f":"IF('2. Unit Testing Results'!$F29=\"\",\"\",'2. Unit Testing Results'!$F29)","v":2196},null,{"$f":"IF($B16=\"\",\"\",\n(('2. Unit Testing Results'!$X29)*60)\n/((VLOOKUP($C16,'2. Unit Testing Results'!$C$5:$S$13,4))*(VLOOKUP($C16,'2. Unit Testing Results'!$C$5:$S$13,6)))\n)","v":{"$error":"#VALUE!"}},{"$f":"IF($B16=\"\",\"\",\nVLOOKUP($C16,'2. Unit Testing Results'!$C$5:$BD$13,19))","v":{"$error":"#N/A"}},{"$f":"IF($B16=\"\",\"\",\nVLOOKUP($C16,'2. Unit Testing Results'!$C$5:$BD$13,20))","v":{"$error":"#N/A"}},{"$f":"IF($B16=\"\",\"\",\nVLOOKUP($C16,'2. Unit Testing Results'!$C$5:$BD$13,22))","v":{"$error":"#N/A"}},{"$f":"IF($B16=\"\",\"\",\nVLOOKUP($C16,'2. Unit Testing Results'!$C$5:$BD$13,24))","v":{"$error":"#N/A"}},{"$f":"IF($B16=\"\",\"\",\nVLOOKUP($C16,'2. Unit Testing Results'!$C$5:$BD$13,26))","v":{"$error":"#N/A"}},{"$f":"IF($B16=\"\",\"\",\nVLOOKUP($C16,'2. Unit Testing Results'!$C$5:$BD$13,28))","v":{"$error":"#N/A"}},{"$f":"IF($B16=\"\",\"\",'2. Unit Testing Results'!$Q29)","v":0},{"$f":"IF($B16=\"\",\"\",'2. Unit Testing Results'!$V29)","v":""},{"$f":"IF($B16=\"\",\"\",\nVLOOKUP($C16,'2. Unit Testing Results'!$C$5:$BD$13,30))","v":{"$error":"#N/A"}},{"$f":"IF($B16=\"\",\"\",\nVLOOKUP($C16,'2. Unit Testing Results'!$C$5:$BD$13,32))","v":{"$error":"#N/A"}},{"$f":"IF($B16=\"\",\"\",\nVLOOKUP($C16,'2. Unit Testing Results'!$C$5:$BD$13,34))","v":{"$error":"#N/A"}},{"$f":"IF($B16=\"\",\"\",\nVLOOKUP($C16,'2. Unit Testing Results'!$C$5:$BD$13,36))","v":{"$error":"#N/A"}},{"$f":"IF($B16=\"\",\"\",\nVLOOKUP($C16,'2. Unit Testing Results'!$C$5:$BD$13,38))","v":{"$error":"#N/A"}},{"$f":"IF($B16=\"\",\"\",\nVLOOKUP($C16,'2. Unit Testing Results'!$C$5:$BD$13,39))","v":{"$error":"#N/A"}},{"$f":"IF($B16=\"\",\"\",\nVLOOKUP($C16,'2. Unit Testing Results'!$C$5:$BD$13,40))","v":{"$error":"#N/A"}},{"$f":"IF($B16=\"\",\"\",\nVLOOKUP($C16,'2. Unit Testing Results'!$C$5:$BD$13,42))","v":{"$error":"#N/A"}},{"$f":"IF($B16=\"\",\"\",\nVLOOKUP($C16,'2. Unit Testing Results'!$C$5:$BD$13,44))","v":{"$error":"#N/A"}},{"$f":"IF($B16=\"\",\"\",\nVLOOKUP($C16,'2. Unit Testing Results'!$C$5:$BD$13,46))","v":{"$error":"#N/A"}},{"$f":"IF($B16=\"\",\"\",\nVLOOKUP($C16,'2. Unit Testing Results'!$C$5:$BD$13,48))","v":{"$error":"#N/A"}},{"$f":"IF($B16=\"\",\"\",\nVLOOKUP($C16,'2. Unit Testing Results'!$C$5:$BD$13,50))","v":{"$error":"#N/A"}},{"$f":"IF($B16=\"\",\"\",\nVLOOKUP($C16,'2. Unit Testing Results'!$C$5:$BD$13,51))","v":{"$error":"#N/A"}},{"$f":"IF($B16=\"\",\"\",\nVLOOKUP($C16,'2. Unit Testing Results'!$C$5:$BD$13,52))","v":{"$error":"#N/A"}},{"$f":"IF($B16=\"\",\"\",\nVLOOKUP($C16,'2. Unit Testing Results'!$C$5:$BD$13,53))","v":{"$error":"#N/A"}},{"$f":"IF($B16=\"\",\"\",\nVLOOKUP($C16,'2. Unit Testing Results'!$C$5:$BD$13,54))","v":{"$error":"#N/A"}}]
[null,{"$f":"IF('2. Unit Testing Results'!$C30=\"\",\"\",'2. Unit Testing Results'!$C30)","v":110},{"$f":"IF('2. Unit Testing Results'!$D30=\"\",\"\",'2. Unit Testing Results'!$D30)","v":"A2"},{"$f":"IF('2. Unit Testing Results'!$E30=\"\",\"\",'2. Unit Testing Results'!$E30)","v":678},{"$f":"IF('2. Unit Testing Results'!$F30=\"\",\"\",'2. Unit Testing Results'!$F30)","v":2196},null,{"$f":"IF($B17=\"\",\"\",\n(('2. Unit Testing Results'!$X30)*60)\n/((VLOOKUP($C17,'2. Unit Testing Results'!$C$5:$S$13,4))*(VLOOKUP($C17,'2. Unit Testing Results'!$C$5:$S$13,6)))\n)","v":{"$error":"#VALUE!"}},{"$f":"IF($B17=\"\",\"\",\nVLOOKUP($C17,'2. Unit Testing Results'!$C$5:$BD$13,19))","v":{"$error":"#N/A"}},{"$f":"IF($B17=\"\",\"\",\nVLOOKUP($C17,'2. Unit Testing Results'!$C$5:$BD$13,20))","v":{"$error":"#N/A"}},{"$f":"IF($B17=\"\",\"\",\nVLOOKUP($C17,'2. Unit Testing Results'!$C$5:$BD$13,22))","v":{"$error":"#N/A"}},{"$f":"IF($B17=\"\",\"\",\nVLOOKUP($C17,'2. Unit Testing Results'!$C$5:$BD$13,24))","v":{"$error":"#N/A"}},{"$f":"IF($B17=\"\",\"\",\nVLOOKUP($C17,'2. Unit Testing Results'!$C$5:$BD$13,26))","v":{"$error":"#N/A"}},{"$f":"IF($B17=\"\",\"\",\nVLOOKUP($C17,'2. Unit Testing Results'!$C$5:$BD$13,28))","v":{"$error":"#N/A"}},{"$f":"IF($B17=\"\",\"\",'2. Unit Testing Results'!$Q30)","v":0},{"$f":"IF($B17=\"\",\"\",'2. Unit Testing Results'!$V30)","v":""},{"$f":"IF($B17=\"\",\"\",\nVLOOKUP($C17,'2. Unit Testing Results'!$C$5:$BD$13,30))","v":{"$error":"#N/A"}},{"$f":"IF($B17=\"\",\"\",\nVLOOKUP($C17,'2. Unit Testing Results'!$C$5:$BD$13,32))","v":{"$error":"#N/A"}},{"$f":"IF($B17=\"\",\"\",\nVLOOKUP($C17,'2. Unit Testing Results'!$C$5:$BD$13,34))","v":{"$error":"#N/A"}},{"$f":"IF($B17=\"\",\"\",\nVLOOKUP($C17,'2. Unit Testing Results'!$C$5:$BD$13,36))","v":{"$error":"#N/A"}},{"$f":"IF($B17=\"\",\"\",\nVLOOKUP($C17,'2. Unit Testing Results'!$C$5:$BD$13,38))","v":{"$error":"#N/A"}},{"$f":"IF($B17=\"\",\"\",\nVLOOKUP($C17,'2. Unit Testing Results'!$C$5:$BD$13,39))","v":{"$error":"#N/A"}},{"$f":"IF($B17=\"\",\"\",\nVLOOKUP($C17,'2. Unit Testing Results'!$C$5:$BD$13,40))","v":{"$error":"#N/A"}},{"$f":"IF($B17=\"\",\"\",\nVLOOKUP($C17,'2. Unit Testing Results'!$C$5:$BD$13,42))","v":{"$error":"#N/A"}},{"$f":"IF($B17=\"\",\"\",\nVLOOKUP($C17,'2. Unit Testing Results'!$C$5:$BD$13,44))","v":{"$error":"#N/A"}},{"$f":"IF($B17=\"\",\"\",\nVLOOKUP($C17,'2. Unit Testing Results'!$C$5:$BD$13,46))","v":{"$error":"#N/A"}},{"$f":"IF($B17=\"\",\"\",\nVLOOKUP($C17,'2. Unit Testing Results'!$C$5:$BD$13,48))","v":{"$error":"#N/A"}},{"$f":"IF($B17=\"\",\"\",\nVLOOKUP($C17,'2. Unit Testing Results'!$C$5:$BD$13,50))","v":{"$error":"#N/A"}},{"$f":"IF($B17=\"\",\"\",\nVLOOKUP($C17,'2. Unit Testing Results'!$C$5:$BD$13,51))","v":{"$error":"#N/A"}},{"$f":"IF($B17=\"\",\"\",\nVLOOKUP($C17,'2. Unit Testing Results'!$C$5:$BD$13,52))","v":{"$error":"#N/A"}},{"$f":"IF($B17=\"\",\"\",\nVLOOKUP($C17,'2. Unit Testing Results'!$C$5:$BD$13,53))","v":{"$error":"#N/A"}},{"$f":"IF($B17=\"\",\"\",\nVLOOKUP($C17,'2. Unit Testing Results'!$C$5:$BD$13,54))","v":{"$error":"#N/A"}}]
[null,{"$f":"IF('2. Unit Testing Results'!$C31=\"\",\"\",'2. Unit Testing Results'!$C31)","v":201},{"$f":"IF('2. Unit Testing Results'!$D31=\"\",\"\",'2. Unit Testing Results'!$D31)","v":"A1"},{"$f":"IF('2. Unit Testing Results'!$E31=\"\",\"\",'2. Unit Testing Results'!$E31)","v":515},{"$f":"IF('2. Unit Testing Results'!$F31=\"\",\"\",'2. Unit Testing Results'!$F31)","v":1990},null,{"$f":"IF($B18=\"\",\"\",\n(('2. Unit Testing Results'!$X31)*60)\n/((VLOOKUP($C18,'2. Unit Testing Results'!$C$5:$S$13,4))*(VLOOKUP($C18,'2. Unit Testing Results'!$C$5:$S$13,6)))\n)","v":{"$error":"#VALUE!"}},{"$f":"IF($B18=\"\",\"\",\nVLOOKUP($C18,'2. Unit Testing Results'!$C$5:$BD$13,19))","v":{"$error":"#N/A"}},{"$f":"IF($B18=\"\",\"\",\nVLOOKUP($C18,'2. Unit Testing Results'!$C$5:$BD$13,20))","v":{"$error":"#N/A"}},{"$f":"IF($B18=\"\",\"\",\nVLOOKUP($C18,'2. Unit Testing Results'!$C$5:$BD$13,22))","v":{"$error":"#N/A"}},{"$f":"IF($B18=\"\",\"\",\nVLOOKUP($C18,'2. Unit Testing Results'!$C$5:$BD$13,24))","v":{"$error":"#N/A"}},{"$f":"IF($B18=\"\",\"\",\nVLOOKUP($C18,'2. Unit Testing Results'!$C$5:$BD$13,26))","v":{"$error":"#N/A"}},{"$f":"IF($B18=\"\",\"\",\nVLOOKUP($C18,'2. Unit Testing Results'!$C$5:$BD$13,28))","v":{"$error":"#N/A"}},{"$f":"IF($B18=\"\",\"\",'2. Unit Testing Results'!$Q31)","v":0},{"$f":"IF($B18=\"\",\"\",'2. Unit Testing Results'!$V31)","v":""},{"$f":"IF($B18=\"\",\"\",\nVLOOKUP($C18,'2. Unit Testing Results'!$C$5:$BD$13,30))","v":{"$error":"#N/A"}},{"$f":"IF($B18=\"\",\"\",\nVLOOKUP($C18,'2. Unit Testing Results'!$C$5:$BD$13,32))","v":{"$error":"#N/A"}},{"$f":"IF($B18=\"\",\"\",\nVLOOKUP($C18,'2. Unit Testing Results'!$C$5:$BD$13,34))","v":{"$error":"#N/A"}},{"$f":"IF($B18=\"\",\"\",\nVLOOKUP($C18,'2. Unit Testing Results'!$C$5:$BD$13,36))","v":{"$error":"#N/A"}},{"$f":"IF($B18=\"\",\"\",\nVLOOKUP($C18,'2. Unit Testing Results'!$C$5:$BD$13,38))","v":{"$error":"#N/A"}},{"$f":"IF($B18=\"\",\"\",\nVLOOKUP($C18,'2. Unit Testing Results'!$C$5:$BD$13,39))","v":{"$error":"#N/A"}},{"$f":"IF($B18=\"\",\"\",\nVLOOKUP($C18,'2. Unit Testing Results'!$C$5:$BD$13,40))","v":{"$error":"#N/A"}},{"$f":"IF($B18=\"\",\"\",\nVLOOKUP($C18,'2. Unit Testing Results'!$C$5:$BD$13,42))","v":{"$error":"#N/A"}},{"$f":"IF($B18=\"\",\"\",\nVLOOKUP($C18,'2. Unit Testing Results'!$C$5:$BD$13,44))","v":{"$error":"#N/A"}},{"$f":"IF($B18=\"\",\"\",\nVLOOKUP($C18,'2. Unit Testing Results'!$C$5:$BD$13,46))","v":{"$error":"#N/A"}},{"$f":"IF($B18=\"\",\"\",\nVLOOKUP($C18,'2. Unit Testing Results'!$C$5:$BD$13,48))","v":{"$error":"#N/A"}},{"$f":"IF($B18=\"\",\"\",\nVLOOKUP($C18,'2. Unit Testing Results'!$C$5:$BD$13,50))","v":{"$error":"#N/A"}},{"$f":"IF($B18=\"\",\"\",\nVLOOKUP($C18,'2. Unit Testing Results'!$C$5:$BD$13,51))","v":{"$error":"#N/A"}},{"$f":"IF($B18=\"\",\"\",\nVLOOKUP($C18,'2. Unit Testing Results'!$C$5:$BD$13,52))","v":{"$error":"#N/A"}},{"$f":"IF($B18=\"\",\"\",\nVLOOKUP($C18,'2. Unit Testing Results'!$C$5:$BD$13,53))","v":{"$error":"#N/A"}},{"$f":"IF($B18=\"\",\"\",\nVLOOKUP($C18,'2. Unit Testing Results'!$C$5:$BD$13,54))","v":{"$error":"#N/A"}}]
[null,{"$f":"IF('2. Unit Testing Results'!$C32=\"\",\"\",'2. Unit Testing Results'!$C32)","v":202},{"$f":"IF('2. Unit Testing Results'!$D32=\"\",\"\",'2. Unit Testing Results'!$D32)","v":"B3"},{"$f":"IF('2. Unit Testing Results'!$E32=\"\",\"\",'2. Unit Testing Results'!$E32)","v":815},{"$f":"IF('2. Unit Testing Results'!$F32=\"\",\"\",'2. Unit Testing Results'!$F32)","v":3742},null,{"$f":"IF($B19=\"\",\"\",\n(('2. Unit Testing Results'!$X32)*60)\n/((VLOOKUP($C19,'2. Unit Testing Results'!$C$5:$S$13,4))*(VLOOKUP($C19,'2. Unit Testing Results'!$C$5:$S$13,6)))\n)","v":{"$error":"#VALUE!"}},{"$f":"IF($B19=\"\",\"\",\nVLOOKUP($C19,'2. Unit Testing Results'!$C$5:$BD$13,19))","v":{"$error":"#N/A"}},{"$f":"IF($B19=\"\",\"\",\nVLOOKUP($C19,'2. Unit Testing Results'!$C$5:$BD$13,20))","v":{"$error":"#N/A"}},{"$f":"IF($B19=\"\",\"\",\nVLOOKUP($C19,'2. Unit Testing Results'!$C$5:$BD$13,22))","v":{"$error":"#N/A"}},{"$f":"IF($B19=\"\",\"\",\nVLOOKUP($C19,'2. Unit Testing Results'!$C$5:$BD$13,24))","v":{"$error":"#N/A"}},{"$f":"IF($B19=\"\",\"\",\nVLOOKUP($C19,'2. Unit Testing Results'!$C$5:$BD$13,26))","v":{"$error":"#N/A"}},{"$f":"IF($B19=\"\",\"\",\nVLOOKUP($C19,'2. Unit Testing Results'!$C$5:$BD$13,28))","v":{"$error":"#N/A"}},{"$f":"IF($B19=\"\",\"\",'2. Unit Testing Results'!$Q32)","v":0},{"$f":"IF($B19=\"\",\"\",'2. Unit Testing Results'!$V32)","v":""},{"$f":"IF($B19=\"\",\"\",\nVLOOKUP($C19,'2. Unit Testing Results'!$C$5:$BD$13,30))","v":{"$error":"#N/A"}},{"$f":"IF($B19=\"\",\"\",\nVLOOKUP($C19,'2. Unit Testing Results'!$C$5:$BD$13,32))","v":{"$error":"#N/A"}},{"$f":"IF($B19=\"\",\"\",\nVLOOKUP($C19,'2. Unit Testing Results'!$C$5:$BD$13,34))","v":{"$error":"#N/A"}},{"$f":"IF($B19=\"\",\"\",\nVLOOKUP($C19,'2. Unit Testing Results'!$C$5:$BD$13,36))","v":{"$error":"#N/A"}},{"$f":"IF($B19=\"\",\"\",\nVLOOKUP($C19,'2. Unit Testing Results'!$C$5:$BD$13,38))","v":{"$error":"#N/A"}},{"$f":"IF($B19=\"\",\"\",\nVLOOKUP($C19,'2. Unit Testing Results'!$C$5:$BD$13,39))","v":{"$error":"#N/A"}},{"$f":"IF($B19=\"\",\"\",\nVLOOKUP($C19,'2. Unit Testing Results'!$C$5:$BD$13,40))","v":{"$error":"#N/A"}},{"$f":"IF($B19=\"\",\"\",\nVLOOKUP($C19,'2. Unit Testing Results'!$C$5:$BD$13,42))","v":{"$error":"#N/A"}},{"$f":"IF($B19=\"\",\"\",\nVLOOKUP($C19,'2. Unit Testing Results'!$C$5:$BD$13,44))","v":{"$error":"#N/A"}},{"$f":"IF($B19=\"\",\"\",\nVLOOKUP($C19,'2. Unit Testing Results'!$C$5:$BD$13,46))","v":{"$error":"#N/A"}},{"$f":"IF($B19=\"\",\"\",\nVLOOKUP($C19,'2. Unit Testing Results'!$C$5:$BD$13,48))","v":{"$error":"#N/A"}},{"$f":"IF($B19=\"\",\"\",\nVLOOKUP($C19,'2. Unit Testing Results'!$C$5:$BD$13,50))","v":{"$error":"#N/A"}},{"$f":"IF($B19=\"\",\"\",\nVLOOKUP($C19,'2. Unit Testing Results'!$C$5:$BD$13,51))","v":{"$error":"#N/A"}},{"$f":"IF($B19=\"\",\"\",\nVLOOKUP($C19,'2. Unit Testing Results'!$C$5:$BD$13,52))","v":{"$error":"#N/A"}},{"$f":"IF($B19=\"\",\"\",\nVLOOKUP($C19,'2. Unit Testing Results'!$C$5:$BD$13,53))","v":{"$error":"#N/A"}},{"$f":"IF($B19=\"\",\"\",\nVLOOKUP($C19,'2. Unit Testing Results'!$C$5:$BD$13,54))","v":{"$error":"#N/A"}}]
[null,{"$f":"IF('2. Unit Testing Results'!$C33=\"\",\"\",'2. Unit Testing Results'!$C33)","v":203},{"$f":"IF('2. Unit Testing Results'!$D33=\"\",\"\",'2. Unit Testing Results'!$D33)","v":"Studio"},{"$f":"IF('2. Unit Testing Results'!$E33=\"\",\"\",'2. Unit Testing Results'!$E33)","v":1800},{"$f":"IF('2. Unit Testing Results'!$F33=\"\",\"\",'2. Unit Testing Results'!$F33)","v":6141},null,{"$f":"IF($B20=\"\",\"\",\n(('2. Unit Testing Results'!$X33)*60)\n/((VLOOKUP($C20,'2. Unit Testing Results'!$C$5:$S$13,4))*(VLOOKUP($C20,'2. Unit Testing Results'!$C$5:$S$13,6)))\n)","v":{"$error":"#VALUE!"}},{"$f":"IF($B20=\"\",\"\",\nVLOOKUP($C20,'2. Unit Testing Results'!$C$5:$BD$13,19))","v":19},{"$f":"IF($B20=\"\",\"\",\nVLOOKUP($C20,'2. Unit Testing Results'!$C$5:$BD$13,20))","v":19},{"$f":"IF($B20=\"\",\"\",\nVLOOKUP($C20,'2. Unit Testing Results'!$C$5:$BD$13,22))","v":0},{"$f":"IF($B20=\"\",\"\",\nVLOOKUP($C20,'2. Unit Testing Results'!$C$5:$BD$13,24))","v":10},{"$f":"IF($B20=\"\",\"\",\nVLOOKUP($C20,'2. Unit Testing Results'!$C$5:$BD$13,26))","v":0.3},{"$f":"IF($B20=\"\",\"\",\nVLOOKUP($C20,'2. Unit Testing Results'!$C$5:$BD$13,28))","v":0.32},{"$f":"IF($B20=\"\",\"\",'2. Unit Testing Results'!$Q33)","v":0},{"$f":"IF($B20=\"\",\"\",'2. Unit Testing Results'!$V33)","v":""},{"$f":"IF($B20=\"\",\"\",\nVLOOKUP($C20,'2. Unit Testing Results'!$C$5:$BD$13,30))","v":"Furnace"},{"$f":"IF($B20=\"\",\"\",\nVLOOKUP($C20,'2. Unit Testing Results'!$C$5:$BD$13,32))","v":"NG"},{"$f":"IF($B20=\"\",\"\",\nVLOOKUP($C20,'2. Unit Testing Results'!$C$5:$BD$13,34))","v":92.5},{"$f":"IF($B20=\"\",\"\",\nVLOOKUP($C20,'2. Unit Testing Results'!$C$5:$BD$13,36))","v":"AFUE"},{"$f":"IF($B20=\"\",\"\",\nVLOOKUP($C20,'2. Unit Testing Results'!$C$5:$BD$13,38))","v":"Electricity"},{"$f":"IF($B20=\"\",\"\",\nVLOOKUP($C20,'2. Unit Testing Results'!$C$5:$BD$13,39))","v":0},{"$f":"IF($B20=\"\",\"\",\nVLOOKUP($C20,'2. Unit Testing Results'!$C$5:$BD$13,40))","v":9},{"$f":"IF($B20=\"\",\"\",\nVLOOKUP($C20,'2. Unit Testing Results'!$C$5:$BD$13,42))","v":"HSPF"},{"$f":"IF($B20=\"\",\"\",\nVLOOKUP($C20,'2. Unit Testing Results'!$C$5:$BD$13,44))","v":"Storage"},{"$f":"IF($B20=\"\",\"\",\nVLOOKUP($C20,'2. Unit Testing Results'!$C$5:$BD$13,46))","v":"Gas"},{"$f":"IF($B20=\"\",\"\",\nVLOOKUP($C20,'2. Unit Testing Results'!$C$5:$BD$13,48))","v":0.98},{"$f":"IF($B20=\"\",\"\",\nVLOOKUP($C20,'2. Unit Testing Results'!$C$5:$BD$13,50))","v":90},{"$f":"IF($B20=\"\",\"\",\nVLOOKUP($C20,'2. Unit Testing Results'!$C$5:$BD$13,51))","v":1},{"$f":"IF($B20=\"\",\"\",\nVLOOKUP($C20,'2. Unit Testing Results'!$C$5:$BD$13,52))","v":0},{"$f":"IF($B20=\"\",\"\",\nVLOOKUP($C20,'2. Unit Testing Results'!$C$5:$BD$13,53))","v":1},{"$f":"IF($B20=\"\",\"\",\nVLOOKUP($C20,'2. Unit Testing Results'!$C$5:$BD$13,54))","v":1}]
[null,{"$f":"IF('2. Unit Testing Results'!$C34=\"\",\"\",'2. Unit Testing Results'!$C34)","v":204},{"$f":"IF('2. Unit Testing Results'!$D34=\"\",\"\",'2. Unit Testing Results'!$D34)","v":"B4"},{"$f":"IF('2. Unit Testing Results'!$E34=\"\",\"\",'2. Unit Testing Results'!$E34)","v":1800},{"$f":"IF('2. Unit Testing Results'!$F34=\"\",\"\",'2. Unit Testing Results'!$F34)","v":6141},null,{"$f":"IF($B21=\"\",\"\",\n(('2. Unit Testing Results'!$X34)*60)\n/((VLOOKUP($C21,'2. Unit Testing Results'!$C$5:$S$13,4))*(VLOOKUP($C21,'2. Unit Testing Results'!$C$5:$S$13,6)))\n)","v":{"$error":"#VALUE!"}},{"$f":"IF($B21=\"\",\"\",\nVLOOKUP($C21,'2. Unit Testing Results'!$C$5:$BD$13,19))","v":{"$error":"#N/A"}},{"$f":"IF($B21=\"\",\"\",\nVLOOKUP($C21,'2. Unit Testing Results'!$C$5:$BD$13,20))","v":{"$error":"#N/A"}},{"$f":"IF($B21=\"\",\"\",\nVLOOKUP($C21,'2. Unit Testing Results'!$C$5:$BD$13,22))","v":{"$error":"#N/A"}},{"$f":"IF($B21=\"\",\"\",\nVLOOKUP($C21,'2. Unit Testing Results'!$C$5:$BD$13,24))","v":{"$error":"#N/A"}},{"$f":"IF($B21=\"\",\"\",\nVLOOKUP($C21,'2. Unit Testing Results'!$C$5:$BD$13,26))","v":{"$error":"#N/A"}},{"$f":"IF($B21=\"\",\"\",\nVLOOKUP($C21,'2. Unit Testing Results'!$C$5:$BD$13,28))","v":{"$error":"#N/A"}},{"$f":"IF($B21=\"\",\"\",'2. Unit Testing Results'!$Q34)","v":"Yes"},{"$f":"IF($B21=\"\",\"\",'2. Unit Testing Results'!$V34)","v":"PASS"},{"$f":"IF($B21=\"\",\"\",\nVLOOKUP($C21,'2. Unit Testing Results'!$C$5:$BD$13,30))","v":{"$error":"#N/A"}},{"$f":"IF($B21=\"\",\"\",\nVLOOKUP($C21,'2. Unit Testing Results'!$C$5:$BD$13,32))","v":{"$error":"#N/A"}},{"$f":"IF($B21=\"\",\"\",\nVLOOKUP($C21,'2. Unit Testing Results'!$C$5:$BD$13,34))","v":{"$error":"#N/A"}},{"$f":"IF($B21=\"\",\"\",\nVLOOKUP($C21,'2. Unit Testing Results'!$C$5:$BD$13,36))","v":{"$error":"#N/A"}},{"$f":"IF($B21=\"\",\"\",\nVLOOKUP($C21,'2. Unit Testing Results'!$C$5:$BD$13,38))","v":{"$error":"#N/A"}},{"$f":"IF($B21=\"\",\"\",\nVLOOKUP($C21,'2. Unit Testing Results'!$C$5:$BD$13,39))","v":{"$error":"#N/A"}},{"$f":"IF($B21=\"\",\"\",\nVLOOKUP($C21,'2. Unit Testing Results'!$C$5:$BD$13,40))","v":{"$error":"#N/A"}},{"$f":"IF($B21=\"\",\"\",\nVLOOKUP($C21,'2. Unit Testing Results'!$C$5:$BD$13,42))","v":{"$error":"#N/A"}},{"$f":"IF($B21=\"\",\"\",\nVLOOKUP($C21,'2. Unit Testing Results'!$C$5:$BD$13,44))","v":{"$error":"#N/A"}},{"$f":"IF($B21=\"\",\"\",\nVLOOKUP($C21,'2. Unit Testing Results'!$C$5:$BD$13,46))","v":{"$error":"#N/A"}},{"$f":"IF($B21=\"\",\"\",\nVLOOKUP($C21,'2. Unit Testing Results'!$C$5:$BD$13,48))","v":{"$error":"#N/A"}},{"$f":"IF($B21=\"\",\"\",\nVLOOKUP($C21,'2. Unit Testing Results'!$C$5:$BD$13,50))","v":{"$error":"#N/A"}},{"$f":"IF($B21=\"\",\"\",\nVLOOKUP($C21,'2. Unit Testing Results'!$C$5:$BD$13,51))","v":{"$error":"#N/A"}},{"$f":"IF($B21=\"\",\"\",\nVLOOKUP($C21,'2. Unit Testing Results'!$C$5:$BD$13,52))","v":{"$error":"#N/A"}},{"$f":"IF($B21=\"\",\"\",\nVLOOKUP($C21,'2. Unit Testing Results'!$C$5:$BD$13,53))","v":{"$error":"#N/A"}},{"$f":"IF($B21=\"\",\"\",\nVLOOKUP($C21,'2. Unit Testing Results'!$C$5:$BD$13,54))","v":{"$error":"#N/A"}}]
[null,{"$f":"IF('2. Unit Testing Results'!$C35=\"\",\"\",'2. Unit Testing Results'!$C35)","v":205},{"$f":"IF('2. Unit Testing Results'!$D35=\"\",\"\",'2. Unit Testing Results'!$D35)","v":"Studio"},{"$f":"IF('2. Unit Testing Results'!$E35=\"\",\"\",'2. Unit Testing Results'!$E35)","v":1800},{"$f":"IF('2. Unit Testing Results'!$F35=\"\",\"\",'2. Unit Testing Results'!$F35)","v":6141},null,{"$f":"IF($B22=\"\",\"\",\n(('2. Unit Testing Results'!$X35)*60)\n/((VLOOKUP($C22,'2. Unit Testing Results'!$C$5:$S$13,4))*(VLOOKUP($C22,'2. Unit Testing Results'!$C$5:$S$13,6)))\n)","v":{"$error":"#VALUE!"}},{"$f":"IF($B22=\"\",\"\",\nVLOOKUP($C22,'2. Unit Testing Results'!$C$5:$BD$13,19))","v":19},{"$f":"IF($B22=\"\",\"\",\nVLOOKUP($C22,'2. Unit Testing Results'!$C$5:$BD$13,20))","v":19},{"$f":"IF($B22=\"\",\"\",\nVLOOKUP($C22,'2. Unit Testing Results'!$C$5:$BD$13,22))","v":0},{"$f":"IF($B22=\"\",\"\",\nVLOOKUP($C22,'2. Unit Testing Results'!$C$5:$BD$13,24))","v":10},{"$f":"IF($B22=\"\",\"\",\nVLOOKUP($C22,'2. Unit Testing Results'!$C$5:$BD$13,26))","v":0.3},{"$f":"IF($B22=\"\",\"\",\nVLOOKUP($C22,'2. Unit Testing Results'!$C$5:$BD$13,28))","v":0.32},{"$f":"IF($B22=\"\",\"\",'2. Unit Testing Results'!$Q35)","v":0},{"$f":"IF($B22=\"\",\"\",'2. Unit Testing Results'!$V35)","v":""},{"$f":"IF($B22=\"\",\"\",\nVLOOKUP($C22,'2. Unit Testing Results'!$C$5:$BD$13,30))","v":"Furnace"},{"$f":"IF($B22=\"\",\"\",\nVLOOKUP($C22,'2. Unit Testing Results'!$C$5:$BD$13,32))","v":"NG"},{"$f":"IF($B22=\"\",\"\",\nVLOOKUP($C22,'2. Unit Testing Results'!$C$5:$BD$13,34))","v":92.5},{"$f":"IF($B22=\"\",\"\",\nVLOOKUP($C22,'2. Unit Testing Results'!$C$5:$BD$13,36))","v":"AFUE"},{"$f":"IF($B22=\"\",\"\",\nVLOOKUP($C22,'2. Unit Testing Results'!$C$5:$BD$13,38))","v":"Electricity"},{"$f":"IF($B22=\"\",\"\",\nVLOOKUP($C22,'2. Unit Testing Results'!$C$5:$BD$13,39))","v":0},{"$f":"IF($B22=\"\",\"\",\nVLOOKUP($C22,'2. Unit Testing Results'!$C$5:$BD$13,40))","v":9},{"$f":"IF($B22=\"\",\"\",\nVLOOKUP($C22,'2. Unit Testing Results'!$C$5:$BD$13,42))","v":"HSPF"},{"$f":"IF($B22=\"\",\"\",\nVLOOKUP($C22,'2. Unit Testing Results'!$C$5:$BD$13,44))","v":"Storage"},{"$f":"IF($B22=\"\",\"\",\nVLOOKUP($C22,'2. Unit Testing Results'!$C$5:$BD$13,46))","v":"Gas"},{"$f":"IF($B22=\"\",\"\",\nVLOOKUP($C22,'2. Unit Testing Results'!$C$5:$BD$13,48))","v":0.98},{"$f":"IF($B22=\"\",\"\",\nVLOOKUP($C22,'2. Unit Testing Results'!$C$5:$BD$13,50))","v":90},{"$f":"IF($B22=\"\",\"\",\nVLOOKUP($C22,'2. Unit Testing Results'!$C$5:$BD$13,51))","v":1},{"$f":"IF($B22=\"\",\"\",\nVLOOKUP($C22,'2. Unit Testing Results'!$C$5:$BD$13,52))","v":0},{"$f":"IF($B22=\"\",\"\",\nVLOOKUP($C22,'2. Unit Testing Results'!$C$5:$BD$13,53))","v":1},{"$f":"IF($B22=\"\",\"\",\nVLOOKUP($C22,'2. Unit Testing Results'!$C$5:$BD$13,54))","v":1}]
[null,{"$f":"IF('2. Unit Testing Results'!$C36=\"\",\"\",'2. Unit Testing Results'!$C36)","v":206},{"$f":"IF('2. Unit Testing Results'!$D36=\"\",\"\",'2. Unit Testing Results'!$D36)","v":"B1"},{"$f":"IF('2. Unit Testing Results'!$E36=\"\",\"\",'2. Unit Testing Results'!$E36)","v":650},{"$f":"IF('2. Unit Testing Results'!$F36=\"\",\"\",'2. Unit Testing Results'!$F36)","v":2220},null,{"$f":"IF($B23=\"\",\"\",\n(('2. Unit Testing Results'!$X36)*60)\n/((VLOOKUP($C23,'2. Unit Testing Results'!$C$5:$S$13,4))*(VLOOKUP($C23,'2. Unit Testing Results'!$C$5:$S$13,6)))\n)","v":{"$error":"#VALUE!"}},{"$f":"IF($B23=\"\",\"\",\nVLOOKUP($C23,'2. Unit Testing Results'!$C$5:$BD$13,19))","v":{"$error":"#N/A"}},{"$f":"IF($B23=\"\",\"\",\nVLOOKUP($C23,'2. Unit Testing Results'!$C$5:$BD$13,20))","v":{"$error":"#N/A"}},{"$f":"IF($B23=\"\",\"\",\nVLOOKUP($C23,'2. Unit Testing Results'!$C$5:$BD$13,22))","v":{"$error":"#N/A"}},{"$f":"IF($B23=\"\",\"\",\nVLOOKUP($C23,'2. Unit Testing Results'!$C$5:$BD$13,24))","v":{"$error":"#N/A"}},{"$f":"IF($B23=\"\",\"\",\nVLOOKUP($C23,'2. Unit Testing Results'!$C$5:$BD$13,26))","v":{"$error":"#N/A"}},{"$f":"IF($B23=\"\",\"\",\nVLOOKUP($C23,'2. Unit Testing Results'!$C$5:$BD$13,28))","v":{"$error":"#N/A"}},{"$f":"IF($B23=\"\",\"\",'2. Unit Testing Results'!$Q36)","v":0},{"$f":"IF($B23=\"\",\"\",'2. Unit Testing Results'!$V36)","v":""},{"$f":"IF($B23=\"\",\"\",\nVLOOKUP($C23,'2. Unit Testing Results'!$C$5:$BD$13,30))","v":{"$error":"#N/A"}},{"$f":"IF($B23=\"\",\"\",\nVLOOKUP($C23,'2. Unit Testing Results'!$C$5:$BD$13,32))","v":{"$error":"#N/A"}},{"$f":"IF($B23=\"\",\"\",\nVLOOKUP($C23,'2. Unit Testing Results'!$C$5:$BD$13,34))","v":{"$error":"#N/A"}},{"$f":"IF($B23=\"\",\"\",\nVLOOKUP($C23,'2. Unit Testing Results'!$C$5:$BD$13,36))","v":{"$error":"#N/A"}},{"$f":"IF($B23=\"\",\"\",\nVLOOKUP($C23,'2. Unit Testing Results'!$C$5:$BD$13,38))","v":{"$error":"#N/A"}},{"$f":"IF($B23=\"\",\"\",\nVLOOKUP($C23,'2. Unit Testing Results'!$C$5:$BD$13,39))","v":{"$error":"#N/A"}},{"$f":"IF($B23=\"\",\"\",\nVLOOKUP($C23,'2. Unit Testing Results'!$C$5:$BD$13,40))","v":{"$error":"#N/A"}},{"$f":"IF($B23=\"\",\"\",\nVLOOKUP($C23,'2. Unit Testing Results'!$C$5:$BD$13,42))","v":{"$error":"#N/A"}},{"$f":"IF($B23=\"\",\"\",\nVLOOKUP($C23,'2. Unit Testing Results'!$C$5:$BD$13,44))","v":{"$error":"#N/A"}},{"$f":"IF($B23=\"\",\"\",\nVLOOKUP($C23,'2. Unit Testing Results'!$C$5:$BD$13,46))","v":{"$error":"#N/A"}},{"$f":"IF($B23=\"\",\"\",\nVLOOKUP($C23,'2. Unit Testing Results'!$C$5:$BD$13,48))","v":{"$error":"#N/A"}},{"$f":"IF($B23=\"\",\"\",\nVLOOKUP($C23,'2. Unit Testing Results'!$C$5:$BD$13,50))","v":{"$error":"#N/A"}},{"$f":"IF($B23=\"\",\"\",\nVLOOKUP($C23,'2. Unit Testing Results'!$C$5:$BD$13,51))","v":{"$error":"#N/A"}},{"$f":"IF($B23=\"\",\"\",\nVLOOKUP($C23,'2. Unit Testing Results'!$C$5:$BD$13,52))","v":{"$error":"#N/A"}},{"$f":"IF($B23=\"\",\"\",\nVLOOKUP($C23,'2. Unit Testing Results'!$C$5:$BD$13,53))","v":{"$error":"#N/A"}},{"$f":"IF($B23=\"\",\"\",\nVLOOKUP($C23,'2. Unit Testing Results'!$C$5:$BD$13,54))","v":{"$error":"#N/A"}}]
[null,{"$f":"IF('2. Unit Testing Results'!$C37=\"\",\"\",'2. Unit Testing Results'!$C37)","v":207},{"$f":"IF('2. Unit Testing Results'!$D37=\"\",\"\",'2. Unit Testing Results'!$D37)","v":"B3"},{"$f":"IF('2. Unit Testing Results'!$E37=\"\",\"\",'2. Unit Testing Results'!$E37)","v":815},{"$f":"IF('2. Unit Testing Results'!$F37=\"\",\"\",'2. Unit Testing Results'!$F37)","v":3742},null,{"$f":"IF($B24=\"\",\"\",\n(('2. Unit Testing Results'!$X37)*60)\n/((VLOOKUP($C24,'2. Unit Testing Results'!$C$5:$S$13,4))*(VLOOKUP($C24,'2. Unit Testing Results'!$C$5:$S$13,6)))\n)","v":{"$error":"#VALUE!"}},{"$f":"IF($B24=\"\",\"\",\nVLOOKUP($C24,'2. Unit Testing Results'!$C$5:$BD$13,19))","v":{"$error":"#N/A"}},{"$f":"IF($B24=\"\",\"\",\nVLOOKUP($C24,'2. Unit Testing Results'!$C$5:$BD$13,20))","v":{"$error":"#N/A"}},{"$f":"IF($B24=\"\",\"\",\nVLOOKUP($C24,'2. Unit Testing Results'!$C$5:$BD$13,22))","v":{"$error":"#N/A"}},{"$f":"IF($B24=\"\",\"\",\nVLOOKUP($C24,'2. Unit Testing Results'!$C$5:$BD$13,24))","v":{"$error":"#N/A"}},{"$f":"IF($B24=\"\",\"\",\nVLOOKUP($C24,'2. Unit Testing Results'!$C$5:$BD$13,26))","v":{"$error":"#N/A"}},{"$f":"IF($B24=\"\",\"\",\nVLOOKUP($C24,'2. Unit Testing Results'!$C$5:$BD$13,28))","v":{"$error":"#N/A"}},{"$f":"IF($B24=\"\",\"\",'2. Unit Testing Results'!$Q37)","v":0},{"$f":"IF($B24=\"\",\"\",'2. Unit Testing Results'!$V37)","v":""},{"$f":"IF($B24=\"\",\"\",\nVLOOKUP($C24,'2. Unit Testing Results'!$C$5:$BD$13,30))","v":{"$error":"#N/A"}},{"$f":"IF($B24=\"\",\"\",\nVLOOKUP($C24,'2. Unit Testing Results'!$C$5:$BD$13,32))","v":{"$error":"#N/A"}},{"$f":"IF($B24=\"\",\"\",\nVLOOKUP($C24,'2. Unit Testing Results'!$C$5:$BD$13,34))","v":{"$error":"#N/A"}},{"$f":"IF($B24=\"\",\"\",\nVLOOKUP($C24,'2. Unit Testing Results'!$C$5:$BD$13,36))","v":{"$error":"#N/A"}},{"$f":"IF($B24=\"\",\"\",\nVLOOKUP($C24,'2. Unit Testing Results'!$C$5:$BD$13,38))","v":{"$error":"#N/A"}},{"$f":"IF($B24=\"\",\"\",\nVLOOKUP($C24,'2. Unit Testing Results'!$C$5:$BD$13,39))","v":{"$error":"#N/A"}},{"$f":"IF($B24=\"\",\"\",\nVLOOKUP($C24,'2. Unit Testing Results'!$C$5:$BD$13,40))","v":{"$error":"#N/A"}},{"$f":"IF($B24=\"\",\"\",\nVLOOKUP($C24,'2. Unit Testing Results'!$C$5:$BD$13,42))","v":{"$error":"#N/A"}},{"$f":"IF($B24=\"\",\"\",\nVLOOKUP($C24,'2. Unit Testing Results'!$C$5:$BD$13,44))","v":{"$error":"#N/A"}},{"$f":"IF($B24=\"\",\"\",\nVLOOKUP($C24,'2. Unit Testing Results'!$C$5:$BD$13,46))","v":{"$error":"#N/A"}},{"$f":"IF($B24=\"\",\"\",\nVLOOKUP($C24,'2. Unit Testing Results'!$C$5:$BD$13,48))","v":{"$error":"#N/A"}},{"$f":"IF($B24=\"\",\"\",\nVLOOKUP($C24,'2. Unit Testing Results'!$C$5:$BD$13,50))","v":{"$error":"#N/A"}},{"$f":"IF($B24=\"\",\"\",\nVLOOKUP($C24,'2. Unit Testing Results'!$C$5:$BD$13,51))","v":{"$error":"#N/A"}},{"$f":"IF($B24=\"\",\"\",\nVLOOKUP($C24,'2. Unit Testing Results'!$C$5:$BD$13,52))","v":{"$error":"#N/A"}},{"$f":"IF($B24=\"\",\"\",\nVLOOKUP($C24,'2. Unit Testing Results'!$C$5:$BD$13,53))","v":{"$error":"#N/A"}},{"$f":"IF($B24=\"\",\"\",\nVLOOKUP($C24,'2. Unit Testing Results'!$C$5:$BD$13,54))","v":{"$error":"#N/A"}}]
[null,{"$f":"IF('2. Unit Testing Results'!$C38=\"\",\"\",'2. Unit Testing Results'!$C38)","v":208},{"$f":"IF('2. Unit Testing Results'!$D38=\"\",\"\",'2. Unit Testing Results'!$D38)","v":"B2"},{"$f":"IF('2. Unit Testing Results'!$E38=\"\",\"\",'2. Unit Testing Results'!$E38)","v":800},{"$f":"IF('2. Unit Testing Results'!$F38=\"\",\"\",'2. Unit Testing Results'!$F38)","v":3040},null,{"$f":"IF($B25=\"\",\"\",\n(('2. Unit Testing Results'!$X38)*60)\n/((VLOOKUP($C25,'2. Unit Testing Results'!$C$5:$S$13,4))*(VLOOKUP($C25,'2. Unit Testing Results'!$C$5:$S$13,6)))\n)","v":{"$error":"#VALUE!"}},{"$f":"IF($B25=\"\",\"\",\nVLOOKUP($C25,'2. Unit Testing Results'!$C$5:$BD$13,19))","v":{"$error":"#N/A"}},{"$f":"IF($B25=\"\",\"\",\nVLOOKUP($C25,'2. Unit Testing Results'!$C$5:$BD$13,20))","v":{"$error":"#N/A"}},{"$f":"IF($B25=\"\",\"\",\nVLOOKUP($C25,'2. Unit Testing Results'!$C$5:$BD$13,22))","v":{"$error":"#N/A"}},{"$f":"IF($B25=\"\",\"\",\nVLOOKUP($C25,'2. Unit Testing Results'!$C$5:$BD$13,24))","v":{"$error":"#N/A"}},{"$f":"IF($B25=\"\",\"\",\nVLOOKUP($C25,'2. Unit Testing Results'!$C$5:$BD$13,26))","v":{"$error":"#N/A"}},{"$f":"IF($B25=\"\",\"\",\nVLOOKUP($C25,'2. Unit Testing Results'!$C$5:$BD$13,28))","v":{"$error":"#N/A"}},{"$f":"IF($B25=\"\",\"\",'2. Unit Testing Results'!$Q38)","v":0},{"$f":"IF($B25=\"\",\"\",'2. Unit Testing Results'!$V38)","v":""},{"$f":"IF($B25=\"\",\"\",\nVLOOKUP($C25,'2. Unit Testing Results'!$C$5:$BD$13,30))","v":{"$error":"#N/A"}},{"$f":"IF($B25=\"\",\"\",\nVLOOKUP($C25,'2. Unit Testing Results'!$C$5:$BD$13,32))","v":{"$error":"#N/A"}},{"$f":"IF($B25=\"\",\"\",\nVLOOKUP($C25,'2. Unit Testing Results'!$C$5:$BD$13,34))","v":{"$error":"#N/A"}},{"$f":"IF($B25=\"\",\"\",\nVLOOKUP($C25,'2. Unit Testing Results'!$C$5:$BD$13,36))","v":{"$error":"#N/A"}},{"$f":"IF($B25=\"\",\"\",\nVLOOKUP($C25,'2. Unit Testing Results'!$C$5:$BD$13,38))","v":{"$error":"#N/A"}},{"$f":"IF($B25=\"\",\"\",\nVLOOKUP($C25,'2. Unit Testing Results'!$C$5:$BD$13,39))","v":{"$error":"#N/A"}},{"$f":"IF($B25=\"\",\"\",\nVLOOKUP($C25,'2. Unit Testing Results'!$C$5:$BD$13,40))","v":{"$error":"#N/A"}},{"$f":"IF($B25=\"\",\"\",\nVLOOKUP($C25,'2. Unit Testing Results'!$C$5:$BD$13,42))","v":{"$error":"#N/A"}},{"$f":"IF($B25=\"\",\"\",\nVLOOKUP($C25,'2. Unit Testing Results'!$C$5:$BD$13,44))","v":{"$error":"#N/A"}},{"$f":"IF($B25=\"\",\"\",\nVLOOKUP($C25,'2. Unit Testing Results'!$C$5:$BD$13,46))","v":{"$error":"#N/A"}},{"$f":"IF($B25=\"\",\"\",\nVLOOKUP($C25,'2. Unit Testing Results'!$C$5:$BD$13,48))","v":{"$error":"#N/A"}},{"$f":"IF($B25=\"\",\"\",\nVLOOKUP($C25,'2. Unit Testing Results'!$C$5:$BD$13,50))","v":{"$error":"#N/A"}},{"$f":"IF($B25=\"\",\"\",\nVLOOKUP($C25,'2. Unit Testing Results'!$C$5:$BD$13,51))","v":{"$error":"#N/A"}},{"$f":"IF($B25=\"\",\"\",\nVLOOKUP($C25,'2. Unit Testing Results'!$C$5:$BD$13,52))","v":{"$error":"#N/A"}},{"$f":"IF($B25=\"\",\"\",\nVLOOKUP($C25,'2. Unit Testing Results'!$C$5:$BD$13,53))","v":{"$error":"#N/A"}},{"$f":"IF($B25=\"\",\"\",\nVLOOKUP($C25,'2. Unit Testing Results'!$C$5:$BD$13,54))","v":{"$error":"#N/A"}}]
[null,{"$f":"IF('2. Unit Testing Results'!$C39=\"\",\"\",'2. Unit Testing Results'!$C39)","v":209},{"$f":"IF('2. Unit Testing Results'!$D39=\"\",\"\",'2. Unit Testing Results'!$D39)","v":"A2"},{"$f":"IF('2. Unit Testing Results'!$E39=\"\",\"\",'2. Unit Testing Results'!$E39)","v":678},{"$f":"IF('2. Unit Testing Results'!$F39=\"\",\"\",'2. Unit Testing Results'!$F39)","v":2196},null,{"$f":"IF($B26=\"\",\"\",\n(('2. Unit Testing Results'!$X39)*60)\n/((VLOOKUP($C26,'2. Unit Testing Results'!$C$5:$S$13,4))*(VLOOKUP($C26,'2. Unit Testing Results'!$C$5:$S$13,6)))\n)","v":{"$error":"#VALUE!"}},{"$f":"IF($B26=\"\",\"\",\nVLOOKUP($C26,'2. Unit Testing Results'!$C$5:$BD$13,19))","v":{"$error":"#N/A"}},{"$f":"IF($B26=\"\",\"\",\nVLOOKUP($C26,'2. Unit Testing Results'!$C$5:$BD$13,20))","v":{"$error":"#N/A"}},{"$f":"IF($B26=\"\",\"\",\nVLOOKUP($C26,'2. Unit Testing Results'!$C$5:$BD$13,22))","v":{"$error":"#N/A"}},{"$f":"IF($B26=\"\",\"\",\nVLOOKUP($C26,'2. Unit Testing Results'!$C$5:$BD$13,24))","v":{"$error":"#N/A"}},{"$f":"IF($B26=\"\",\"\",\nVLOOKUP($C26,'2. Unit Testing Results'!$C$5:$BD$13,26))","v":{"$error":"#N/A"}},{"$f":"IF($B26=\"\",\"\",\nVLOOKUP($C26,'2. Unit Testing Results'!$C$5:$BD$13,28))","v":{"$error":"#N/A"}},{"$f":"IF($B26=\"\",\"\",'2. Unit Testing Results'!$Q39)","v":0},{"$f":"IF($B26=\"\",\"\",'2. Unit Testing Results'!$V39)","v":""},{"$f":"IF($B26=\"\",\"\",\nVLOOKUP($C26,'2. Unit Testing Results'!$C$5:$BD$13,30))","v":{"$error":"#N/A"}},{"$f":"IF($B26=\"\",\"\",\nVLOOKUP($C26,'2. Unit Testing Results'!$C$5:$BD$13,32))","v":{"$error":"#N/A"}},{"$f":"IF($B26=\"\",\"\",\nVLOOKUP($C26,'2. Unit Testing Results'!$C$5:$BD$13,34))","v":{"$error":"#N/A"}},{"$f":"IF($B26=\"\",\"\",\nVLOOKUP($C26,'2. Unit Testing Results'!$C$5:$BD$13,36))","v":{"$error":"#N/A"}},{"$f":"IF($B26=\"\",\"\",\nVLOOKUP($C26,'2. Unit Testing Results'!$C$5:$BD$13,38))","v":{"$error":"#N/A"}},{"$f":"IF($B26=\"\",\"\",\nVLOOKUP($C26,'2. Unit Testing Results'!$C$5:$BD$13,39))","v":{"$error":"#N/A"}},{"$f":"IF($B26=\"\",\"\",\nVLOOKUP($C26,'2. Unit Testing Results'!$C$5:$BD$13,40))","v":{"$error":"#N/A"}},{"$f":"IF($B26=\"\",\"\",\nVLOOKUP($C26,'2. Unit Testing Results'!$C$5:$BD$13,42))","v":{"$error":"#N/A"}},{"$f":"IF($B26=\"\",\"\",\nVLOOKUP($C26,'2. Unit Testing Results'!$C$5:$BD$13,44))","v":{"$error":"#N/A"}},{"$f":"IF($B26=\"\",\"\",\nVLOOKUP($C26,'2. Unit Testing Results'!$C$5:$BD$13,46))","v":{"$error":"#N/A"}},{"$f":"IF($B26=\"\",\"\",\nVLOOKUP($C26,'2. Unit Testing Results'!$C$5:$BD$13,48))","v":{"$error":"#N/A"}},{"$f":"IF($B26=\"\",\"\",\nVLOOKUP($C26,'2. Unit Testing Results'!$C$5:$BD$13,50))","v":{"$error":"#N/A"}},{"$f":"IF($B26=\"\",\"\",\nVLOOKUP($C26,'2. Unit Testing Results'!$C$5:$BD$13,51))","v":{"$error":"#N/A"}},{"$f":"IF($B26=\"\",\"\",\nVLOOKUP($C26,'2. Unit Testing Results'!$C$5:$BD$13,52))","v":{"$error":"#N/A"}},{"$f":"IF($B26=\"\",\"\",\nVLOOKUP($C26,'2. Unit Testing Results'!$C$5:$BD$13,53))","v":{"$error":"#N/A"}},{"$f":"IF($B26=\"\",\"\",\nVLOOKUP($C26,'2. Unit Testing Results'!$C$5:$BD$13,54))","v":{"$error":"#N/A"}}]
[null,{"$f":"IF('2. Unit Testing Results'!$C40=\"\",\"\",'2. Unit Testing Results'!$C40)","v":210},{"$f":"IF('2. Unit Testing Results'!$D40=\"\",\"\",'2. Unit Testing Results'!$D40)","v":"A2"},{"$f":"IF('2. Unit Testing Results'!$E40=\"\",\"\",'2. Unit Testing Results'!$E40)","v":678},{"$f":"IF('2. Unit Testing Results'!$F40=\"\",\"\",'2. Unit Testing Results'!$F40)","v":2196},null,{"$f":"IF($B27=\"\",\"\",\n(('2. Unit Testing Results'!$X40)*60)\n/((VLOOKUP($C27,'2. Unit Testing Results'!$C$5:$S$13,4))*(VLOOKUP($C27,'2. Unit Testing Results'!$C$5:$S$13,6)))\n)","v":{"$error":"#VALUE!"}},{"$f":"IF($B27=\"\",\"\",\nVLOOKUP($C27,'2. Unit Testing Results'!$C$5:$BD$13,19))","v":{"$error":"#N/A"}},{"$f":"IF($B27=\"\",\"\",\nVLOOKUP($C27,'2. Unit Testing Results'!$C$5:$BD$13,20))","v":{"$error":"#N/A"}},{"$f":"IF($B27=\"\",\"\",\nVLOOKUP($C27,'2. Unit Testing Results'!$C$5:$BD$13,22))","v":{"$error":"#N/A"}},{"$f":"IF($B27=\"\",\"\",\nVLOOKUP($C27,'2. Unit Testing Results'!$C$5:$BD$13,24))","v":{"$error":"#N/A"}},{"$f":"IF($B27=\"\",\"\",\nVLOOKUP($C27,'2. Unit Testing Results'!$C$5:$BD$13,26))","v":{"$error":"#N/A"}},{"$f":"IF($B27=\"\",\"\",\nVLOOKUP($C27,'2. Unit Testing Results'!$C$5:$BD$13,28))","v":{"$error":"#N/A"}},{"$f":"IF($B27=\"\",\"\",'2. Unit Testing Results'!$Q40)","v":0},{"$f":"IF($B27=\"\",\"\",'2. Unit Testing Results'!$V40)","v":""},{"$f":"IF($B27=\"\",\"\",\nVLOOKUP($C27,'2. Unit Testing Results'!$C$5:$BD$13,30))","v":{"$error":"#N/A"}},{"$f":"IF($B27=\"\",\"\",\nVLOOKUP($C27,'2. Unit Testing Results'!$C$5:$BD$13,32))","v":{"$error":"#N/A"}},{"$f":"IF($B27=\"\",\"\",\nVLOOKUP($C27,'2. Unit Testing Results'!$C$5:$BD$13,34))","v":{"$error":"#N/A"}},{"$f":"IF($B27=\"\",\"\",\nVLOOKUP($C27,'2. Unit Testing Results'!$C$5:$BD$13,36))","v":{"$error":"#N/A"}},{"$f":"IF($B27=\"\",\"\",\nVLOOKUP($C27,'2. Unit Testing Results'!$C$5:$BD$13,38))","v":{"$error":"#N/A"}},{"$f":"IF($B27=\"\",\"\",\nVLOOKUP($C27,'2. Unit Testing Results'!$C$5:$BD$13,39))","v":{"$error":"#N/A"}},{"$f":"IF($B27=\"\",\"\",\nVLOOKUP($C27,'2. Unit Testing Results'!$C$5:$BD$13,40))","v":{"$error":"#N/A"}},{"$f":"IF($B27=\"\",\"\",\nVLOOKUP($C27,'2. Unit Testing Results'!$C$5:$BD$13,42))","v":{"$error":"#N/A"}},{"$f":"IF($B27=\"\",\"\",\nVLOOKUP($C27,'2. Unit Testing Results'!$C$5:$BD$13,44))","v":{"$error":"#N/A"}},{"$f":"IF($B27=\"\",\"\",\nVLOOKUP($C27,'2. Unit Testing Results'!$C$5:$BD$13,46))","v":{"$error":"#N/A"}},{"$f":"IF($B27=\"\",\"\",\nVLOOKUP($C27,'2. Unit Testing Results'!$C$5:$BD$13,48))","v":{"$error":"#N/A"}},{"$f":"IF($B27=\"\",\"\",\nVLOOKUP($C27,'2. Unit Testing Results'!$C$5:$BD$13,50))","v":{"$error":"#N/A"}},{"$f":"IF($B27=\"\",\"\",\nVLOOKUP($C27,'2. Unit Testing Results'!$C$5:$BD$13,51))","v":{"$error":"#N/A"}},{"$f":"IF($B27=\"\",\"\",\nVLOOKUP($C27,'2. Unit Testing Results'!$C$5:$BD$13,52))","v":{"$error":"#N/A"}},{"$f":"IF($B27=\"\",\"\",\nVLOOKUP($C27,'2. Unit Testing Results'!$C$5:$BD$13,53))","v":{"$error":"#N/A"}},{"$f":"IF($B27=\"\",\"\",\nVLOOKUP($C27,'2. Unit Testing Results'!$C$5:$BD$13,54))","v":{"$error":"#N/A"}}]
[null,{"$f":"IF('2. Unit Testing Results'!$C41=\"\",\"\",'2. Unit Testing Results'!$C41)","v":301},{"$f":"IF('2. Unit Testing Results'!$D41=\"\",\"\",'2. Unit Testing Results'!$D41)","v":"A1"},{"$f":"IF('2. Unit Testing Results'!$E41=\"\",\"\",'2. Unit Testing Results'!$E41)","v":515},{"$f":"IF('2. Unit Testing Results'!$F41=\"\",\"\",'2. Unit Testing Results'!$F41)","v":1990},null,{"$f":"IF($B28=\"\",\"\",\n(('2. Unit Testing Results'!$X41)*60)\n/((VLOOKUP($C28,'2. Unit Testing Results'!$C$5:$S$13,4))*(VLOOKUP($C28,'2. Unit Testing Results'!$C$5:$S$13,6)))\n)","v":{"$error":"#VALUE!"}},{"$f":"IF($B28=\"\",\"\",\nVLOOKUP($C28,'2. Unit Testing Results'!$C$5:$BD$13,19))","v":{"$error":"#N/A"}},{"$f":"IF($B28=\"\",\"\",\nVLOOKUP($C28,'2. Unit Testing Results'!$C$5:$BD$13,20))","v":{"$error":"#N/A"}},{"$f":"IF($B28=\"\",\"\",\nVLOOKUP($C28,'2. Unit Testing Results'!$C$5:$BD$13,22))","v":{"$error":"#N/A"}},{"$f":"IF($B28=\"\",\"\",\nVLOOKUP($C28,'2. Unit Testing Results'!$C$5:$BD$13,24))","v":{"$error":"#N/A"}},{"$f":"IF($B28=\"\",\"\",\nVLOOKUP($C28,'2. Unit Testing Results'!$C$5:$BD$13,26))","v":{"$error":"#N/A"}},{"$f":"IF($B28=\"\",\"\",\nVLOOKUP($C28,'2. Unit Testing Results'!$C$5:$BD$13,28))","v":{"$error":"#N/A"}},{"$f":"IF($B28=\"\",\"\",'2. Unit Testing Results'!$Q41)","v":0},{"$f":"IF($B28=\"\",\"\",'2. Unit Testing Results'!$V41)","v":""},{"$f":"IF($B28=\"\",\"\",\nVLOOKUP($C28,'2. Unit Testing Results'!$C$5:$BD$13,30))","v":{"$error":"#N/A"}},{"$f":"IF($B28=\"\",\"\",\nVLOOKUP($C28,'2. Unit Testing Results'!$C$5:$BD$13,32))","v":{"$error":"#N/A"}},{"$f":"IF($B28=\"\",\"\",\nVLOOKUP($C28,'2. Unit Testing Results'!$C$5:$BD$13,34))","v":{"$error":"#N/A"}},{"$f":"IF($B28=\"\",\"\",\nVLOOKUP($C28,'2. Unit Testing Results'!$C$5:$BD$13,36))","v":{"$error":"#N/A"}},{"$f":"IF($B28=\"\",\"\",\nVLOOKUP($C28,'2. Unit Testing Results'!$C$5:$BD$13,38))","v":{"$error":"#N/A"}},{"$f":"IF($B28=\"\",\"\",\nVLOOKUP($C28,'2. Unit Testing Results'!$C$5:$BD$13,39))","v":{"$error":"#N/A"}},{"$f":"IF($B28=\"\",\"\",\nVLOOKUP($C28,'2. Unit Testing Results'!$C$5:$BD$13,40))","v":{"$error":"#N/A"}},{"$f":"IF($B28=\"\",\"\",\nVLOOKUP($C28,'2. Unit Testing Results'!$C$5:$BD$13,42))","v":{"$error":"#N/A"}},{"$f":"IF($B28=\"\",\"\",\nVLOOKUP($C28,'2. Unit Testing Results'!$C$5:$BD$13,44))","v":{"$error":"#N/A"}},{"$f":"IF($B28=\"\",\"\",\nVLOOKUP($C28,'2. Unit Testing Results'!$C$5:$BD$13,46))","v":{"$error":"#N/A"}},{"$f":"IF($B28=\"\",\"\",\nVLOOKUP($C28,'2. Unit Testing Results'!$C$5:$BD$13,48))","v":{"$error":"#N/A"}},{"$f":"IF($B28=\"\",\"\",\nVLOOKUP($C28,'2. Unit Testing Results'!$C$5:$BD$13,50))","v":{"$error":"#N/A"}},{"$f":"IF($B28=\"\",\"\",\nVLOOKUP($C28,'2. Unit Testing Results'!$C$5:$BD$13,51))","v":{"$error":"#N/A"}},{"$f":"IF($B28=\"\",\"\",\nVLOOKUP($C28,'2. Unit Testing Results'!$C$5:$BD$13,52))","v":{"$error":"#N/A"}},{"$f":"IF($B28=\"\",\"\",\nVLOOKUP($C28,'2. Unit Testing Results'!$C$5:$BD$13,53))","v":{"$error":"#N/A"}},{"$f":"IF($B28=\"\",\"\",\nVLOOKUP($C28,'2. Unit Testing Results'!$C$5:$BD$13,54))","v":{"$error":"#N/A"}}]
[null,{"$f":"IF('2. Unit Testing Results'!$C42=\"\",\"\",'2. Unit Testing Results'!$C42)","v":302},{"$f":"IF('2. Unit Testing Results'!$D42=\"\",\"\",'2. Unit Testing Results'!$D42)","v":"B3"},{"$f":"IF('2. Unit Testing Results'!$E42=\"\",\"\",'2. Unit Testing Results'!$E42)","v":815},{"$f":"IF('2. Unit Testing Results'!$F42=\"\",\"\",'2. Unit Testing Results'!$F42)","v":3742},null,{"$f":"IF($B29=\"\",\"\",\n(('2. Unit Testing Results'!$X42)*60)\n/((VLOOKUP($C29,'2. Unit Testing Results'!$C$5:$S$13,4))*(VLOOKUP($C29,'2. Unit Testing Results'!$C$5:$S$13,6)))\n)","v":{"$error":"#VALUE!"}},{"$f":"IF($B29=\"\",\"\",\nVLOOKUP($C29,'2. Unit Testing Results'!$C$5:$BD$13,19))","v":{"$error":"#N/A"}},{"$f":"IF($B29=\"\",\"\",\nVLOOKUP($C29,'2. Unit Testing Results'!$C$5:$BD$13,20))","v":{"$error":"#N/A"}},{"$f":"IF($B29=\"\",\"\",\nVLOOKUP($C29,'2. Unit Testing Results'!$C$5:$BD$13,22))","v":{"$error":"#N/A"}},{"$f":"IF($B29=\"\",\"\",\nVLOOKUP($C29,'2. Unit Testing Results'!$C$5:$BD$13,24))","v":{"$error":"#N/A"}},{"$f":"IF($B29=\"\",\"\",\nVLOOKUP($C29,'2. Unit Testing Results'!$C$5:$BD$13,26))","v":{"$error":"#N/A"}},{"$f":"IF($B29=\"\",\"\",\nVLOOKUP($C29,'2. Unit Testing Results'!$C$5:$BD$13,28))","v":{"$error":"#N/A"}},{"$f":"IF($B29=\"\",\"\",'2. Unit Testing Results'!$Q42)","v":0},{"$f":"IF($B29=\"\",\"\",'2. Unit Testing Results'!$V42)","v":""},{"$f":"IF($B29=\"\",\"\",\nVLOOKUP($C29,'2. Unit Testing Results'!$C$5:$BD$13,30))","v":{"$error":"#N/A"}},{"$f":"IF($B29=\"\",\"\",\nVLOOKUP($C29,'2. Unit Testing Results'!$C$5:$BD$13,32))","v":{"$error":"#N/A"}},{"$f":"IF($B29=\"\",\"\",\nVLOOKUP($C29,'2. Unit Testing Results'!$C$5:$BD$13,34))","v":{"$error":"#N/A"}},{"$f":"IF($B29=\"\",\"\",\nVLOOKUP($C29,'2. Unit Testing Results'!$C$5:$BD$13,36))","v":{"$error":"#N/A"}},{"$f":"IF($B29=\"\",\"\",\nVLOOKUP($C29,'2. Unit Testing Results'!$C$5:$BD$13,38))","v":{"$error":"#N/A"}},{"$f":"IF($B29=\"\",\"\",\nVLOOKUP($C29,'2. Unit Testing Results'!$C$5:$BD$13,39))","v":{"$error":"#N/A"}},{"$f":"IF($B29=\"\",\"\",\nVLOOKUP($C29,'2. Unit Testing Results'!$C$5:$BD$13,40))","v":{"$error":"#N/A"}},{"$f":"IF($B29=\"\",\"\",\nVLOOKUP($C29,'2. Unit Testing Results'!$C$5:$BD$13,42))","v":{"$error":"#N/A"}},{"$f":"IF($B29=\"\",\"\",\nVLOOKUP($C29,'2. Unit Testing Results'!$C$5:$BD$13,44))","v":{"$error":"#N/A"}},{"$f":"IF($B29=\"\",\"\",\nVLOOKUP($C29,'2. Unit Testing Results'!$C$5:$BD$13,46))","v":{"$error":"#N/A"}},{"$f":"IF($B29=\"\",\"\",\nVLOOKUP($C29,'2. Unit Testing Results'!$C$5:$BD$13,48))","v":{"$error":"#N/A"}},{"$f":"IF($B29=\"\",\"\",\nVLOOKUP($C29,'2. Unit Testing Results'!$C$5:$BD$13,50))","v":{"$error":"#N/A"}},{"$f":"IF($B29=\"\",\"\",\nVLOOKUP($C29,'2. Unit Testing Results'!$C$5:$BD$13,51))","v":{"$error":"#N/A"}},{"$f":"IF($B29=\"\",\"\",\nVLOOKUP($C29,'2. Unit Testing Results'!$C$5:$BD$13,52))","v":{"$error":"#N/A"}},{"$f":"IF($B29=\"\",\"\",\nVLOOKUP($C29,'2. Unit Testing Results'!$C$5:$BD$13,53))","v":{"$error":"#N/A"}},{"$f":"IF($B29=\"\",\"\",\nVLOOKUP($C29,'2. Unit Testing Results'!$C$5:$BD$13,54))","v":{"$error":"#N/A"}}]
[null,{"$f":"IF('2. Unit Testing Results'!$C43=\"\",\"\",'2. Unit Testing Results'!$C43)","v":303},{"$f":"IF('2. Unit Testing Results'!$D43=\"\",\"\",'2. Unit Testing Results'!$D43)","v":"Studio"},{"$f":"IF('2. Unit Testing Results'!$E43=\"\",\"\",'2. Unit Testing Results'!$E43)","v":1800},{"$f":"IF('2. Unit Testing Results'!$F43=\"\",\"\",'2. Unit Testing Results'!$F43)","v":6141},null,{"$f":"IF($B30=\"\",\"\",\n(('2. Unit Testing Results'!$X43)*60)\n/((VLOOKUP($C30,'2. Unit Testing Results'!$C$5:$S$13,4))*(VLOOKUP($C30,'2. Unit Testing Results'!$C$5:$S$13,6)))\n)","v":{"$error":"#VALUE!"}},{"$f":"IF($B30=\"\",\"\",\nVLOOKUP($C30,'2. Unit Testing Results'!$C$5:$BD$13,19))","v":19},{"$f":"IF($B30=\"\",\"\",\nVLOOKUP($C30,'2. Unit Testing Results'!$C$5:$BD$13,20))","v":19},{"$f":"IF($B30=\"\",\"\",\nVLOOKUP($C30,'2. Unit Testing Results'!$C$5:$BD$13,22))","v":0},{"$f":"IF($B30=\"\",\"\",\nVLOOKUP($C30,'2. Unit Testing Results'!$C$5:$BD$13,24))","v":10},{"$f":"IF($B30=\"\",\"\",\nVLOOKUP($C30,'2. Unit Testing Results'!$C$5:$BD$13,26))","v":0.3},{"$f":"IF($B30=\"\",\"\",\nVLOOKUP($C30,'2. Unit Testing Results'!$C$5:$BD$13,28))","v":0.32},{"$f":"IF($B30=\"\",\"\",'2. Unit Testing Results'!$Q43)","v":"Yes"},{"$f":"IF($B30=\"\",\"\",'2. Unit Testing Results'!$V43)","v":"FAIL"},{"$f":"IF($B30=\"\",\"\",\nVLOOKUP($C30,'2. Unit Testing Results'!$C$5:$BD$13,30))","v":"Furnace"},{"$f":"IF($B30=\"\",\"\",\nVLOOKUP($C30,'2. Unit Testing Results'!$C$5:$BD$13,32))","v":"NG"},{"$f":"IF($B30=\"\",\"\",\nVLOOKUP($C30,'2. Unit Testing Results'!$C$5:$BD$13,34))","v":92.5},{"$f":"IF($B30=\"\",\"\",\nVLOOKUP($C30,'2. Unit Testing Results'!$C$5:$BD$13,36))","v":"AFUE"},{"$f":"IF($B30=\"\",\"\",\nVLOOKUP($C30,'2. Unit Testing Results'!$C$5:$BD$13,38))","v":"Electricity"},{"$f":"IF($B30=\"\",\"\",\nVLOOKUP($C30,'2. Unit Testing Results'!$C$5:$BD$13,39))","v":0},{"$f":"IF($B30=\"\",\"\",\nVLOOKUP($C30,'2. Unit Testing Results'!$C$5:$BD$13,40))","v":9},{"$f":"IF($B30=\"\",\"\",\nVLOOKUP($C30,'2. Unit Testing Results'!$C$5:$BD$13,42))","v":"HSPF"},{"$f":"IF($B30=\"\",\"\",\nVLOOKUP($C30,'2. Unit Testing Results'!$C$5:$BD$13,44))","v":"Storage"},{"$f":"IF($B30=\"\",\"\",\nVLOOKUP($C30,'2. Unit Testing Results'!$C$5:$BD$13,46))","v":"Gas"},{"$f":"IF($B30=\"\",\"\",\nVLOOKUP($C30,'2. Unit Testing Results'!$C$5:$BD$13,48))","v":0.98},{"$f":"IF($B30=\"\",\"\",\nVLOOKUP($C30,'2. Unit Testing Results'!$C$5:$BD$13,50))","v":90},{"$f":"IF($B30=\"\",\"\",\nVLOOKUP($C30,'2. Unit Testing Results'!$C$5:$BD$13,51))","v":1},{"$f":"IF($B30=\"\",\"\",\nVLOOKUP($C30,'2. Unit Testing Results'!$C$5:$BD$13,52))","v":0},{"$f":"IF($B30=\"\",\"\",\nVLOOKUP($C30,'2. Unit Testing Results'!$C$5:$BD$13,53))","v":1},{"$f":"IF($B30=\"\",\"\",\nVLOOKUP($C30,'2. Unit Testing Results'!$C$5:$BD$13,54))","v":1}]
[null,{"$f":"IF('2. Unit Testing Results'!$C44=\"\",\"\",'2. Unit Testing Results'!$C44)","v":304},{"$f":"IF('2. Unit Testing Results'!$D44=\"\",\"\",'2. Unit Testing Results'!$D44)","v":"B4"},{"$f":"IF('2. Unit Testing Results'!$E44=\"\",\"\",'2. Unit Testing Results'!$E44)","v":1800},{"$f":"IF('2. Unit Testing Results'!$F44=\"\",\"\",'2. Unit Testing Results'!$F44)","v":6141},null,{"$f":"IF($B31=\"\",\"\",\n(('2. Unit Testing Results'!$X44)*60)\n/((VLOOKUP($C31,'2. Unit Testing Results'!$C$5:$S$13,4))*(VLOOKUP($C31,'2. Unit Testing Results'!$C$5:$S$13,6)))\n)","v":{"$error":"#VALUE!"}},{"$f":"IF($B31=\"\",\"\",\nVLOOKUP($C31,'2. Unit Testing Results'!$C$5:$BD$13,19))","v":{"$error":"#N/A"}},{"$f":"IF($B31=\"\",\"\",\nVLOOKUP($C31,'2. Unit Testing Results'!$C$5:$BD$13,20))","v":{"$error":"#N/A"}},{"$f":"IF($B31=\"\",\"\",\nVLOOKUP($C31,'2. Unit Testing Results'!$C$5:$BD$13,22))","v":{"$error":"#N/A"}},{"$f":"IF($B31=\"\",\"\",\nVLOOKUP($C31,'2. Unit Testing Results'!$C$5:$BD$13,24))","v":{"$error":"#N/A"}},{"$f":"IF($B31=\"\",\"\",\nVLOOKUP($C31,'2. Unit Testing Results'!$C$5:$BD$13,26))","v":{"$error":"#N/A"}},{"$f":"IF($B31=\"\",\"\",\nVLOOKUP($C31,'2. Unit Testing Results'!$C$5:$BD$13,28))","v":{"$error":"#N/A"}},{"$f":"IF($B31=\"\",\"\",'2. Unit Testing Results'!$Q44)","v":0},{"$f":"IF($B31=\"\",\"\",'2. Unit Testing Results'!$V44)","v":""},{"$f":"IF($B31=\"\",\"\",\nVLOOKUP($C31,'2. Unit Testing Results'!$C$5:$BD$13,30))","v":{"$error":"#N/A"}},{"$f":"IF($B31=\"\",\"\",\nVLOOKUP($C31,'2. Unit Testing Results'!$C$5:$BD$13,32))","v":{"$error":"#N/A"}},{"$f":"IF($B31=\"\",\"\",\nVLOOKUP($C31,'2. Unit Testing Results'!$C$5:$BD$13,34))","v":{"$error":"#N/A"}},{"$f":"IF($B31=\"\",\"\",\nVLOOKUP($C31,'2. Unit Testing Results'!$C$5:$BD$13,36))","v":{"$error":"#N/A"}},{"$f":"IF($B31=\"\",\"\",\nVLOOKUP($C31,'2. Unit Testing Results'!$C$5:$BD$13,38))","v":{"$error":"#N/A"}},{"$f":"IF($B31=\"\",\"\",\nVLOOKUP($C31,'2. Unit Testing Results'!$C$5:$BD$13,39))","v":{"$error":"#N/A"}},{"$f":"IF($B31=\"\",\"\",\nVLOOKUP($C31,'2. Unit Testing Results'!$C$5:$BD$13,40))","v":{"$error":"#N/A"}},{"$f":"IF($B31=\"\",\"\",\nVLOOKUP($C31,'2. Unit Testing Results'!$C$5:$BD$13,42))","v":{"$error":"#N/A"}},{"$f":"IF($B31=\"\",\"\",\nVLOOKUP($C31,'2. Unit Testing Results'!$C$5:$BD$13,44))","v":{"$error":"#N/A"}},{"$f":"IF($B31=\"\",\"\",\nVLOOKUP($C31,'2. Unit Testing Results'!$C$5:$BD$13,46))","v":{"$error":"#N/A"}},{"$f":"IF($B31=\"\",\"\",\nVLOOKUP($C31,'2. Unit Testing Results'!$C$5:$BD$13,48))","v":{"$error":"#N/A"}},{"$f":"IF($B31=\"\",\"\",\nVLOOKUP($C31,'2. Unit Testing Results'!$C$5:$BD$13,50))","v":{"$error":"#N/A"}},{"$f":"IF($B31=\"\",\"\",\nVLOOKUP($C31,'2. Unit Testing Results'!$C$5:$BD$13,51))","v":{"$error":"#N/A"}},{"$f":"IF($B31=\"\",\"\",\nVLOOKUP($C31,'2. Unit Testing Results'!$C$5:$BD$13,52))","v":{"$error":"#N/A"}},{"$f":"IF($B31=\"\",\"\",\nVLOOKUP($C31,'2. Unit Testing Results'!$C$5:$BD$13,53))","v":{"$error":"#N/A"}},{"$f":"IF($B31=\"\",\"\",\nVLOOKUP($C31,'2. Unit Testing Results'!$C$5:$BD$13,54))","v":{"$error":"#N/A"}}]
[null,{"$f":"IF('2. Unit Testing Results'!$C45=\"\",\"\",'2. Unit Testing Results'!$C45)","v":305},{"$f":"IF('2. Unit Testing Results'!$D45=\"\",\"\",'2. Unit Testing Results'!$D45)","v":"Studio"},{"$f":"IF('2. Unit Testing Results'!$E45=\"\",\"\",'2. Unit Testing Results'!$E45)","v":1800},{"$f":"IF('2. Unit Testing Results'!$F45=\"\",\"\",'2. Unit Testing Results'!$F45)","v":6141},null,{"$f":"IF($B32=\"\",\"\",\n(('2. Unit Testing Results'!$X45)*60)\n/((VLOOKUP($C32,'2. Unit Testing Results'!$C$5:$S$13,4))*(VLOOKUP($C32,'2. Unit Testing Results'!$C$5:$S$13,6)))\n)","v":{"$error":"#VALUE!"}},{"$f":"IF($B32=\"\",\"\",\nVLOOKUP($C32,'2. Unit Testing Results'!$C$5:$BD$13,19))","v":19},{"$f":"IF($B32=\"\",\"\",\nVLOOKUP($C32,'2. Unit Testing Results'!$C$5:$BD$13,20))","v":19},{"$f":"IF($B32=\"\",\"\",\nVLOOKUP($C32,'2. Unit Testing Results'!$C$5:$BD$13,22))","v":0},{"$f":"IF($B32=\"\",\"\",\nVLOOKUP($C32,'2. Unit Testing Results'!$C$5:$BD$13,24))","v":10},{"$f":"IF($B32=\"\",\"\",\nVLOOKUP($C32,'2. Unit Testing Results'!$C$5:$BD$13,26))","v":0.3},{"$f":"IF($B32=\"\",\"\",\nVLOOKUP($C32,'2. Unit Testing Results'!$C$5:$BD$13,28))","v":0.32},{"$f":"IF($B32=\"\",\"\",'2. Unit Testing Results'!$Q45)","v":0},{"$f":"IF($B32=\"\",\"\",'2. Unit Testing Results'!$V45)","v":""},{"$f":"IF($B32=\"\",\"\",\nVLOOKUP($C32,'2. Unit Testing Results'!$C$5:$BD$13,30))","v":"Furnace"},{"$f":"IF($B32=\"\",\"\",\nVLOOKUP($C32,'2. Unit Testing Results'!$C$5:$BD$13,32))","v":"NG"},{"$f":"IF($B32=\"\",\"\",\nVLOOKUP($C32,'2. Unit Testing Results'!$C$5:$BD$13,34))","v":92.5},{"$f":"IF($B32=\"\",\"\",\nVLOOKUP($C32,'2. Unit Testing Results'!$C$5:$BD$13,36))","v":"AFUE"},{"$f":"IF($B32=\"\",\"\",\nVLOOKUP($C32,'2. Unit Testing Results'!$C$5:$BD$13,38))","v":"Electricity"},{"$f":"IF($B32=\"\",\"\",\nVLOOKUP($C32,'2. Unit Testing Results'!$C$5:$BD$13,39))","v":0},{"$f":"IF($B32=\"\",\"\",\nVLOOKUP($C32,'2. Unit Testing Results'!$C$5:$BD$13,40))","v":9},{"$f":"IF($B32=\"\",\"\",\nVLOOKUP($C32,'2. Unit Testing Results'!$C$5:$BD$13,42))","v":"HSPF"},{"$f":"IF($B32=\"\",\"\",\nVLOOKUP($C32,'2. Unit Testing Results'!$C$5:$BD$13,44))","v":"Storage"},{"$f":"IF($B32=\"\",\"\",\nVLOOKUP($C32,'2. Unit Testing Results'!$C$5:$BD$13,46))","v":"Gas"},{"$f":"IF($B32=\"\",\"\",\nVLOOKUP($C32,'2. Unit Testing Results'!$C$5:$BD$13,48))","v":0.98},{"$f":"IF($B32=\"\",\"\",\nVLOOKUP($C32,'2. Unit Testing Results'!$C$5:$BD$13,50))","v":90},{"$f":"IF($B32=\"\",\"\",\nVLOOKUP($C32,'2. Unit Testing Results'!$C$5:$BD$13,51))","v":1},{"$f":"IF($B32=\"\",\"\",\nVLOOKUP($C32,'2. Unit Testing Results'!$C$5:$BD$13,52))","v":0},{"$f":"IF($B32=\"\",\"\",\nVLOOKUP($C32,'2. Unit Testing Results'!$C$5:$BD$13,53))","v":1},{"$f":"IF($B32=\"\",\"\",\nVLOOKUP($C32,'2. Unit Testing Results'!$C$5:$BD$13,54))","v":1}]
[null,{"$f":"IF('2. Unit Testing Results'!$C46=\"\",\"\",'2. Unit Testing Results'!$C46)","v":306},{"$f":"IF('2. Unit Testing Results'!$D46=\"\",\"\",'2. Unit Testing Results'!$D46)","v":"B1"},{"$f":"IF('2. Unit Testing Results'!$E46=\"\",\"\",'2. Unit Testing Results'!$E46)","v":650},{"$f":"IF('2. Unit Testing Results'!$F46=\"\",\"\",'2. Unit Testing Results'!$F46)","v":2220},null,{"$f":"IF($B33=\"\",\"\",\n(('2. Unit Testing Results'!$X46)*60)\n/((VLOOKUP($C33,'2. Unit Testing Results'!$C$5:$S$13,4))*(VLOOKUP($C33,'2. Unit Testing Results'!$C$5:$S$13,6)))\n)","v":{"$error":"#VALUE!"}},{"$f":"IF($B33=\"\",\"\",\nVLOOKUP($C33,'2. Unit Testing Results'!$C$5:$BD$13,19))","v":{"$error":"#N/A"}},{"$f":"IF($B33=\"\",\"\",\nVLOOKUP($C33,'2. Unit Testing Results'!$C$5:$BD$13,20))","v":{"$error":"#N/A"}},{"$f":"IF($B33=\"\",\"\",\nVLOOKUP($C33,'2. Unit Testing Results'!$C$5:$BD$13,22))","v":{"$error":"#N/A"}},{"$f":"IF($B33=\"\",\"\",\nVLOOKUP($C33,'2. Unit Testing Results'!$C$5:$BD$13,24))","v":{"$error":"#N/A"}},{"$f":"IF($B33=\"\",\"\",\nVLOOKUP($C33,'2. Unit Testing Results'!$C$5:$BD$13,26))","v":{"$error":"#N/A"}},{"$f":"IF($B33=\"\",\"\",\nVLOOKUP($C33,'2. Unit Testing Results'!$C$5:$BD$13,28))","v":{"$error":"#N/A"}},{"$f":"IF($B33=\"\",\"\",'2. Unit Testing Results'!$Q46)","v":0},{"$f":"IF($B33=\"\",\"\",'2. Unit Testing Results'!$V46)","v":""},{"$f":"IF($B33=\"\",\"\",\nVLOOKUP($C33,'2. Unit Testing Results'!$C$5:$BD$13,30))","v":{"$error":"#N/A"}},{"$f":"IF($B33=\"\",\"\",\nVLOOKUP($C33,'2. Unit Testing Results'!$C$5:$BD$13,32))","v":{"$error":"#N/A"}},{"$f":"IF($B33=\"\",\"\",\nVLOOKUP($C33,'2. Unit Testing Results'!$C$5:$BD$13,34))","v":{"$error":"#N/A"}},{"$f":"IF($B33=\"\",\"\",\nVLOOKUP($C33,'2. Unit Testing Results'!$C$5:$BD$13,36))","v":{"$error":"#N/A"}},{"$f":"IF($B33=\"\",\"\",\nVLOOKUP($C33,'2. Unit Testing Results'!$C$5:$BD$13,38))","v":{"$error":"#N/A"}},{"$f":"IF($B33=\"\",\"\",\nVLOOKUP($C33,'2. Unit Testing Results'!$C$5:$BD$13,39))","v":{"$error":"#N/A"}},{"$f":"IF($B33=\"\",\"\",\nVLOOKUP($C33,'2. Unit Testing Results'!$C$5:$BD$13,40))","v":{"$error":"#N/A"}},{"$f":"IF($B33=\"\",\"\",\nVLOOKUP($C33,'2. Unit Testing Results'!$C$5:$BD$13,42))","v":{"$error":"#N/A"}},{"$f":"IF($B33=\"\",\"\",\nVLOOKUP($C33,'2. Unit Testing Results'!$C$5:$BD$13,44))","v":{"$error":"#N/A"}},{"$f":"IF($B33=\"\",\"\",\nVLOOKUP($C33,'2. Unit Testing Results'!$C$5:$BD$13,46))","v":{"$error":"#N/A"}},{"$f":"IF($B33=\"\",\"\",\nVLOOKUP($C33,'2. Unit Testing Results'!$C$5:$BD$13,48))","v":{"$error":"#N/A"}},{"$f":"IF($B33=\"\",\"\",\nVLOOKUP($C33,'2. Unit Testing Results'!$C$5:$BD$13,50))","v":{"$error":"#N/A"}},{"$f":"IF($B33=\"\",\"\",\nVLOOKUP($C33,'2. Unit Testing Results'!$C$5:$BD$13,51))","v":{"$error":"#N/A"}},{"$f":"IF($B33=\"\",\"\",\nVLOOKUP($C33,'2. Unit Testing Results'!$C$5:$BD$13,52))","v":{"$error":"#N/A"}},{"$f":"IF($B33=\"\",\"\",\nVLOOKUP($C33,'2. Unit Testing Results'!$C$5:$BD$13,53))","v":{"$error":"#N/A"}},{"$f":"IF($B33=\"\",\"\",\nVLOOKUP($C33,'2. Unit Testing Results'!$C$5:$BD$13,54))","v":{"$error":"#N/A"}}]
[null,{"$f":"IF('2. Unit Testing Results'!$C47=\"\",\"\",'2. Unit Testing Results'!$C47)","v":307},{"$f":"IF('2. Unit Testing Results'!$D47=\"\",\"\",'2. Unit Testing Results'!$D47)","v":"B3"},{"$f":"IF('2. Unit Testing Results'!$E47=\"\",\"\",'2. Unit Testing Results'!$E47)","v":815},{"$f":"IF('2. Unit Testing Results'!$F47=\"\",\"\",'2. Unit Testing Results'!$F47)","v":3742},null,{"$f":"IF($B34=\"\",\"\",\n(('2. Unit Testing Results'!$X47)*60)\n/((VLOOKUP($C34,'2. Unit Testing Results'!$C$5:$S$13,4))*(VLOOKUP($C34,'2. Unit Testing Results'!$C$5:$S$13,6)))\n)","v":{"$error":"#VALUE!"}},{"$f":"IF($B34=\"\",\"\",\nVLOOKUP($C34,'2. Unit Testing Results'!$C$5:$BD$13,19))","v":{"$error":"#N/A"}},{"$f":"IF($B34=\"\",\"\",\nVLOOKUP($C34,'2. Unit Testing Results'!$C$5:$BD$13,20))","v":{"$error":"#N/A"}},{"$f":"IF($B34=\"\",\"\",\nVLOOKUP($C34,'2. Unit Testing Results'!$C$5:$BD$13,22))","v":{"$error":"#N/A"}},{"$f":"IF($B34=\"\",\"\",\nVLOOKUP($C34,'2. Unit Testing Results'!$C$5:$BD$13,24))","v":{"$error":"#N/A"}},{"$f":"IF($B34=\"\",\"\",\nVLOOKUP($C34,'2. Unit Testing Results'!$C$5:$BD$13,26))","v":{"$error":"#N/A"}},{"$f":"IF($B34=\"\",\"\",\nVLOOKUP($C34,'2. Unit Testing Results'!$C$5:$BD$13,28))","v":{"$error":"#N/A"}},{"$f":"IF($B34=\"\",\"\",'2. Unit Testing Results'!$Q47)","v":0},{"$f":"IF($B34=\"\",\"\",'2. Unit Testing Results'!$V47)","v":""},{"$f":"IF($B34=\"\",\"\",\nVLOOKUP($C34,'2. Unit Testing Results'!$C$5:$BD$13,30))","v":{"$error":"#N/A"}},{"$f":"IF($B34=\"\",\"\",\nVLOOKUP($C34,'2. Unit Testing Results'!$C$5:$BD$13,32))","v":{"$error":"#N/A"}},{"$f":"IF($B34=\"\",\"\",\nVLOOKUP($C34,'2. Unit Testing Results'!$C$5:$BD$13,34))","v":{"$error":"#N/A"}},{"$f":"IF($B34=\"\",\"\",\nVLOOKUP($C34,'2. Unit Testing Results'!$C$5:$BD$13,36))","v":{"$error":"#N/A"}},{"$f":"IF($B34=\"\",\"\",\nVLOOKUP($C34,'2. Unit Testing Results'!$C$5:$BD$13,38))","v":{"$error":"#N/A"}},{"$f":"IF($B34=\"\",\"\",\nVLOOKUP($C34,'2. Unit Testing Results'!$C$5:$BD$13,39))","v":{"$error":"#N/A"}},{"$f":"IF($B34=\"\",\"\",\nVLOOKUP($C34,'2. Unit Testing Results'!$C$5:$BD$13,40))","v":{"$error":"#N/A"}},{"$f":"IF($B34=\"\",\"\",\nVLOOKUP($C34,'2. Unit Testing Results'!$C$5:$BD$13,42))","v":{"$error":"#N/A"}},{"$f":"IF($B34=\"\",\"\",\nVLOOKUP($C34,'2. Unit Testing Results'!$C$5:$BD$13,44))","v":{"$error":"#N/A"}},{"$f":"IF($B34=\"\",\"\",\nVLOOKUP($C34,'2. Unit Testing Results'!$C$5:$BD$13,46))","v":{"$error":"#N/A"}},{"$f":"IF($B34=\"\",\"\",\nVLOOKUP($C34,'2. Unit Testing Results'!$C$5:$BD$13,48))","v":{"$error":"#N/A"}},{"$f":"IF($B34=\"\",\"\",\nVLOOKUP($C34,'2. Unit Testing Results'!$C$5:$BD$13,50))","v":{"$error":"#N/A"}},{"$f":"IF($B34=\"\",\"\",\nVLOOKUP($C34,'2. Unit Testing Results'!$C$5:$BD$13,51))","v":{"$error":"#N/A"}},{"$f":"IF($B34=\"\",\"\",\nVLOOKUP($C34,'2. Unit Testing Results'!$C$5:$BD$13,52))","v":{"$error":"#N/A"}},{"$f":"IF($B34=\"\",\"\",\nVLOOKUP($C34,'2. Unit Testing Results'!$C$5:$BD$13,53))","v":{"$error":"#N/A"}},{"$f":"IF($B34=\"\",\"\",\nVLOOKUP($C34,'2. Unit Testing Results'!$C$5:$BD$13,54))","v":{"$error":"#N/A"}}]
[null,{"$f":"IF('2. Unit Testing Results'!$C48=\"\",\"\",'2. Unit Testing Results'!$C48)","v":308},{"$f":"IF('2. Unit Testing Results'!$D48=\"\",\"\",'2. Unit Testing Results'!$D48)","v":"B2"},{"$f":"IF('2. Unit Testing Results'!$E48=\"\",\"\",'2. Unit Testing Results'!$E48)","v":800},{"$f":"IF('2. Unit Testing Results'!$F48=\"\",\"\",'2. Unit Testing Results'!$F48)","v":3040},null,{"$f":"IF($B35=\"\",\"\",\n(('2. Unit Testing Results'!$X48)*60)\n/((VLOOKUP($C35,'2. Unit Testing Results'!$C$5:$S$13,4))*(VLOOKUP($C35,'2. Unit Testing Results'!$C$5:$S$13,6)))\n)","v":{"$error":"#VALUE!"}},{"$f":"IF($B35=\"\",\"\",\nVLOOKUP($C35,'2. Unit Testing Results'!$C$5:$BD$13,19))","v":{"$error":"#N/A"}},{"$f":"IF($B35=\"\",\"\",\nVLOOKUP($C35,'2. Unit Testing Results'!$C$5:$BD$13,20))","v":{"$error":"#N/A"}},{"$f":"IF($B35=\"\",\"\",\nVLOOKUP($C35,'2. Unit Testing Results'!$C$5:$BD$13,22))","v":{"$error":"#N/A"}},{"$f":"IF($B35=\"\",\"\",\nVLOOKUP($C35,'2. Unit Testing Results'!$C$5:$BD$13,24))","v":{"$error":"#N/A"}},{"$f":"IF($B35=\"\",\"\",\nVLOOKUP($C35,'2. Unit Testing Results'!$C$5:$BD$13,26))","v":{"$error":"#N/A"}},{"$f":"IF($B35=\"\",\"\",\nVLOOKUP($C35,'2. Unit Testing Results'!$C$5:$BD$13,28))","v":{"$error":"#N/A"}},{"$f":"IF($B35=\"\",\"\",'2. Unit Testing Results'!$Q48)","v":0},{"$f":"IF($B35=\"\",\"\",'2. Unit Testing Results'!$V48)","v":""},{"$f":"IF($B35=\"\",\"\",\nVLOOKUP($C35,'2. Unit Testing Results'!$C$5:$BD$13,30))","v":{"$error":"#N/A"}},{"$f":"IF($B35=\"\",\"\",\nVLOOKUP($C35,'2. Unit Testing Results'!$C$5:$BD$13,32))","v":{"$error":"#N/A"}},{"$f":"IF($B35=\"\",\"\",\nVLOOKUP($C35,'2. Unit Testing Results'!$C$5:$BD$13,34))","v":{"$error":"#N/A"}},{"$f":"IF($B35=\"\",\"\",\nVLOOKUP($C35,'2. Unit Testing Results'!$C$5:$BD$13,36))","v":{"$error":"#N/A"}},{"$f":"IF($B35=\"\",\"\",\nVLOOKUP($C35,'2. Unit Testing Results'!$C$5:$BD$13,38))","v":{"$error":"#N/A"}},{"$f":"IF($B35=\"\",\"\",\nVLOOKUP($C35,'2. Unit Testing Results'!$C$5:$BD$13,39))","v":{"$error":"#N/A"}},{"$f":"IF($B35=\"\",\"\",\nVLOOKUP($C35,'2. Unit Testing Results'!$C$5:$BD$13,40))","v":{"$error":"#N/A"}},{"$f":"IF($B35=\"\",\"\",\nVLOOKUP($C35,'2. Unit Testing Results'!$C$5:$BD$13,42))","v":{"$error":"#N/A"}},{"$f":"IF($B35=\"\",\"\",\nVLOOKUP($C35,'2. Unit Testing Results'!$C$5:$BD$13,44))","v":{"$error":"#N/A"}},{"$f":"IF($B35=\"\",\"\",\nVLOOKUP($C35,'2. Unit Testing Results'!$C$5:$BD$13,46))","v":{"$error":"#N/A"}},{"$f":"IF($B35=\"\",\"\",\nVLOOKUP($C35,'2. Unit Testing Results'!$C$5:$BD$13,48))","v":{"$error":"#N/A"}},{"$f":"IF($B35=\"\",\"\",\nVLOOKUP($C35,'2. Unit Testing Results'!$C$5:$BD$13,50))","v":{"$error":"#N/A"}},{"$f":"IF($B35=\"\",\"\",\nVLOOKUP($C35,'2. Unit Testing Results'!$C$5:$BD$13,51))","v":{"$error":"#N/A"}},{"$f":"IF($B35=\"\",\"\",\nVLOOKUP($C35,'2. Unit Testing Results'!$C$5:$BD$13,52))","v":{"$error":"#N/A"}},{"$f":"IF($B35=\"\",\"\",\nVLOOKUP($C35,'2. Unit Testing Results'!$C$5:$BD$13,53))","v":{"$error":"#N/A"}},{"$f":"IF($B35=\"\",\"\",\nVLOOKUP($C35,'2. Unit Testing Results'!$C$5:$BD$13,54))","v":{"$error":"#N/A"}}]
[null,{"$f":"IF('2. Unit Testing Results'!$C49=\"\",\"\",'2. Unit Testing Results'!$C49)","v":309},{"$f":"IF('2. Unit Testing Results'!$D49=\"\",\"\",'2. Unit Testing Results'!$D49)","v":"A2"},{"$f":"IF('2. Unit Testing Results'!$E49=\"\",\"\",'2. Unit Testing Results'!$E49)","v":678},{"$f":"IF('2. Unit Testing Results'!$F49=\"\",\"\",'2. Unit Testing Results'!$F49)","v":2196},null,{"$f":"IF($B36=\"\",\"\",\n(('2. Unit Testing Results'!$X49)*60)\n/((VLOOKUP($C36,'2. Unit Testing Results'!$C$5:$S$13,4))*(VLOOKUP($C36,'2. Unit Testing Results'!$C$5:$S$13,6)))\n)","v":{"$error":"#VALUE!"}},{"$f":"IF($B36=\"\",\"\",\nVLOOKUP($C36,'2. Unit Testing Results'!$C$5:$BD$13,19))","v":{"$error":"#N/A"}},{"$f":"IF($B36=\"\",\"\",\nVLOOKUP($C36,'2. Unit Testing Results'!$C$5:$BD$13,20))","v":{"$error":"#N/A"}},{"$f":"IF($B36=\"\",\"\",\nVLOOKUP($C36,'2. Unit Testing Results'!$C$5:$BD$13,22))","v":{"$error":"#N/A"}},{"$f":"IF($B36=\"\",\"\",\nVLOOKUP($C36,'2. Unit Testing Results'!$C$5:$BD$13,24))","v":{"$error":"#N/A"}},{"$f":"IF($B36=\"\",\"\",\nVLOOKUP($C36,'2. Unit Testing Results'!$C$5:$BD$13,26))","v":{"$error":"#N/A"}},{"$f":"IF($B36=\"\",\"\",\nVLOOKUP($C36,'2. Unit Testing Results'!$C$5:$BD$13,28))","v":{"$error":"#N/A"}},{"$f":"IF($B36=\"\",\"\",'2. Unit Testing Results'!$Q49)","v":0},{"$f":"IF($B36=\"\",\"\",'2. Unit Testing Results'!$V49)","v":""},{"$f":"IF($B36=\"\",\"\",\nVLOOKUP($C36,'2. Unit Testing Results'!$C$5:$BD$13,30))","v":{"$error":"#N/A"}},{"$f":"IF($B36=\"\",\"\",\nVLOOKUP($C36,'2. Unit Testing Results'!$C$5:$BD$13,32))","v":{"$error":"#N/A"}},{"$f":"IF($B36=\"\",\"\",\nVLOOKUP($C36,'2. Unit Testing Results'!$C$5:$BD$13,34))","v":{"$error":"#N/A"}},{"$f":"IF($B36=\"\",\"\",\nVLOOKUP($C36,'2. Unit Testing Results'!$C$5:$BD$13,36))","v":{"$error":"#N/A"}},{"$f":"IF($B36=\"\",\"\",\nVLOOKUP($C36,'2. Unit Testing Results'!$C$5:$BD$13,38))","v":{"$error":"#N/A"}},{"$f":"IF($B36=\"\",\"\",\nVLOOKUP($C36,'2. Unit Testing Results'!$C$5:$BD$13,39))","v":{"$error":"#N/A"}},{"$f":"IF($B36=\"\",\"\",\nVLOOKUP($C36,'2. Unit Testing Results'!$C$5:$BD$13,40))","v":{"$error":"#N/A"}},{"$f":"IF($B36=\"\",\"\",\nVLOOKUP($C36,'2. Unit Testing Results'!$C$5:$BD$13,42))","v":{"$error":"#N/A"}},{"$f":"IF($B36=\"\",\"\",\nVLOOKUP($C36,'2. Unit Testing Results'!$C$5:$BD$13,44))","v":{"$error":"#N/A"}},{"$f":"IF($B36=\"\",\"\",\nVLOOKUP($C36,'2. Unit Testing Results'!$C$5:$BD$13,46))","v":{"$error":"#N/A"}},{"$f":"IF($B36=\"\",\"\",\nVLOOKUP($C36,'2. Unit Testing Results'!$C$5:$BD$13,48))","v":{"$error":"#N/A"}},{"$f":"IF($B36=\"\",\"\",\nVLOOKUP($C36,'2. Unit Testing Results'!$C$5:$BD$13,50))","v":{"$error":"#N/A"}},{"$f":"IF($B36=\"\",\"\",\nVLOOKUP($C36,'2. Unit Testing Results'!$C$5:$BD$13,51))","v":{"$error":"#N/A"}},{"$f":"IF($B36=\"\",\"\",\nVLOOKUP($C36,'2. Unit Testing Results'!$C$5:$BD$13,52))","v":{"$error":"#N/A"}},{"$f":"IF($B36=\"\",\"\",\nVLOOKUP($C36,'2. Unit Testing Results'!$C$5:$BD$13,53))","v":{"$error":"#N/A"}},{"$f":"IF($B36=\"\",\"\",\nVLOOKUP($C36,'2. Unit Testing Results'!$C$5:$BD$13,54))","v":{"$error":"#N/A"}}]
[null,{"$f":"IF('2. Unit Testing Results'!$C50=\"\",\"\",'2. Unit Testing Results'!$C50)","v":310},{"$f":"IF('2. Unit Testing Results'!$D50=\"\",\"\",'2. Unit Testing Results'!$D50)","v":"A2"},{"$f":"IF('2. Unit Testing Results'!$E50=\"\",\"\",'2. Unit Testing Results'!$E50)","v":678},{"$f":"IF('2. Unit Testing Results'!$F50=\"\",\"\",'2. Unit Testing Results'!$F50)","v":2196},null,{"$f":"IF($B37=\"\",\"\",\n(('2. Unit Testing Results'!$X50)*60)\n/((VLOOKUP($C37,'2. Unit Testing Results'!$C$5:$S$13,4))*(VLOOKUP($C37,'2. Unit Testing Results'!$C$5:$S$13,6)))\n)","v":{"$error":"#VALUE!"}},{"$f":"IF($B37=\"\",\"\",\nVLOOKUP($C37,'2. Unit Testing Results'!$C$5:$BD$13,19))","v":{"$error":"#N/A"}},{"$f":"IF($B37=\"\",\"\",\nVLOOKUP($C37,'2. Unit Testing Results'!$C$5:$BD$13,20))","v":{"$error":"#N/A"}},{"$f":"IF($B37=\"\",\"\",\nVLOOKUP($C37,'2. Unit Testing Results'!$C$5:$BD$13,22))","v":{"$error":"#N/A"}},{"$f":"IF($B37=\"\",\"\",\nVLOOKUP($C37,'2. Unit Testing Results'!$C$5:$BD$13,24))","v":{"$error":"#N/A"}},{"$f":"IF($B37=\"\",\"\",\nVLOOKUP($C37,'2. Unit Testing Results'!$C$5:$BD$13,26))","v":{"$error":"#N/A"}},{"$f":"IF($B37=\"\",\"\",\nVLOOKUP($C37,'2. Unit Testing Results'!$C$5:$BD$13,28))","v":{"$error":"#N/A"}},{"$f":"IF($B37=\"\",\"\",'2. Unit Testing Results'!$Q50)","v":0},{"$f":"IF($B37=\"\",\"\",'2. Unit Testing Results'!$V50)","v":""},{"$f":"IF($B37=\"\",\"\",\nVLOOKUP($C37,'2. Unit Testing Results'!$C$5:$BD$13,30))","v":{"$error":"#N/A"}},{"$f":"IF($B37=\"\",\"\",\nVLOOKUP($C37,'2. Unit Testing Results'!$C$5:$BD$13,32))","v":{"$error":"#N/A"}},{"$f":"IF($B37=\"\",\"\",\nVLOOKUP($C37,'2. Unit Testing Results'!$C$5:$BD$13,34))","v":{"$error":"#N/A"}},{"$f":"IF($B37=\"\",\"\",\nVLOOKUP($C37,'2. Unit Testing Results'!$C$5:$BD$13,36))","v":{"$error":"#N/A"}},{"$f":"IF($B37=\"\",\"\",\nVLOOKUP($C37,'2. Unit Testing Results'!$C$5:$BD$13,38))","v":{"$error":"#N/A"}},{"$f":"IF($B37=\"\",\"\",\nVLOOKUP($C37,'2. Unit Testing Results'!$C$5:$BD$13,39))","v":{"$error":"#N/A"}},{"$f":"IF($B37=\"\",\"\",\nVLOOKUP($C37,'2. Unit Testing Results'!$C$5:$BD$13,40))","v":{"$error":"#N/A"}},{"$f":"IF($B37=\"\",\"\",\nVLOOKUP($C37,'2. Unit Testing Results'!$C$5:$BD$13,42))","v":{"$error":"#N/A"}},{"$f":"IF($B37=\"\",\"\",\nVLOOKUP($C37,'2. Unit Testing Results'!$C$5:$BD$13,44))","v":{"$error":"#N/A"}},{"$f":"IF($B37=\"\",\"\",\nVLOOKUP($C37,'2. Unit Testing Results'!$C$5:$BD$13,46))","v":{"$error":"#N/A"}},{"$f":"IF($B37=\"\",\"\",\nVLOOKUP($C37,'2. Unit Testing Results'!$C$5:$BD$13,48))","v":{"$error":"#N/A"}},{"$f":"IF($B37=\"\",\"\",\nVLOOKUP($C37,'2. Unit Testing Results'!$C$5:$BD$13,50))","v":{"$error":"#N/A"}},{"$f":"IF($B37=\"\",\"\",\nVLOOKUP($C37,'2. Unit Testing Results'!$C$5:$BD$13,51))","v":{"$error":"#N/A"}},{"$f":"IF($B37=\"\",\"\",\nVLOOKUP($C37,'2. Unit Testing Results'!$C$5:$BD$13,52))","v":{"$error":"#N/A"}},{"$f":"IF($B37=\"\",\"\",\nVLOOKUP($C37,'2. Unit Testing Results'!$C$5:$BD$13,53))","v":{"$error":"#N/A"}},{"$f":"IF($B37=\"\",\"\",\nVLOOKUP($C37,'2. Unit Testing Results'!$C$5:$BD$13,54))","v":{"$error":"#N/A"}}]
[null,{"$f":"IF('2. Unit Testing Results'!$C51=\"\",\"\",'2. Unit Testing Results'!$C51)","v":401},{"$f":"IF('2. Unit Testing Results'!$D51=\"\",\"\",'2. Unit Testing Results'!$D51)","v":"A1"},{"$f":"IF('2. Unit Testing Results'!$E51=\"\",\"\",'2. Unit Testing Results'!$E51)","v":515},{"$f":"IF('2. Unit Testing Results'!$F51=\"\",\"\",'2. Unit Testing Results'!$F51)","v":1990},null,{"$f":"IF($B38=\"\",\"\",\n(('2. Unit Testing Results'!$X51)*60)\n/((VLOOKUP($C38,'2. Unit Testing Results'!$C$5:$S$13,4))*(VLOOKUP($C38,'2. Unit Testing Results'!$C$5:$S$13,6)))\n)","v":{"$error":"#VALUE!"}},{"$f":"IF($B38=\"\",\"\",\nVLOOKUP($C38,'2. Unit Testing Results'!$C$5:$BD$13,19))","v":{"$error":"#N/A"}},{"$f":"IF($B38=\"\",\"\",\nVLOOKUP($C38,'2. Unit Testing Results'!$C$5:$BD$13,20))","v":{"$error":"#N/A"}},{"$f":"IF($B38=\"\",\"\",\nVLOOKUP($C38,'2. Unit Testing Results'!$C$5:$BD$13,22))","v":{"$error":"#N/A"}},{"$f":"IF($B38=\"\",\"\",\nVLOOKUP($C38,'2. Unit Testing Results'!$C$5:$BD$13,24))","v":{"$error":"#N/A"}},{"$f":"IF($B38=\"\",\"\",\nVLOOKUP($C38,'2. Unit Testing Results'!$C$5:$BD$13,26))","v":{"$error":"#N/A"}},{"$f":"IF($B38=\"\",\"\",\nVLOOKUP($C38,'2. Unit Testing Results'!$C$5:$BD$13,28))","v":{"$error":"#N/A"}},{"$f":"IF($B38=\"\",\"\",'2. Unit Testing Results'!$Q51)","v":0},{"$f":"IF($B38=\"\",\"\",'2. Unit Testing Results'!$V51)","v":""},{"$f":"IF($B38=\"\",\"\",\nVLOOKUP($C38,'2. Unit Testing Results'!$C$5:$BD$13,30))","v":{"$error":"#N/A"}},{"$f":"IF($B38=\"\",\"\",\nVLOOKUP($C38,'2. Unit Testing Results'!$C$5:$BD$13,32))","v":{"$error":"#N/A"}},{"$f":"IF($B38=\"\",\"\",\nVLOOKUP($C38,'2. Unit Testing Results'!$C$5:$BD$13,34))","v":{"$error":"#N/A"}},{"$f":"IF($B38=\"\",\"\",\nVLOOKUP($C38,'2. Unit Testing Results'!$C$5:$BD$13,36))","v":{"$error":"#N/A"}},{"$f":"IF($B38=\"\",\"\",\nVLOOKUP($C38,'2. Unit Testing Results'!$C$5:$BD$13,38))","v":{"$error":"#N/A"}},{"$f":"IF($B38=\"\",\"\",\nVLOOKUP($C38,'2. Unit Testing Results'!$C$5:$BD$13,39))","v":{"$error":"#N/A"}},{"$f":"IF($B38=\"\",\"\",\nVLOOKUP($C38,'2. Unit Testing Results'!$C$5:$BD$13,40))","v":{"$error":"#N/A"}},{"$f":"IF($B38=\"\",\"\",\nVLOOKUP($C38,'2. Unit Testing Results'!$C$5:$BD$13,42))","v":{"$error":"#N/A"}},{"$f":"IF($B38=\"\",\"\",\nVLOOKUP($C38,'2. Unit Testing Results'!$C$5:$BD$13,44))","v":{"$error":"#N/A"}},{"$f":"IF($B38=\"\",\"\",\nVLOOKUP($C38,'2. Unit Testing Results'!$C$5:$BD$13,46))","v":{"$error":"#N/A"}},{"$f":"IF($B38=\"\",\"\",\nVLOOKUP($C38,'2. Unit Testing Results'!$C$5:$BD$13,48))","v":{"$error":"#N/A"}},{"$f":"IF($B38=\"\",\"\",\nVLOOKUP($C38,'2. Unit Testing Results'!$C$5:$BD$13,50))","v":{"$error":"#N/A"}},{"$f":"IF($B38=\"\",\"\",\nVLOOKUP($C38,'2. Unit Testing Results'!$C$5:$BD$13,51))","v":{"$error":"#N/A"}},{"$f":"IF($B38=\"\",\"\",\nVLOOKUP($C38,'2. Unit Testing Results'!$C$5:$BD$13,52))","v":{"$error":"#N/A"}},{"$f":"IF($B38=\"\",\"\",\nVLOOKUP($C38,'2. Unit Testing Results'!$C$5:$BD$13,53))","v":{"$error":"#N/A"}},{"$f":"IF($B38=\"\",\"\",\nVLOOKUP($C38,'2. Unit Testing Results'!$C$5:$BD$13,54))","v":{"$error":"#N/A"}}]
[null,{"$f":"IF('2. Unit Testing Results'!$C52=\"\",\"\",'2. Unit Testing Results'!$C52)","v":402},{"$f":"IF('2. Unit Testing Results'!$D52=\"\",\"\",'2. Unit Testing Results'!$D52)","v":"B3"},{"$f":"IF('2. Unit Testing Results'!$E52=\"\",\"\",'2. Unit Testing Results'!$E52)","v":815},{"$f":"IF('2. Unit Testing Results'!$F52=\"\",\"\",'2. Unit Testing Results'!$F52)","v":3742},null,{"$f":"IF($B39=\"\",\"\",\n(('2. Unit Testing Results'!$X52)*60)\n/((VLOOKUP($C39,'2. Unit Testing Results'!$C$5:$S$13,4))*(VLOOKUP($C39,'2. Unit Testing Results'!$C$5:$S$13,6)))\n)","v":{"$error":"#VALUE!"}},{"$f":"IF($B39=\"\",\"\",\nVLOOKUP($C39,'2. Unit Testing Results'!$C$5:$BD$13,19))","v":{"$error":"#N/A"}},{"$f":"IF($B39=\"\",\"\",\nVLOOKUP($C39,'2. Unit Testing Results'!$C$5:$BD$13,20))","v":{"$error":"#N/A"}},{"$f":"IF($B39=\"\",\"\",\nVLOOKUP($C39,'2. Unit Testing Results'!$C$5:$BD$13,22))","v":{"$error":"#N/A"}},{"$f":"IF($B39=\"\",\"\",\nVLOOKUP($C39,'2. Unit Testing Results'!$C$5:$BD$13,24))","v":{"$error":"#N/A"}},{"$f":"IF($B39=\"\",\"\",\nVLOOKUP($C39,'2. Unit Testing Results'!$C$5:$BD$13,26))","v":{"$error":"#N/A"}},{"$f":"IF($B39=\"\",\"\",\nVLOOKUP($C39,'2. Unit Testing Results'!$C$5:$BD$13,28))","v":{"$error":"#N/A"}},{"$f":"IF($B39=\"\",\"\",'2. Unit Testing Results'!$Q52)","v":0},{"$f":"IF($B39=\"\",\"\",'2. Unit Testing Results'!$V52)","v":""},{"$f":"IF($B39=\"\",\"\",\nVLOOKUP($C39,'2. Unit Testing Results'!$C$5:$BD$13,30))","v":{"$error":"#N/A"}},{"$f":"IF($B39=\"\",\"\",\nVLOOKUP($C39,'2. Unit Testing Results'!$C$5:$BD$13,32))","v":{"$error":"#N/A"}},{"$f":"IF($B39=\"\",\"\",\nVLOOKUP($C39,'2. Unit Testing Results'!$C$5:$BD$13,34))","v":{"$error":"#N/A"}},{"$f":"IF($B39=\"\",\"\",\nVLOOKUP($C39,'2. Unit Testing Results'!$C$5:$BD$13,36))","v":{"$error":"#N/A"}},{"$f":"IF($B39=\"\",\"\",\nVLOOKUP($C39,'2. Unit Testing Results'!$C$5:$BD$13,38))","v":{"$error":"#N/A"}},{"$f":"IF($B39=\"\",\"\",\nVLOOKUP($C39,'2. Unit Testing Results'!$C$5:$BD$13,39))","v":{"$error":"#N/A"}},{"$f":"IF($B39=\"\",\"\",\nVLOOKUP($C39,'2. Unit Testing Results'!$C$5:$BD$13,40))","v":{"$error":"#N/A"}},{"$f":"IF($B39=\"\",\"\",\nVLOOKUP($C39,'2. Unit Testing Results'!$C$5:$BD$13,42))","v":{"$error":"#N/A"}},{"$f":"IF($B39=\"\",\"\",\nVLOOKUP($C39,'2. Unit Testing Results'!$C$5:$BD$13,44))","v":{"$error":"#N/A"}},{"$f":"IF($B39=\"\",\"\",\nVLOOKUP($C39,'2. Unit Testing Results'!$C$5:$BD$13,46))","v":{"$error":"#N/A"}},{"$f":"IF($B39=\"\",\"\",\nVLOOKUP($C39,'2. Unit Testing Results'!$C$5:$BD$13,48))","v":{"$error":"#N/A"}},{"$f":"IF($B39=\"\",\"\",\nVLOOKUP($C39,'2. Unit Testing Results'!$C$5:$BD$13,50))","v":{"$error":"#N/A"}},{"$f":"IF($B39=\"\",\"\",\nVLOOKUP($C39,'2. Unit Testing Results'!$C$5:$BD$13,51))","v":{"$error":"#N/A"}},{"$f":"IF($B39=\"\",\"\",\nVLOOKUP($C39,'2. Unit Testing Results'!$C$5:$BD$13,52))","v":{"$error":"#N/A"}},{"$f":"IF($B39=\"\",\"\",\nVLOOKUP($C39,'2. Unit Testing Results'!$C$5:$BD$13,53))","v":{"$error":"#N/A"}},{"$f":"IF($B39=\"\",\"\",\nVLOOKUP($C39,'2. Unit Testing Results'!$C$5:$BD$13,54))","v":{"$error":"#N/A"}}]
[null,{"$f":"IF('2. Unit Testing Results'!$C53=\"\",\"\",'2. Unit Testing Results'!$C53)","v":403},{"$f":"IF('2. Unit Testing Results'!$D53=\"\",\"\",'2. Unit Testing Results'!$D53)","v":"Studio"},{"$f":"IF('2. Unit Testing Results'!$E53=\"\",\"\",'2. Unit Testing Results'!$E53)","v":1800},{"$f":"IF('2. Unit Testing Results'!$F53=\"\",\"\",'2. Unit Testing Results'!$F53)","v":6141},null,{"$f":"IF($B40=\"\",\"\",\n(('2. Unit Testing Results'!$X53)*60)\n/((VLOOKUP($C40,'2. Unit Testing Results'!$C$5:$S$13,4))*(VLOOKUP($C40,'2. Unit Testing Results'!$C$5:$S$13,6)))\n)","v":{"$error":"#VALUE!"}},{"$f":"IF($B40=\"\",\"\",\nVLOOKUP($C40,'2. Unit Testing Results'!$C$5:$BD$13,19))","v":19},{"$f":"IF($B40=\"\",\"\",\nVLOOKUP($C40,'2. Unit Testing Results'!$C$5:$BD$13,20))","v":19},{"$f":"IF($B40=\"\",\"\",\nVLOOKUP($C40,'2. Unit Testing Results'!$C$5:$BD$13,22))","v":0},{"$f":"IF($B40=\"\",\"\",\nVLOOKUP($C40,'2. Unit Testing Results'!$C$5:$BD$13,24))","v":10},{"$f":"IF($B40=\"\",\"\",\nVLOOKUP($C40,'2. Unit Testing Results'!$C$5:$BD$13,26))","v":0.3},{"$f":"IF($B40=\"\",\"\",\nVLOOKUP($C40,'2. Unit Testing Results'!$C$5:$BD$13,28))","v":0.32},{"$f":"IF($B40=\"\",\"\",'2. Unit Testing Results'!$Q53)","v":0},{"$f":"IF($B40=\"\",\"\",'2. Unit Testing Results'!$V53)","v":""},{"$f":"IF($B40=\"\",\"\",\nVLOOKUP($C40,'2. Unit Testing Results'!$C$5:$BD$13,30))","v":"Furnace"},{"$f":"IF($B40=\"\",\"\",\nVLOOKUP($C40,'2. Unit Testing Results'!$C$5:$BD$13,32))","v":"NG"},{"$f":"IF($B40=\"\",\"\",\nVLOOKUP($C40,'2. Unit Testing Results'!$C$5:$BD$13,34))","v":92.5},{"$f":"IF($B40=\"\",\"\",\nVLOOKUP($C40,'2. Unit Testing Results'!$C$5:$BD$13,36))","v":"AFUE"},{"$f":"IF($B40=\"\",\"\",\nVLOOKUP($C40,'2. Unit Testing Results'!$C$5:$BD$13,38))","v":"Electricity"},{"$f":"IF($B40=\"\",\"\",\nVLOOKUP($C40,'2. Unit Testing Results'!$C$5:$BD$13,39))","v":0},{"$f":"IF($B40=\"\",\"\",\nVLOOKUP($C40,'2. Unit Testing Results'!$C$5:$BD$13,40))","v":9},{"$f":"IF($B40=\"\",\"\",\nVLOOKUP($C40,'2. Unit Testing Results'!$C$5:$BD$13,42))","v":"HSPF"},{"$f":"IF($B40=\"\",\"\",\nVLOOKUP($C40,'2. Unit Testing Results'!$C$5:$BD$13,44))","v":"Storage"},{"$f":"IF($B40=\"\",\"\",\nVLOOKUP($C40,'2. Unit Testing Results'!$C$5:$BD$13,46))","v":"Gas"},{"$f":"IF($B40=\"\",\"\",\nVLOOKUP($C40,'2. Unit Testing Results'!$C$5:$BD$13,48))","v":0.98},{"$f":"IF($B40=\"\",\"\",\nVLOOKUP($C40,'2. Unit Testing Results'!$C$5:$BD$13,50))","v":90},{"$f":"IF($B40=\"\",\"\",\nVLOOKUP($C40,'2. Unit Testing Results'!$C$5:$BD$13,51))","v":1},{"$f":"IF($B40=\"\",\"\",\nVLOOKUP($C40,'2. Unit Testing Results'!$C$5:$BD$13,52))","v":0},{"$f":"IF($B40=\"\",\"\",\nVLOOKUP($C40,'2. Unit Testing Results'!$C$5:$BD$13,53))","v":1},{"$f":"IF($B40=\"\",\"\",\nVLOOKUP($C40,'2. Unit Testing Results'!$C$5:$BD$13,54))","v":1}]
[null,{"$f":"IF('2. Unit Testing Results'!$C54=\"\",\"\",'2. Unit Testing Results'!$C54)","v":404},{"$f":"IF('2. Unit Testing Results'!$D54=\"\",\"\",'2. Unit Testing Results'!$D54)","v":"B4"},{"$f":"IF('2. Unit Testing Results'!$E54=\"\",\"\",'2. Unit Testing Results'!$E54)","v":1800},{"$f":"IF('2. Unit Testing Results'!$F54=\"\",\"\",'2. Unit Testing Results'!$F54)","v":6141},null,{"$f":"IF($B41=\"\",\"\",\n(('2. Unit Testing Results'!$X54)*60)\n/((VLOOKUP($C41,'2. Unit Testing Results'!$C$5:$S$13,4))*(VLOOKUP($C41,'2. Unit Testing Results'!$C$5:$S$13,6)))\n)","v":{"$error":"#VALUE!"}},{"$f":"IF($B41=\"\",\"\",\nVLOOKUP($C41,'2. Unit Testing Results'!$C$5:$BD$13,19))","v":{"$error":"#N/A"}},{"$f":"IF($B41=\"\",\"\",\nVLOOKUP($C41,'2. Unit Testing Results'!$C$5:$BD$13,20))","v":{"$error":"#N/A"}},{"$f":"IF($B41=\"\",\"\",\nVLOOKUP($C41,'2. Unit Testing Results'!$C$5:$BD$13,22))","v":{"$error":"#N/A"}},{"$f":"IF($B41=\"\",\"\",\nVLOOKUP($C41,'2. Unit Testing Results'!$C$5:$BD$13,24))","v":{"$error":"#N/A"}},{"$f":"IF($B41=\"\",\"\",\nVLOOKUP($C41,'2. Unit Testing Results'!$C$5:$BD$13,26))","v":{"$error":"#N/A"}},{"$f":"IF($B41=\"\",\"\",\nVLOOKUP($C41,'2. Unit Testing Results'!$C$5:$BD$13,28))","v":{"$error":"#N/A"}},{"$f":"IF($B41=\"\",\"\",'2. Unit Testing Results'!$Q54)","v":"Yes"},{"$f":"IF($B41=\"\",\"\",'2. Unit Testing Results'!$V54)","v":"PASS"},{"$f":"IF($B41=\"\",\"\",\nVLOOKUP($C41,'2. Unit Testing Results'!$C$5:$BD$13,30))","v":{"$error":"#N/A"}},{"$f":"IF($B41=\"\",\"\",\nVLOOKUP($C41,'2. Unit Testing Results'!$C$5:$BD$13,32))","v":{"$error":"#N/A"}},{"$f":"IF($B41=\"\",\"\",\nVLOOKUP($C41,'2. Unit Testing Results'!$C$5:$BD$13,34))","v":{"$error":"#N/A"}},{"$f":"IF($B41=\"\",\"\",\nVLOOKUP($C41,'2. Unit Testing Results'!$C$5:$BD$13,36))","v":{"$error":"#N/A"}},{"$f":"IF($B41=\"\",\"\",\nVLOOKUP($C41,'2. Unit Testing Results'!$C$5:$BD$13,38))","v":{"$error":"#N/A"}},{"$f":"IF($B41=\"\",\"\",\nVLOOKUP($C41,'2. Unit Testing Results'!$C$5:$BD$13,39))","v":{"$error":"#N/A"}},{"$f":"IF($B41=\"\",\"\",\nVLOOKUP($C41,'2. Unit Testing Results'!$C$5:$BD$13,40))","v":{"$error":"#N/A"}},{"$f":"IF($B41=\"\",\"\",\nVLOOKUP($C41,'2. Unit Testing Results'!$C$5:$BD$13,42))","v":{"$error":"#N/A"}},{"$f":"IF($B41=\"\",\"\",\nVLOOKUP($C41,'2. Unit Testing Results'!$C$5:$BD$13,44))","v":{"$error":"#N/A"}},{"$f":"IF($B41=\"\",\"\",\nVLOOKUP($C41,'2. Unit Testing Results'!$C$5:$BD$13,46))","v":{"$error":"#N/A"}},{"$f":"IF($B41=\"\",\"\",\nVLOOKUP($C41,'2. Unit Testing Results'!$C$5:$BD$13,48))","v":{"$error":"#N/A"}},{"$f":"IF($B41=\"\",\"\",\nVLOOKUP($C41,'2. Unit Testing Results'!$C$5:$BD$13,50))","v":{"$error":"#N/A"}},{"$f":"IF($B41=\"\",\"\",\nVLOOKUP($C41,'2. Unit Testing Results'!$C$5:$BD$13,51))","v":{"$error":"#N/A"}},{"$f":"IF($B41=\"\",\"\",\nVLOOKUP($C41,'2. Unit Testing Results'!$C$5:$BD$13,52))","v":{"$error":"#N/A"}},{"$f":"IF($B41=\"\",\"\",\nVLOOKUP($C41,'2. Unit Testing Results'!$C$5:$BD$13,53))","v":{"$error":"#N/A"}},{"$f":"IF($B41=\"\",\"\",\nVLOOKUP($C41,'2. Unit Testing Results'!$C$5:$BD$13,54))","v":{"$error":"#N/A"}}]
[null,{"$f":"IF('2. Unit Testing Results'!$C55=\"\",\"\",'2. Unit Testing Results'!$C55)","v":405},{"$f":"IF('2. Unit Testing Results'!$D55=\"\",\"\",'2. Unit Testing Results'!$D55)","v":"Studio"},{"$f":"IF('2. Unit Testing Results'!$E55=\"\",\"\",'2. Unit Testing Results'!$E55)","v":1800},{"$f":"IF('2. Unit Testing Results'!$F55=\"\",\"\",'2. Unit Testing Results'!$F55)","v":6141},null,{"$f":"IF($B42=\"\",\"\",\n(('2. Unit Testing Results'!$X55)*60)\n/((VLOOKUP($C42,'2. Unit Testing Results'!$C$5:$S$13,4))*(VLOOKUP($C42,'2. Unit Testing Results'!$C$5:$S$13,6)))\n)","v":{"$error":"#VALUE!"}},{"$f":"IF($B42=\"\",\"\",\nVLOOKUP($C42,'2. Unit Testing Results'!$C$5:$BD$13,19))","v":19},{"$f":"IF($B42=\"\",\"\",\nVLOOKUP($C42,'2. Unit Testing Results'!$C$5:$BD$13,20))","v":19},{"$f":"IF($B42=\"\",\"\",\nVLOOKUP($C42,'2. Unit Testing Results'!$C$5:$BD$13,22))","v":0},{"$f":"IF($B42=\"\",\"\",\nVLOOKUP($C42,'2. Unit Testing Results'!$C$5:$BD$13,24))","v":10},{"$f":"IF($B42=\"\",\"\",\nVLOOKUP($C42,'2. Unit Testing Results'!$C$5:$BD$13,26))","v":0.3},{"$f":"IF($B42=\"\",\"\",\nVLOOKUP($C42,'2. Unit Testing Results'!$C$5:$BD$13,28))","v":0.32},{"$f":"IF($B42=\"\",\"\",'2. Unit Testing Results'!$Q55)","v":0},{"$f":"IF($B42=\"\",\"\",'2. Unit Testing Results'!$V55)","v":""},{"$f":"IF($B42=\"\",\"\",\nVLOOKUP($C42,'2. Unit Testing Results'!$C$5:$BD$13,30))","v":"Furnace"},{"$f":"IF($B42=\"\",\"\",\nVLOOKUP($C42,'2. Unit Testing Results'!$C$5:$BD$13,32))","v":"NG"},{"$f":"IF($B42=\"\",\"\",\nVLOOKUP($C42,'2. Unit Testing Results'!$C$5:$BD$13,34))","v":92.5},{"$f":"IF($B42=\"\",\"\",\nVLOOKUP($C42,'2. Unit Testing Results'!$C$5:$BD$13,36))","v":"AFUE"},{"$f":"IF($B42=\"\",\"\",\nVLOOKUP($C42,'2. Unit Testing Results'!$C$5:$BD$13,38))","v":"Electricity"},{"$f":"IF($B42=\"\",\"\",\nVLOOKUP($C42,'2. Unit Testing Results'!$C$5:$BD$13,39))","v":0},{"$f":"IF($B42=\"\",\"\",\nVLOOKUP($C42,'2. Unit Testing Results'!$C$5:$BD$13,40))","v":9},{"$f":"IF($B42=\"\",\"\",\nVLOOKUP($C42,'2. Unit Testing Results'!$C$5:$BD$13,42))","v":"HSPF"},{"$f":"IF($B42=\"\",\"\",\nVLOOKUP($C42,'2. Unit Testing Results'!$C$5:$BD$13,44))","v":"Storage"},{"$f":"IF($B42=\"\",\"\",\nVLOOKUP($C42,'2. Unit Testing Results'!$C$5:$BD$13,46))","v":"Gas"},{"$f":"IF($B42=\"\",\"\",\nVLOOKUP($C42,'2. Unit Testing Results'!$C$5:$BD$13,48))","v":0.98},{"$f":"IF($B42=\"\",\"\",\nVLOOKUP($C42,'2. Unit Testing Results'!$C$5:$BD$13,50))","v":90},{"$f":"IF($B42=\"\",\"\",\nVLOOKUP($C42,'2. Unit Testing Results'!$C$5:$BD$13,51))","v":1},{"$f":"IF($B42=\"\",\"\",\nVLOOKUP($C42,'2. Unit Testing Results'!$C$5:$BD$13,52))","v":0},{"$f":"IF($B42=\"\",\"\",\nVLOOKUP($C42,'2. Unit Testing Results'!$C$5:$BD$13,53))","v":1},{"$f":"IF($B42=\"\",\"\",\nVLOOKUP($C42,'2. Unit Testing Results'!$C$5:$BD$13,54))","v":1}]
[null,{"$f":"IF('2. Unit Testing Results'!$C56=\"\",\"\",'2. Unit Testing Results'!$C56)","v":406},{"$f":"IF('2. Unit Testing Results'!$D56=\"\",\"\",'2. Unit Testing Results'!$D56)","v":"B1"},{"$f":"IF('2. Unit Testing Results'!$E56=\"\",\"\",'2. Unit Testing Results'!$E56)","v":650},{"$f":"IF('2. Unit Testing Results'!$F56=\"\",\"\",'2. Unit Testing Results'!$F56)","v":2220},null,{"$f":"IF($B43=\"\",\"\",\n(('2. Unit Testing Results'!$X56)*60)\n/((VLOOKUP($C43,'2. Unit Testing Results'!$C$5:$S$13,4))*(VLOOKUP($C43,'2. Unit Testing Results'!$C$5:$S$13,6)))\n)","v":{"$error":"#VALUE!"}},{"$f":"IF($B43=\"\",\"\",\nVLOOKUP($C43,'2. Unit Testing Results'!$C$5:$BD$13,19))","v":{"$error":"#N/A"}},{"$f":"IF($B43=\"\",\"\",\nVLOOKUP($C43,'2. Unit Testing Results'!$C$5:$BD$13,20))","v":{"$error":"#N/A"}},{"$f":"IF($B43=\"\",\"\",\nVLOOKUP($C43,'2. Unit Testing Results'!$C$5:$BD$13,22))","v":{"$error":"#N/A"}},{"$f":"IF($B43=\"\",\"\",\nVLOOKUP($C43,'2. Unit Testing Results'!$C$5:$BD$13,24))","v":{"$error":"#N/A"}},{"$f":"IF($B43=\"\",\"\",\nVLOOKUP($C43,'2. Unit Testing Results'!$C$5:$BD$13,26))","v":{"$error":"#N/A"}},{"$f":"IF($B43=\"\",\"\",\nVLOOKUP($C43,'2. Unit Testing Results'!$C$5:$BD$13,28))","v":{"$error":"#N/A"}},{"$f":"IF($B43=\"\",\"\",'2. Unit Testing Results'!$Q56)","v":"Yes"},{"$f":"IF($B43=\"\",\"\",'2. Unit Testing Results'!$V56)","v":"PASS"},{"$f":"IF($B43=\"\",\"\",\nVLOOKUP($C43,'2. Unit Testing Results'!$C$5:$BD$13,30))","v":{"$error":"#N/A"}},{"$f":"IF($B43=\"\",\"\",\nVLOOKUP($C43,'2. Unit Testing Results'!$C$5:$BD$13,32))","v":{"$error":"#N/A"}},{"$f":"IF($B43=\"\",\"\",\nVLOOKUP($C43,'2. Unit Testing Results'!$C$5:$BD$13,34))","v":{"$error":"#N/A"}},{"$f":"IF($B43=\"\",\"\",\nVLOOKUP($C43,'2. Unit Testing Results'!$C$5:$BD$13,36))","v":{"$error":"#N/A"}},{"$f":"IF($B43=\"\",\"\",\nVLOOKUP($C43,'2. Unit Testing Results'!$C$5:$BD$13,38))","v":{"$error":"#N/A"}},{"$f":"IF($B43=\"\",\"\",\nVLOOKUP($C43,'2. Unit Testing Results'!$C$5:$BD$13,39))","v":{"$error":"#N/A"}},{"$f":"IF($B43=\"\",\"\",\nVLOOKUP($C43,'2. Unit Testing Results'!$C$5:$BD$13,40))","v":{"$error":"#N/A"}},{"$f":"IF($B43=\"\",\"\",\nVLOOKUP($C43,'2. Unit Testing Results'!$C$5:$BD$13,42))","v":{"$error":"#N/A"}},{"$f":"IF($B43=\"\",\"\",\nVLOOKUP($C43,'2. Unit Testing Results'!$C$5:$BD$13,44))","v":{"$error":"#N/A"}},{"$f":"IF($B43=\"\",\"\",\nVLOOKUP($C43,'2. Unit Testing Results'!$C$5:$BD$13,46))","v":{"$error":"#N/A"}},{"$f":"IF($B43=\"\",\"\",\nVLOOKUP($C43,'2. Unit Testing Results'!$C$5:$BD$13,48))","v":{"$error":"#N/A"}},{"$f":"IF($B43=\"\",\"\",\nVLOOKUP($C43,'2. Unit Testing Results'!$C$5:$BD$13,50))","v":{"$error":"#N/A"}},{"$f":"IF($B43=\"\",\"\",\nVLOOKUP($C43,'2. Unit Testing Results'!$C$5:$BD$13,51))","v":{"$error":"#N/A"}},{"$f":"IF($B43=\"\",\"\",\nVLOOKUP($C43,'2. Unit Testing Results'!$C$5:$BD$13,52))","v":{"$error":"#N/A"}},{"$f":"IF($B43=\"\",\"\",\nVLOOKUP($C43,'2. Unit Testing Results'!$C$5:$BD$13,53))","v":{"$error":"#N/A"}},{"$f":"IF($B43=\"\",\"\",\nVLOOKUP($C43,'2. Unit Testing Results'!$C$5:$BD$13,54))","v":{"$error":"#N/A"}}]
[null,{"$f":"IF('2. Unit Testing Results'!$C57=\"\",\"\",'2. Unit Testing Results'!$C57)","v":407},{"$f":"IF('2. Unit Testing Results'!$D57=\"\",\"\",'2. Unit Testing Results'!$D57)","v":"B3"},{"$f":"IF('2. Unit Testing Results'!$E57=\"\",\"\",'2. Unit Testing Results'!$E57)","v":815},{"$f":"IF('2. Unit Testing Results'!$F57=\"\",\"\",'2. Unit Testing Results'!$F57)","v":3742},null,{"$f":"IF($B44=\"\",\"\",\n(('2. Unit Testing Results'!$X57)*60)\n/((VLOOKUP($C44,'2. Unit Testing Results'!$C$5:$S$13,4))*(VLOOKUP($C44,'2. Unit Testing Results'!$C$5:$S$13,6)))\n)","v":{"$error":"#VALUE!"}},{"$f":"IF($B44=\"\",\"\",\nVLOOKUP($C44,'2. Unit Testing Results'!$C$5:$BD$13,19))","v":{"$error":"#N/A"}},{"$f":"IF($B44=\"\",\"\",\nVLOOKUP($C44,'2. Unit Testing Results'!$C$5:$BD$13,20))","v":{"$error":"#N/A"}},{"$f":"IF($B44=\"\",\"\",\nVLOOKUP($C44,'2. Unit Testing Results'!$C$5:$BD$13,22))","v":{"$error":"#N/A"}},{"$f":"IF($B44=\"\",\"\",\nVLOOKUP($C44,'2. Unit Testing Results'!$C$5:$BD$13,24))","v":{"$error":"#N/A"}},{"$f":"IF($B44=\"\",\"\",\nVLOOKUP($C44,'2. Unit Testing Results'!$C$5:$BD$13,26))","v":{"$error":"#N/A"}},{"$f":"IF($B44=\"\",\"\",\nVLOOKUP($C44,'2. Unit Testing Results'!$C$5:$BD$13,28))","v":{"$error":"#N/A"}},{"$f":"IF($B44=\"\",\"\",'2. Unit Testing Results'!$Q57)","v":0},{"$f":"IF($B44=\"\",\"\",'2. Unit Testing Results'!$V57)","v":""},{"$f":"IF($B44=\"\",\"\",\nVLOOKUP($C44,'2. Unit Testing Results'!$C$5:$BD$13,30))","v":{"$error":"#N/A"}},{"$f":"IF($B44=\"\",\"\",\nVLOOKUP($C44,'2. Unit Testing Results'!$C$5:$BD$13,32))","v":{"$error":"#N/A"}},{"$f":"IF($B44=\"\",\"\",\nVLOOKUP($C44,'2. Unit Testing Results'!$C$5:$BD$13,34))","v":{"$error":"#N/A"}},{"$f":"IF($B44=\"\",\"\",\nVLOOKUP($C44,'2. Unit Testing Results'!$C$5:$BD$13,36))","v":{"$error":"#N/A"}},{"$f":"IF($B44=\"\",\"\",\nVLOOKUP($C44,'2. Unit Testing Results'!$C$5:$BD$13,38))","v":{"$error":"#N/A"}},{"$f":"IF($B44=\"\",\"\",\nVLOOKUP($C44,'2. Unit Testing Results'!$C$5:$BD$13,39))","v":{"$error":"#N/A"}},{"$f":"IF($B44=\"\",\"\",\nVLOOKUP($C44,'2. Unit Testing Results'!$C$5:$BD$13,40))","v":{"$error":"#N/A"}},{"$f":"IF($B44=\"\",\"\",\nVLOOKUP($C44,'2. Unit Testing Results'!$C$5:$BD$13,42))","v":{"$error":"#N/A"}},{"$f":"IF($B44=\"\",\"\",\nVLOOKUP($C44,'2. Unit Testing Results'!$C$5:$BD$13,44))","v":{"$error":"#N/A"}},{"$f":"IF($B44=\"\",\"\",\nVLOOKUP($C44,'2. Unit Testing Results'!$C$5:$BD$13,46))","v":{"$error":"#N/A"}},{"$f":"IF($B44=\"\",\"\",\nVLOOKUP($C44,'2. Unit Testing Results'!$C$5:$BD$13,48))","v":{"$error":"#N/A"}},{"$f":"IF($B44=\"\",\"\",\nVLOOKUP($C44,'2. Unit Testing Results'!$C$5:$BD$13,50))","v":{"$error":"#N/A"}},{"$f":"IF($B44=\"\",\"\",\nVLOOKUP($C44,'2. Unit Testing Results'!$C$5:$BD$13,51))","v":{"$error":"#N/A"}},{"$f":"IF($B44=\"\",\"\",\nVLOOKUP($C44,'2. Unit Testing Results'!$C$5:$BD$13,52))","v":{"$error":"#N/A"}},{"$f":"IF($B44=\"\",\"\",\nVLOOKUP($C44,'2. Unit Testing Results'!$C$5:$BD$13,53))","v":{"$error":"#N/A"}},{"$f":"IF($B44=\"\",\"\",\nVLOOKUP($C44,'2. Unit Testing Results'!$C$5:$BD$13,54))","v":{"$error":"#N/A"}}]
[null,{"$f":"IF('2. Unit Testing Results'!$C58=\"\",\"\",'2. Unit Testing Results'!$C58)","v":408},{"$f":"IF('2. Unit Testing Results'!$D58=\"\",\"\",'2. Unit Testing Results'!$D58)","v":"B2"},{"$f":"IF('2. Unit Testing Results'!$E58=\"\",\"\",'2. Unit Testing Results'!$E58)","v":800},{"$f":"IF('2. Unit Testing Results'!$F58=\"\",\"\",'2. Unit Testing Results'!$F58)","v":3040},null,{"$f":"IF($B45=\"\",\"\",\n(('2. Unit Testing Results'!$X58)*60)\n/((VLOOKUP($C45,'2. Unit Testing Results'!$C$5:$S$13,4))*(VLOOKUP($C45,'2. Unit Testing Results'!$C$5:$S$13,6)))\n)","v":{"$error":"#VALUE!"}},{"$f":"IF($B45=\"\",\"\",\nVLOOKUP($C45,'2. Unit Testing Results'!$C$5:$BD$13,19))","v":{"$error":"#N/A"}},{"$f":"IF($B45=\"\",\"\",\nVLOOKUP($C45,'2. Unit Testing Results'!$C$5:$BD$13,20))","v":{"$error":"#N/A"}},{"$f":"IF($B45=\"\",\"\",\nVLOOKUP($C45,'2. Unit Testing Results'!$C$5:$BD$13,22))","v":{"$error":"#N/A"}},{"$f":"IF($B45=\"\",\"\",\nVLOOKUP($C45,'2. Unit Testing Results'!$C$5:$BD$13,24))","v":{"$error":"#N/A"}},{"$f":"IF($B45=\"\",\"\",\nVLOOKUP($C45,'2. Unit Testing Results'!$C$5:$BD$13,26))","v":{"$error":"#N/A"}},{"$f":"IF($B45=\"\",\"\",\nVLOOKUP($C45,'2. Unit Testing Results'!$C$5:$BD$13,28))","v":{"$error":"#N/A"}},{"$f":"IF($B45=\"\",\"\",'2. Unit Testing Results'!$Q58)","v":0},{"$f":"IF($B45=\"\",\"\",'2. Unit Testing Results'!$V58)","v":""},{"$f":"IF($B45=\"\",\"\",\nVLOOKUP($C45,'2. Unit Testing Results'!$C$5:$BD$13,30))","v":{"$error":"#N/A"}},{"$f":"IF($B45=\"\",\"\",\nVLOOKUP($C45,'2. Unit Testing Results'!$C$5:$BD$13,32))","v":{"$error":"#N/A"}},{"$f":"IF($B45=\"\",\"\",\nVLOOKUP($C45,'2. Unit Testing Results'!$C$5:$BD$13,34))","v":{"$error":"#N/A"}},{"$f":"IF($B45=\"\",\"\",\nVLOOKUP($C45,'2. Unit Testing Results'!$C$5:$BD$13,36))","v":{"$error":"#N/A"}},{"$f":"IF($B45=\"\",\"\",\nVLOOKUP($C45,'2. Unit Testing Results'!$C$5:$BD$13,38))","v":{"$error":"#N/A"}},{"$f":"IF($B45=\"\",\"\",\nVLOOKUP($C45,'2. Unit Testing Results'!$C$5:$BD$13,39))","v":{"$error":"#N/A"}},{"$f":"IF($B45=\"\",\"\",\nVLOOKUP($C45,'2. Unit Testing Results'!$C$5:$BD$13,40))","v":{"$error":"#N/A"}},{"$f":"IF($B45=\"\",\"\",\nVLOOKUP($C45,'2. Unit Testing Results'!$C$5:$BD$13,42))","v":{"$error":"#N/A"}},{"$f":"IF($B45=\"\",\"\",\nVLOOKUP($C45,'2. Unit Testing Results'!$C$5:$BD$13,44))","v":{"$error":"#N/A"}},{"$f":"IF($B45=\"\",\"\",\nVLOOKUP($C45,'2. Unit Testing Results'!$C$5:$BD$13,46))","v":{"$error":"#N/A"}},{"$f":"IF($B45=\"\",\"\",\nVLOOKUP($C45,'2. Unit Testing Results'!$C$5:$BD$13,48))","v":{"$error":"#N/A"}},{"$f":"IF($B45=\"\",\"\",\nVLOOKUP($C45,'2. Unit Testing Results'!$C$5:$BD$13,50))","v":{"$error":"#N/A"}},{"$f":"IF($B45=\"\",\"\",\nVLOOKUP($C45,'2. Unit Testing Results'!$C$5:$BD$13,51))","v":{"$error":"#N/A"}},{"$f":"IF($B45=\"\",\"\",\nVLOOKUP($C45,'2. Unit Testing Results'!$C$5:$BD$13,52))","v":{"$error":"#N/A"}},{"$f":"IF($B45=\"\",\"\",\nVLOOKUP($C45,'2. Unit Testing Results'!$C$5:$BD$13,53))","v":{"$error":"#N/A"}},{"$f":"IF($B45=\"\",\"\",\nVLOOKUP($C45,'2. Unit Testing Results'!$C$5:$BD$13,54))","v":{"$error":"#N/A"}}]
[null,{"$f":"IF('2. Unit Testing Results'!$C59=\"\",\"\",'2. Unit Testing Results'!$C59)","v":409},{"$f":"IF('2. Unit Testing Results'!$D59=\"\",\"\",'2. Unit Testing Results'!$D59)","v":"A2"},{"$f":"IF('2. Unit Testing Results'!$E59=\"\",\"\",'2. Unit Testing Results'!$E59)","v":678},{"$f":"IF('2. Unit Testing Results'!$F59=\"\",\"\",'2. Unit Testing Results'!$F59)","v":2196},null,{"$f":"IF($B46=\"\",\"\",\n(('2. Unit Testing Results'!$X59)*60)\n/((VLOOKUP($C46,'2. Unit Testing Results'!$C$5:$S$13,4))*(VLOOKUP($C46,'2. Unit Testing Results'!$C$5:$S$13,6)))\n)","v":{"$error":"#VALUE!"}},{"$f":"IF($B46=\"\",\"\",\nVLOOKUP($C46,'2. Unit Testing Results'!$C$5:$BD$13,19))","v":{"$error":"#N/A"}},{"$f":"IF($B46=\"\",\"\",\nVLOOKUP($C46,'2. Unit Testing Results'!$C$5:$BD$13,20))","v":{"$error":"#N/A"}},{"$f":"IF($B46=\"\",\"\",\nVLOOKUP($C46,'2. Unit Testing Results'!$C$5:$BD$13,22))","v":{"$error":"#N/A"}},{"$f":"IF($B46=\"\",\"\",\nVLOOKUP($C46,'2. Unit Testing Results'!$C$5:$BD$13,24))","v":{"$error":"#N/A"}},{"$f":"IF($B46=\"\",\"\",\nVLOOKUP($C46,'2. Unit Testing Results'!$C$5:$BD$13,26))","v":{"$error":"#N/A"}},{"$f":"IF($B46=\"\",\"\",\nVLOOKUP($C46,'2. Unit Testing Results'!$C$5:$BD$13,28))","v":{"$error":"#N/A"}},{"$f":"IF($B46=\"\",\"\",'2. Unit Testing Results'!$Q59)","v":0},{"$f":"IF($B46=\"\",\"\",'2. Unit Testing Results'!$V59)","v":""},{"$f":"IF($B46=\"\",\"\",\nVLOOKUP($C46,'2. Unit Testing Results'!$C$5:$BD$13,30))","v":{"$error":"#N/A"}},{"$f":"IF($B46=\"\",\"\",\nVLOOKUP($C46,'2. Unit Testing Results'!$C$5:$BD$13,32))","v":{"$error":"#N/A"}},{"$f":"IF($B46=\"\",\"\",\nVLOOKUP($C46,'2. Unit Testing Results'!$C$5:$BD$13,34))","v":{"$error":"#N/A"}},{"$f":"IF($B46=\"\",\"\",\nVLOOKUP($C46,'2. Unit Testing Results'!$C$5:$BD$13,36))","v":{"$error":"#N/A"}},{"$f":"IF($B46=\"\",\"\",\nVLOOKUP($C46,'2. Unit Testing Results'!$C$5:$BD$13,38))","v":{"$error":"#N/A"}},{"$f":"IF($B46=\"\",\"\",\nVLOOKUP($C46,'2. Unit Testing Results'!$C$5:$BD$13,39))","v":{"$error":"#N/A"}},{"$f":"IF($B46=\"\",\"\",\nVLOOKUP($C46,'2. Unit Testing Results'!$C$5:$BD$13,40))","v":{"$error":"#N/A"}},{"$f":"IF($B46=\"\",\"\",\nVLOOKUP($C46,'2. Unit Testing Results'!$C$5:$BD$13,42))","v":{"$error":"#N/A"}},{"$f":"IF($B46=\"\",\"\",\nVLOOKUP($C46,'2. Unit Testing Results'!$C$5:$BD$13,44))","v":{"$error":"#N/A"}},{"$f":"IF($B46=\"\",\"\",\nVLOOKUP($C46,'2. Unit Testing Results'!$C$5:$BD$13,46))","v":{"$error":"#N/A"}},{"$f":"IF($B46=\"\",\"\",\nVLOOKUP($C46,'2. Unit Testing Results'!$C$5:$BD$13,48))","v":{"$error":"#N/A"}},{"$f":"IF($B46=\"\",\"\",\nVLOOKUP($C46,'2. Unit Testing Results'!$C$5:$BD$13,50))","v":{"$error":"#N/A"}},{"$f":"IF($B46=\"\",\"\",\nVLOOKUP($C46,'2. Unit Testing Results'!$C$5:$BD$13,51))","v":{"$error":"#N/A"}},{"$f":"IF($B46=\"\",\"\",\nVLOOKUP($C46,'2. Unit Testing Results'!$C$5:$BD$13,52))","v":{"$error":"#N/A"}},{"$f":"IF($B46=\"\",\"\",\nVLOOKUP($C46,'2. Unit Testing Results'!$C$5:$BD$13,53))","v":{"$error":"#N/A"}},{"$f":"IF($B46=\"\",\"\",\nVLOOKUP($C46,'2. Unit Testing Results'!$C$5:$BD$13,54))","v":{"$error":"#N/A"}}]
[null,{"$f":"IF('2. Unit Testing Results'!$C60=\"\",\"\",'2. Unit Testing Results'!$C60)","v":410},{"$f":"IF('2. Unit Testing Results'!$D60=\"\",\"\",'2. Unit Testing Results'!$D60)","v":"A2"},{"$f":"IF('2. Unit Testing Results'!$E60=\"\",\"\",'2. Unit Testing Results'!$E60)","v":678},{"$f":"IF('2. Unit Testing Results'!$F60=\"\",\"\",'2. Unit Testing Results'!$F60)","v":2196},null,{"$f":"IF($B47=\"\",\"\",\n(('2. Unit Testing Results'!$X60)*60)\n/((VLOOKUP($C47,'2. Unit Testing Results'!$C$5:$S$13,4))*(VLOOKUP($C47,'2. Unit Testing Results'!$C$5:$S$13,6)))\n)","v":{"$error":"#VALUE!"}},{"$f":"IF($B47=\"\",\"\",\nVLOOKUP($C47,'2. Unit Testing Results'!$C$5:$BD$13,19))","v":{"$error":"#N/A"}},{"$f":"IF($B47=\"\",\"\",\nVLOOKUP($C47,'2. Unit Testing Results'!$C$5:$BD$13,20))","v":{"$error":"#N/A"}},{"$f":"IF($B47=\"\",\"\",\nVLOOKUP($C47,'2. Unit Testing Results'!$C$5:$BD$13,22))","v":{"$error":"#N/A"}},{"$f":"IF($B47=\"\",\"\",\nVLOOKUP($C47,'2. Unit Testing Results'!$C$5:$BD$13,24))","v":{"$error":"#N/A"}},{"$f":"IF($B47=\"\",\"\",\nVLOOKUP($C47,'2. Unit Testing Results'!$C$5:$BD$13,26))","v":{"$error":"#N/A"}},{"$f":"IF($B47=\"\",\"\",\nVLOOKUP($C47,'2. Unit Testing Results'!$C$5:$BD$13,28))","v":{"$error":"#N/A"}},{"$f":"IF($B47=\"\",\"\",'2. Unit Testing Results'!$Q60)","v":0},{"$f":"IF($B47=\"\",\"\",'2. Unit Testing Results'!$V60)","v":""},{"$f":"IF($B47=\"\",\"\",\nVLOOKUP($C47,'2. Unit Testing Results'!$C$5:$BD$13,30))","v":{"$error":"#N/A"}},{"$f":"IF($B47=\"\",\"\",\nVLOOKUP($C47,'2. Unit Testing Results'!$C$5:$BD$13,32))","v":{"$error":"#N/A"}},{"$f":"IF($B47=\"\",\"\",\nVLOOKUP($C47,'2. Unit Testing Results'!$C$5:$BD$13,34))","v":{"$error":"#N/A"}},{"$f":"IF($B47=\"\",\"\",\nVLOOKUP($C47,'2. Unit Testing Results'!$C$5:$BD$13,36))","v":{"$error":"#N/A"}},{"$f":"IF($B47=\"\",\"\",\nVLOOKUP($C47,'2. Unit Testing Results'!$C$5:$BD$13,38))","v":{"$error":"#N/A"}},{"$f":"IF($B47=\"\",\"\",\nVLOOKUP($C47,'2. Unit Testing Results'!$C$5:$BD$13,39))","v":{"$error":"#N/A"}},{"$f":"IF($B47=\"\",\"\",\nVLOOKUP($C47,'2. Unit Testing Results'!$C$5:$BD$13,40))","v":{"$error":"#N/A"}},{"$f":"IF($B47=\"\",\"\",\nVLOOKUP($C47,'2. Unit Testing Results'!$C$5:$BD$13,42))","v":{"$error":"#N/A"}},{"$f":"IF($B47=\"\",\"\",\nVLOOKUP($C47,'2. Unit Testing Results'!$C$5:$BD$13,44))","v":{"$error":"#N/A"}},{"$f":"IF($B47=\"\",\"\",\nVLOOKUP($C47,'2. Unit Testing Results'!$C$5:$BD$13,46))","v":{"$error":"#N/A"}},{"$f":"IF($B47=\"\",\"\",\nVLOOKUP($C47,'2. Unit Testing Results'!$C$5:$BD$13,48))","v":{"$error":"#N/A"}},{"$f":"IF($B47=\"\",\"\",\nVLOOKUP($C47,'2. Unit Testing Results'!$C$5:$BD$13,50))","v":{"$error":"#N/A"}},{"$f":"IF($B47=\"\",\"\",\nVLOOKUP($C47,'2. Unit Testing Results'!$C$5:$BD$13,51))","v":{"$error":"#N/A"}},{"$f":"IF($B47=\"\",\"\",\nVLOOKUP($C47,'2. Unit Testing Results'!$C$5:$BD$13,52))","v":{"$error":"#N/A"}},{"$f":"IF($B47=\"\",\"\",\nVLOOKUP($C47,'2. Unit Testing Results'!$C$5:$BD$13,53))","v":{"$error":"#N/A"}},{"$f":"IF($B47=\"\",\"\",\nVLOOKUP($C47,'2. Unit Testing Results'!$C$5:$BD$13,54))","v":{"$error":"#N/A"}}]
[null,{"$f":"IF('2. Unit Testing Results'!$C61=\"\",\"\",'2. Unit Testing Results'!$C61)","v":501},{"$f":"IF('2. Unit Testing Results'!$D61=\"\",\"\",'2. Unit Testing Results'!$D61)","v":"A1"},{"$f":"IF('2. Unit Testing Results'!$E61=\"\",\"\",'2. Unit Testing Results'!$E61)","v":515},{"$f":"IF('2. Unit Testing Results'!$F61=\"\",\"\",'2. Unit Testing Results'!$F61)","v":1990},null,{"$f":"IF($B48=\"\",\"\",\n(('2. Unit Testing Results'!$X61)*60)\n/((VLOOKUP($C48,'2. Unit Testing Results'!$C$5:$S$13,4))*(VLOOKUP($C48,'2. Unit Testing Results'!$C$5:$S$13,6)))\n)","v":{"$error":"#VALUE!"}},{"$f":"IF($B48=\"\",\"\",\nVLOOKUP($C48,'2. Unit Testing Results'!$C$5:$BD$13,19))","v":{"$error":"#N/A"}},{"$f":"IF($B48=\"\",\"\",\nVLOOKUP($C48,'2. Unit Testing Results'!$C$5:$BD$13,20))","v":{"$error":"#N/A"}},{"$f":"IF($B48=\"\",\"\",\nVLOOKUP($C48,'2. Unit Testing Results'!$C$5:$BD$13,22))","v":{"$error":"#N/A"}},{"$f":"IF($B48=\"\",\"\",\nVLOOKUP($C48,'2. Unit Testing Results'!$C$5:$BD$13,24))","v":{"$error":"#N/A"}},{"$f":"IF($B48=\"\",\"\",\nVLOOKUP($C48,'2. Unit Testing Results'!$C$5:$BD$13,26))","v":{"$error":"#N/A"}},{"$f":"IF($B48=\"\",\"\",\nVLOOKUP($C48,'2. Unit Testing Results'!$C$5:$BD$13,28))","v":{"$error":"#N/A"}},{"$f":"IF($B48=\"\",\"\",'2. Unit Testing Results'!$Q61)","v":0},{"$f":"IF($B48=\"\",\"\",'2. Unit Testing Results'!$V61)","v":""},{"$f":"IF($B48=\"\",\"\",\nVLOOKUP($C48,'2. Unit Testing Results'!$C$5:$BD$13,30))","v":{"$error":"#N/A"}},{"$f":"IF($B48=\"\",\"\",\nVLOOKUP($C48,'2. Unit Testing Results'!$C$5:$BD$13,32))","v":{"$error":"#N/A"}},{"$f":"IF($B48=\"\",\"\",\nVLOOKUP($C48,'2. Unit Testing Results'!$C$5:$BD$13,34))","v":{"$error":"#N/A"}},{"$f":"IF($B48=\"\",\"\",\nVLOOKUP($C48,'2. Unit Testing Results'!$C$5:$BD$13,36))","v":{"$error":"#N/A"}},{"$f":"IF($B48=\"\",\"\",\nVLOOKUP($C48,'2. Unit Testing Results'!$C$5:$BD$13,38))","v":{"$error":"#N/A"}},{"$f":"IF($B48=\"\",\"\",\nVLOOKUP($C48,'2. Unit Testing Results'!$C$5:$BD$13,39))","v":{"$error":"#N/A"}},{"$f":"IF($B48=\"\",\"\",\nVLOOKUP($C48,'2. Unit Testing Results'!$C$5:$BD$13,40))","v":{"$error":"#N/A"}},{"$f":"IF($B48=\"\",\"\",\nVLOOKUP($C48,'2. Unit Testing Results'!$C$5:$BD$13,42))","v":{"$error":"#N/A"}},{"$f":"IF($B48=\"\",\"\",\nVLOOKUP($C48,'2. Unit Testing Results'!$C$5:$BD$13,44))","v":{"$error":"#N/A"}},{"$f":"IF($B48=\"\",\"\",\nVLOOKUP($C48,'2. Unit Testing Results'!$C$5:$BD$13,46))","v":{"$error":"#N/A"}},{"$f":"IF($B48=\"\",\"\",\nVLOOKUP($C48,'2. Unit Testing Results'!$C$5:$BD$13,48))","v":{"$error":"#N/A"}},{"$f":"IF($B48=\"\",\"\",\nVLOOKUP($C48,'2. Unit Testing Results'!$C$5:$BD$13,50))","v":{"$error":"#N/A"}},{"$f":"IF($B48=\"\",\"\",\nVLOOKUP($C48,'2. Unit Testing Results'!$C$5:$BD$13,51))","v":{"$error":"#N/A"}},{"$f":"IF($B48=\"\",\"\",\nVLOOKUP($C48,'2. Unit Testing Results'!$C$5:$BD$13,52))","v":{"$error":"#N/A"}},{"$f":"IF($B48=\"\",\"\",\nVLOOKUP($C48,'2. Unit Testing Results'!$C$5:$BD$13,53))","v":{"$error":"#N/A"}},{"$f":"IF($B48=\"\",\"\",\nVLOOKUP($C48,'2. Unit Testing Results'!$C$5:$BD$13,54))","v":{"$error":"#N/A"}}]
[null,{"$f":"IF('2. Unit Testing Results'!$C62=\"\",\"\",'2. Unit Testing Results'!$C62)","v":502},{"$f":"IF('2. Unit Testing Results'!$D62=\"\",\"\",'2. Unit Testing Results'!$D62)","v":"B3"},{"$f":"IF('2. Unit Testing Results'!$E62=\"\",\"\",'2. Unit Testing Results'!$E62)","v":815},{"$f":"IF('2. Unit Testing Results'!$F62=\"\",\"\",'2. Unit Testing Results'!$F62)","v":3742},null,{"$f":"IF($B49=\"\",\"\",\n(('2. Unit Testing Results'!$X62)*60)\n/((VLOOKUP($C49,'2. Unit Testing Results'!$C$5:$S$13,4))*(VLOOKUP($C49,'2. Unit Testing Results'!$C$5:$S$13,6)))\n)","v":{"$error":"#VALUE!"}},{"$f":"IF($B49=\"\",\"\",\nVLOOKUP($C49,'2. Unit Testing Results'!$C$5:$BD$13,19))","v":{"$error":"#N/A"}},{"$f":"IF($B49=\"\",\"\",\nVLOOKUP($C49,'2. Unit Testing Results'!$C$5:$BD$13,20))","v":{"$error":"#N/A"}},{"$f":"IF($B49=\"\",\"\",\nVLOOKUP($C49,'2. Unit Testing Results'!$C$5:$BD$13,22))","v":{"$error":"#N/A"}},{"$f":"IF($B49=\"\",\"\",\nVLOOKUP($C49,'2. Unit Testing Results'!$C$5:$BD$13,24))","v":{"$error":"#N/A"}},{"$f":"IF($B49=\"\",\"\",\nVLOOKUP($C49,'2. Unit Testing Results'!$C$5:$BD$13,26))","v":{"$error":"#N/A"}},{"$f":"IF($B49=\"\",\"\",\nVLOOKUP($C49,'2. Unit Testing Results'!$C$5:$BD$13,28))","v":{"$error":"#N/A"}},{"$f":"IF($B49=\"\",\"\",'2. Unit Testing Results'!$Q62)","v":"Yes"},{"$f":"IF($B49=\"\",\"\",'2. Unit Testing Results'!$V62)","v":"FAIL"},{"$f":"IF($B49=\"\",\"\",\nVLOOKUP($C49,'2. Unit Testing Results'!$C$5:$BD$13,30))","v":{"$error":"#N/A"}},{"$f":"IF($B49=\"\",\"\",\nVLOOKUP($C49,'2. Unit Testing Results'!$C$5:$BD$13,32))","v":{"$error":"#N/A"}},{"$f":"IF($B49=\"\",\"\",\nVLOOKUP($C49,'2. Unit Testing Results'!$C$5:$BD$13,34))","v":{"$error":"#N/A"}},{"$f":"IF($B49=\"\",\"\",\nVLOOKUP($C49,'2. Unit Testing Results'!$C$5:$BD$13,36))","v":{"$error":"#N/A"}},{"$f":"IF($B49=\"\",\"\",\nVLOOKUP($C49,'2. Unit Testing Results'!$C$5:$BD$13,38))","v":{"$error":"#N/A"}},{"$f":"IF($B49=\"\",\"\",\nVLOOKUP($C49,'2. Unit Testing Results'!$C$5:$BD$13,39))","v":{"$error":"#N/A"}},{"$f":"IF($B49=\"\",\"\",\nVLOOKUP($C49,'2. Unit Testing Results'!$C$5:$BD$13,40))","v":{"$error":"#N/A"}},{"$f":"IF($B49=\"\",\"\",\nVLOOKUP($C49,'2. Unit Testing Results'!$C$5:$BD$13,42))","v":{"$error":"#N/A"}},{"$f":"IF($B49=\"\",\"\",\nVLOOKUP($C49,'2. Unit Testing Results'!$C$5:$BD$13,44))","v":{"$error":"#N/A"}},{"$f":"IF($B49=\"\",\"\",\nVLOOKUP($C49,'2. Unit Testing Results'!$C$5:$BD$13,46))","v":{"$error":"#N/A"}},{"$f":"IF($B49=\"\",\"\",\nVLOOKUP($C49,'2. Unit Testing Results'!$C$5:$BD$13,48))","v":{"$error":"#N/A"}},{"$f":"IF($B49=\"\",\"\",\nVLOOKUP($C49,'2. Unit Testing Results'!$C$5:$BD$13,50))","v":{"$error":"#N/A"}},{"$f":"IF($B49=\"\",\"\",\nVLOOKUP($C49,'2. Unit Testing Results'!$C$5:$BD$13,51))","v":{"$error":"#N/A"}},{"$f":"IF($B49=\"\",\"\",\nVLOOKUP($C49,'2. Unit Testing Results'!$C$5:$BD$13,52))","v":{"$error":"#N/A"}},{"$f":"IF($B49=\"\",\"\",\nVLOOKUP($C49,'2. Unit Testing Results'!$C$5:$BD$13,53))","v":{"$error":"#N/A"}},{"$f":"IF($B49=\"\",\"\",\nVLOOKUP($C49,'2. Unit Testing Results'!$C$5:$BD$13,54))","v":{"$error":"#N/A"}}]
[null,{"$f":"IF('2. Unit Testing Results'!$C63=\"\",\"\",'2. Unit Testing Results'!$C63)","v":503},{"$f":"IF('2. Unit Testing Results'!$D63=\"\",\"\",'2. Unit Testing Results'!$D63)","v":"Studio"},{"$f":"IF('2. Unit Testing Results'!$E63=\"\",\"\",'2. Unit Testing Results'!$E63)","v":1800},{"$f":"IF('2. Unit Testing Results'!$F63=\"\",\"\",'2. Unit Testing Results'!$F63)","v":6141},null,{"$f":"IF($B50=\"\",\"\",\n(('2. Unit Testing Results'!$X63)*60)\n/((VLOOKUP($C50,'2. Unit Testing Results'!$C$5:$S$13,4))*(VLOOKUP($C50,'2. Unit Testing Results'!$C$5:$S$13,6)))\n)","v":{"$error":"#VALUE!"}},{"$f":"IF($B50=\"\",\"\",\nVLOOKUP($C50,'2. Unit Testing Results'!$C$5:$BD$13,19))","v":19},{"$f":"IF($B50=\"\",\"\",\nVLOOKUP($C50,'2. Unit Testing Results'!$C$5:$BD$13,20))","v":19},{"$f":"IF($B50=\"\",\"\",\nVLOOKUP($C50,'2. Unit Testing Results'!$C$5:$BD$13,22))","v":0},{"$f":"IF($B50=\"\",\"\",\nVLOOKUP($C50,'2. Unit Testing Results'!$C$5:$BD$13,24))","v":10},{"$f":"IF($B50=\"\",\"\",\nVLOOKUP($C50,'2. Unit Testing Results'!$C$5:$BD$13,26))","v":0.3},{"$f":"IF($B50=\"\",\"\",\nVLOOKUP($C50,'2. Unit Testing Results'!$C$5:$BD$13,28))","v":0.32},{"$f":"IF($B50=\"\",\"\",'2. Unit Testing Results'!$Q63)","v":0},{"$f":"IF($B50=\"\",\"\",'2. Unit Testing Results'!$V63)","v":""},{"$f":"IF($B50=\"\",\"\",\nVLOOKUP($C50,'2. Unit Testing Results'!$C$5:$BD$13,30))","v":"Furnace"},{"$f":"IF($B50=\"\",\"\",\nVLOOKUP($C50,'2. Unit Testing Results'!$C$5:$BD$13,32))","v":"NG"},{"$f":"IF($B50=\"\",\"\",\nVLOOKUP($C50,'2. Unit Testing Results'!$C$5:$BD$13,34))","v":92.5},{"$f":"IF($B50=\"\",\"\",\nVLOOKUP($C50,'2. Unit Testing Results'!$C$5:$BD$13,36))","v":"AFUE"},{"$f":"IF($B50=\"\",\"\",\nVLOOKUP($C50,'2. Unit Testing Results'!$C$5:$BD$13,38))","v":"Electricity"},{"$f":"IF($B50=\"\",\"\",\nVLOOKUP($C50,'2. Unit Testing Results'!$C$5:$BD$13,39))","v":0},{"$f":"IF($B50=\"\",\"\",\nVLOOKUP($C50,'2. Unit Testing Results'!$C$5:$BD$13,40))","v":9},{"$f":"IF($B50=\"\",\"\",\nVLOOKUP($C50,'2. Unit Testing Results'!$C$5:$BD$13,42))","v":"HSPF"},{"$f":"IF($B50=\"\",\"\",\nVLOOKUP($C50,'2. Unit Testing Results'!$C$5:$BD$13,44))","v":"Storage"},{"$f":"IF($B50=\"\",\"\",\nVLOOKUP($C50,'2. Unit Testing Results'!$C$5:$BD$13,46))","v":"Gas"},{"$f":"IF($B50=\"\",\"\",\nVLOOKUP($C50,'2. Unit Testing Results'!$C$5:$BD$13,48))","v":0.98},{"$f":"IF($B50=\"\",\"\",\nVLOOKUP($C50,'2. Unit Testing Results'!$C$5:$BD$13,50))","v":90},{"$f":"IF($B50=\"\",\"\",\nVLOOKUP($C50,'2. Unit Testing Results'!$C$5:$BD$13,51))","v":1},{"$f":"IF($B50=\"\",\"\",\nVLOOKUP($C50,'2. Unit Testing Results'!$C$5:$BD$13,52))","v":0},{"$f":"IF($B50=\"\",\"\",\nVLOOKUP($C50,'2. Unit Testing Results'!$C$5:$BD$13,53))","v":1},{"$f":"IF($B50=\"\",\"\",\nVLOOKUP($C50,'2. Unit Testing Results'!$C$5:$BD$13,54))","v":1}]
[null,{"$f":"IF('2. Unit Testing Results'!$C64=\"\",\"\",'2. Unit Testing Results'!$C64)","v":504},{"$f":"IF('2. Unit Testing Results'!$D64=\"\",\"\",'2. Unit Testing Results'!$D64)","v":"B4"},{"$f":"IF('2. Unit Testing Results'!$E64=\"\",\"\",'2. Unit Testing Results'!$E64)","v":1800},{"$f":"IF('2. Unit Testing Results'!$F64=\"\",\"\",'2. Unit Testing Results'!$F64)","v":6141},null,{"$f":"IF($B51=\"\",\"\",\n(('2. Unit Testing Results'!$X64)*60)\n/((VLOOKUP($C51,'2. Unit Testing Results'!$C$5:$S$13,4))*(VLOOKUP($C51,'2. Unit Testing Results'!$C$5:$S$13,6)))\n)","v":{"$error":"#VALUE!"}},{"$f":"IF($B51=\"\",\"\",\nVLOOKUP($C51,'2. Unit Testing Results'!$C$5:$BD$13,19))","v":{"$error":"#N/A"}},{"$f":"IF($B51=\"\",\"\",\nVLOOKUP($C51,'2. Unit Testing Results'!$C$5:$BD$13,20))","v":{"$error":"#N/A"}},{"$f":"IF($B51=\"\",\"\",\nVLOOKUP($C51,'2. Unit Testing Results'!$C$5:$BD$13,22))","v":{"$error":"#N/A"}},{"$f":"IF($B51=\"\",\"\",\nVLOOKUP($C51,'2. Unit Testing Results'!$C$5:$BD$13,24))","v":{"$error":"#N/A"}},{"$f":"IF($B51=\"\",\"\",\nVLOOKUP($C51,'2. Unit Testing Results'!$C$5:$BD$13,26))","v":{"$error":"#N/A"}},{"$f":"IF($B51=\"\",\"\",\nVLOOKUP($C51,'2. Unit Testing Results'!$C$5:$BD$13,28))","v":{"$error":"#N/A"}},{"$f":"IF($B51=\"\",\"\",'2. Unit Testing Results'!$Q64)","v":0},{"$f":"IF($B51=\"\",\"\",'2. Unit Testing Results'!$V64)","v":""},{"$f":"IF($B51=\"\",\"\",\nVLOOKUP($C51,'2. Unit Testing Results'!$C$5:$BD$13,30))","v":{"$error":"#N/A"}},{"$f":"IF($B51=\"\",\"\",\nVLOOKUP($C51,'2. Unit Testing Results'!$C$5:$BD$13,32))","v":{"$error":"#N/A"}},{"$f":"IF($B51=\"\",\"\",\nVLOOKUP($C51,'2. Unit Testing Results'!$C$5:$BD$13,34))","v":{"$error":"#N/A"}},{"$f":"IF($B51=\"\",\"\",\nVLOOKUP($C51,'2. Unit Testing Results'!$C$5:$BD$13,36))","v":{"$error":"#N/A"}},{"$f":"IF($B51=\"\",\"\",\nVLOOKUP($C51,'2. Unit Testing Results'!$C$5:$BD$13,38))","v":{"$error":"#N/A"}},{"$f":"IF($B51=\"\",\"\",\nVLOOKUP($C51,'2. Unit Testing Results'!$C$5:$BD$13,39))","v":{"$error":"#N/A"}},{"$f":"IF($B51=\"\",\"\",\nVLOOKUP($C51,'2. Unit Testing Results'!$C$5:$BD$13,40))","v":{"$error":"#N/A"}},{"$f":"IF($B51=\"\",\"\",\nVLOOKUP($C51,'2. Unit Testing Results'!$C$5:$BD$13,42))","v":{"$error":"#N/A"}},{"$f":"IF($B51=\"\",\"\",\nVLOOKUP($C51,'2. Unit Testing Results'!$C$5:$BD$13,44))","v":{"$error":"#N/A"}},{"$f":"IF($B51=\"\",\"\",\nVLOOKUP($C51,'2. Unit Testing Results'!$C$5:$BD$13,46))","v":{"$error":"#N/A"}},{"$f":"IF($B51=\"\",\"\",\nVLOOKUP($C51,'2. Unit Testing Results'!$C$5:$BD$13,48))","v":{"$error":"#N/A"}},{"$f":"IF($B51=\"\",\"\",\nVLOOKUP($C51,'2. Unit Testing Results'!$C$5:$BD$13,50))","v":{"$error":"#N/A"}},{"$f":"IF($B51=\"\",\"\",\nVLOOKUP($C51,'2. Unit Testing Results'!$C$5:$BD$13,51))","v":{"$error":"#N/A"}},{"$f":"IF($B51=\"\",\"\",\nVLOOKUP($C51,'2. Unit Testing Results'!$C$5:$BD$13,52))","v":{"$error":"#N/A"}},{"$f":"IF($B51=\"\",\"\",\nVLOOKUP($C51,'2. Unit Testing Results'!$C$5:$BD$13,53))","v":{"$error":"#N/A"}},{"$f":"IF($B51=\"\",\"\",\nVLOOKUP($C51,'2. Unit Testing Results'!$C$5:$BD$13,54))","v":{"$error":"#N/A"}}]
[null,{"$f":"IF('2. Unit Testing Results'!$C65=\"\",\"\",'2. Unit Testing Results'!$C65)","v":505},{"$f":"IF('2. Unit Testing Results'!$D65=\"\",\"\",'2. Unit Testing Results'!$D65)","v":"Studio"},{"$f":"IF('2. Unit Testing Results'!$E65=\"\",\"\",'2. Unit Testing Results'!$E65)","v":1800},{"$f":"IF('2. Unit Testing Results'!$F65=\"\",\"\",'2. Unit Testing Results'!$F65)","v":6141},null,{"$f":"IF($B52=\"\",\"\",\n(('2. Unit Testing Results'!$X65)*60)\n/((VLOOKUP($C52,'2. Unit Testing Results'!$C$5:$S$13,4))*(VLOOKUP($C52,'2. Unit Testing Results'!$C$5:$S$13,6)))\n)","v":{"$error":"#VALUE!"}},{"$f":"IF($B52=\"\",\"\",\nVLOOKUP($C52,'2. Unit Testing Results'!$C$5:$BD$13,19))","v":19},{"$f":"IF($B52=\"\",\"\",\nVLOOKUP($C52,'2. Unit Testing Results'!$C$5:$BD$13,20))","v":19},{"$f":"IF($B52=\"\",\"\",\nVLOOKUP($C52,'2. Unit Testing Results'!$C$5:$BD$13,22))","v":0},{"$f":"IF($B52=\"\",\"\",\nVLOOKUP($C52,'2. Unit Testing Results'!$C$5:$BD$13,24))","v":10},{"$f":"IF($B52=\"\",\"\",\nVLOOKUP($C52,'2. Unit Testing Results'!$C$5:$BD$13,26))","v":0.3},{"$f":"IF($B52=\"\",\"\",\nVLOOKUP($C52,'2. Unit Testing Results'!$C$5:$BD$13,28))","v":0.32},{"$f":"IF($B52=\"\",\"\",'2. Unit Testing Results'!$Q65)","v":0},{"$f":"IF($B52=\"\",\"\",'2. Unit Testing Results'!$V65)","v":""},{"$f":"IF($B52=\"\",\"\",\nVLOOKUP($C52,'2. Unit Testing Results'!$C$5:$BD$13,30))","v":"Furnace"},{"$f":"IF($B52=\"\",\"\",\nVLOOKUP($C52,'2. Unit Testing Results'!$C$5:$BD$13,32))","v":"NG"},{"$f":"IF($B52=\"\",\"\",\nVLOOKUP($C52,'2. Unit Testing Results'!$C$5:$BD$13,34))","v":92.5},{"$f":"IF($B52=\"\",\"\",\nVLOOKUP($C52,'2. Unit Testing Results'!$C$5:$BD$13,36))","v":"AFUE"},{"$f":"IF($B52=\"\",\"\",\nVLOOKUP($C52,'2. Unit Testing Results'!$C$5:$BD$13,38))","v":"Electricity"},{"$f":"IF($B52=\"\",\"\",\nVLOOKUP($C52,'2. Unit Testing Results'!$C$5:$BD$13,39))","v":0},{"$f":"IF($B52=\"\",\"\",\nVLOOKUP($C52,'2. Unit Testing Results'!$C$5:$BD$13,40))","v":9},{"$f":"IF($B52=\"\",\"\",\nVLOOKUP($C52,'2. Unit Testing Results'!$C$5:$BD$13,42))","v":"HSPF"},{"$f":"IF($B52=\"\",\"\",\nVLOOKUP($C52,'2. Unit Testing Results'!$C$5:$BD$13,44))","v":"Storage"},{"$f":"IF($B52=\"\",\"\",\nVLOOKUP($C52,'2. Unit Testing Results'!$C$5:$BD$13,46))","v":"Gas"},{"$f":"IF($B52=\"\",\"\",\nVLOOKUP($C52,'2. Unit Testing Results'!$C$5:$BD$13,48))","v":0.98},{"$f":"IF($B52=\"\",\"\",\nVLOOKUP($C52,'2. Unit Testing Results'!$C$5:$BD$13,50))","v":90},{"$f":"IF($B52=\"\",\"\",\nVLOOKUP($C52,'2. Unit Testing Results'!$C$5:$BD$13,51))","v":1},{"$f":"IF($B52=\"\",\"\",\nVLOOKUP($C52,'2. Unit Testing Results'!$C$5:$BD$13,52))","v":0},{"$f":"IF($B52=\"\",\"\",\nVLOOKUP($C52,'2. Unit Testing Results'!$C$5:$BD$13,53))","v":1},{"$f":"IF($B52=\"\",\"\",\nVLOOKUP($C52,'2. Unit Testing Results'!$C$5:$BD$13,54))","v":1}]
[null,{"$f":"IF('2. Unit Testing Results'!$C66=\"\",\"\",'2. Unit Testing Results'!$C66)","v":506},{"$f":"IF('2. Unit Testing Results'!$D66=\"\",\"\",'2. Unit Testing Results'!$D66)","v":"B1"},{"$f":"IF('2. Unit Testing Results'!$E66=\"\",\"\",'2. Unit Testing Results'!$E66)","v":650},{"$f":"IF('2. Unit Testing Results'!$F66=\"\",\"\",'2. Unit Testing Results'!$F66)","v":2220},null,{"$f":"IF($B53=\"\",\"\",\n(('2. Unit Testing Results'!$X66)*60)\n/((VLOOKUP($C53,'2. Unit Testing Results'!$C$5:$S$13,4))*(VLOOKUP($C53,'2. Unit Testing Results'!$C$5:$S$13,6)))\n)","v":{"$error":"#VALUE!"}},{"$f":"IF($B53=\"\",\"\",\nVLOOKUP($C53,'2. Unit Testing Results'!$C$5:$BD$13,19))","v":{"$error":"#N/A"}},{"$f":"IF($B53=\"\",\"\",\nVLOOKUP($C53,'2. Unit Testing Results'!$C$5:$BD$13,20))","v":{"$error":"#N/A"}},{"$f":"IF($B53=\"\",\"\",\nVLOOKUP($C53,'2. Unit Testing Results'!$C$5:$BD$13,22))","v":{"$error":"#N/A"}},{"$f":"IF($B53=\"\",\"\",\nVLOOKUP($C53,'2. Unit Testing Results'!$C$5:$BD$13,24))","v":{"$error":"#N/A"}},{"$f":"IF($B53=\"\",\"\",\nVLOOKUP($C53,'2. Unit Testing Results'!$C$5:$BD$13,26))","v":{"$error":"#N/A"}},{"$f":"IF($B53=\"\",\"\",\nVLOOKUP($C53,'2. Unit Testing Results'!$C$5:$BD$13,28))","v":{"$error":"#N/A"}},{"$f":"IF($B53=\"\",\"\",'2. Unit Testing Results'!$Q66)","v":0},{"$f":"IF($B53=\"\",\"\",'2. Unit Testing Results'!$V66)","v":""},{"$f":"IF($B53=\"\",\"\",\nVLOOKUP($C53,'2. Unit Testing Results'!$C$5:$BD$13,30))","v":{"$error":"#N/A"}},{"$f":"IF($B53=\"\",\"\",\nVLOOKUP($C53,'2. Unit Testing Results'!$C$5:$BD$13,32))","v":{"$error":"#N/A"}},{"$f":"IF($B53=\"\",\"\",\nVLOOKUP($C53,'2. Unit Testing Results'!$C$5:$BD$13,34))","v":{"$error":"#N/A"}},{"$f":"IF($B53=\"\",\"\",\nVLOOKUP($C53,'2. Unit Testing Results'!$C$5:$BD$13,36))","v":{"$error":"#N/A"}},{"$f":"IF($B53=\"\",\"\",\nVLOOKUP($C53,'2. Unit Testing Results'!$C$5:$BD$13,38))","v":{"$error":"#N/A"}},{"$f":"IF($B53=\"\",\"\",\nVLOOKUP($C53,'2. Unit Testing Results'!$C$5:$BD$13,39))","v":{"$error":"#N/A"}},{"$f":"IF($B53=\"\",\"\",\nVLOOKUP($C53,'2. Unit Testing Results'!$C$5:$BD$13,40))","v":{"$error":"#N/A"}},{"$f":"IF($B53=\"\",\"\",\nVLOOKUP($C53,'2. Unit Testing Results'!$C$5:$BD$13,42))","v":{"$error":"#N/A"}},{"$f":"IF($B53=\"\",\"\",\nVLOOKUP($C53,'2. Unit Testing Results'!$C$5:$BD$13,44))","v":{"$error":"#N/A"}},{"$f":"IF($B53=\"\",\"\",\nVLOOKUP($C53,'2. Unit Testing Results'!$C$5:$BD$13,46))","v":{"$error":"#N/A"}},{"$f":"IF($B53=\"\",\"\",\nVLOOKUP($C53,'2. Unit Testing Results'!$C$5:$BD$13,48))","v":{"$error":"#N/A"}},{"$f":"IF($B53=\"\",\"\",\nVLOOKUP($C53,'2. Unit Testing Results'!$C$5:$BD$13,50))","v":{"$error":"#N/A"}},{"$f":"IF($B53=\"\",\"\",\nVLOOKUP($C53,'2. Unit Testing Results'!$C$5:$BD$13,51))","v":{"$error":"#N/A"}},{"$f":"IF($B53=\"\",\"\",\nVLOOKUP($C53,'2. Unit Testing Results'!$C$5:$BD$13,52))","v":{"$error":"#N/A"}},{"$f":"IF($B53=\"\",\"\",\nVLOOKUP($C53,'2. Unit Testing Results'!$C$5:$BD$13,53))","v":{"$error":"#N/A"}},{"$f":"IF($B53=\"\",\"\",\nVLOOKUP($C53,'2. Unit Testing Results'!$C$5:$BD$13,54))","v":{"$error":"#N/A"}}]
[null,{"$f":"IF('2. Unit Testing Results'!$C67=\"\",\"\",'2. Unit Testing Results'!$C67)","v":507},{"$f":"IF('2. Unit Testing Results'!$D67=\"\",\"\",'2. Unit Testing Results'!$D67)","v":"B3"},{"$f":"IF('2. Unit Testing Results'!$E67=\"\",\"\",'2. Unit Testing Results'!$E67)","v":815},{"$f":"IF('2. Unit Testing Results'!$F67=\"\",\"\",'2. Unit Testing Results'!$F67)","v":3742},null,{"$f":"IF($B54=\"\",\"\",\n(('2. Unit Testing Results'!$X67)*60)\n/((VLOOKUP($C54,'2. Unit Testing Results'!$C$5:$S$13,4))*(VLOOKUP($C54,'2. Unit Testing Results'!$C$5:$S$13,6)))\n)","v":{"$error":"#VALUE!"}},{"$f":"IF($B54=\"\",\"\",\nVLOOKUP($C54,'2. Unit Testing Results'!$C$5:$BD$13,19))","v":{"$error":"#N/A"}},{"$f":"IF($B54=\"\",\"\",\nVLOOKUP($C54,'2. Unit Testing Results'!$C$5:$BD$13,20))","v":{"$error":"#N/A"}},{"$f":"IF($B54=\"\",\"\",\nVLOOKUP($C54,'2. Unit Testing Results'!$C$5:$BD$13,22))","v":{"$error":"#N/A"}},{"$f":"IF($B54=\"\",\"\",\nVLOOKUP($C54,'2. Unit Testing Results'!$C$5:$BD$13,24))","v":{"$error":"#N/A"}},{"$f":"IF($B54=\"\",\"\",\nVLOOKUP($C54,'2. Unit Testing Results'!$C$5:$BD$13,26))","v":{"$error":"#N/A"}},{"$f":"IF($B54=\"\",\"\",\nVLOOKUP($C54,'2. Unit Testing Results'!$C$5:$BD$13,28))","v":{"$error":"#N/A"}},{"$f":"IF($B54=\"\",\"\",'2. Unit Testing Results'!$Q67)","v":0},{"$f":"IF($B54=\"\",\"\",'2. Unit Testing Results'!$V67)","v":""},{"$f":"IF($B54=\"\",\"\",\nVLOOKUP($C54,'2. Unit Testing Results'!$C$5:$BD$13,30))","v":{"$error":"#N/A"}},{"$f":"IF($B54=\"\",\"\",\nVLOOKUP($C54,'2. Unit Testing Results'!$C$5:$BD$13,32))","v":{"$error":"#N/A"}},{"$f":"IF($B54=\"\",\"\",\nVLOOKUP($C54,'2. Unit Testing Results'!$C$5:$BD$13,34))","v":{"$error":"#N/A"}},{"$f":"IF($B54=\"\",\"\",\nVLOOKUP($C54,'2. Unit Testing Results'!$C$5:$BD$13,36))","v":{"$error":"#N/A"}},{"$f":"IF($B54=\"\",\"\",\nVLOOKUP($C54,'2. Unit Testing Results'!$C$5:$BD$13,38))","v":{"$error":"#N/A"}},{"$f":"IF($B54=\"\",\"\",\nVLOOKUP($C54,'2. Unit Testing Results'!$C$5:$BD$13,39))","v":{"$error":"#N/A"}},{"$f":"IF($B54=\"\",\"\",\nVLOOKUP($C54,'2. Unit Testing Results'!$C$5:$BD$13,40))","v":{"$error":"#N/A"}},{"$f":"IF($B54=\"\",\"\",\nVLOOKUP($C54,'2. Unit Testing Results'!$C$5:$BD$13,42))","v":{"$error":"#N/A"}},{"$f":"IF($B54=\"\",\"\",\nVLOOKUP($C54,'2. Unit Testing Results'!$C$5:$BD$13,44))","v":{"$error":"#N/A"}},{"$f":"IF($B54=\"\",\"\",\nVLOOKUP($C54,'2. Unit Testing Results'!$C$5:$BD$13,46))","v":{"$error":"#N/A"}},{"$f":"IF($B54=\"\",\"\",\nVLOOKUP($C54,'2. Unit Testing Results'!$C$5:$BD$13,48))","v":{"$error":"#N/A"}},{"$f":"IF($B54=\"\",\"\",\nVLOOKUP($C54,'2. Unit Testing Results'!$C$5:$BD$13,50))","v":{"$error":"#N/A"}},{"$f":"IF($B54=\"\",\"\",\nVLOOKUP($C54,'2. Unit Testing Results'!$C$5:$BD$13,51))","v":{"$error":"#N/A"}},{"$f":"IF($B54=\"\",\"\",\nVLOOKUP($C54,'2. Unit Testing Results'!$C$5:$BD$13,52))","v":{"$error":"#N/A"}},{"$f":"IF($B54=\"\",\"\",\nVLOOKUP($C54,'2. Unit Testing Results'!$C$5:$BD$13,53))","v":{"$error":"#N/A"}},{"$f":"IF($B54=\"\",\"\",\nVLOOKUP($C54,'2. Unit Testing Results'!$C$5:$BD$13,54))","v":{"$error":"#N/A"}}]
[null,{"$f":"IF('2. Unit Testing Results'!$C68=\"\",\"\",'2. Unit Testing Results'!$C68)","v":508},{"$f":"IF('2. Unit Testing Results'!$D68=\"\",\"\",'2. Unit Testing Results'!$D68)","v":"B2"},{"$f":"IF('2. Unit Testing Results'!$E68=\"\",\"\",'2. Unit Testing Results'!$E68)","v":800},{"$f":"IF('2. Unit Testing Results'!$F68=\"\",\"\",'2. Unit Testing Results'!$F68)","v":3040},null,{"$f":"IF($B55=\"\",\"\",\n(('2. Unit Testing Results'!$X68)*60)\n/((VLOOKUP($C55,'2. Unit Testing Results'!$C$5:$S$13,4))*(VLOOKUP($C55,'2. Unit Testing Results'!$C$5:$S$13,6)))\n)","v":{"$error":"#VALUE!"}},{"$f":"IF($B55=\"\",\"\",\nVLOOKUP($C55,'2. Unit Testing Results'!$C$5:$BD$13,19))","v":{"$error":"#N/A"}},{"$f":"IF($B55=\"\",\"\",\nVLOOKUP($C55,'2. Unit Testing Results'!$C$5:$BD$13,20))","v":{"$error":"#N/A"}},{"$f":"IF($B55=\"\",\"\",\nVLOOKUP($C55,'2. Unit Testing Results'!$C$5:$BD$13,22))","v":{"$error":"#N/A"}},{"$f":"IF($B55=\"\",\"\",\nVLOOKUP($C55,'2. Unit Testing Results'!$C$5:$BD$13,24))","v":{"$error":"#N/A"}},{"$f":"IF($B55=\"\",\"\",\nVLOOKUP($C55,'2. Unit Testing Results'!$C$5:$BD$13,26))","v":{"$error":"#N/A"}},{"$f":"IF($B55=\"\",\"\",\nVLOOKUP($C55,'2. Unit Testing Results'!$C$5:$BD$13,28))","v":{"$error":"#N/A"}},{"$f":"IF($B55=\"\",\"\",'2. Unit Testing Results'!$Q68)","v":0},{"$f":"IF($B55=\"\",\"\",'2. Unit Testing Results'!$V68)","v":""},{"$f":"IF($B55=\"\",\"\",\nVLOOKUP($C55,'2. Unit Testing Results'!$C$5:$BD$13,30))","v":{"$error":"#N/A"}},{"$f":"IF($B55=\"\",\"\",\nVLOOKUP($C55,'2. Unit Testing Results'!$C$5:$BD$13,32))","v":{"$error":"#N/A"}},{"$f":"IF($B55=\"\",\"\",\nVLOOKUP($C55,'2. Unit Testing Results'!$C$5:$BD$13,34))","v":{"$error":"#N/A"}},{"$f":"IF($B55=\"\",\"\",\nVLOOKUP($C55,'2. Unit Testing Results'!$C$5:$BD$13,36))","v":{"$error":"#N/A"}},{"$f":"IF($B55=\"\",\"\",\nVLOOKUP($C55,'2. Unit Testing Results'!$C$5:$BD$13,38))","v":{"$error":"#N/A"}},{"$f":"IF($B55=\"\",\"\",\nVLOOKUP($C55,'2. Unit Testing Results'!$C$5:$BD$13,39))","v":{"$error":"#N/A"}},{"$f":"IF($B55=\"\",\"\",\nVLOOKUP($C55,'2. Unit Testing Results'!$C$5:$BD$13,40))","v":{"$error":"#N/A"}},{"$f":"IF($B55=\"\",\"\",\nVLOOKUP($C55,'2. Unit Testing Results'!$C$5:$BD$13,42))","v":{"$error":"#N/A"}},{"$f":"IF($B55=\"\",\"\",\nVLOOKUP($C55,'2. Unit Testing Results'!$C$5:$BD$13,44))","v":{"$error":"#N/A"}},{"$f":"IF($B55=\"\",\"\",\nVLOOKUP($C55,'2. Unit Testing Results'!$C$5:$BD$13,46))","v":{"$error":"#N/A"}},{"$f":"IF($B55=\"\",\"\",\nVLOOKUP($C55,'2. Unit Testing Results'!$C$5:$BD$13,48))","v":{"$error":"#N/A"}},{"$f":"IF($B55=\"\",\"\",\nVLOOKUP($C55,'2. Unit Testing Results'!$C$5:$BD$13,50))","v":{"$error":"#N/A"}},{"$f":"IF($B55=\"\",\"\",\nVLOOKUP($C55,'2. Unit Testing Results'!$C$5:$BD$13,51))","v":{"$error":"#N/A"}},{"$f":"IF($B55=\"\",\"\",\nVLOOKUP($C55,'2. Unit Testing Results'!$C$5:$BD$13,52))","v":{"$error":"#N/A"}},{"$f":"IF($B55=\"\",\"\",\nVLOOKUP($C55,'2. Unit Testing Results'!$C$5:$BD$13,53))","v":{"$error":"#N/A"}},{"$f":"IF($B55=\"\",\"\",\nVLOOKUP($C55,'2. Unit Testing Results'!$C$5:$BD$13,54))","v":{"$error":"#N/A"}}]
[null,{"$f":"IF('2. Unit Testing Results'!$C69=\"\",\"\",'2. Unit Testing Results'!$C69)","v":509},{"$f":"IF('2. Unit Testing Results'!$D69=\"\",\"\",'2. Unit Testing Results'!$D69)","v":"A2"},{"$f":"IF('2. Unit Testing Results'!$E69=\"\",\"\",'2. Unit Testing Results'!$E69)","v":678},{"$f":"IF('2. Unit Testing Results'!$F69=\"\",\"\",'2. Unit Testing Results'!$F69)","v":2196},null,{"$f":"IF($B56=\"\",\"\",\n(('2. Unit Testing Results'!$X69)*60)\n/((VLOOKUP($C56,'2. Unit Testing Results'!$C$5:$S$13,4))*(VLOOKUP($C56,'2. Unit Testing Results'!$C$5:$S$13,6)))\n)","v":{"$error":"#VALUE!"}},{"$f":"IF($B56=\"\",\"\",\nVLOOKUP($C56,'2. Unit Testing Results'!$C$5:$BD$13,19))","v":{"$error":"#N/A"}},{"$f":"IF($B56=\"\",\"\",\nVLOOKUP($C56,'2. Unit Testing Results'!$C$5:$BD$13,20))","v":{"$error":"#N/A"}},{"$f":"IF($B56=\"\",\"\",\nVLOOKUP($C56,'2. Unit Testing Results'!$C$5:$BD$13,22))","v":{"$error":"#N/A"}},{"$f":"IF($B56=\"\",\"\",\nVLOOKUP($C56,'2. Unit Testing Results'!$C$5:$BD$13,24))","v":{"$error":"#N/A"}},{"$f":"IF($B56=\"\",\"\",\nVLOOKUP($C56,'2. Unit Testing Results'!$C$5:$BD$13,26))","v":{"$error":"#N/A"}},{"$f":"IF($B56=\"\",\"\",\nVLOOKUP($C56,'2. Unit Testing Results'!$C$5:$BD$13,28))","v":{"$error":"#N/A"}},{"$f":"IF($B56=\"\",\"\",'2. Unit Testing Results'!$Q69)","v":"No"},{"$f":"IF($B56=\"\",\"\",'2. Unit Testing Results'!$V69)","v":"PASS"},{"$f":"IF($B56=\"\",\"\",\nVLOOKUP($C56,'2. Unit Testing Results'!$C$5:$BD$13,30))","v":{"$error":"#N/A"}},{"$f":"IF($B56=\"\",\"\",\nVLOOKUP($C56,'2. Unit Testing Results'!$C$5:$BD$13,32))","v":{"$error":"#N/A"}},{"$f":"IF($B56=\"\",\"\",\nVLOOKUP($C56,'2. Unit Testing Results'!$C$5:$BD$13,34))","v":{"$error":"#N/A"}},{"$f":"IF($B56=\"\",\"\",\nVLOOKUP($C56,'2. Unit Testing Results'!$C$5:$BD$13,36))","v":{"$error":"#N/A"}},{"$f":"IF($B56=\"\",\"\",\nVLOOKUP($C56,'2. Unit Testing Results'!$C$5:$BD$13,38))","v":{"$error":"#N/A"}},{"$f":"IF($B56=\"\",\"\",\nVLOOKUP($C56,'2. Unit Testing Results'!$C$5:$BD$13,39))","v":{"$error":"#N/A"}},{"$f":"IF($B56=\"\",\"\",\nVLOOKUP($C56,'2. Unit Testing Results'!$C$5:$BD$13,40))","v":{"$error":"#N/A"}},{"$f":"IF($B56=\"\",\"\",\nVLOOKUP($C56,'2. Unit Testing Results'!$C$5:$BD$13,42))","v":{"$error":"#N/A"}},{"$f":"IF($B56=\"\",\"\",\nVLOOKUP($C56,'2. Unit Testing Results'!$C$5:$BD$13,44))","v":{"$error":"#N/A"}},{"$f":"IF($B56=\"\",\"\",\nVLOOKUP($C56,'2. Unit Testing Results'!$C$5:$BD$13,46))","v":{"$error":"#N/A"}},{"$f":"IF($B56=\"\",\"\",\nVLOOKUP($C56,'2. Unit Testing Results'!$C$5:$BD$13,48))","v":{"$error":"#N/A"}},{"$f":"IF($B56=\"\",\"\",\nVLOOKUP($C56,'2. Unit Testing Results'!$C$5:$BD$13,50))","v":{"$error":"#N/A"}},{"$f":"IF($B56=\"\",\"\",\nVLOOKUP($C56,'2. Unit Testing Results'!$C$5:$BD$13,51))","v":{"$error":"#N/A"}},{"$f":"IF($B56=\"\",\"\",\nVLOOKUP($C56,'2. Unit Testing Results'!$C$5:$BD$13,52))","v":{"$error":"#N/A"}},{"$f":"IF($B56=\"\",\"\",\nVLOOKUP($C56,'2. Unit Testing Results'!$C$5:$BD$13,53))","v":{"$error":"#N/A"}},{"$f":"IF($B56=\"\",\"\",\nVLOOKUP($C56,'2. Unit Testing Results'!$C$5:$BD$13,54))","v":{"$error":"#N/A"}}]
[null,{"$f":"IF('2. Unit Testing Results'!$C70=\"\",\"\",'2. Unit Testing Results'!$C70)","v":510},{"$f":"IF('2. Unit Testing Results'!$D70=\"\",\"\",'2. Unit Testing Results'!$D70)","v":"A2"},{"$f":"IF('2. Unit Testing Results'!$E70=\"\",\"\",'2. Unit Testing Results'!$E70)","v":678},{"$f":"IF('2. Unit Testing Results'!$F70=\"\",\"\",'2. Unit Testing Results'!$F70)","v":2196},null,{"$f":"IF($B57=\"\",\"\",\n(('2. Unit Testing Results'!$X70)*60)\n/((VLOOKUP($C57,'2. Unit Testing Results'!$C$5:$S$13,4))*(VLOOKUP($C57,'2. Unit Testing Results'!$C$5:$S$13,6)))\n)","v":{"$error":"#VALUE!"}},{"$f":"IF($B57=\"\",\"\",\nVLOOKUP($C57,'2. Unit Testing Results'!$C$5:$BD$13,19))","v":{"$error":"#N/A"}},{"$f":"IF($B57=\"\",\"\",\nVLOOKUP($C57,'2. Unit Testing Results'!$C$5:$BD$13,20))","v":{"$error":"#N/A"}},{"$f":"IF($B57=\"\",\"\",\nVLOOKUP($C57,'2. Unit Testing Results'!$C$5:$BD$13,22))","v":{"$error":"#N/A"}},{"$f":"IF($B57=\"\",\"\",\nVLOOKUP($C57,'2. Unit Testing Results'!$C$5:$BD$13,24))","v":{"$error":"#N/A"}},{"$f":"IF($B57=\"\",\"\",\nVLOOKUP($C57,'2. Unit Testing Results'!$C$5:$BD$13,26))","v":{"$error":"#N/A"}},{"$f":"IF($B57=\"\",\"\",\nVLOOKUP($C57,'2. Unit Testing Results'!$C$5:$BD$13,28))","v":{"$error":"#N/A"}},{"$f":"IF($B57=\"\",\"\",'2. Unit Testing Results'!$Q70)","v":0},{"$f":"IF($B57=\"\",\"\",'2. Unit Testing Results'!$V70)","v":""},{"$f":"IF($B57=\"\",\"\",\nVLOOKUP($C57,'2. Unit Testing Results'!$C$5:$BD$13,30))","v":{"$error":"#N/A"}},{"$f":"IF($B57=\"\",\"\",\nVLOOKUP($C57,'2. Unit Testing Results'!$C$5:$BD$13,32))","v":{"$error":"#N/A"}},{"$f":"IF($B57=\"\",\"\",\nVLOOKUP($C57,'2. Unit Testing Results'!$C$5:$BD$13,34))","v":{"$error":"#N/A"}},{"$f":"IF($B57=\"\",\"\",\nVLOOKUP($C57,'2. Unit Testing Results'!$C$5:$BD$13,36))","v":{"$error":"#N/A"}},{"$f":"IF($B57=\"\",\"\",\nVLOOKUP($C57,'2. Unit Testing Results'!$C$5:$BD$13,38))","v":{"$error":"#N/A"}},{"$f":"IF($B57=\"\",\"\",\nVLOOKUP($C57,'2. Unit Testing Results'!$C$5:$BD$13,39))","v":{"$error":"#N/A"}},{"$f":"IF($B57=\"\",\"\",\nVLOOKUP($C57,'2. Unit Testing Results'!$C$5:$BD$13,40))","v":{"$error":"#N/A"}},{"$f":"IF($B57=\"\",\"\",\nVLOOKUP($C57,'2. Unit Testing Results'!$C$5:$BD$13,42))","v":{"$error":"#N/A"}},{"$f":"IF($B57=\"\",\"\",\nVLOOKUP($C57,'2. Unit Testing Results'!$C$5:$BD$13,44))","v":{"$error":"#N/A"}},{"$f":"IF($B57=\"\",\"\",\nVLOOKUP($C57,'2. Unit Testing Results'!$C$5:$BD$13,46))","v":{"$error":"#N/A"}},{"$f":"IF($B57=\"\",\"\",\nVLOOKUP($C57,'2. Unit Testing Results'!$C$5:$BD$13,48))","v":{"$error":"#N/A"}},{"$f":"IF($B57=\"\",\"\",\nVLOOKUP($C57,'2. Unit Testing Results'!$C$5:$BD$13,50))","v":{"$error":"#N/A"}},{"$f":"IF($B57=\"\",\"\",\nVLOOKUP($C57,'2. Unit Testing Results'!$C$5:$BD$13,51))","v":{"$error":"#N/A"}},{"$f":"IF($B57=\"\",\"\",\nVLOOKUP($C57,'2. Unit Testing Results'!$C$5:$BD$13,52))","v":{"$error":"#N/A"}},{"$f":"IF($B57=\"\",\"\",\nVLOOKUP($C57,'2. Unit Testing Results'!$C$5:$BD$13,53))","v":{"$error":"#N/A"}},{"$f":"IF($B57=\"\",\"\",\nVLOOKUP($C57,'2. Unit Testing Results'!$C$5:$BD$13,54))","v":{"$error":"#N/A"}}]
[null,{"$f":"IF('2. Unit Testing Results'!$C71=\"\",\"\",'2. Unit Testing Results'!$C71)","v":""},{"$f":"IF('2. Unit Testing Results'!$D71=\"\",\"\",'2. Unit Testing Results'!$D71)","v":""},{"$f":"IF('2. Unit Testing Results'!$E71=\"\",\"\",'2. Unit Testing Results'!$E71)","v":""},{"$f":"IF('2. Unit Testing Results'!$F71=\"\",\"\",'2. Unit Testing Results'!$F71)","v":""},null,{"$f":"IF($B58=\"\",\"\",\n(('2. Unit Testing Results'!$X71)*60)\n/((VLOOKUP($C58,'2. Unit Testing Results'!$C$5:$S$13,4))*(VLOOKUP($C58,'2. Unit Testing Results'!$C$5:$S$13,6)))\n)","v":""},{"$f":"IF($B58=\"\",\"\",\nVLOOKUP($C58,'2. Unit Testing Results'!$C$5:$BD$13,19))","v":""},{"$f":"IF($B58=\"\",\"\",\nVLOOKUP($C58,'2. Unit Testing Results'!$C$5:$BD$13,20))","v":""},{"$f":"IF($B58=\"\",\"\",\nVLOOKUP($C58,'2. Unit Testing Results'!$C$5:$BD$13,22))","v":""},{"$f":"IF($B58=\"\",\"\",\nVLOOKUP($C58,'2. Unit Testing Results'!$C$5:$BD$13,24))","v":""},{"$f":"IF($B58=\"\",\"\",\nVLOOKUP($C58,'2. Unit Testing Results'!$C$5:$BD$13,26))","v":""},{"$f":"IF($B58=\"\",\"\",\nVLOOKUP($C58,'2. Unit Testing Results'!$C$5:$BD$13,28))","v":""},{"$f":"IF($B58=\"\",\"\",'2. Unit Testing Results'!$Q71)","v":""},{"$f":"IF($B58=\"\",\"\",'2. Unit Testing Results'!$V71)","v":""},{"$f":"IF($B58=\"\",\"\",\nVLOOKUP($C58,'2. Unit Testing Results'!$C$5:$BD$13,30))","v":""},{"$f":"IF($B58=\"\",\"\",\nVLOOKUP($C58,'2. Unit Testing Results'!$C$5:$BD$13,32))","v":""},{"$f":"IF($B58=\"\",\"\",\nVLOOKUP($C58,'2. Unit Testing Results'!$C$5:$BD$13,34))","v":""},{"$f":"IF($B58=\"\",\"\",\nVLOOKUP($C58,'2. Unit Testing Results'!$C$5:$BD$13,36))","v":""},{"$f":"IF($B58=\"\",\"\",\nVLOOKUP($C58,'2. Unit Testing Results'!$C$5:$BD$13,38))","v":""},{"$f":"IF($B58=\"\",\"\",\nVLOOKUP($C58,'2. Unit Testing Results'!$C$5:$BD$13,39))","v":""},{"$f":"IF($B58=\"\",\"\",\nVLOOKUP($C58,'2. Unit Testing Results'!$C$5:$BD$13,40))","v":""},{"$f":"IF($B58=\"\",\"\",\nVLOOKUP($C58,'2. Unit Testing Results'!$C$5:$BD$13,42))","v":""},{"$f":"IF($B58=\"\",\"\",\nVLOOKUP($C58,'2. Unit Testing Results'!$C$5:$BD$13,44))","v":""},{"$f":"IF($B58=\"\",\"\",\nVLOOKUP($C58,'2. Unit Testing Results'!$C$5:$BD$13,46))","v":""},{"$f":"IF($B58=\"\",\"\",\nVLOOKUP($C58,'2. Unit Testing Results'!$C$5:$BD$13,48))","v":""},{"$f":"IF($B58=\"\",\"\",\nVLOOKUP($C58,'2. Unit Testing Results'!$C$5:$BD$13,50))","v":""},{"$f":"IF($B58=\"\",\"\",\nVLOOKUP($C58,'2. Unit Testing Results'!$C$5:$BD$13,51))","v":""},{"$f":"IF($B58=\"\",\"\",\nVLOOKUP($C58,'2. Unit Testing Results'!$C$5:$BD$13,52))","v":""},{"$f":"IF($B58=\"\",\"\",\nVLOOKUP($C58,'2. Unit Testing Results'!$C$5:$BD$13,53))","v":""},{"$f":"IF($B58=\"\",\"\",\nVLOOKUP($C58,'2. Unit Testing Results'!$C$5:$BD$13,54))","v":""}]
[null,{"$f":"IF('2. Unit Testing Results'!$C72=\"\",\"\",'2. Unit Testing Results'!$C72)","v":""},{"$f":"IF('2. Unit Testing Results'!$D72=\"\",\"\",'2. Unit Testing Results'!$D72)","v":""},{"$f":"IF('2. Unit Testing Results'!$E72=\"\",\"\",'2. Unit Testing Results'!$E72)","v":""},{"$f":"IF('2. Unit Testing Results'!$F72=\"\",\"\",'2. Unit Testing Results'!$F72)","v":""},null,{"$f":"IF($B59=\"\",\"\",\n(('2. Unit Testing Results'!$X72)*60)\n/((VLOOKUP($C59,'2. Unit Testing Results'!$C$5:$S$13,4))*(VLOOKUP($C59,'2. Unit Testing Results'!$C$5:$S$13,6)))\n)","v":""},{"$f":"IF($B59=\"\",\"\",\nVLOOKUP($C59,'2. Unit Testing Results'!$C$5:$BD$13,19))","v":""},{"$f":"IF($B59=\"\",\"\",\nVLOOKUP($C59,'2. Unit Testing Results'!$C$5:$BD$13,20))","v":""},{"$f":"IF($B59=\"\",\"\",\nVLOOKUP($C59,'2. Unit Testing Results'!$C$5:$BD$13,22))","v":""},{"$f":"IF($B59=\"\",\"\",\nVLOOKUP($C59,'2. Unit Testing Results'!$C$5:$BD$13,24))","v":""},{"$f":"IF($B59=\"\",\"\",\nVLOOKUP($C59,'2. Unit Testing Results'!$C$5:$BD$13,26))","v":""},{"$f":"IF($B59=\"\",\"\",\nVLOOKUP($C59,'2. Unit Testing Results'!$C$5:$BD$13,28))","v":""},{"$f":"IF($B59=\"\",\"\",'2. Unit Testing Results'!$Q72)","v":""},{"$f":"IF($B59=\"\",\"\",'2. Unit Testing Results'!$V72)","v":""},{"$f":"IF($B59=\"\",\"\",\nVLOOKUP($C59,'2. Unit Testing Results'!$C$5:$BD$13,30))","v":""},{"$f":"IF($B59=\"\",\"\",\nVLOOKUP($C59,'2. Unit Testing Results'!$C$5:$BD$13,32))","v":""},{"$f":"IF($B59=\"\",\"\",\nVLOOKUP($C59,'2. Unit Testing Results'!$C$5:$BD$13,34))","v":""},{"$f":"IF($B59=\"\",\"\",\nVLOOKUP($C59,'2. Unit Testing Results'!$C$5:$BD$13,36))","v":""},{"$f":"IF($B59=\"\",\"\",\nVLOOKUP($C59,'2. Unit Testing Results'!$C$5:$BD$13,38))","v":""},{"$f":"IF($B59=\"\",\"\",\nVLOOKUP($C59,'2. Unit Testing Results'!$C$5:$BD$13,39))","v":""},{"$f":"IF($B59=\"\",\"\",\nVLOOKUP($C59,'2. Unit Testing Results'!$C$5:$BD$13,40))","v":""},{"$f":"IF($B59=\"\",\"\",\nVLOOKUP($C59,'2. Unit Testing Results'!$C$5:$BD$13,42))","v":""},{"$f":"IF($B59=\"\",\"\",\nVLOOKUP($C59,'2. Unit Testing Results'!$C$5:$BD$13,44))","v":""},{"$f":"IF($B59=\"\",\"\",\nVLOOKUP($C59,'2. Unit Testing Results'!$C$5:$BD$13,46))","v":""},{"$f":"IF($B59=\"\",\"\",\nVLOOKUP($C59,'2. Unit Testing Results'!$C$5:$BD$13,48))","v":""},{"$f":"IF($B59=\"\",\"\",\nVLOOKUP($C59,'2. Unit Testing Results'!$C$5:$BD$13,50))","v":""},{"$f":"IF($B59=\"\",\"\",\nVLOOKUP($C59,'2. Unit Testing Results'!$C$5:$BD$13,51))","v":""},{"$f":"IF($B59=\"\",\"\",\nVLOOKUP($C59,'2. Unit Testing Results'!$C$5:$BD$13,52))","v":""},{"$f":"IF($B59=\"\",\"\",\nVLOOKUP($C59,'2. Unit Testing Results'!$C$5:$BD$13,53))","v":""},{"$f":"IF($B59=\"\",\"\",\nVLOOKUP($C59,'2. Unit Testing Results'!$C$5:$BD$13,54))","v":""}]
[null,{"$f":"IF('2. Unit Testing Results'!$C73=\"\",\"\",'2. Unit Testing Results'!$C73)","v":""},{"$f":"IF('2. Unit Testing Results'!$D73=\"\",\"\",'2. Unit Testing Results'!$D73)","v":""},{"$f":"IF('2. Unit Testing Results'!$E73=\"\",\"\",'2. Unit Testing Results'!$E73)","v":""},{"$f":"IF('2. Unit Testing Results'!$F73=\"\",\"\",'2. Unit Testing Results'!$F73)","v":""},null,{"$f":"IF($B60=\"\",\"\",\n(('2. Unit Testing Results'!$X73)*60)\n/((VLOOKUP($C60,'2. Unit Testing Results'!$C$5:$S$13,4))*(VLOOKUP($C60,'2. Unit Testing Results'!$C$5:$S$13,6)))\n)","v":""},{"$f":"IF($B60=\"\",\"\",\nVLOOKUP($C60,'2. Unit Testing Results'!$C$5:$BD$13,19))","v":""},{"$f":"IF($B60=\"\",\"\",\nVLOOKUP($C60,'2. Unit Testing Results'!$C$5:$BD$13,20))","v":""},{"$f":"IF($B60=\"\",\"\",\nVLOOKUP($C60,'2. Unit Testing Results'!$C$5:$BD$13,22))","v":""},{"$f":"IF($B60=\"\",\"\",\nVLOOKUP($C60,'2. Unit Testing Results'!$C$5:$BD$13,24))","v":""},{"$f":"IF($B60=\"\",\"\",\nVLOOKUP($C60,'2. Unit Testing Results'!$C$5:$BD$13,26))","v":""},{"$f":"IF($B60=\"\",\"\",\nVLOOKUP($C60,'2. Unit Testing Results'!$C$5:$BD$13,28))","v":""},{"$f":"IF($B60=\"\",\"\",'2. Unit Testing Results'!$Q73)","v":""},{"$f":"IF($B60=\"\",\"\",'2. Unit Testing Results'!$V73)","v":""},{"$f":"IF($B60=\"\",\"\",\nVLOOKUP($C60,'2. Unit Testing Results'!$C$5:$BD$13,30))","v":""},{"$f":"IF($B60=\"\",\"\",\nVLOOKUP($C60,'2. Unit Testing Results'!$C$5:$BD$13,32))","v":""},{"$f":"IF($B60=\"\",\"\",\nVLOOKUP($C60,'2. Unit Testing Results'!$C$5:$BD$13,34))","v":""},{"$f":"IF($B60=\"\",\"\",\nVLOOKUP($C60,'2. Unit Testing Results'!$C$5:$BD$13,36))","v":""},{"$f":"IF($B60=\"\",\"\",\nVLOOKUP($C60,'2. Unit Testing Results'!$C$5:$BD$13,38))","v":""},{"$f":"IF($B60=\"\",\"\",\nVLOOKUP($C60,'2. Unit Testing Results'!$C$5:$BD$13,39))","v":""},{"$f":"IF($B60=\"\",\"\",\nVLOOKUP($C60,'2. Unit Testing Results'!$C$5:$BD$13,40))","v":""},{"$f":"IF($B60=\"\",\"\",\nVLOOKUP($C60,'2. Unit Testing Results'!$C$5:$BD$13,42))","v":""},{"$f":"IF($B60=\"\",\"\",\nVLOOKUP($C60,'2. Unit Testing Results'!$C$5:$BD$13,44))","v":""},{"$f":"IF($B60=\"\",\"\",\nVLOOKUP($C60,'2. Unit Testing Results'!$C$5:$BD$13,46))","v":""},{"$f":"IF($B60=\"\",\"\",\nVLOOKUP($C60,'2. Unit Testing Results'!$C$5:$BD$13,48))","v":""},{"$f":"IF($B60=\"\",\"\",\nVLOOKUP($C60,'2. Unit Testing Results'!$C$5:$BD$13,50))","v":""},{"$f":"IF($B60=\"\",\"\",\nVLOOKUP($C60,'2. Unit Testing Results'!$C$5:$BD$13,51))","v":""},{"$f":"IF($B60=\"\",\"\",\nVLOOKUP($C60,'2. Unit Testing Results'!$C$5:$BD$13,52))","v":""},{"$f":"IF($B60=\"\",\"\",\nVLOOKUP($C60,'2. Unit Testing Results'!$C$5:$BD$13,53))","v":""},{"$f":"IF($B60=\"\",\"\",\nVLOOKUP($C60,'2. Unit Testing Results'!$C$5:$BD$13,54))","v":""}]
[null,{"$f":"IF('2. Unit Testing Results'!$C74=\"\",\"\",'2. Unit Testing Results'!$C74)","v":""},{"$f":"IF('2. Unit Testing Results'!$D74=\"\",\"\",'2. Unit Testing Results'!$D74)","v":""},{"$f":"IF('2. Unit Testing Results'!$E74=\"\",\"\",'2. Unit Testing Results'!$E74)","v":""},{"$f":"IF('2. Unit Testing Results'!$F74=\"\",\"\",'2. Unit Testing Results'!$F74)","v":""},null,{"$f":"IF($B61=\"\",\"\",\n(('2. Unit Testing Results'!$X74)*60)\n/((VLOOKUP($C61,'2. Unit Testing Results'!$C$5:$S$13,4))*(VLOOKUP($C61,'2. Unit Testing Results'!$C$5:$S$13,6)))\n)","v":""},{"$f":"IF($B61=\"\",\"\",\nVLOOKUP($C61,'2. Unit Testing Results'!$C$5:$BD$13,19))","v":""},{"$f":"IF($B61=\"\",\"\",\nVLOOKUP($C61,'2. Unit Testing Results'!$C$5:$BD$13,20))","v":""},{"$f":"IF($B61=\"\",\"\",\nVLOOKUP($C61,'2. Unit Testing Results'!$C$5:$BD$13,22))","v":""},{"$f":"IF($B61=\"\",\"\",\nVLOOKUP($C61,'2. Unit Testing Results'!$C$5:$BD$13,24))","v":""},{"$f":"IF($B61=\"\",\"\",\nVLOOKUP($C61,'2. Unit Testing Results'!$C$5:$BD$13,26))","v":""},{"$f":"IF($B61=\"\",\"\",\nVLOOKUP($C61,'2. Unit Testing Results'!$C$5:$BD$13,28))","v":""},{"$f":"IF($B61=\"\",\"\",'2. Unit Testing Results'!$Q74)","v":""},{"$f":"IF($B61=\"\",\"\",'2. Unit Testing Results'!$V74)","v":""},{"$f":"IF($B61=\"\",\"\",\nVLOOKUP($C61,'2. Unit Testing Results'!$C$5:$BD$13,30))","v":""},{"$f":"IF($B61=\"\",\"\",\nVLOOKUP($C61,'2. Unit Testing Results'!$C$5:$BD$13,32))","v":""},{"$f":"IF($B61=\"\",\"\",\nVLOOKUP($C61,'2. Unit Testing Results'!$C$5:$BD$13,34))","v":""},{"$f":"IF($B61=\"\",\"\",\nVLOOKUP($C61,'2. Unit Testing Results'!$C$5:$BD$13,36))","v":""},{"$f":"IF($B61=\"\",\"\",\nVLOOKUP($C61,'2. Unit Testing Results'!$C$5:$BD$13,38))","v":""},{"$f":"IF($B61=\"\",\"\",\nVLOOKUP($C61,'2. Unit Testing Results'!$C$5:$BD$13,39))","v":""},{"$f":"IF($B61=\"\",\"\",\nVLOOKUP($C61,'2. Unit Testing Results'!$C$5:$BD$13,40))","v":""},{"$f":"IF($B61=\"\",\"\",\nVLOOKUP($C61,'2. Unit Testing Results'!$C$5:$BD$13,42))","v":""},{"$f":"IF($B61=\"\",\"\",\nVLOOKUP($C61,'2. Unit Testing Results'!$C$5:$BD$13,44))","v":""},{"$f":"IF($B61=\"\",\"\",\nVLOOKUP($C61,'2. Unit Testing Results'!$C$5:$BD$13,46))","v":""},{"$f":"IF($B61=\"\",\"\",\nVLOOKUP($C61,'2. Unit Testing Results'!$C$5:$BD$13,48))","v":""},{"$f":"IF($B61=\"\",\"\",\nVLOOKUP($C61,'2. Unit Testing Results'!$C$5:$BD$13,50))","v":""},{"$f":"IF($B61=\"\",\"\",\nVLOOKUP($C61,'2. Unit Testing Results'!$C$5:$BD$13,51))","v":""},{"$f":"IF($B61=\"\",\"\",\nVLOOKUP($C61,'2. Unit Testing Results'!$C$5:$BD$13,52))","v":""},{"$f":"IF($B61=\"\",\"\",\nVLOOKUP($C61,'2. Unit Testing Results'!$C$5:$BD$13,53))","v":""},{"$f":"IF($B61=\"\",\"\",\nVLOOKUP($C61,'2. Unit Testing Results'!$C$5:$BD$13,54))","v":""}]
[null,{"$f":"IF('2. Unit Testing Results'!$C75=\"\",\"\",'2. Unit Testing Results'!$C75)","v":""},{"$f":"IF('2. Unit Testing Results'!$D75=\"\",\"\",'2. Unit Testing Results'!$D75)","v":""},{"$f":"IF('2. Unit Testing Results'!$E75=\"\",\"\",'2. Unit Testing Results'!$E75)","v":""},{"$f":"IF('2. Unit Testing Results'!$F75=\"\",\"\",'2. Unit Testing Results'!$F75)","v":""},null,{"$f":"IF($B62=\"\",\"\",\n(('2. Unit Testing Results'!$X75)*60)\n/((VLOOKUP($C62,'2. Unit Testing Results'!$C$5:$S$13,4))*(VLOOKUP($C62,'2. Unit Testing Results'!$C$5:$S$13,6)))\n)","v":""},{"$f":"IF($B62=\"\",\"\",\nVLOOKUP($C62,'2. Unit Testing Results'!$C$5:$BD$13,19))","v":""},{"$f":"IF($B62=\"\",\"\",\nVLOOKUP($C62,'2. Unit Testing Results'!$C$5:$BD$13,20))","v":""},{"$f":"IF($B62=\"\",\"\",\nVLOOKUP($C62,'2. Unit Testing Results'!$C$5:$BD$13,22))","v":""},{"$f":"IF($B62=\"\",\"\",\nVLOOKUP($C62,'2. Unit Testing Results'!$C$5:$BD$13,24))","v":""},{"$f":"IF($B62=\"\",\"\",\nVLOOKUP($C62,'2. Unit Testing Results'!$C$5:$BD$13,26))","v":""},{"$f":"IF($B62=\"\",\"\",\nVLOOKUP($C62,'2. Unit Testing Results'!$C$5:$BD$13,28))","v":""},{"$f":"IF($B62=\"\",\"\",'2. Unit Testing Results'!$Q75)","v":""},{"$f":"IF($B62=\"\",\"\",'2. Unit Testing Results'!$V75)","v":""},{"$f":"IF($B62=\"\",\"\",\nVLOOKUP($C62,'2. Unit Testing Results'!$C$5:$BD$13,30))","v":""},{"$f":"IF($B62=\"\",\"\",\nVLOOKUP($C62,'2. Unit Testing Results'!$C$5:$BD$13,32))","v":""},{"$f":"IF($B62=\"\",\"\",\nVLOOKUP($C62,'2. Unit Testing Results'!$C$5:$BD$13,34))","v":""},{"$f":"IF($B62=\"\",\"\",\nVLOOKUP($C62,'2. Unit Testing Results'!$C$5:$BD$13,36))","v":""},{"$f":"IF($B62=\"\",\"\",\nVLOOKUP($C62,'2. Unit Testing Results'!$C$5:$BD$13,38))","v":""},{"$f":"IF($B62=\"\",\"\",\nVLOOKUP($C62,'2. Unit Testing Results'!$C$5:$BD$13,39))","v":""},{"$f":"IF($B62=\"\",\"\",\nVLOOKUP($C62,'2. Unit Testing Results'!$C$5:$BD$13,40))","v":""},{"$f":"IF($B62=\"\",\"\",\nVLOOKUP($C62,'2. Unit Testing Results'!$C$5:$BD$13,42))","v":""},{"$f":"IF($B62=\"\",\"\",\nVLOOKUP($C62,'2. Unit Testing Results'!$C$5:$BD$13,44))","v":""},{"$f":"IF($B62=\"\",\"\",\nVLOOKUP($C62,'2. Unit Testing Results'!$C$5:$BD$13,46))","v":""},{"$f":"IF($B62=\"\",\"\",\nVLOOKUP($C62,'2. Unit Testing Results'!$C$5:$BD$13,48))","v":""},{"$f":"IF($B62=\"\",\"\",\nVLOOKUP($C62,'2. Unit Testing Results'!$C$5:$BD$13,50))","v":""},{"$f":"IF($B62=\"\",\"\",\nVLOOKUP($C62,'2. Unit Testing Results'!$C$5:$BD$13,51))","v":""},{"$f":"IF($B62=\"\",\"\",\nVLOOKUP($C62,'2. Unit Testing Results'!$C$5:$BD$13,52))","v":""},{"$f":"IF($B62=\"\",\"\",\nVLOOKUP($C62,'2. Unit Testing Results'!$C$5:$BD$13,53))","v":""},{"$f":"IF($B62=\"\",\"\",\nVLOOKUP($C62,'2. Unit Testing Results'!$C$5:$BD$13,54))","v":""}]
[null,{"$f":"IF('2. Unit Testing Results'!$C76=\"\",\"\",'2. Unit Testing Results'!$C76)","v":""},{"$f":"IF('2. Unit Testing Results'!$D76=\"\",\"\",'2. Unit Testing Results'!$D76)","v":""},{"$f":"IF('2. Unit Testing Results'!$E76=\"\",\"\",'2. Unit Testing Results'!$E76)","v":""},{"$f":"IF('2. Unit Testing Results'!$F76=\"\",\"\",'2. Unit Testing Results'!$F76)","v":""},null,{"$f":"IF($B63=\"\",\"\",\n(('2. Unit Testing Results'!$X76)*60)\n/((VLOOKUP($C63,'2. Unit Testing Results'!$C$5:$S$13,4))*(VLOOKUP($C63,'2. Unit Testing Results'!$C$5:$S$13,6)))\n)","v":""},{"$f":"IF($B63=\"\",\"\",\nVLOOKUP($C63,'2. Unit Testing Results'!$C$5:$BD$13,19))","v":""},{"$f":"IF($B63=\"\",\"\",\nVLOOKUP($C63,'2. Unit Testing Results'!$C$5:$BD$13,20))","v":""},{"$f":"IF($B63=\"\",\"\",\nVLOOKUP($C63,'2. Unit Testing Results'!$C$5:$BD$13,22))","v":""},{"$f":"IF($B63=\"\",\"\",\nVLOOKUP($C63,'2. Unit Testing Results'!$C$5:$BD$13,24))","v":""},{"$f":"IF($B63=\"\",\"\",\nVLOOKUP($C63,'2. Unit Testing Results'!$C$5:$BD$13,26))","v":""},{"$f":"IF($B63=\"\",\"\",\nVLOOKUP($C63,'2. Unit Testing Results'!$C$5:$BD$13,28))","v":""},{"$f":"IF($B63=\"\",\"\",'2. Unit Testing Results'!$Q76)","v":""},{"$f":"IF($B63=\"\",\"\",'2. Unit Testing Results'!$V76)","v":""},{"$f":"IF($B63=\"\",\"\",\nVLOOKUP($C63,'2. Unit Testing Results'!$C$5:$BD$13,30))","v":""},{"$f":"IF($B63=\"\",\"\",\nVLOOKUP($C63,'2. Unit Testing Results'!$C$5:$BD$13,32))","v":""},{"$f":"IF($B63=\"\",\"\",\nVLOOKUP($C63,'2. Unit Testing Results'!$C$5:$BD$13,34))","v":""},{"$f":"IF($B63=\"\",\"\",\nVLOOKUP($C63,'2. Unit Testing Results'!$C$5:$BD$13,36))","v":""},{"$f":"IF($B63=\"\",\"\",\nVLOOKUP($C63,'2. Unit Testing Results'!$C$5:$BD$13,38))","v":""},{"$f":"IF($B63=\"\",\"\",\nVLOOKUP($C63,'2. Unit Testing Results'!$C$5:$BD$13,39))","v":""},{"$f":"IF($B63=\"\",\"\",\nVLOOKUP($C63,'2. Unit Testing Results'!$C$5:$BD$13,40))","v":""},{"$f":"IF($B63=\"\",\"\",\nVLOOKUP($C63,'2. Unit Testing Results'!$C$5:$BD$13,42))","v":""},{"$f":"IF($B63=\"\",\"\",\nVLOOKUP($C63,'2. Unit Testing Results'!$C$5:$BD$13,44))","v":""},{"$f":"IF($B63=\"\",\"\",\nVLOOKUP($C63,'2. Unit Testing Results'!$C$5:$BD$13,46))","v":""},{"$f":"IF($B63=\"\",\"\",\nVLOOKUP($C63,'2. Unit Testing Results'!$C$5:$BD$13,48))","v":""},{"$f":"IF($B63=\"\",\"\",\nVLOOKUP($C63,'2. Unit Testing Results'!$C$5:$BD$13,50))","v":""},{"$f":"IF($B63=\"\",\"\",\nVLOOKUP($C63,'2. Unit Testing Results'!$C$5:$BD$13,51))","v":""},{"$f":"IF($B63=\"\",\"\",\nVLOOKUP($C63,'2. Unit Testing Results'!$C$5:$BD$13,52))","v":""},{"$f":"IF($B63=\"\",\"\",\nVLOOKUP($C63,'2. Unit Testing Results'!$C$5:$BD$13,53))","v":""},{"$f":"IF($B63=\"\",\"\",\nVLOOKUP($C63,'2. Unit Testing Results'!$C$5:$BD$13,54))","v":""}]
[null,{"$f":"IF('2. Unit Testing Results'!$C77=\"\",\"\",'2. Unit Testing Results'!$C77)","v":""},{"$f":"IF('2. Unit Testing Results'!$D77=\"\",\"\",'2. Unit Testing Results'!$D77)","v":""},{"$f":"IF('2. Unit Testing Results'!$E77=\"\",\"\",'2. Unit Testing Results'!$E77)","v":""},{"$f":"IF('2. Unit Testing Results'!$F77=\"\",\"\",'2. Unit Testing Results'!$F77)","v":""},null,{"$f":"IF($B64=\"\",\"\",\n(('2. Unit Testing Results'!$X77)*60)\n/((VLOOKUP($C64,'2. Unit Testing Results'!$C$5:$S$13,4))*(VLOOKUP($C64,'2. Unit Testing Results'!$C$5:$S$13,6)))\n)","v":""},{"$f":"IF($B64=\"\",\"\",\nVLOOKUP($C64,'2. Unit Testing Results'!$C$5:$BD$13,19))","v":""},{"$f":"IF($B64=\"\",\"\",\nVLOOKUP($C64,'2. Unit Testing Results'!$C$5:$BD$13,20))","v":""},{"$f":"IF($B64=\"\",\"\",\nVLOOKUP($C64,'2. Unit Testing Results'!$C$5:$BD$13,22))","v":""},{"$f":"IF($B64=\"\",\"\",\nVLOOKUP($C64,'2. Unit Testing Results'!$C$5:$BD$13,24))","v":""},{"$f":"IF($B64=\"\",\"\",\nVLOOKUP($C64,'2. Unit Testing Results'!$C$5:$BD$13,26))","v":""},{"$f":"IF($B64=\"\",\"\",\nVLOOKUP($C64,'2. Unit Testing Results'!$C$5:$BD$13,28))","v":""},{"$f":"IF($B64=\"\",\"\",'2. Unit Testing Results'!$Q77)","v":""},{"$f":"IF($B64=\"\",\"\",'2. Unit Testing Results'!$V77)","v":""},{"$f":"IF($B64=\"\",\"\",\nVLOOKUP($C64,'2. Unit Testing Results'!$C$5:$BD$13,30))","v":""},{"$f":"IF($B64=\"\",\"\",\nVLOOKUP($C64,'2. Unit Testing Results'!$C$5:$BD$13,32))","v":""},{"$f":"IF($B64=\"\",\"\",\nVLOOKUP($C64,'2. Unit Testing Results'!$C$5:$BD$13,34))","v":""},{"$f":"IF($B64=\"\",\"\",\nVLOOKUP($C64,'2. Unit Testing Results'!$C$5:$BD$13,36))","v":""},{"$f":"IF($B64=\"\",\"\",\nVLOOKUP($C64,'2. Unit Testing Results'!$C$5:$BD$13,38))","v":""},{"$f":"IF($B64=\"\",\"\",\nVLOOKUP($C64,'2. Unit Testing Results'!$C$5:$BD$13,39))","v":""},{"$f":"IF($B64=\"\",\"\",\nVLOOKUP($C64,'2. Unit Testing Results'!$C$5:$BD$13,40))","v":""},{"$f":"IF($B64=\"\",\"\",\nVLOOKUP($C64,'2. Unit Testing Results'!$C$5:$BD$13,42))","v":""},{"$f":"IF($B64=\"\",\"\",\nVLOOKUP($C64,'2. Unit Testing Results'!$C$5:$BD$13,44))","v":""},{"$f":"IF($B64=\"\",\"\",\nVLOOKUP($C64,'2. Unit Testing Results'!$C$5:$BD$13,46))","v":""},{"$f":"IF($B64=\"\",\"\",\nVLOOKUP($C64,'2. Unit Testing Results'!$C$5:$BD$13,48))","v":""},{"$f":"IF($B64=\"\",\"\",\nVLOOKUP($C64,'2. Unit Testing Results'!$C$5:$BD$13,50))","v":""},{"$f":"IF($B64=\"\",\"\",\nVLOOKUP($C64,'2. Unit Testing Results'!$C$5:$BD$13,51))","v":""},{"$f":"IF($B64=\"\",\"\",\nVLOOKUP($C64,'2. Unit Testing Results'!$C$5:$BD$13,52))","v":""},{"$f":"IF($B64=\"\",\"\",\nVLOOKUP($C64,'2. Unit Testing Results'!$C$5:$BD$13,53))","v":""},{"$f":"IF($B64=\"\",\"\",\nVLOOKUP($C64,'2. Unit Testing Results'!$C$5:$BD$13,54))","v":""}]
[null,{"$f":"IF('2. Unit Testing Results'!$C78=\"\",\"\",'2. Unit Testing Results'!$C78)","v":""},{"$f":"IF('2. Unit Testing Results'!$D78=\"\",\"\",'2. Unit Testing Results'!$D78)","v":""},{"$f":"IF('2. Unit Testing Results'!$E78=\"\",\"\",'2. Unit Testing Results'!$E78)","v":""},{"$f":"IF('2. Unit Testing Results'!$F78=\"\",\"\",'2. Unit Testing Results'!$F78)","v":""},null,{"$f":"IF($B65=\"\",\"\",\n(('2. Unit Testing Results'!$X78)*60)\n/((VLOOKUP($C65,'2. Unit Testing Results'!$C$5:$S$13,4))*(VLOOKUP($C65,'2. Unit Testing Results'!$C$5:$S$13,6)))\n)","v":""},{"$f":"IF($B65=\"\",\"\",\nVLOOKUP($C65,'2. Unit Testing Results'!$C$5:$BD$13,19))","v":""},{"$f":"IF($B65=\"\",\"\",\nVLOOKUP($C65,'2. Unit Testing Results'!$C$5:$BD$13,20))","v":""},{"$f":"IF($B65=\"\",\"\",\nVLOOKUP($C65,'2. Unit Testing Results'!$C$5:$BD$13,22))","v":""},{"$f":"IF($B65=\"\",\"\",\nVLOOKUP($C65,'2. Unit Testing Results'!$C$5:$BD$13,24))","v":""},{"$f":"IF($B65=\"\",\"\",\nVLOOKUP($C65,'2. Unit Testing Results'!$C$5:$BD$13,26))","v":""},{"$f":"IF($B65=\"\",\"\",\nVLOOKUP($C65,'2. Unit Testing Results'!$C$5:$BD$13,28))","v":""},{"$f":"IF($B65=\"\",\"\",'2. Unit Testing Results'!$Q78)","v":""},{"$f":"IF($B65=\"\",\"\",'2. Unit Testing Results'!$V78)","v":""},{"$f":"IF($B65=\"\",\"\",\nVLOOKUP($C65,'2. Unit Testing Results'!$C$5:$BD$13,30))","v":""},{"$f":"IF($B65=\"\",\"\",\nVLOOKUP($C65,'2. Unit Testing Results'!$C$5:$BD$13,32))","v":""},{"$f":"IF($B65=\"\",\"\",\nVLOOKUP($C65,'2. Unit Testing Results'!$C$5:$BD$13,34))","v":""},{"$f":"IF($B65=\"\",\"\",\nVLOOKUP($C65,'2. Unit Testing Results'!$C$5:$BD$13,36))","v":""},{"$f":"IF($B65=\"\",\"\",\nVLOOKUP($C65,'2. Unit Testing Results'!$C$5:$BD$13,38))","v":""},{"$f":"IF($B65=\"\",\"\",\nVLOOKUP($C65,'2. Unit Testing Results'!$C$5:$BD$13,39))","v":""},{"$f":"IF($B65=\"\",\"\",\nVLOOKUP($C65,'2. Unit Testing Results'!$C$5:$BD$13,40))","v":""},{"$f":"IF($B65=\"\",\"\",\nVLOOKUP($C65,'2. Unit Testing Results'!$C$5:$BD$13,42))","v":""},{"$f":"IF($B65=\"\",\"\",\nVLOOKUP($C65,'2. Unit Testing Results'!$C$5:$BD$13,44))","v":""},{"$f":"IF($B65=\"\",\"\",\nVLOOKUP($C65,'2. Unit Testing Results'!$C$5:$BD$13,46))","v":""},{"$f":"IF($B65=\"\",\"\",\nVLOOKUP($C65,'2. Unit Testing Results'!$C$5:$BD$13,48))","v":""},{"$f":"IF($B65=\"\",\"\",\nVLOOKUP($C65,'2. Unit Testing Results'!$C$5:$BD$13,50))","v":""},{"$f":"IF($B65=\"\",\"\",\nVLOOKUP($C65,'2. Unit Testing Results'!$C$5:$BD$13,51))","v":""},{"$f":"IF($B65=\"\",\"\",\nVLOOKUP($C65,'2. Unit Testing Results'!$C$5:$BD$13,52))","v":""},{"$f":"IF($B65=\"\",\"\",\nVLOOKUP($C65,'2. Unit Testing Results'!$C$5:$BD$13,53))","v":""},{"$f":"IF($B65=\"\",\"\",\nVLOOKUP($C65,'2. Unit Testing Results'!$C$5:$BD$13,54))","v":""}]
[null,{"$f":"IF('2. Unit Testing Results'!$C79=\"\",\"\",'2. Unit Testing Results'!$C79)","v":""},{"$f":"IF('2. Unit Testing Results'!$D79=\"\",\"\",'2. Unit Testing Results'!$D79)","v":""},{"$f":"IF('2. Unit Testing Results'!$E79=\"\",\"\",'2. Unit Testing Results'!$E79)","v":""},{"$f":"IF('2. Unit Testing Results'!$F79=\"\",\"\",'2. Unit Testing Results'!$F79)","v":""},null,{"$f":"IF($B66=\"\",\"\",\n(('2. Unit Testing Results'!$X79)*60)\n/((VLOOKUP($C66,'2. Unit Testing Results'!$C$5:$S$13,4))*(VLOOKUP($C66,'2. Unit Testing Results'!$C$5:$S$13,6)))\n)","v":""},{"$f":"IF($B66=\"\",\"\",\nVLOOKUP($C66,'2. Unit Testing Results'!$C$5:$BD$13,19))","v":""},{"$f":"IF($B66=\"\",\"\",\nVLOOKUP($C66,'2. Unit Testing Results'!$C$5:$BD$13,20))","v":""},{"$f":"IF($B66=\"\",\"\",\nVLOOKUP($C66,'2. Unit Testing Results'!$C$5:$BD$13,22))","v":""},{"$f":"IF($B66=\"\",\"\",\nVLOOKUP($C66,'2. Unit Testing Results'!$C$5:$BD$13,24))","v":""},{"$f":"IF($B66=\"\",\"\",\nVLOOKUP($C66,'2. Unit Testing Results'!$C$5:$BD$13,26))","v":""},{"$f":"IF($B66=\"\",\"\",\nVLOOKUP($C66,'2. Unit Testing Results'!$C$5:$BD$13,28))","v":""},{"$f":"IF($B66=\"\",\"\",'2. Unit Testing Results'!$Q79)","v":""},{"$f":"IF($B66=\"\",\"\",'2. Unit Testing Results'!$V79)","v":""},{"$f":"IF($B66=\"\",\"\",\nVLOOKUP($C66,'2. Unit Testing Results'!$C$5:$BD$13,30))","v":""},{"$f":"IF($B66=\"\",\"\",\nVLOOKUP($C66,'2. Unit Testing Results'!$C$5:$BD$13,32))","v":""},{"$f":"IF($B66=\"\",\"\",\nVLOOKUP($C66,'2. Unit Testing Results'!$C$5:$BD$13,34))","v":""},{"$f":"IF($B66=\"\",\"\",\nVLOOKUP($C66,'2. Unit Testing Results'!$C$5:$BD$13,36))","v":""},{"$f":"IF($B66=\"\",\"\",\nVLOOKUP($C66,'2. Unit Testing Results'!$C$5:$BD$13,38))","v":""},{"$f":"IF($B66=\"\",\"\",\nVLOOKUP($C66,'2. Unit Testing Results'!$C$5:$BD$13,39))","v":""},{"$f":"IF($B66=\"\",\"\",\nVLOOKUP($C66,'2. Unit Testing Results'!$C$5:$BD$13,40))","v":""},{"$f":"IF($B66=\"\",\"\",\nVLOOKUP($C66,'2. Unit Testing Results'!$C$5:$BD$13,42))","v":""},{"$f":"IF($B66=\"\",\"\",\nVLOOKUP($C66,'2. Unit Testing Results'!$C$5:$BD$13,44))","v":""},{"$f":"IF($B66=\"\",\"\",\nVLOOKUP($C66,'2. Unit Testing Results'!$C$5:$BD$13,46))","v":""},{"$f":"IF($B66=\"\",\"\",\nVLOOKUP($C66,'2. Unit Testing Results'!$C$5:$BD$13,48))","v":""},{"$f":"IF($B66=\"\",\"\",\nVLOOKUP($C66,'2. Unit Testing Results'!$C$5:$BD$13,50))","v":""},{"$f":"IF($B66=\"\",\"\",\nVLOOKUP($C66,'2. Unit Testing Results'!$C$5:$BD$13,51))","v":""},{"$f":"IF($B66=\"\",\"\",\nVLOOKUP($C66,'2. Unit Testing Results'!$C$5:$BD$13,52))","v":""},{"$f":"IF($B66=\"\",\"\",\nVLOOKUP($C66,'2. Unit Testing Results'!$C$5:$BD$13,53))","v":""},{"$f":"IF($B66=\"\",\"\",\nVLOOKUP($C66,'2. Unit Testing Results'!$C$5:$BD$13,54))","v":""}]
[null,{"$f":"IF('2. Unit Testing Results'!$C80=\"\",\"\",'2. Unit Testing Results'!$C80)","v":""},{"$f":"IF('2. Unit Testing Results'!$D80=\"\",\"\",'2. Unit Testing Results'!$D80)","v":""},{"$f":"IF('2. Unit Testing Results'!$E80=\"\",\"\",'2. Unit Testing Results'!$E80)","v":""},{"$f":"IF('2. Unit Testing Results'!$F80=\"\",\"\",'2. Unit Testing Results'!$F80)","v":""},null,{"$f":"IF($B67=\"\",\"\",\n(('2. Unit Testing Results'!$X80)*60)\n/((VLOOKUP($C67,'2. Unit Testing Results'!$C$5:$S$13,4))*(VLOOKUP($C67,'2. Unit Testing Results'!$C$5:$S$13,6)))\n)","v":""},{"$f":"IF($B67=\"\",\"\",\nVLOOKUP($C67,'2. Unit Testing Results'!$C$5:$BD$13,19))","v":""},{"$f":"IF($B67=\"\",\"\",\nVLOOKUP($C67,'2. Unit Testing Results'!$C$5:$BD$13,20))","v":""},{"$f":"IF($B67=\"\",\"\",\nVLOOKUP($C67,'2. Unit Testing Results'!$C$5:$BD$13,22))","v":""},{"$f":"IF($B67=\"\",\"\",\nVLOOKUP($C67,'2. Unit Testing Results'!$C$5:$BD$13,24))","v":""},{"$f":"IF($B67=\"\",\"\",\nVLOOKUP($C67,'2. Unit Testing Results'!$C$5:$BD$13,26))","v":""},{"$f":"IF($B67=\"\",\"\",\nVLOOKUP($C67,'2. Unit Testing Results'!$C$5:$BD$13,28))","v":""},{"$f":"IF($B67=\"\",\"\",'2. Unit Testing Results'!$Q80)","v":""},{"$f":"IF($B67=\"\",\"\",'2. Unit Testing Results'!$V80)","v":""},{"$f":"IF($B67=\"\",\"\",\nVLOOKUP($C67,'2. Unit Testing Results'!$C$5:$BD$13,30))","v":""},{"$f":"IF($B67=\"\",\"\",\nVLOOKUP($C67,'2. Unit Testing Results'!$C$5:$BD$13,32))","v":""},{"$f":"IF($B67=\"\",\"\",\nVLOOKUP($C67,'2. Unit Testing Results'!$C$5:$BD$13,34))","v":""},{"$f":"IF($B67=\"\",\"\",\nVLOOKUP($C67,'2. Unit Testing Results'!$C$5:$BD$13,36))","v":""},{"$f":"IF($B67=\"\",\"\",\nVLOOKUP($C67,'2. Unit Testing Results'!$C$5:$BD$13,38))","v":""},{"$f":"IF($B67=\"\",\"\",\nVLOOKUP($C67,'2. Unit Testing Results'!$C$5:$BD$13,39))","v":""},{"$f":"IF($B67=\"\",\"\",\nVLOOKUP($C67,'2. Unit Testing Results'!$C$5:$BD$13,40))","v":""},{"$f":"IF($B67=\"\",\"\",\nVLOOKUP($C67,'2. Unit Testing Results'!$C$5:$BD$13,42))","v":""},{"$f":"IF($B67=\"\",\"\",\nVLOOKUP($C67,'2. Unit Testing Results'!$C$5:$BD$13,44))","v":""},{"$f":"IF($B67=\"\",\"\",\nVLOOKUP($C67,'2. Unit Testing Results'!$C$5:$BD$13,46))","v":""},{"$f":"IF($B67=\"\",\"\",\nVLOOKUP($C67,'2. Unit Testing Results'!$C$5:$BD$13,48))","v":""},{"$f":"IF($B67=\"\",\"\",\nVLOOKUP($C67,'2. Unit Testing Results'!$C$5:$BD$13,50))","v":""},{"$f":"IF($B67=\"\",\"\",\nVLOOKUP($C67,'2. Unit Testing Results'!$C$5:$BD$13,51))","v":""},{"$f":"IF($B67=\"\",\"\",\nVLOOKUP($C67,'2. Unit Testing Results'!$C$5:$BD$13,52))","v":""},{"$f":"IF($B67=\"\",\"\",\nVLOOKUP($C67,'2. Unit Testing Results'!$C$5:$BD$13,53))","v":""},{"$f":"IF($B67=\"\",\"\",\nVLOOKUP($C67,'2. Unit Testing Results'!$C$5:$BD$13,54))","v":""}]
[null,{"$f":"IF('2. Unit Testing Results'!$C81=\"\",\"\",'2. Unit Testing Results'!$C81)","v":""},{"$f":"IF('2. Unit Testing Results'!$D81=\"\",\"\",'2. Unit Testing Results'!$D81)","v":""},{"$f":"IF('2. Unit Testing Results'!$E81=\"\",\"\",'2. Unit Testing Results'!$E81)","v":""},{"$f":"IF('2. Unit Testing Results'!$F81=\"\",\"\",'2. Unit Testing Results'!$F81)","v":""},null,{"$f":"IF($B68=\"\",\"\",\n(('2. Unit Testing Results'!$X81)*60)\n/((VLOOKUP($C68,'2. Unit Testing Results'!$C$5:$S$13,4))*(VLOOKUP($C68,'2. Unit Testing Results'!$C$5:$S$13,6)))\n)","v":""},{"$f":"IF($B68=\"\",\"\",\nVLOOKUP($C68,'2. Unit Testing Results'!$C$5:$BD$13,19))","v":""},{"$f":"IF($B68=\"\",\"\",\nVLOOKUP($C68,'2. Unit Testing Results'!$C$5:$BD$13,20))","v":""},{"$f":"IF($B68=\"\",\"\",\nVLOOKUP($C68,'2. Unit Testing Results'!$C$5:$BD$13,22))","v":""},{"$f":"IF($B68=\"\",\"\",\nVLOOKUP($C68,'2. Unit Testing Results'!$C$5:$BD$13,24))","v":""},{"$f":"IF($B68=\"\",\"\",\nVLOOKUP($C68,'2. Unit Testing Results'!$C$5:$BD$13,26))","v":""},{"$f":"IF($B68=\"\",\"\",\nVLOOKUP($C68,'2. Unit Testing Results'!$C$5:$BD$13,28))","v":""},{"$f":"IF($B68=\"\",\"\",'2. Unit Testing Results'!$Q81)","v":""},{"$f":"IF($B68=\"\",\"\",'2. Unit Testing Results'!$V81)","v":""},{"$f":"IF($B68=\"\",\"\",\nVLOOKUP($C68,'2. Unit Testing Results'!$C$5:$BD$13,30))","v":""},{"$f":"IF($B68=\"\",\"\",\nVLOOKUP($C68,'2. Unit Testing Results'!$C$5:$BD$13,32))","v":""},{"$f":"IF($B68=\"\",\"\",\nVLOOKUP($C68,'2. Unit Testing Results'!$C$5:$BD$13,34))","v":""},{"$f":"IF($B68=\"\",\"\",\nVLOOKUP($C68,'2. Unit Testing Results'!$C$5:$BD$13,36))","v":""},{"$f":"IF($B68=\"\",\"\",\nVLOOKUP($C68,'2. Unit Testing Results'!$C$5:$BD$13,38))","v":""},{"$f":"IF($B68=\"\",\"\",\nVLOOKUP($C68,'2. Unit Testing Results'!$C$5:$BD$13,39))","v":""},{"$f":"IF($B68=\"\",\"\",\nVLOOKUP($C68,'2. Unit Testing Results'!$C$5:$BD$13,40))","v":""},{"$f":"IF($B68=\"\",\"\",\nVLOOKUP($C68,'2. Unit Testing Results'!$C$5:$BD$13,42))","v":""},{"$f":"IF($B68=\"\",\"\",\nVLOOKUP($C68,'2. Unit Testing Results'!$C$5:$BD$13,44))","v":""},{"$f":"IF($B68=\"\",\"\",\nVLOOKUP($C68,'2. Unit Testing Results'!$C$5:$BD$13,46))","v":""},{"$f":"IF($B68=\"\",\"\",\nVLOOKUP($C68,'2. Unit Testing Results'!$C$5:$BD$13,48))","v":""},{"$f":"IF($B68=\"\",\"\",\nVLOOKUP($C68,'2. Unit Testing Results'!$C$5:$BD$13,50))","v":""},{"$f":"IF($B68=\"\",\"\",\nVLOOKUP($C68,'2. Unit Testing Results'!$C$5:$BD$13,51))","v":""},{"$f":"IF($B68=\"\",\"\",\nVLOOKUP($C68,'2. Unit Testing Results'!$C$5:$BD$13,52))","v":""},{"$f":"IF($B68=\"\",\"\",\nVLOOKUP($C68,'2. Unit Testing Results'!$C$5:$BD$13,53))","v":""},{"$f":"IF($B68=\"\",\"\",\nVLOOKUP($C68,'2. Unit Testing Results'!$C$5:$BD$13,54))","v":""}]
[null,{"$f":"IF('2. Unit Testing Results'!$C82=\"\",\"\",'2. Unit Testing Results'!$C82)","v":""},{"$f":"IF('2. Unit Testing Results'!$D82=\"\",\"\",'2. Unit Testing Results'!$D82)","v":""},{"$f":"IF('2. Unit Testing Results'!$E82=\"\",\"\",'2. Unit Testing Results'!$E82)","v":""},{"$f":"IF('2. Unit Testing Results'!$F82=\"\",\"\",'2. Unit Testing Results'!$F82)","v":""},null,{"$f":"IF($B69=\"\",\"\",\n(('2. Unit Testing Results'!$X82)*60)\n/((VLOOKUP($C69,'2. Unit Testing Results'!$C$5:$S$13,4))*(VLOOKUP($C69,'2. Unit Testing Results'!$C$5:$S$13,6)))\n)","v":""},{"$f":"IF($B69=\"\",\"\",\nVLOOKUP($C69,'2. Unit Testing Results'!$C$5:$BD$13,19))","v":""},{"$f":"IF($B69=\"\",\"\",\nVLOOKUP($C69,'2. Unit Testing Results'!$C$5:$BD$13,20))","v":""},{"$f":"IF($B69=\"\",\"\",\nVLOOKUP($C69,'2. Unit Testing Results'!$C$5:$BD$13,22))","v":""},{"$f":"IF($B69=\"\",\"\",\nVLOOKUP($C69,'2. Unit Testing Results'!$C$5:$BD$13,24))","v":""},{"$f":"IF($B69=\"\",\"\",\nVLOOKUP($C69,'2. Unit Testing Results'!$C$5:$BD$13,26))","v":""},{"$f":"IF($B69=\"\",\"\",\nVLOOKUP($C69,'2. Unit Testing Results'!$C$5:$BD$13,28))","v":""},{"$f":"IF($B69=\"\",\"\",'2. Unit Testing Results'!$Q82)","v":""},{"$f":"IF($B69=\"\",\"\",'2. Unit Testing Results'!$V82)","v":""},{"$f":"IF($B69=\"\",\"\",\nVLOOKUP($C69,'2. Unit Testing Results'!$C$5:$BD$13,30))","v":""},{"$f":"IF($B69=\"\",\"\",\nVLOOKUP($C69,'2. Unit Testing Results'!$C$5:$BD$13,32))","v":""},{"$f":"IF($B69=\"\",\"\",\nVLOOKUP($C69,'2. Unit Testing Results'!$C$5:$BD$13,34))","v":""},{"$f":"IF($B69=\"\",\"\",\nVLOOKUP($C69,'2. Unit Testing Results'!$C$5:$BD$13,36))","v":""},{"$f":"IF($B69=\"\",\"\",\nVLOOKUP($C69,'2. Unit Testing Results'!$C$5:$BD$13,38))","v":""},{"$f":"IF($B69=\"\",\"\",\nVLOOKUP($C69,'2. Unit Testing Results'!$C$5:$BD$13,39))","v":""},{"$f":"IF($B69=\"\",\"\",\nVLOOKUP($C69,'2. Unit Testing Results'!$C$5:$BD$13,40))","v":""},{"$f":"IF($B69=\"\",\"\",\nVLOOKUP($C69,'2. Unit Testing Results'!$C$5:$BD$13,42))","v":""},{"$f":"IF($B69=\"\",\"\",\nVLOOKUP($C69,'2. Unit Testing Results'!$C$5:$BD$13,44))","v":""},{"$f":"IF($B69=\"\",\"\",\nVLOOKUP($C69,'2. Unit Testing Results'!$C$5:$BD$13,46))","v":""},{"$f":"IF($B69=\"\",\"\",\nVLOOKUP($C69,'2. Unit Testing Results'!$C$5:$BD$13,48))","v":""},{"$f":"IF($B69=\"\",\"\",\nVLOOKUP($C69,'2. Unit Testing Results'!$C$5:$BD$13,50))","v":""},{"$f":"IF($B69=\"\",\"\",\nVLOOKUP($C69,'2. Unit Testing Results'!$C$5:$BD$13,51))","v":""},{"$f":"IF($B69=\"\",\"\",\nVLOOKUP($C69,'2. Unit Testing Results'!$C$5:$BD$13,52))","v":""},{"$f":"IF($B69=\"\",\"\",\nVLOOKUP($C69,'2. Unit Testing Results'!$C$5:$BD$13,53))","v":""},{"$f":"IF($B69=\"\",\"\",\nVLOOKUP($C69,'2. Unit Testing Results'!$C$5:$BD$13,54))","v":""}]
[null,{"$f":"IF('2. Unit Testing Results'!$C83=\"\",\"\",'2. Unit Testing Results'!$C83)","v":""},{"$f":"IF('2. Unit Testing Results'!$D83=\"\",\"\",'2. Unit Testing Results'!$D83)","v":""},{"$f":"IF('2. Unit Testing Results'!$E83=\"\",\"\",'2. Unit Testing Results'!$E83)","v":""},{"$f":"IF('2. Unit Testing Results'!$F83=\"\",\"\",'2. Unit Testing Results'!$F83)","v":""},null,{"$f":"IF($B70=\"\",\"\",\n(('2. Unit Testing Results'!$X83)*60)\n/((VLOOKUP($C70,'2. Unit Testing Results'!$C$5:$S$13,4))*(VLOOKUP($C70,'2. Unit Testing Results'!$C$5:$S$13,6)))\n)","v":""},{"$f":"IF($B70=\"\",\"\",\nVLOOKUP($C70,'2. Unit Testing Results'!$C$5:$BD$13,19))","v":""},{"$f":"IF($B70=\"\",\"\",\nVLOOKUP($C70,'2. Unit Testing Results'!$C$5:$BD$13,20))","v":""},{"$f":"IF($B70=\"\",\"\",\nVLOOKUP($C70,'2. Unit Testing Results'!$C$5:$BD$13,22))","v":""},{"$f":"IF($B70=\"\",\"\",\nVLOOKUP($C70,'2. Unit Testing Results'!$C$5:$BD$13,24))","v":""},{"$f":"IF($B70=\"\",\"\",\nVLOOKUP($C70,'2. Unit Testing Results'!$C$5:$BD$13,26))","v":""},{"$f":"IF($B70=\"\",\"\",\nVLOOKUP($C70,'2. Unit Testing Results'!$C$5:$BD$13,28))","v":""},{"$f":"IF($B70=\"\",\"\",'2. Unit Testing Results'!$Q83)","v":""},{"$f":"IF($B70=\"\",\"\",'2. Unit Testing Results'!$V83)","v":""},{"$f":"IF($B70=\"\",\"\",\nVLOOKUP($C70,'2. Unit Testing Results'!$C$5:$BD$13,30))","v":""},{"$f":"IF($B70=\"\",\"\",\nVLOOKUP($C70,'2. Unit Testing Results'!$C$5:$BD$13,32))","v":""},{"$f":"IF($B70=\"\",\"\",\nVLOOKUP($C70,'2. Unit Testing Results'!$C$5:$BD$13,34))","v":""},{"$f":"IF($B70=\"\",\"\",\nVLOOKUP($C70,'2. Unit Testing Results'!$C$5:$BD$13,36))","v":""},{"$f":"IF($B70=\"\",\"\",\nVLOOKUP($C70,'2. Unit Testing Results'!$C$5:$BD$13,38))","v":""},{"$f":"IF($B70=\"\",\"\",\nVLOOKUP($C70,'2. Unit Testing Results'!$C$5:$BD$13,39))","v":""},{"$f":"IF($B70=\"\",\"\",\nVLOOKUP($C70,'2. Unit Testing Results'!$C$5:$BD$13,40))","v":""},{"$f":"IF($B70=\"\",\"\",\nVLOOKUP($C70,'2. Unit Testing Results'!$C$5:$BD$13,42))","v":""},{"$f":"IF($B70=\"\",\"\",\nVLOOKUP($C70,'2. Unit Testing Results'!$C$5:$BD$13,44))","v":""},{"$f":"IF($B70=\"\",\"\",\nVLOOKUP($C70,'2. Unit Testing Results'!$C$5:$BD$13,46))","v":""},{"$f":"IF($B70=\"\",\"\",\nVLOOKUP($C70,'2. Unit Testing Results'!$C$5:$BD$13,48))","v":""},{"$f":"IF($B70=\"\",\"\",\nVLOOKUP($C70,'2. Unit Testing Results'!$C$5:$BD$13,50))","v":""},{"$f":"IF($B70=\"\",\"\",\nVLOOKUP($C70,'2. Unit Testing Results'!$C$5:$BD$13,51))","v":""},{"$f":"IF($B70=\"\",\"\",\nVLOOKUP($C70,'2. Unit Testing Results'!$C$5:$BD$13,52))","v":""},{"$f":"IF($B70=\"\",\"\",\nVLOOKUP($C70,'2. Unit Testing Results'!$C$5:$BD$13,53))","v":""},{"$f":"IF($B70=\"\",\"\",\nVLOOKUP($C70,'2. Unit Testing Results'!$C$5:$BD$13,54))","v":""}]
[null,{"$f":"IF('2. Unit Testing Results'!$C84=\"\",\"\",'2. Unit Testing Results'!$C84)","v":""},{"$f":"IF('2. Unit Testing Results'!$D84=\"\",\"\",'2. Unit Testing Results'!$D84)","v":""},{"$f":"IF('2. Unit Testing Results'!$E84=\"\",\"\",'2. Unit Testing Results'!$E84)","v":""},{"$f":"IF('2. Unit Testing Results'!$F84=\"\",\"\",'2. Unit Testing Results'!$F84)","v":""},null,{"$f":"IF($B71=\"\",\"\",\n(('2. Unit Testing Results'!$X84)*60)\n/((VLOOKUP($C71,'2. Unit Testing Results'!$C$5:$S$13,4))*(VLOOKUP($C71,'2. Unit Testing Results'!$C$5:$S$13,6)))\n)","v":""},{"$f":"IF($B71=\"\",\"\",\nVLOOKUP($C71,'2. Unit Testing Results'!$C$5:$BD$13,19))","v":""},{"$f":"IF($B71=\"\",\"\",\nVLOOKUP($C71,'2. Unit Testing Results'!$C$5:$BD$13,20))","v":""},{"$f":"IF($B71=\"\",\"\",\nVLOOKUP($C71,'2. Unit Testing Results'!$C$5:$BD$13,22))","v":""},{"$f":"IF($B71=\"\",\"\",\nVLOOKUP($C71,'2. Unit Testing Results'!$C$5:$BD$13,24))","v":""},{"$f":"IF($B71=\"\",\"\",\nVLOOKUP($C71,'2. Unit Testing Results'!$C$5:$BD$13,26))","v":""},{"$f":"IF($B71=\"\",\"\",\nVLOOKUP($C71,'2. Unit Testing Results'!$C$5:$BD$13,28))","v":""},{"$f":"IF($B71=\"\",\"\",'2. Unit Testing Results'!$Q84)","v":""},{"$f":"IF($B71=\"\",\"\",'2. Unit Testing Results'!$V84)","v":""},{"$f":"IF($B71=\"\",\"\",\nVLOOKUP($C71,'2. Unit Testing Results'!$C$5:$BD$13,30))","v":""},{"$f":"IF($B71=\"\",\"\",\nVLOOKUP($C71,'2. Unit Testing Results'!$C$5:$BD$13,32))","v":""},{"$f":"IF($B71=\"\",\"\",\nVLOOKUP($C71,'2. Unit Testing Results'!$C$5:$BD$13,34))","v":""},{"$f":"IF($B71=\"\",\"\",\nVLOOKUP($C71,'2. Unit Testing Results'!$C$5:$BD$13,36))","v":""},{"$f":"IF($B71=\"\",\"\",\nVLOOKUP($C71,'2. Unit Testing Results'!$C$5:$BD$13,38))","v":""},{"$f":"IF($B71=\"\",\"\",\nVLOOKUP($C71,'2. Unit Testing Results'!$C$5:$BD$13,39))","v":""},{"$f":"IF($B71=\"\",\"\",\nVLOOKUP($C71,'2. Unit Testing Results'!$C$5:$BD$13,40))","v":""},{"$f":"IF($B71=\"\",\"\",\nVLOOKUP($C71,'2. Unit Testing Results'!$C$5:$BD$13,42))","v":""},{"$f":"IF($B71=\"\",\"\",\nVLOOKUP($C71,'2. Unit Testing Results'!$C$5:$BD$13,44))","v":""},{"$f":"IF($B71=\"\",\"\",\nVLOOKUP($C71,'2. Unit Testing Results'!$C$5:$BD$13,46))","v":""},{"$f":"IF($B71=\"\",\"\",\nVLOOKUP($C71,'2. Unit Testing Results'!$C$5:$BD$13,48))","v":""},{"$f":"IF($B71=\"\",\"\",\nVLOOKUP($C71,'2. Unit Testing Results'!$C$5:$BD$13,50))","v":""},{"$f":"IF($B71=\"\",\"\",\nVLOOKUP($C71,'2. Unit Testing Results'!$C$5:$BD$13,51))","v":""},{"$f":"IF($B71=\"\",\"\",\nVLOOKUP($C71,'2. Unit Testing Results'!$C$5:$BD$13,52))","v":""},{"$f":"IF($B71=\"\",\"\",\nVLOOKUP($C71,'2. Unit Testing Results'!$C$5:$BD$13,53))","v":""},{"$f":"IF($B71=\"\",\"\",\nVLOOKUP($C71,'2. Unit Testing Results'!$C$5:$BD$13,54))","v":""}]
[null,{"$f":"IF('2. Unit Testing Results'!$C85=\"\",\"\",'2. Unit Testing Results'!$C85)","v":""},{"$f":"IF('2. Unit Testing Results'!$D85=\"\",\"\",'2. Unit Testing Results'!$D85)","v":""},{"$f":"IF('2. Unit Testing Results'!$E85=\"\",\"\",'2. Unit Testing Results'!$E85)","v":""},{"$f":"IF('2. Unit Testing Results'!$F85=\"\",\"\",'2. Unit Testing Results'!$F85)","v":""},null,{"$f":"IF($B72=\"\",\"\",\n(('2. Unit Testing Results'!$X85)*60)\n/((VLOOKUP($C72,'2. Unit Testing Results'!$C$5:$S$13,4))*(VLOOKUP($C72,'2. Unit Testing Results'!$C$5:$S$13,6)))\n)","v":""},{"$f":"IF($B72=\"\",\"\",\nVLOOKUP($C72,'2. Unit Testing Results'!$C$5:$BD$13,19))","v":""},{"$f":"IF($B72=\"\",\"\",\nVLOOKUP($C72,'2. Unit Testing Results'!$C$5:$BD$13,20))","v":""},{"$f":"IF($B72=\"\",\"\",\nVLOOKUP($C72,'2. Unit Testing Results'!$C$5:$BD$13,22))","v":""},{"$f":"IF($B72=\"\",\"\",\nVLOOKUP($C72,'2. Unit Testing Results'!$C$5:$BD$13,24))","v":""},{"$f":"IF($B72=\"\",\"\",\nVLOOKUP($C72,'2. Unit Testing Results'!$C$5:$BD$13,26))","v":""},{"$f":"IF($B72=\"\",\"\",\nVLOOKUP($C72,'2. Unit Testing Results'!$C$5:$BD$13,28))","v":""},{"$f":"IF($B72=\"\",\"\",'2. Unit Testing Results'!$Q85)","v":""},{"$f":"IF($B72=\"\",\"\",'2. Unit Testing Results'!$V85)","v":""},{"$f":"IF($B72=\"\",\"\",\nVLOOKUP($C72,'2. Unit Testing Results'!$C$5:$BD$13,30))","v":""},{"$f":"IF($B72=\"\",\"\",\nVLOOKUP($C72,'2. Unit Testing Results'!$C$5:$BD$13,32))","v":""},{"$f":"IF($B72=\"\",\"\",\nVLOOKUP($C72,'2. Unit Testing Results'!$C$5:$BD$13,34))","v":""},{"$f":"IF($B72=\"\",\"\",\nVLOOKUP($C72,'2. Unit Testing Results'!$C$5:$BD$13,36))","v":""},{"$f":"IF($B72=\"\",\"\",\nVLOOKUP($C72,'2. Unit Testing Results'!$C$5:$BD$13,38))","v":""},{"$f":"IF($B72=\"\",\"\",\nVLOOKUP($C72,'2. Unit Testing Results'!$C$5:$BD$13,39))","v":""},{"$f":"IF($B72=\"\",\"\",\nVLOOKUP($C72,'2. Unit Testing Results'!$C$5:$BD$13,40))","v":""},{"$f":"IF($B72=\"\",\"\",\nVLOOKUP($C72,'2. Unit Testing Results'!$C$5:$BD$13,42))","v":""},{"$f":"IF($B72=\"\",\"\",\nVLOOKUP($C72,'2. Unit Testing Results'!$C$5:$BD$13,44))","v":""},{"$f":"IF($B72=\"\",\"\",\nVLOOKUP($C72,'2. Unit Testing Results'!$C$5:$BD$13,46))","v":""},{"$f":"IF($B72=\"\",\"\",\nVLOOKUP($C72,'2. Unit Testing Results'!$C$5:$BD$13,48))","v":""},{"$f":"IF($B72=\"\",\"\",\nVLOOKUP($C72,'2. Unit Testing Results'!$C$5:$BD$13,50))","v":""},{"$f":"IF($B72=\"\",\"\",\nVLOOKUP($C72,'2. Unit Testing Results'!$C$5:$BD$13,51))","v":""},{"$f":"IF($B72=\"\",\"\",\nVLOOKUP($C72,'2. Unit Testing Results'!$C$5:$BD$13,52))","v":""},{"$f":"IF($B72=\"\",\"\",\nVLOOKUP($C72,'2. Unit Testing Results'!$C$5:$BD$13,53))","v":""},{"$f":"IF($B72=\"\",\"\",\nVLOOKUP($C72,'2. Unit Testing Results'!$C$5:$BD$13,54))","v":""}]
[null,{"$f":"IF('2. Unit Testing Results'!$C86=\"\",\"\",'2. Unit Testing Results'!$C86)","v":""},{"$f":"IF('2. Unit Testing Results'!$D86=\"\",\"\",'2. Unit Testing Results'!$D86)","v":""},{"$f":"IF('2. Unit Testing Results'!$E86=\"\",\"\",'2. Unit Testing Results'!$E86)","v":""},{"$f":"IF('2. Unit Testing Results'!$F86=\"\",\"\",'2. Unit Testing Results'!$F86)","v":""},null,{"$f":"IF($B73=\"\",\"\",\n(('2. Unit Testing Results'!$X86)*60)\n/((VLOOKUP($C73,'2. Unit Testing Results'!$C$5:$S$13,4))*(VLOOKUP($C73,'2. Unit Testing Results'!$C$5:$S$13,6)))\n)","v":""},{"$f":"IF($B73=\"\",\"\",\nVLOOKUP($C73,'2. Unit Testing Results'!$C$5:$BD$13,19))","v":""},{"$f":"IF($B73=\"\",\"\",\nVLOOKUP($C73,'2. Unit Testing Results'!$C$5:$BD$13,20))","v":""},{"$f":"IF($B73=\"\",\"\",\nVLOOKUP($C73,'2. Unit Testing Results'!$C$5:$BD$13,22))","v":""},{"$f":"IF($B73=\"\",\"\",\nVLOOKUP($C73,'2. Unit Testing Results'!$C$5:$BD$13,24))","v":""},{"$f":"IF($B73=\"\",\"\",\nVLOOKUP($C73,'2. Unit Testing Results'!$C$5:$BD$13,26))","v":""},{"$f":"IF($B73=\"\",\"\",\nVLOOKUP($C73,'2. Unit Testing Results'!$C$5:$BD$13,28))","v":""},{"$f":"IF($B73=\"\",\"\",'2. Unit Testing Results'!$Q86)","v":""},{"$f":"IF($B73=\"\",\"\",'2. Unit Testing Results'!$V86)","v":""},{"$f":"IF($B73=\"\",\"\",\nVLOOKUP($C73,'2. Unit Testing Results'!$C$5:$BD$13,30))","v":""},{"$f":"IF($B73=\"\",\"\",\nVLOOKUP($C73,'2. Unit Testing Results'!$C$5:$BD$13,32))","v":""},{"$f":"IF($B73=\"\",\"\",\nVLOOKUP($C73,'2. Unit Testing Results'!$C$5:$BD$13,34))","v":""},{"$f":"IF($B73=\"\",\"\",\nVLOOKUP($C73,'2. Unit Testing Results'!$C$5:$BD$13,36))","v":""},{"$f":"IF($B73=\"\",\"\",\nVLOOKUP($C73,'2. Unit Testing Results'!$C$5:$BD$13,38))","v":""},{"$f":"IF($B73=\"\",\"\",\nVLOOKUP($C73,'2. Unit Testing Results'!$C$5:$BD$13,39))","v":""},{"$f":"IF($B73=\"\",\"\",\nVLOOKUP($C73,'2. Unit Testing Results'!$C$5:$BD$13,40))","v":""},{"$f":"IF($B73=\"\",\"\",\nVLOOKUP($C73,'2. Unit Testing Results'!$C$5:$BD$13,42))","v":""},{"$f":"IF($B73=\"\",\"\",\nVLOOKUP($C73,'2. Unit Testing Results'!$C$5:$BD$13,44))","v":""},{"$f":"IF($B73=\"\",\"\",\nVLOOKUP($C73,'2. Unit Testing Results'!$C$5:$BD$13,46))","v":""},{"$f":"IF($B73=\"\",\"\",\nVLOOKUP($C73,'2. Unit Testing Results'!$C$5:$BD$13,48))","v":""},{"$f":"IF($B73=\"\",\"\",\nVLOOKUP($C73,'2. Unit Testing Results'!$C$5:$BD$13,50))","v":""},{"$f":"IF($B73=\"\",\"\",\nVLOOKUP($C73,'2. Unit Testing Results'!$C$5:$BD$13,51))","v":""},{"$f":"IF($B73=\"\",\"\",\nVLOOKUP($C73,'2. Unit Testing Results'!$C$5:$BD$13,52))","v":""},{"$f":"IF($B73=\"\",\"\",\nVLOOKUP($C73,'2. Unit Testing Results'!$C$5:$BD$13,53))","v":""},{"$f":"IF($B73=\"\",\"\",\nVLOOKUP($C73,'2. Unit Testing Results'!$C$5:$BD$13,54))","v":""}]
[null,{"$f":"IF('2. Unit Testing Results'!$C87=\"\",\"\",'2. Unit Testing Results'!$C87)","v":""},{"$f":"IF('2. Unit Testing Results'!$D87=\"\",\"\",'2. Unit Testing Results'!$D87)","v":""},{"$f":"IF('2. Unit Testing Results'!$E87=\"\",\"\",'2. Unit Testing Results'!$E87)","v":""},{"$f":"IF('2. Unit Testing Results'!$F87=\"\",\"\",'2. Unit Testing Results'!$F87)","v":""},null,{"$f":"IF($B74=\"\",\"\",\n(('2. Unit Testing Results'!$X87)*60)\n/((VLOOKUP($C74,'2. Unit Testing Results'!$C$5:$S$13,4))*(VLOOKUP($C74,'2. Unit Testing Results'!$C$5:$S$13,6)))\n)","v":""},{"$f":"IF($B74=\"\",\"\",\nVLOOKUP($C74,'2. Unit Testing Results'!$C$5:$BD$13,19))","v":""},{"$f":"IF($B74=\"\",\"\",\nVLOOKUP($C74,'2. Unit Testing Results'!$C$5:$BD$13,20))","v":""},{"$f":"IF($B74=\"\",\"\",\nVLOOKUP($C74,'2. Unit Testing Results'!$C$5:$BD$13,22))","v":""},{"$f":"IF($B74=\"\",\"\",\nVLOOKUP($C74,'2. Unit Testing Results'!$C$5:$BD$13,24))","v":""},{"$f":"IF($B74=\"\",\"\",\nVLOOKUP($C74,'2. Unit Testing Results'!$C$5:$BD$13,26))","v":""},{"$f":"IF($B74=\"\",\"\",\nVLOOKUP($C74,'2. Unit Testing Results'!$C$5:$BD$13,28))","v":""},{"$f":"IF($B74=\"\",\"\",'2. Unit Testing Results'!$Q87)","v":""},{"$f":"IF($B74=\"\",\"\",'2. Unit Testing Results'!$V87)","v":""},{"$f":"IF($B74=\"\",\"\",\nVLOOKUP($C74,'2. Unit Testing Results'!$C$5:$BD$13,30))","v":""},{"$f":"IF($B74=\"\",\"\",\nVLOOKUP($C74,'2. Unit Testing Results'!$C$5:$BD$13,32))","v":""},{"$f":"IF($B74=\"\",\"\",\nVLOOKUP($C74,'2. Unit Testing Results'!$C$5:$BD$13,34))","v":""},{"$f":"IF($B74=\"\",\"\",\nVLOOKUP($C74,'2. Unit Testing Results'!$C$5:$BD$13,36))","v":""},{"$f":"IF($B74=\"\",\"\",\nVLOOKUP($C74,'2. Unit Testing Results'!$C$5:$BD$13,38))","v":""},{"$f":"IF($B74=\"\",\"\",\nVLOOKUP($C74,'2. Unit Testing Results'!$C$5:$BD$13,39))","v":""},{"$f":"IF($B74=\"\",\"\",\nVLOOKUP($C74,'2. Unit Testing Results'!$C$5:$BD$13,40))","v":""},{"$f":"IF($B74=\"\",\"\",\nVLOOKUP($C74,'2. Unit Testing Results'!$C$5:$BD$13,42))","v":""},{"$f":"IF($B74=\"\",\"\",\nVLOOKUP($C74,'2. Unit Testing Results'!$C$5:$BD$13,44))","v":""},{"$f":"IF($B74=\"\",\"\",\nVLOOKUP($C74,'2. Unit Testing Results'!$C$5:$BD$13,46))","v":""},{"$f":"IF($B74=\"\",\"\",\nVLOOKUP($C74,'2. Unit Testing Results'!$C$5:$BD$13,48))","v":""},{"$f":"IF($B74=\"\",\"\",\nVLOOKUP($C74,'2. Unit Testing Results'!$C$5:$BD$13,50))","v":""},{"$f":"IF($B74=\"\",\"\",\nVLOOKUP($C74,'2. Unit Testing Results'!$C$5:$BD$13,51))","v":""},{"$f":"IF($B74=\"\",\"\",\nVLOOKUP($C74,'2. Unit Testing Results'!$C$5:$BD$13,52))","v":""},{"$f":"IF($B74=\"\",\"\",\nVLOOKUP($C74,'2. Unit Testing Results'!$C$5:$BD$13,53))","v":""},{"$f":"IF($B74=\"\",\"\",\nVLOOKUP($C74,'2. Unit Testing Results'!$C$5:$BD$13,54))","v":""}]
[null,{"$f":"IF('2. Unit Testing Results'!$C88=\"\",\"\",'2. Unit Testing Results'!$C88)","v":""},{"$f":"IF('2. Unit Testing Results'!$D88=\"\",\"\",'2. Unit Testing Results'!$D88)","v":""},{"$f":"IF('2. Unit Testing Results'!$E88=\"\",\"\",'2. Unit Testing Results'!$E88)","v":""},{"$f":"IF('2. Unit Testing Results'!$F88=\"\",\"\",'2. Unit Testing Results'!$F88)","v":""},null,{"$f":"IF($B75=\"\",\"\",\n(('2. Unit Testing Results'!$X88)*60)\n/((VLOOKUP($C75,'2. Unit Testing Results'!$C$5:$S$13,4))*(VLOOKUP($C75,'2. Unit Testing Results'!$C$5:$S$13,6)))\n)","v":""},{"$f":"IF($B75=\"\",\"\",\nVLOOKUP($C75,'2. Unit Testing Results'!$C$5:$BD$13,19))","v":""},{"$f":"IF($B75=\"\",\"\",\nVLOOKUP($C75,'2. Unit Testing Results'!$C$5:$BD$13,20))","v":""},{"$f":"IF($B75=\"\",\"\",\nVLOOKUP($C75,'2. Unit Testing Results'!$C$5:$BD$13,22))","v":""},{"$f":"IF($B75=\"\",\"\",\nVLOOKUP($C75,'2. Unit Testing Results'!$C$5:$BD$13,24))","v":""},{"$f":"IF($B75=\"\",\"\",\nVLOOKUP($C75,'2. Unit Testing Results'!$C$5:$BD$13,26))","v":""},{"$f":"IF($B75=\"\",\"\",\nVLOOKUP($C75,'2. Unit Testing Results'!$C$5:$BD$13,28))","v":""},{"$f":"IF($B75=\"\",\"\",'2. Unit Testing Results'!$Q88)","v":""},{"$f":"IF($B75=\"\",\"\",'2. Unit Testing Results'!$V88)","v":""},{"$f":"IF($B75=\"\",\"\",\nVLOOKUP($C75,'2. Unit Testing Results'!$C$5:$BD$13,30))","v":""},{"$f":"IF($B75=\"\",\"\",\nVLOOKUP($C75,'2. Unit Testing Results'!$C$5:$BD$13,32))","v":""},{"$f":"IF($B75=\"\",\"\",\nVLOOKUP($C75,'2. Unit Testing Results'!$C$5:$BD$13,34))","v":""},{"$f":"IF($B75=\"\",\"\",\nVLOOKUP($C75,'2. Unit Testing Results'!$C$5:$BD$13,36))","v":""},{"$f":"IF($B75=\"\",\"\",\nVLOOKUP($C75,'2. Unit Testing Results'!$C$5:$BD$13,38))","v":""},{"$f":"IF($B75=\"\",\"\",\nVLOOKUP($C75,'2. Unit Testing Results'!$C$5:$BD$13,39))","v":""},{"$f":"IF($B75=\"\",\"\",\nVLOOKUP($C75,'2. Unit Testing Results'!$C$5:$BD$13,40))","v":""},{"$f":"IF($B75=\"\",\"\",\nVLOOKUP($C75,'2. Unit Testing Results'!$C$5:$BD$13,42))","v":""},{"$f":"IF($B75=\"\",\"\",\nVLOOKUP($C75,'2. Unit Testing Results'!$C$5:$BD$13,44))","v":""},{"$f":"IF($B75=\"\",\"\",\nVLOOKUP($C75,'2. Unit Testing Results'!$C$5:$BD$13,46))","v":""},{"$f":"IF($B75=\"\",\"\",\nVLOOKUP($C75,'2. Unit Testing Results'!$C$5:$BD$13,48))","v":""},{"$f":"IF($B75=\"\",\"\",\nVLOOKUP($C75,'2. Unit Testing Results'!$C$5:$BD$13,50))","v":""},{"$f":"IF($B75=\"\",\"\",\nVLOOKUP($C75,'2. Unit Testing Results'!$C$5:$BD$13,51))","v":""},{"$f":"IF($B75=\"\",\"\",\nVLOOKUP($C75,'2. Unit Testing Results'!$C$5:$BD$13,52))","v":""},{"$f":"IF($B75=\"\",\"\",\nVLOOKUP($C75,'2. Unit Testing Results'!$C$5:$BD$13,53))","v":""},{"$f":"IF($B75=\"\",\"\",\nVLOOKUP($C75,'2. Unit Testing Results'!$C$5:$BD$13,54))","v":""}]
[null,{"$f":"IF('2. Unit Testing Results'!$C89=\"\",\"\",'2. Unit Testing Results'!$C89)","v":""},{"$f":"IF('2. Unit Testing Results'!$D89=\"\",\"\",'2. Unit Testing Results'!$D89)","v":""},{"$f":"IF('2. Unit Testing Results'!$E89=\"\",\"\",'2. Unit Testing Results'!$E89)","v":""},{"$f":"IF('2. Unit Testing Results'!$F89=\"\",\"\",'2. Unit Testing Results'!$F89)","v":""},null,{"$f":"IF($B76=\"\",\"\",\n(('2. Unit Testing Results'!$X89)*60)\n/((VLOOKUP($C76,'2. Unit Testing Results'!$C$5:$S$13,4))*(VLOOKUP($C76,'2. Unit Testing Results'!$C$5:$S$13,6)))\n)","v":""},{"$f":"IF($B76=\"\",\"\",\nVLOOKUP($C76,'2. Unit Testing Results'!$C$5:$BD$13,19))","v":""},{"$f":"IF($B76=\"\",\"\",\nVLOOKUP($C76,'2. Unit Testing Results'!$C$5:$BD$13,20))","v":""},{"$f":"IF($B76=\"\",\"\",\nVLOOKUP($C76,'2. Unit Testing Results'!$C$5:$BD$13,22))","v":""},{"$f":"IF($B76=\"\",\"\",\nVLOOKUP($C76,'2. Unit Testing Results'!$C$5:$BD$13,24))","v":""},{"$f":"IF($B76=\"\",\"\",\nVLOOKUP($C76,'2. Unit Testing Results'!$C$5:$BD$13,26))","v":""},{"$f":"IF($B76=\"\",\"\",\nVLOOKUP($C76,'2. Unit Testing Results'!$C$5:$BD$13,28))","v":""},{"$f":"IF($B76=\"\",\"\",'2. Unit Testing Results'!$Q89)","v":""},{"$f":"IF($B76=\"\",\"\",'2. Unit Testing Results'!$V89)","v":""},{"$f":"IF($B76=\"\",\"\",\nVLOOKUP($C76,'2. Unit Testing Results'!$C$5:$BD$13,30))","v":""},{"$f":"IF($B76=\"\",\"\",\nVLOOKUP($C76,'2. Unit Testing Results'!$C$5:$BD$13,32))","v":""},{"$f":"IF($B76=\"\",\"\",\nVLOOKUP($C76,'2. Unit Testing Results'!$C$5:$BD$13,34))","v":""},{"$f":"IF($B76=\"\",\"\",\nVLOOKUP($C76,'2. Unit Testing Results'!$C$5:$BD$13,36))","v":""},{"$f":"IF($B76=\"\",\"\",\nVLOOKUP($C76,'2. Unit Testing Results'!$C$5:$BD$13,38))","v":""},{"$f":"IF($B76=\"\",\"\",\nVLOOKUP($C76,'2. Unit Testing Results'!$C$5:$BD$13,39))","v":""},{"$f":"IF($B76=\"\",\"\",\nVLOOKUP($C76,'2. Unit Testing Results'!$C$5:$BD$13,40))","v":""},{"$f":"IF($B76=\"\",\"\",\nVLOOKUP($C76,'2. Unit Testing Results'!$C$5:$BD$13,42))","v":""},{"$f":"IF($B76=\"\",\"\",\nVLOOKUP($C76,'2. Unit Testing Results'!$C$5:$BD$13,44))","v":""},{"$f":"IF($B76=\"\",\"\",\nVLOOKUP($C76,'2. Unit Testing Results'!$C$5:$BD$13,46))","v":""},{"$f":"IF($B76=\"\",\"\",\nVLOOKUP($C76,'2. Unit Testing Results'!$C$5:$BD$13,48))","v":""},{"$f":"IF($B76=\"\",\"\",\nVLOOKUP($C76,'2. Unit Testing Results'!$C$5:$BD$13,50))","v":""},{"$f":"IF($B76=\"\",\"\",\nVLOOKUP($C76,'2. Unit Testing Results'!$C$5:$BD$13,51))","v":""},{"$f":"IF($B76=\"\",\"\",\nVLOOKUP($C76,'2. Unit Testing Results'!$C$5:$BD$13,52))","v":""},{"$f":"IF($B76=\"\",\"\",\nVLOOKUP($C76,'2. Unit Testing Results'!$C$5:$BD$13,53))","v":""},{"$f":"IF($B76=\"\",\"\",\nVLOOKUP($C76,'2. Unit Testing Results'!$C$5:$BD$13,54))","v":""}]
[null,{"$f":"IF('2. Unit Testing Results'!$C90=\"\",\"\",'2. Unit Testing Results'!$C90)","v":""},{"$f":"IF('2. Unit Testing Results'!$D90=\"\",\"\",'2. Unit Testing Results'!$D90)","v":""},{"$f":"IF('2. Unit Testing Results'!$E90=\"\",\"\",'2. Unit Testing Results'!$E90)","v":""},{"$f":"IF('2. Unit Testing Results'!$F90=\"\",\"\",'2. Unit Testing Results'!$F90)","v":""},null,{"$f":"IF($B77=\"\",\"\",\n(('2. Unit Testing Results'!$X90)*60)\n/((VLOOKUP($C77,'2. Unit Testing Results'!$C$5:$S$13,4))*(VLOOKUP($C77,'2. Unit Testing Results'!$C$5:$S$13,6)))\n)","v":""},{"$f":"IF($B77=\"\",\"\",\nVLOOKUP($C77,'2. Unit Testing Results'!$C$5:$BD$13,19))","v":""},{"$f":"IF($B77=\"\",\"\",\nVLOOKUP($C77,'2. Unit Testing Results'!$C$5:$BD$13,20))","v":""},{"$f":"IF($B77=\"\",\"\",\nVLOOKUP($C77,'2. Unit Testing Results'!$C$5:$BD$13,22))","v":""},{"$f":"IF($B77=\"\",\"\",\nVLOOKUP($C77,'2. Unit Testing Results'!$C$5:$BD$13,24))","v":""},{"$f":"IF($B77=\"\",\"\",\nVLOOKUP($C77,'2. Unit Testing Results'!$C$5:$BD$13,26))","v":""},{"$f":"IF($B77=\"\",\"\",\nVLOOKUP($C77,'2. Unit Testing Results'!$C$5:$BD$13,28))","v":""},{"$f":"IF($B77=\"\",\"\",'2. Unit Testing Results'!$Q90)","v":""},{"$f":"IF($B77=\"\",\"\",'2. Unit Testing Results'!$V90)","v":""},{"$f":"IF($B77=\"\",\"\",\nVLOOKUP($C77,'2. Unit Testing Results'!$C$5:$BD$13,30))","v":""},{"$f":"IF($B77=\"\",\"\",\nVLOOKUP($C77,'2. Unit Testing Results'!$C$5:$BD$13,32))","v":""},{"$f":"IF($B77=\"\",\"\",\nVLOOKUP($C77,'2. Unit Testing Results'!$C$5:$BD$13,34))","v":""},{"$f":"IF($B77=\"\",\"\",\nVLOOKUP($C77,'2. Unit Testing Results'!$C$5:$BD$13,36))","v":""},{"$f":"IF($B77=\"\",\"\",\nVLOOKUP($C77,'2. Unit Testing Results'!$C$5:$BD$13,38))","v":""},{"$f":"IF($B77=\"\",\"\",\nVLOOKUP($C77,'2. Unit Testing Results'!$C$5:$BD$13,39))","v":""},{"$f":"IF($B77=\"\",\"\",\nVLOOKUP($C77,'2. Unit Testing Results'!$C$5:$BD$13,40))","v":""},{"$f":"IF($B77=\"\",\"\",\nVLOOKUP($C77,'2. Unit Testing Results'!$C$5:$BD$13,42))","v":""},{"$f":"IF($B77=\"\",\"\",\nVLOOKUP($C77,'2. Unit Testing Results'!$C$5:$BD$13,44))","v":""},{"$f":"IF($B77=\"\",\"\",\nVLOOKUP($C77,'2. Unit Testing Results'!$C$5:$BD$13,46))","v":""},{"$f":"IF($B77=\"\",\"\",\nVLOOKUP($C77,'2. Unit Testing Results'!$C$5:$BD$13,48))","v":""},{"$f":"IF($B77=\"\",\"\",\nVLOOKUP($C77,'2. Unit Testing Results'!$C$5:$BD$13,50))","v":""},{"$f":"IF($B77=\"\",\"\",\nVLOOKUP($C77,'2. Unit Testing Results'!$C$5:$BD$13,51))","v":""},{"$f":"IF($B77=\"\",\"\",\nVLOOKUP($C77,'2. Unit Testing Results'!$C$5:$BD$13,52))","v":""},{"$f":"IF($B77=\"\",\"\",\nVLOOKUP($C77,'2. Unit Testing Results'!$C$5:$BD$13,53))","v":""},{"$f":"IF($B77=\"\",\"\",\nVLOOKUP($C77,'2. Unit Testing Results'!$C$5:$BD$13,54))","v":""}]
[null,{"$f":"IF('2. Unit Testing Results'!$C91=\"\",\"\",'2. Unit Testing Results'!$C91)","v":""},{"$f":"IF('2. Unit Testing Results'!$D91=\"\",\"\",'2. Unit Testing Results'!$D91)","v":""},{"$f":"IF('2. Unit Testing Results'!$E91=\"\",\"\",'2. Unit Testing Results'!$E91)","v":""},{"$f":"IF('2. Unit Testing Results'!$F91=\"\",\"\",'2. Unit Testing Results'!$F91)","v":""},null,{"$f":"IF($B78=\"\",\"\",\n(('2. Unit Testing Results'!$X91)*60)\n/((VLOOKUP($C78,'2. Unit Testing Results'!$C$5:$S$13,4))*(VLOOKUP($C78,'2. Unit Testing Results'!$C$5:$S$13,6)))\n)","v":""},{"$f":"IF($B78=\"\",\"\",\nVLOOKUP($C78,'2. Unit Testing Results'!$C$5:$BD$13,19))","v":""},{"$f":"IF($B78=\"\",\"\",\nVLOOKUP($C78,'2. Unit Testing Results'!$C$5:$BD$13,20))","v":""},{"$f":"IF($B78=\"\",\"\",\nVLOOKUP($C78,'2. Unit Testing Results'!$C$5:$BD$13,22))","v":""},{"$f":"IF($B78=\"\",\"\",\nVLOOKUP($C78,'2. Unit Testing Results'!$C$5:$BD$13,24))","v":""},{"$f":"IF($B78=\"\",\"\",\nVLOOKUP($C78,'2. Unit Testing Results'!$C$5:$BD$13,26))","v":""},{"$f":"IF($B78=\"\",\"\",\nVLOOKUP($C78,'2. Unit Testing Results'!$C$5:$BD$13,28))","v":""},{"$f":"IF($B78=\"\",\"\",'2. Unit Testing Results'!$Q91)","v":""},{"$f":"IF($B78=\"\",\"\",'2. Unit Testing Results'!$V91)","v":""},{"$f":"IF($B78=\"\",\"\",\nVLOOKUP($C78,'2. Unit Testing Results'!$C$5:$BD$13,30))","v":""},{"$f":"IF($B78=\"\",\"\",\nVLOOKUP($C78,'2. Unit Testing Results'!$C$5:$BD$13,32))","v":""},{"$f":"IF($B78=\"\",\"\",\nVLOOKUP($C78,'2. Unit Testing Results'!$C$5:$BD$13,34))","v":""},{"$f":"IF($B78=\"\",\"\",\nVLOOKUP($C78,'2. Unit Testing Results'!$C$5:$BD$13,36))","v":""},{"$f":"IF($B78=\"\",\"\",\nVLOOKUP($C78,'2. Unit Testing Results'!$C$5:$BD$13,38))","v":""},{"$f":"IF($B78=\"\",\"\",\nVLOOKUP($C78,'2. Unit Testing Results'!$C$5:$BD$13,39))","v":""},{"$f":"IF($B78=\"\",\"\",\nVLOOKUP($C78,'2. Unit Testing Results'!$C$5:$BD$13,40))","v":""},{"$f":"IF($B78=\"\",\"\",\nVLOOKUP($C78,'2. Unit Testing Results'!$C$5:$BD$13,42))","v":""},{"$f":"IF($B78=\"\",\"\",\nVLOOKUP($C78,'2. Unit Testing Results'!$C$5:$BD$13,44))","v":""},{"$f":"IF($B78=\"\",\"\",\nVLOOKUP($C78,'2. Unit Testing Results'!$C$5:$BD$13,46))","v":""},{"$f":"IF($B78=\"\",\"\",\nVLOOKUP($C78,'2. Unit Testing Results'!$C$5:$BD$13,48))","v":""},{"$f":"IF($B78=\"\",\"\",\nVLOOKUP($C78,'2. Unit Testing Results'!$C$5:$BD$13,50))","v":""},{"$f":"IF($B78=\"\",\"\",\nVLOOKUP($C78,'2. Unit Testing Results'!$C$5:$BD$13,51))","v":""},{"$f":"IF($B78=\"\",\"\",\nVLOOKUP($C78,'2. Unit Testing Results'!$C$5:$BD$13,52))","v":""},{"$f":"IF($B78=\"\",\"\",\nVLOOKUP($C78,'2. Unit Testing Results'!$C$5:$BD$13,53))","v":""},{"$f":"IF($B78=\"\",\"\",\nVLOOKUP($C78,'2. Unit Testing Results'!$C$5:$BD$13,54))","v":""}]
[null,{"$f":"IF('2. Unit Testing Results'!$C92=\"\",\"\",'2. Unit Testing Results'!$C92)","v":""},{"$f":"IF('2. Unit Testing Results'!$D92=\"\",\"\",'2. Unit Testing Results'!$D92)","v":""},{"$f":"IF('2. Unit Testing Results'!$E92=\"\",\"\",'2. Unit Testing Results'!$E92)","v":""},{"$f":"IF('2. Unit Testing Results'!$F92=\"\",\"\",'2. Unit Testing Results'!$F92)","v":""},null,{"$f":"IF($B79=\"\",\"\",\n(('2. Unit Testing Results'!$X92)*60)\n/((VLOOKUP($C79,'2. Unit Testing Results'!$C$5:$S$13,4))*(VLOOKUP($C79,'2. Unit Testing Results'!$C$5:$S$13,6)))\n)","v":""},{"$f":"IF($B79=\"\",\"\",\nVLOOKUP($C79,'2. Unit Testing Results'!$C$5:$BD$13,19))","v":""},{"$f":"IF($B79=\"\",\"\",\nVLOOKUP($C79,'2. Unit Testing Results'!$C$5:$BD$13,20))","v":""},{"$f":"IF($B79=\"\",\"\",\nVLOOKUP($C79,'2. Unit Testing Results'!$C$5:$BD$13,22))","v":""},{"$f":"IF($B79=\"\",\"\",\nVLOOKUP($C79,'2. Unit Testing Results'!$C$5:$BD$13,24))","v":""},{"$f":"IF($B79=\"\",\"\",\nVLOOKUP($C79,'2. Unit Testing Results'!$C$5:$BD$13,26))","v":""},{"$f":"IF($B79=\"\",\"\",\nVLOOKUP($C79,'2. Unit Testing Results'!$C$5:$BD$13,28))","v":""},{"$f":"IF($B79=\"\",\"\",'2. Unit Testing Results'!$Q92)","v":""},{"$f":"IF($B79=\"\",\"\",'2. Unit Testing Results'!$V92)","v":""},{"$f":"IF($B79=\"\",\"\",\nVLOOKUP($C79,'2. Unit Testing Results'!$C$5:$BD$13,30))","v":""},{"$f":"IF($B79=\"\",\"\",\nVLOOKUP($C79,'2. Unit Testing Results'!$C$5:$BD$13,32))","v":""},{"$f":"IF($B79=\"\",\"\",\nVLOOKUP($C79,'2. Unit Testing Results'!$C$5:$BD$13,34))","v":""},{"$f":"IF($B79=\"\",\"\",\nVLOOKUP($C79,'2. Unit Testing Results'!$C$5:$BD$13,36))","v":""},{"$f":"IF($B79=\"\",\"\",\nVLOOKUP($C79,'2. Unit Testing Results'!$C$5:$BD$13,38))","v":""},{"$f":"IF($B79=\"\",\"\",\nVLOOKUP($C79,'2. Unit Testing Results'!$C$5:$BD$13,39))","v":""},{"$f":"IF($B79=\"\",\"\",\nVLOOKUP($C79,'2. Unit Testing Results'!$C$5:$BD$13,40))","v":""},{"$f":"IF($B79=\"\",\"\",\nVLOOKUP($C79,'2. Unit Testing Results'!$C$5:$BD$13,42))","v":""},{"$f":"IF($B79=\"\",\"\",\nVLOOKUP($C79,'2. Unit Testing Results'!$C$5:$BD$13,44))","v":""},{"$f":"IF($B79=\"\",\"\",\nVLOOKUP($C79,'2. Unit Testing Results'!$C$5:$BD$13,46))","v":""},{"$f":"IF($B79=\"\",\"\",\nVLOOKUP($C79,'2. Unit Testing Results'!$C$5:$BD$13,48))","v":""},{"$f":"IF($B79=\"\",\"\",\nVLOOKUP($C79,'2. Unit Testing Results'!$C$5:$BD$13,50))","v":""},{"$f":"IF($B79=\"\",\"\",\nVLOOKUP($C79,'2. Unit Testing Results'!$C$5:$BD$13,51))","v":""},{"$f":"IF($B79=\"\",\"\",\nVLOOKUP($C79,'2. Unit Testing Results'!$C$5:$BD$13,52))","v":""},{"$f":"IF($B79=\"\",\"\",\nVLOOKUP($C79,'2. Unit Testing Results'!$C$5:$BD$13,53))","v":""},{"$f":"IF($B79=\"\",\"\",\nVLOOKUP($C79,'2. Unit Testing Results'!$C$5:$BD$13,54))","v":""}]
[null,{"$f":"IF('2. Unit Testing Results'!$C93=\"\",\"\",'2. Unit Testing Results'!$C93)","v":""},{"$f":"IF('2. Unit Testing Results'!$D93=\"\",\"\",'2. Unit Testing Results'!$D93)","v":""},{"$f":"IF('2. Unit Testing Results'!$E93=\"\",\"\",'2. Unit Testing Results'!$E93)","v":""},{"$f":"IF('2. Unit Testing Results'!$F93=\"\",\"\",'2. Unit Testing Results'!$F93)","v":""},null,{"$f":"IF($B80=\"\",\"\",\n(('2. Unit Testing Results'!$X93)*60)\n/((VLOOKUP($C80,'2. Unit Testing Results'!$C$5:$S$13,4))*(VLOOKUP($C80,'2. Unit Testing Results'!$C$5:$S$13,6)))\n)","v":""},{"$f":"IF($B80=\"\",\"\",\nVLOOKUP($C80,'2. Unit Testing Results'!$C$5:$BD$13,19))","v":""},{"$f":"IF($B80=\"\",\"\",\nVLOOKUP($C80,'2. Unit Testing Results'!$C$5:$BD$13,20))","v":""},{"$f":"IF($B80=\"\",\"\",\nVLOOKUP($C80,'2. Unit Testing Results'!$C$5:$BD$13,22))","v":""},{"$f":"IF($B80=\"\",\"\",\nVLOOKUP($C80,'2. Unit Testing Results'!$C$5:$BD$13,24))","v":""},{"$f":"IF($B80=\"\",\"\",\nVLOOKUP($C80,'2. Unit Testing Results'!$C$5:$BD$13,26))","v":""},{"$f":"IF($B80=\"\",\"\",\nVLOOKUP($C80,'2. Unit Testing Results'!$C$5:$BD$13,28))","v":""},{"$f":"IF($B80=\"\",\"\",'2. Unit Testing Results'!$Q93)","v":""},{"$f":"IF($B80=\"\",\"\",'2. Unit Testing Results'!$V93)","v":""},{"$f":"IF($B80=\"\",\"\",\nVLOOKUP($C80,'2. Unit Testing Results'!$C$5:$BD$13,30))","v":""},{"$f":"IF($B80=\"\",\"\",\nVLOOKUP($C80,'2. Unit Testing Results'!$C$5:$BD$13,32))","v":""},{"$f":"IF($B80=\"\",\"\",\nVLOOKUP($C80,'2. Unit Testing Results'!$C$5:$BD$13,34))","v":""},{"$f":"IF($B80=\"\",\"\",\nVLOOKUP($C80,'2. Unit Testing Results'!$C$5:$BD$13,36))","v":""},{"$f":"IF($B80=\"\",\"\",\nVLOOKUP($C80,'2. Unit Testing Results'!$C$5:$BD$13,38))","v":""},{"$f":"IF($B80=\"\",\"\",\nVLOOKUP($C80,'2. Unit Testing Results'!$C$5:$BD$13,39))","v":""},{"$f":"IF($B80=\"\",\"\",\nVLOOKUP($C80,'2. Unit Testing Results'!$C$5:$BD$13,40))","v":""},{"$f":"IF($B80=\"\",\"\",\nVLOOKUP($C80,'2. Unit Testing Results'!$C$5:$BD$13,42))","v":""},{"$f":"IF($B80=\"\",\"\",\nVLOOKUP($C80,'2. Unit Testing Results'!$C$5:$BD$13,44))","v":""},{"$f":"IF($B80=\"\",\"\",\nVLOOKUP($C80,'2. Unit Testing Results'!$C$5:$BD$13,46))","v":""},{"$f":"IF($B80=\"\",\"\",\nVLOOKUP($C80,'2. Unit Testing Results'!$C$5:$BD$13,48))","v":""},{"$f":"IF($B80=\"\",\"\",\nVLOOKUP($C80,'2. Unit Testing Results'!$C$5:$BD$13,50))","v":""},{"$f":"IF($B80=\"\",\"\",\nVLOOKUP($C80,'2. Unit Testing Results'!$C$5:$BD$13,51))","v":""},{"$f":"IF($B80=\"\",\"\",\nVLOOKUP($C80,'2. Unit Testing Results'!$C$5:$BD$13,52))","v":""},{"$f":"IF($B80=\"\",\"\",\nVLOOKUP($C80,'2. Unit Testing Results'!$C$5:$BD$13,53))","v":""},{"$f":"IF($B80=\"\",\"\",\nVLOOKUP($C80,'2. Unit Testing Results'!$C$5:$BD$13,54))","v":""}]
[null,{"$f":"IF('2. Unit Testing Results'!$C94=\"\",\"\",'2. Unit Testing Results'!$C94)","v":""},{"$f":"IF('2. Unit Testing Results'!$D94=\"\",\"\",'2. Unit Testing Results'!$D94)","v":""},{"$f":"IF('2. Unit Testing Results'!$E94=\"\",\"\",'2. Unit Testing Results'!$E94)","v":""},{"$f":"IF('2. Unit Testing Results'!$F94=\"\",\"\",'2. Unit Testing Results'!$F94)","v":""},null,{"$f":"IF($B81=\"\",\"\",\n(('2. Unit Testing Results'!$X94)*60)\n/((VLOOKUP($C81,'2. Unit Testing Results'!$C$5:$S$13,4))*(VLOOKUP($C81,'2. Unit Testing Results'!$C$5:$S$13,6)))\n)","v":""},{"$f":"IF($B81=\"\",\"\",\nVLOOKUP($C81,'2. Unit Testing Results'!$C$5:$BD$13,19))","v":""},{"$f":"IF($B81=\"\",\"\",\nVLOOKUP($C81,'2. Unit Testing Results'!$C$5:$BD$13,20))","v":""},{"$f":"IF($B81=\"\",\"\",\nVLOOKUP($C81,'2. Unit Testing Results'!$C$5:$BD$13,22))","v":""},{"$f":"IF($B81=\"\",\"\",\nVLOOKUP($C81,'2. Unit Testing Results'!$C$5:$BD$13,24))","v":""},{"$f":"IF($B81=\"\",\"\",\nVLOOKUP($C81,'2. Unit Testing Results'!$C$5:$BD$13,26))","v":""},{"$f":"IF($B81=\"\",\"\",\nVLOOKUP($C81,'2. Unit Testing Results'!$C$5:$BD$13,28))","v":""},{"$f":"IF($B81=\"\",\"\",'2. Unit Testing Results'!$Q94)","v":""},{"$f":"IF($B81=\"\",\"\",'2. Unit Testing Results'!$V94)","v":""},{"$f":"IF($B81=\"\",\"\",\nVLOOKUP($C81,'2. Unit Testing Results'!$C$5:$BD$13,30))","v":""},{"$f":"IF($B81=\"\",\"\",\nVLOOKUP($C81,'2. Unit Testing Results'!$C$5:$BD$13,32))","v":""},{"$f":"IF($B81=\"\",\"\",\nVLOOKUP($C81,'2. Unit Testing Results'!$C$5:$BD$13,34))","v":""},{"$f":"IF($B81=\"\",\"\",\nVLOOKUP($C81,'2. Unit Testing Results'!$C$5:$BD$13,36))","v":""},{"$f":"IF($B81=\"\",\"\",\nVLOOKUP($C81,'2. Unit Testing Results'!$C$5:$BD$13,38))","v":""},{"$f":"IF($B81=\"\",\"\",\nVLOOKUP($C81,'2. Unit Testing Results'!$C$5:$BD$13,39))","v":""},{"$f":"IF($B81=\"\",\"\",\nVLOOKUP($C81,'2. Unit Testing Results'!$C$5:$BD$13,40))","v":""},{"$f":"IF($B81=\"\",\"\",\nVLOOKUP($C81,'2. Unit Testing Results'!$C$5:$BD$13,42))","v":""},{"$f":"IF($B81=\"\",\"\",\nVLOOKUP($C81,'2. Unit Testing Results'!$C$5:$BD$13,44))","v":""},{"$f":"IF($B81=\"\",\"\",\nVLOOKUP($C81,'2. Unit Testing Results'!$C$5:$BD$13,46))","v":""},{"$f":"IF($B81=\"\",\"\",\nVLOOKUP($C81,'2. Unit Testing Results'!$C$5:$BD$13,48))","v":""},{"$f":"IF($B81=\"\",\"\",\nVLOOKUP($C81,'2. Unit Testing Results'!$C$5:$BD$13,50))","v":""},{"$f":"IF($B81=\"\",\"\",\nVLOOKUP($C81,'2. Unit Testing Results'!$C$5:$BD$13,51))","v":""},{"$f":"IF($B81=\"\",\"\",\nVLOOKUP($C81,'2. Unit Testing Results'!$C$5:$BD$13,52))","v":""},{"$f":"IF($B81=\"\",\"\",\nVLOOKUP($C81,'2. Unit Testing Results'!$C$5:$BD$13,53))","v":""},{"$f":"IF($B81=\"\",\"\",\nVLOOKUP($C81,'2. Unit Testing Results'!$C$5:$BD$13,54))","v":""}]
[null,{"$f":"IF('2. Unit Testing Results'!$C95=\"\",\"\",'2. Unit Testing Results'!$C95)","v":""},{"$f":"IF('2. Unit Testing Results'!$D95=\"\",\"\",'2. Unit Testing Results'!$D95)","v":""},{"$f":"IF('2. Unit Testing Results'!$E95=\"\",\"\",'2. Unit Testing Results'!$E95)","v":""},{"$f":"IF('2. Unit Testing Results'!$F95=\"\",\"\",'2. Unit Testing Results'!$F95)","v":""},null,{"$f":"IF($B82=\"\",\"\",\n(('2. Unit Testing Results'!$X95)*60)\n/((VLOOKUP($C82,'2. Unit Testing Results'!$C$5:$S$13,4))*(VLOOKUP($C82,'2. Unit Testing Results'!$C$5:$S$13,6)))\n)","v":""},{"$f":"IF($B82=\"\",\"\",\nVLOOKUP($C82,'2. Unit Testing Results'!$C$5:$BD$13,19))","v":""},{"$f":"IF($B82=\"\",\"\",\nVLOOKUP($C82,'2. Unit Testing Results'!$C$5:$BD$13,20))","v":""},{"$f":"IF($B82=\"\",\"\",\nVLOOKUP($C82,'2. Unit Testing Results'!$C$5:$BD$13,22))","v":""},{"$f":"IF($B82=\"\",\"\",\nVLOOKUP($C82,'2. Unit Testing Results'!$C$5:$BD$13,24))","v":""},{"$f":"IF($B82=\"\",\"\",\nVLOOKUP($C82,'2. Unit Testing Results'!$C$5:$BD$13,26))","v":""},{"$f":"IF($B82=\"\",\"\",\nVLOOKUP($C82,'2. Unit Testing Results'!$C$5:$BD$13,28))","v":""},{"$f":"IF($B82=\"\",\"\",'2. Unit Testing Results'!$Q95)","v":""},{"$f":"IF($B82=\"\",\"\",'2. Unit Testing Results'!$V95)","v":""},{"$f":"IF($B82=\"\",\"\",\nVLOOKUP($C82,'2. Unit Testing Results'!$C$5:$BD$13,30))","v":""},{"$f":"IF($B82=\"\",\"\",\nVLOOKUP($C82,'2. Unit Testing Results'!$C$5:$BD$13,32))","v":""},{"$f":"IF($B82=\"\",\"\",\nVLOOKUP($C82,'2. Unit Testing Results'!$C$5:$BD$13,34))","v":""},{"$f":"IF($B82=\"\",\"\",\nVLOOKUP($C82,'2. Unit Testing Results'!$C$5:$BD$13,36))","v":""},{"$f":"IF($B82=\"\",\"\",\nVLOOKUP($C82,'2. Unit Testing Results'!$C$5:$BD$13,38))","v":""},{"$f":"IF($B82=\"\",\"\",\nVLOOKUP($C82,'2. Unit Testing Results'!$C$5:$BD$13,39))","v":""},{"$f":"IF($B82=\"\",\"\",\nVLOOKUP($C82,'2. Unit Testing Results'!$C$5:$BD$13,40))","v":""},{"$f":"IF($B82=\"\",\"\",\nVLOOKUP($C82,'2. Unit Testing Results'!$C$5:$BD$13,42))","v":""},{"$f":"IF($B82=\"\",\"\",\nVLOOKUP($C82,'2. Unit Testing Results'!$C$5:$BD$13,44))","v":""},{"$f":"IF($B82=\"\",\"\",\nVLOOKUP($C82,'2. Unit Testing Results'!$C$5:$BD$13,46))","v":""},{"$f":"IF($B82=\"\",\"\",\nVLOOKUP($C82,'2. Unit Testing Results'!$C$5:$BD$13,48))","v":""},{"$f":"IF($B82=\"\",\"\",\nVLOOKUP($C82,'2. Unit Testing Results'!$C$5:$BD$13,50))","v":""},{"$f":"IF($B82=\"\",\"\",\nVLOOKUP($C82,'2. Unit Testing Results'!$C$5:$BD$13,51))","v":""},{"$f":"IF($B82=\"\",\"\",\nVLOOKUP($C82,'2. Unit Testing Results'!$C$5:$BD$13,52))","v":""},{"$f":"IF($B82=\"\",\"\",\nVLOOKUP($C82,'2. Unit Testing Results'!$C$5:$BD$13,53))","v":""},{"$f":"IF($B82=\"\",\"\",\nVLOOKUP($C82,'2. Unit Testing Results'!$C$5:$BD$13,54))","v":""}]
[null,{"$f":"IF('2. Unit Testing Results'!$C96=\"\",\"\",'2. Unit Testing Results'!$C96)","v":""},{"$f":"IF('2. Unit Testing Results'!$D96=\"\",\"\",'2. Unit Testing Results'!$D96)","v":""},{"$f":"IF('2. Unit Testing Results'!$E96=\"\",\"\",'2. Unit Testing Results'!$E96)","v":""},{"$f":"IF('2. Unit Testing Results'!$F96=\"\",\"\",'2. Unit Testing Results'!$F96)","v":""},null,{"$f":"IF($B83=\"\",\"\",\n(('2. Unit Testing Results'!$X96)*60)\n/((VLOOKUP($C83,'2. Unit Testing Results'!$C$5:$S$13,4))*(VLOOKUP($C83,'2. Unit Testing Results'!$C$5:$S$13,6)))\n)","v":""},{"$f":"IF($B83=\"\",\"\",\nVLOOKUP($C83,'2. Unit Testing Results'!$C$5:$BD$13,19))","v":""},{"$f":"IF($B83=\"\",\"\",\nVLOOKUP($C83,'2. Unit Testing Results'!$C$5:$BD$13,20))","v":""},{"$f":"IF($B83=\"\",\"\",\nVLOOKUP($C83,'2. Unit Testing Results'!$C$5:$BD$13,22))","v":""},{"$f":"IF($B83=\"\",\"\",\nVLOOKUP($C83,'2. Unit Testing Results'!$C$5:$BD$13,24))","v":""},{"$f":"IF($B83=\"\",\"\",\nVLOOKUP($C83,'2. Unit Testing Results'!$C$5:$BD$13,26))","v":""},{"$f":"IF($B83=\"\",\"\",\nVLOOKUP($C83,'2. Unit Testing Results'!$C$5:$BD$13,28))","v":""},{"$f":"IF($B83=\"\",\"\",'2. Unit Testing Results'!$Q96)","v":""},{"$f":"IF($B83=\"\",\"\",'2. Unit Testing Results'!$V96)","v":""},{"$f":"IF($B83=\"\",\"\",\nVLOOKUP($C83,'2. Unit Testing Results'!$C$5:$BD$13,30))","v":""},{"$f":"IF($B83=\"\",\"\",\nVLOOKUP($C83,'2. Unit Testing Results'!$C$5:$BD$13,32))","v":""},{"$f":"IF($B83=\"\",\"\",\nVLOOKUP($C83,'2. Unit Testing Results'!$C$5:$BD$13,34))","v":""},{"$f":"IF($B83=\"\",\"\",\nVLOOKUP($C83,'2. Unit Testing Results'!$C$5:$BD$13,36))","v":""},{"$f":"IF($B83=\"\",\"\",\nVLOOKUP($C83,'2. Unit Testing Results'!$C$5:$BD$13,38))","v":""},{"$f":"IF($B83=\"\",\"\",\nVLOOKUP($C83,'2. Unit Testing Results'!$C$5:$BD$13,39))","v":""},{"$f":"IF($B83=\"\",\"\",\nVLOOKUP($C83,'2. Unit Testing Results'!$C$5:$BD$13,40))","v":""},{"$f":"IF($B83=\"\",\"\",\nVLOOKUP($C83,'2. Unit Testing Results'!$C$5:$BD$13,42))","v":""},{"$f":"IF($B83=\"\",\"\",\nVLOOKUP($C83,'2. Unit Testing Results'!$C$5:$BD$13,44))","v":""},{"$f":"IF($B83=\"\",\"\",\nVLOOKUP($C83,'2. Unit Testing Results'!$C$5:$BD$13,46))","v":""},{"$f":"IF($B83=\"\",\"\",\nVLOOKUP($C83,'2. Unit Testing Results'!$C$5:$BD$13,48))","v":""},{"$f":"IF($B83=\"\",\"\",\nVLOOKUP($C83,'2. Unit Testing Results'!$C$5:$BD$13,50))","v":""},{"$f":"IF($B83=\"\",\"\",\nVLOOKUP($C83,'2. Unit Testing Results'!$C$5:$BD$13,51))","v":""},{"$f":"IF($B83=\"\",\"\",\nVLOOKUP($C83,'2. Unit Testing Results'!$C$5:$BD$13,52))","v":""},{"$f":"IF($B83=\"\",\"\",\nVLOOKUP($C83,'2. Unit Testing Results'!$C$5:$BD$13,53))","v":""},{"$f":"IF($B83=\"\",\"\",\nVLOOKUP($C83,'2. Unit Testing Results'!$C$5:$BD$13,54))","v":""}]
[null,{"$f":"IF('2. Unit Testing Results'!$C97=\"\",\"\",'2. Unit Testing Results'!$C97)","v":""},{"$f":"IF('2. Unit Testing Results'!$D97=\"\",\"\",'2. Unit Testing Results'!$D97)","v":""},{"$f":"IF('2. Unit Testing Results'!$E97=\"\",\"\",'2. Unit Testing Results'!$E97)","v":""},{"$f":"IF('2. Unit Testing Results'!$F97=\"\",\"\",'2. Unit Testing Results'!$F97)","v":""},null,{"$f":"IF($B84=\"\",\"\",\n(('2. Unit Testing Results'!$X97)*60)\n/((VLOOKUP($C84,'2. Unit Testing Results'!$C$5:$S$13,4))*(VLOOKUP($C84,'2. Unit Testing Results'!$C$5:$S$13,6)))\n)","v":""},{"$f":"IF($B84=\"\",\"\",\nVLOOKUP($C84,'2. Unit Testing Results'!$C$5:$BD$13,19))","v":""},{"$f":"IF($B84=\"\",\"\",\nVLOOKUP($C84,'2. Unit Testing Results'!$C$5:$BD$13,20))","v":""},{"$f":"IF($B84=\"\",\"\",\nVLOOKUP($C84,'2. Unit Testing Results'!$C$5:$BD$13,22))","v":""},{"$f":"IF($B84=\"\",\"\",\nVLOOKUP($C84,'2. Unit Testing Results'!$C$5:$BD$13,24))","v":""},{"$f":"IF($B84=\"\",\"\",\nVLOOKUP($C84,'2. Unit Testing Results'!$C$5:$BD$13,26))","v":""},{"$f":"IF($B84=\"\",\"\",\nVLOOKUP($C84,'2. Unit Testing Results'!$C$5:$BD$13,28))","v":""},{"$f":"IF($B84=\"\",\"\",'2. Unit Testing Results'!$Q97)","v":""},{"$f":"IF($B84=\"\",\"\",'2. Unit Testing Results'!$V97)","v":""},{"$f":"IF($B84=\"\",\"\",\nVLOOKUP($C84,'2. Unit Testing Results'!$C$5:$BD$13,30))","v":""},{"$f":"IF($B84=\"\",\"\",\nVLOOKUP($C84,'2. Unit Testing Results'!$C$5:$BD$13,32))","v":""},{"$f":"IF($B84=\"\",\"\",\nVLOOKUP($C84,'2. Unit Testing Results'!$C$5:$BD$13,34))","v":""},{"$f":"IF($B84=\"\",\"\",\nVLOOKUP($C84,'2. Unit Testing Results'!$C$5:$BD$13,36))","v":""},{"$f":"IF($B84=\"\",\"\",\nVLOOKUP($C84,'2. Unit Testing Results'!$C$5:$BD$13,38))","v":""},{"$f":"IF($B84=\"\",\"\",\nVLOOKUP($C84,'2. Unit Testing Results'!$C$5:$BD$13,39))","v":""},{"$f":"IF($B84=\"\",\"\",\nVLOOKUP($C84,'2. Unit Testing Results'!$C$5:$BD$13,40))","v":""},{"$f":"IF($B84=\"\",\"\",\nVLOOKUP($C84,'2. Unit Testing Results'!$C$5:$BD$13,42))","v":""},{"$f":"IF($B84=\"\",\"\",\nVLOOKUP($C84,'2. Unit Testing Results'!$C$5:$BD$13,44))","v":""},{"$f":"IF($B84=\"\",\"\",\nVLOOKUP($C84,'2. Unit Testing Results'!$C$5:$BD$13,46))","v":""},{"$f":"IF($B84=\"\",\"\",\nVLOOKUP($C84,'2. Unit Testing Results'!$C$5:$BD$13,48))","v":""},{"$f":"IF($B84=\"\",\"\",\nVLOOKUP($C84,'2. Unit Testing Results'!$C$5:$BD$13,50))","v":""},{"$f":"IF($B84=\"\",\"\",\nVLOOKUP($C84,'2. Unit Testing Results'!$C$5:$BD$13,51))","v":""},{"$f":"IF($B84=\"\",\"\",\nVLOOKUP($C84,'2. Unit Testing Results'!$C$5:$BD$13,52))","v":""},{"$f":"IF($B84=\"\",\"\",\nVLOOKUP($C84,'2. Unit Testing Results'!$C$5:$BD$13,53))","v":""},{"$f":"IF($B84=\"\",\"\",\nVLOOKUP($C84,'2. Unit Testing Results'!$C$5:$BD$13,54))","v":""}]
[null,{"$f":"IF('2. Unit Testing Results'!$C98=\"\",\"\",'2. Unit Testing Results'!$C98)","v":""},{"$f":"IF('2. Unit Testing Results'!$D98=\"\",\"\",'2. Unit Testing Results'!$D98)","v":""},{"$f":"IF('2. Unit Testing Results'!$E98=\"\",\"\",'2. Unit Testing Results'!$E98)","v":""},{"$f":"IF('2. Unit Testing Results'!$F98=\"\",\"\",'2. Unit Testing Results'!$F98)","v":""},null,{"$f":"IF($B85=\"\",\"\",\n(('2. Unit Testing Results'!$X98)*60)\n/((VLOOKUP($C85,'2. Unit Testing Results'!$C$5:$S$13,4))*(VLOOKUP($C85,'2. Unit Testing Results'!$C$5:$S$13,6)))\n)","v":""},{"$f":"IF($B85=\"\",\"\",\nVLOOKUP($C85,'2. Unit Testing Results'!$C$5:$BD$13,19))","v":""},{"$f":"IF($B85=\"\",\"\",\nVLOOKUP($C85,'2. Unit Testing Results'!$C$5:$BD$13,20))","v":""},{"$f":"IF($B85=\"\",\"\",\nVLOOKUP($C85,'2. Unit Testing Results'!$C$5:$BD$13,22))","v":""},{"$f":"IF($B85=\"\",\"\",\nVLOOKUP($C85,'2. Unit Testing Results'!$C$5:$BD$13,24))","v":""},{"$f":"IF($B85=\"\",\"\",\nVLOOKUP($C85,'2. Unit Testing Results'!$C$5:$BD$13,26))","v":""},{"$f":"IF($B85=\"\",\"\",\nVLOOKUP($C85,'2. Unit Testing Results'!$C$5:$BD$13,28))","v":""},{"$f":"IF($B85=\"\",\"\",'2. Unit Testing Results'!$Q98)","v":""},{"$f":"IF($B85=\"\",\"\",'2. Unit Testing Results'!$V98)","v":""},{"$f":"IF($B85=\"\",\"\",\nVLOOKUP($C85,'2. Unit Testing Results'!$C$5:$BD$13,30))","v":""},{"$f":"IF($B85=\"\",\"\",\nVLOOKUP($C85,'2. Unit Testing Results'!$C$5:$BD$13,32))","v":""},{"$f":"IF($B85=\"\",\"\",\nVLOOKUP($C85,'2. Unit Testing Results'!$C$5:$BD$13,34))","v":""},{"$f":"IF($B85=\"\",\"\",\nVLOOKUP($C85,'2. Unit Testing Results'!$C$5:$BD$13,36))","v":""},{"$f":"IF($B85=\"\",\"\",\nVLOOKUP($C85,'2. Unit Testing Results'!$C$5:$BD$13,38))","v":""},{"$f":"IF($B85=\"\",\"\",\nVLOOKUP($C85,'2. Unit Testing Results'!$C$5:$BD$13,39))","v":""},{"$f":"IF($B85=\"\",\"\",\nVLOOKUP($C85,'2. Unit Testing Results'!$C$5:$BD$13,40))","v":""},{"$f":"IF($B85=\"\",\"\",\nVLOOKUP($C85,'2. Unit Testing Results'!$C$5:$BD$13,42))","v":""},{"$f":"IF($B85=\"\",\"\",\nVLOOKUP($C85,'2. Unit Testing Results'!$C$5:$BD$13,44))","v":""},{"$f":"IF($B85=\"\",\"\",\nVLOOKUP($C85,'2. Unit Testing Results'!$C$5:$BD$13,46))","v":""},{"$f":"IF($B85=\"\",\"\",\nVLOOKUP($C85,'2. Unit Testing Results'!$C$5:$BD$13,48))","v":""},{"$f":"IF($B85=\"\",\"\",\nVLOOKUP($C85,'2. Unit Testing Results'!$C$5:$BD$13,50))","v":""},{"$f":"IF($B85=\"\",\"\",\nVLOOKUP($C85,'2. Unit Testing Results'!$C$5:$BD$13,51))","v":""},{"$f":"IF($B85=\"\",\"\",\nVLOOKUP($C85,'2. Unit Testing Results'!$C$5:$BD$13,52))","v":""},{"$f":"IF($B85=\"\",\"\",\nVLOOKUP($C85,'2. Unit Testing Results'!$C$5:$BD$13,53))","v":""},{"$f":"IF($B85=\"\",\"\",\nVLOOKUP($C85,'2. Unit Testing Results'!$C$5:$BD$13,54))","v":""}]
[null,{"$f":"IF('2. Unit Testing Results'!$C99=\"\",\"\",'2. Unit Testing Results'!$C99)","v":""},{"$f":"IF('2. Unit Testing Results'!$D99=\"\",\"\",'2. Unit Testing Results'!$D99)","v":""},{"$f":"IF('2. Unit Testing Results'!$E99=\"\",\"\",'2. Unit Testing Results'!$E99)","v":""},{"$f":"IF('2. Unit Testing Results'!$F99=\"\",\"\",'2. Unit Testing Results'!$F99)","v":""},null,{"$f":"IF($B86=\"\",\"\",\n(('2. Unit Testing Results'!$X99)*60)\n/((VLOOKUP($C86,'2. Unit Testing Results'!$C$5:$S$13,4))*(VLOOKUP($C86,'2. Unit Testing Results'!$C$5:$S$13,6)))\n)","v":""},{"$f":"IF($B86=\"\",\"\",\nVLOOKUP($C86,'2. Unit Testing Results'!$C$5:$BD$13,19))","v":""},{"$f":"IF($B86=\"\",\"\",\nVLOOKUP($C86,'2. Unit Testing Results'!$C$5:$BD$13,20))","v":""},{"$f":"IF($B86=\"\",\"\",\nVLOOKUP($C86,'2. Unit Testing Results'!$C$5:$BD$13,22))","v":""},{"$f":"IF($B86=\"\",\"\",\nVLOOKUP($C86,'2. Unit Testing Results'!$C$5:$BD$13,24))","v":""},{"$f":"IF($B86=\"\",\"\",\nVLOOKUP($C86,'2. Unit Testing Results'!$C$5:$BD$13,26))","v":""},{"$f":"IF($B86=\"\",\"\",\nVLOOKUP($C86,'2. Unit Testing Results'!$C$5:$BD$13,28))","v":""},{"$f":"IF($B86=\"\",\"\",'2. Unit Testing Results'!$Q99)","v":""},{"$f":"IF($B86=\"\",\"\",'2. Unit Testing Results'!$V99)","v":""},{"$f":"IF($B86=\"\",\"\",\nVLOOKUP($C86,'2. Unit Testing Results'!$C$5:$BD$13,30))","v":""},{"$f":"IF($B86=\"\",\"\",\nVLOOKUP($C86,'2. Unit Testing Results'!$C$5:$BD$13,32))","v":""},{"$f":"IF($B86=\"\",\"\",\nVLOOKUP($C86,'2. Unit Testing Results'!$C$5:$BD$13,34))","v":""},{"$f":"IF($B86=\"\",\"\",\nVLOOKUP($C86,'2. Unit Testing Results'!$C$5:$BD$13,36))","v":""},{"$f":"IF($B86=\"\",\"\",\nVLOOKUP($C86,'2. Unit Testing Results'!$C$5:$BD$13,38))","v":""},{"$f":"IF($B86=\"\",\"\",\nVLOOKUP($C86,'2. Unit Testing Results'!$C$5:$BD$13,39))","v":""},{"$f":"IF($B86=\"\",\"\",\nVLOOKUP($C86,'2. Unit Testing Results'!$C$5:$BD$13,40))","v":""},{"$f":"IF($B86=\"\",\"\",\nVLOOKUP($C86,'2. Unit Testing Results'!$C$5:$BD$13,42))","v":""},{"$f":"IF($B86=\"\",\"\",\nVLOOKUP($C86,'2. Unit Testing Results'!$C$5:$BD$13,44))","v":""},{"$f":"IF($B86=\"\",\"\",\nVLOOKUP($C86,'2. Unit Testing Results'!$C$5:$BD$13,46))","v":""},{"$f":"IF($B86=\"\",\"\",\nVLOOKUP($C86,'2. Unit Testing Results'!$C$5:$BD$13,48))","v":""},{"$f":"IF($B86=\"\",\"\",\nVLOOKUP($C86,'2. Unit Testing Results'!$C$5:$BD$13,50))","v":""},{"$f":"IF($B86=\"\",\"\",\nVLOOKUP($C86,'2. Unit Testing Results'!$C$5:$BD$13,51))","v":""},{"$f":"IF($B86=\"\",\"\",\nVLOOKUP($C86,'2. Unit Testing Results'!$C$5:$BD$13,52))","v":""},{"$f":"IF($B86=\"\",\"\",\nVLOOKUP($C86,'2. Unit Testing Results'!$C$5:$BD$13,53))","v":""},{"$f":"IF($B86=\"\",\"\",\nVLOOKUP($C86,'2. Unit Testing Results'!$C$5:$BD$13,54))","v":""}]
[null,{"$f":"IF('2. Unit Testing Results'!$C100=\"\",\"\",'2. Unit Testing Results'!$C100)","v":""},{"$f":"IF('2. Unit Testing Results'!$D100=\"\",\"\",'2. Unit Testing Results'!$D100)","v":""},{"$f":"IF('2. Unit Testing Results'!$E100=\"\",\"\",'2. Unit Testing Results'!$E100)","v":""},{"$f":"IF('2. Unit Testing Results'!$F100=\"\",\"\",'2. Unit Testing Results'!$F100)","v":""},null,{"$f":"IF($B87=\"\",\"\",\n(('2. Unit Testing Results'!$X100)*60)\n/((VLOOKUP($C87,'2. Unit Testing Results'!$C$5:$S$13,4))*(VLOOKUP($C87,'2. Unit Testing Results'!$C$5:$S$13,6)))\n)","v":""},{"$f":"IF($B87=\"\",\"\",\nVLOOKUP($C87,'2. Unit Testing Results'!$C$5:$BD$13,19))","v":""},{"$f":"IF($B87=\"\",\"\",\nVLOOKUP($C87,'2. Unit Testing Results'!$C$5:$BD$13,20))","v":""},{"$f":"IF($B87=\"\",\"\",\nVLOOKUP($C87,'2. Unit Testing Results'!$C$5:$BD$13,22))","v":""},{"$f":"IF($B87=\"\",\"\",\nVLOOKUP($C87,'2. Unit Testing Results'!$C$5:$BD$13,24))","v":""},{"$f":"IF($B87=\"\",\"\",\nVLOOKUP($C87,'2. Unit Testing Results'!$C$5:$BD$13,26))","v":""},{"$f":"IF($B87=\"\",\"\",\nVLOOKUP($C87,'2. Unit Testing Results'!$C$5:$BD$13,28))","v":""},{"$f":"IF($B87=\"\",\"\",'2. Unit Testing Results'!$Q100)","v":""},{"$f":"IF($B87=\"\",\"\",'2. Unit Testing Results'!$V100)","v":""},{"$f":"IF($B87=\"\",\"\",\nVLOOKUP($C87,'2. Unit Testing Results'!$C$5:$BD$13,30))","v":""},{"$f":"IF($B87=\"\",\"\",\nVLOOKUP($C87,'2. Unit Testing Results'!$C$5:$BD$13,32))","v":""},{"$f":"IF($B87=\"\",\"\",\nVLOOKUP($C87,'2. Unit Testing Results'!$C$5:$BD$13,34))","v":""},{"$f":"IF($B87=\"\",\"\",\nVLOOKUP($C87,'2. Unit Testing Results'!$C$5:$BD$13,36))","v":""},{"$f":"IF($B87=\"\",\"\",\nVLOOKUP($C87,'2. Unit Testing Results'!$C$5:$BD$13,38))","v":""},{"$f":"IF($B87=\"\",\"\",\nVLOOKUP($C87,'2. Unit Testing Results'!$C$5:$BD$13,39))","v":""},{"$f":"IF($B87=\"\",\"\",\nVLOOKUP($C87,'2. Unit Testing Results'!$C$5:$BD$13,40))","v":""},{"$f":"IF($B87=\"\",\"\",\nVLOOKUP($C87,'2. Unit Testing Results'!$C$5:$BD$13,42))","v":""},{"$f":"IF($B87=\"\",\"\",\nVLOOKUP($C87,'2. Unit Testing Results'!$C$5:$BD$13,44))","v":""},{"$f":"IF($B87=\"\",\"\",\nVLOOKUP($C87,'2. Unit Testing Results'!$C$5:$BD$13,46))","v":""},{"$f":"IF($B87=\"\",\"\",\nVLOOKUP($C87,'2. Unit Testing Results'!$C$5:$BD$13,48))","v":""},{"$f":"IF($B87=\"\",\"\",\nVLOOKUP($C87,'2. Unit Testing Results'!$C$5:$BD$13,50))","v":""},{"$f":"IF($B87=\"\",\"\",\nVLOOKUP($C87,'2. Unit Testing Results'!$C$5:$BD$13,51))","v":""},{"$f":"IF($B87=\"\",\"\",\nVLOOKUP($C87,'2. Unit Testing Results'!$C$5:$BD$13,52))","v":""},{"$f":"IF($B87=\"\",\"\",\nVLOOKUP($C87,'2. Unit Testing Results'!$C$5:$BD$13,53))","v":""},{"$f":"IF($B87=\"\",\"\",\nVLOOKUP($C87,'2. Unit Testing Results'!$C$5:$BD$13,54))","v":""}]
[null,{"$f":"IF('2. Unit Testing Results'!$C101=\"\",\"\",'2. Unit Testing Results'!$C101)","v":""},{"$f":"IF('2. Unit Testing Results'!$D101=\"\",\"\",'2. Unit Testing Results'!$D101)","v":""},{"$f":"IF('2. Unit Testing Results'!$E101=\"\",\"\",'2. Unit Testing Results'!$E101)","v":""},{"$f":"IF('2. Unit Testing Results'!$F101=\"\",\"\",'2. Unit Testing Results'!$F101)","v":""},null,{"$f":"IF($B88=\"\",\"\",\n(('2. Unit Testing Results'!$X101)*60)\n/((VLOOKUP($C88,'2. Unit Testing Results'!$C$5:$S$13,4))*(VLOOKUP($C88,'2. Unit Testing Results'!$C$5:$S$13,6)))\n)","v":""},{"$f":"IF($B88=\"\",\"\",\nVLOOKUP($C88,'2. Unit Testing Results'!$C$5:$BD$13,19))","v":""},{"$f":"IF($B88=\"\",\"\",\nVLOOKUP($C88,'2. Unit Testing Results'!$C$5:$BD$13,20))","v":""},{"$f":"IF($B88=\"\",\"\",\nVLOOKUP($C88,'2. Unit Testing Results'!$C$5:$BD$13,22))","v":""},{"$f":"IF($B88=\"\",\"\",\nVLOOKUP($C88,'2. Unit Testing Results'!$C$5:$BD$13,24))","v":""},{"$f":"IF($B88=\"\",\"\",\nVLOOKUP($C88,'2. Unit Testing Results'!$C$5:$BD$13,26))","v":""},{"$f":"IF($B88=\"\",\"\",\nVLOOKUP($C88,'2. Unit Testing Results'!$C$5:$BD$13,28))","v":""},{"$f":"IF($B88=\"\",\"\",'2. Unit Testing Results'!$Q101)","v":""},{"$f":"IF($B88=\"\",\"\",'2. Unit Testing Results'!$V101)","v":""},{"$f":"IF($B88=\"\",\"\",\nVLOOKUP($C88,'2. Unit Testing Results'!$C$5:$BD$13,30))","v":""},{"$f":"IF($B88=\"\",\"\",\nVLOOKUP($C88,'2. Unit Testing Results'!$C$5:$BD$13,32))","v":""},{"$f":"IF($B88=\"\",\"\",\nVLOOKUP($C88,'2. Unit Testing Results'!$C$5:$BD$13,34))","v":""},{"$f":"IF($B88=\"\",\"\",\nVLOOKUP($C88,'2. Unit Testing Results'!$C$5:$BD$13,36))","v":""},{"$f":"IF($B88=\"\",\"\",\nVLOOKUP($C88,'2. Unit Testing Results'!$C$5:$BD$13,38))","v":""},{"$f":"IF($B88=\"\",\"\",\nVLOOKUP($C88,'2. Unit Testing Results'!$C$5:$BD$13,39))","v":""},{"$f":"IF($B88=\"\",\"\",\nVLOOKUP($C88,'2. Unit Testing Results'!$C$5:$BD$13,40))","v":""},{"$f":"IF($B88=\"\",\"\",\nVLOOKUP($C88,'2. Unit Testing Results'!$C$5:$BD$13,42))","v":""},{"$f":"IF($B88=\"\",\"\",\nVLOOKUP($C88,'2. Unit Testing Results'!$C$5:$BD$13,44))","v":""},{"$f":"IF($B88=\"\",\"\",\nVLOOKUP($C88,'2. Unit Testing Results'!$C$5:$BD$13,46))","v":""},{"$f":"IF($B88=\"\",\"\",\nVLOOKUP($C88,'2. Unit Testing Results'!$C$5:$BD$13,48))","v":""},{"$f":"IF($B88=\"\",\"\",\nVLOOKUP($C88,'2. Unit Testing Results'!$C$5:$BD$13,50))","v":""},{"$f":"IF($B88=\"\",\"\",\nVLOOKUP($C88,'2. Unit Testing Results'!$C$5:$BD$13,51))","v":""},{"$f":"IF($B88=\"\",\"\",\nVLOOKUP($C88,'2. Unit Testing Results'!$C$5:$BD$13,52))","v":""},{"$f":"IF($B88=\"\",\"\",\nVLOOKUP($C88,'2. Unit Testing Results'!$C$5:$BD$13,53))","v":""},{"$f":"IF($B88=\"\",\"\",\nVLOOKUP($C88,'2. Unit Testing Results'!$C$5:$BD$13,54))","v":""}]
[null,{"$f":"IF('2. Unit Testing Results'!$C102=\"\",\"\",'2. Unit Testing Results'!$C102)","v":""},{"$f":"IF('2. Unit Testing Results'!$D102=\"\",\"\",'2. Unit Testing Results'!$D102)","v":""},{"$f":"IF('2. Unit Testing Results'!$E102=\"\",\"\",'2. Unit Testing Results'!$E102)","v":""},{"$f":"IF('2. Unit Testing Results'!$F102=\"\",\"\",'2. Unit Testing Results'!$F102)","v":""},null,{"$f":"IF($B89=\"\",\"\",\n(('2. Unit Testing Results'!$X102)*60)\n/((VLOOKUP($C89,'2. Unit Testing Results'!$C$5:$S$13,4))*(VLOOKUP($C89,'2. Unit Testing Results'!$C$5:$S$13,6)))\n)","v":""},{"$f":"IF($B89=\"\",\"\",\nVLOOKUP($C89,'2. Unit Testing Results'!$C$5:$BD$13,19))","v":""},{"$f":"IF($B89=\"\",\"\",\nVLOOKUP($C89,'2. Unit Testing Results'!$C$5:$BD$13,20))","v":""},{"$f":"IF($B89=\"\",\"\",\nVLOOKUP($C89,'2. Unit Testing Results'!$C$5:$BD$13,22))","v":""},{"$f":"IF($B89=\"\",\"\",\nVLOOKUP($C89,'2. Unit Testing Results'!$C$5:$BD$13,24))","v":""},{"$f":"IF($B89=\"\",\"\",\nVLOOKUP($C89,'2. Unit Testing Results'!$C$5:$BD$13,26))","v":""},{"$f":"IF($B89=\"\",\"\",\nVLOOKUP($C89,'2. Unit Testing Results'!$C$5:$BD$13,28))","v":""},{"$f":"IF($B89=\"\",\"\",'2. Unit Testing Results'!$Q102)","v":""},{"$f":"IF($B89=\"\",\"\",'2. Unit Testing Results'!$V102)","v":""},{"$f":"IF($B89=\"\",\"\",\nVLOOKUP($C89,'2. Unit Testing Results'!$C$5:$BD$13,30))","v":""},{"$f":"IF($B89=\"\",\"\",\nVLOOKUP($C89,'2. Unit Testing Results'!$C$5:$BD$13,32))","v":""},{"$f":"IF($B89=\"\",\"\",\nVLOOKUP($C89,'2. Unit Testing Results'!$C$5:$BD$13,34))","v":""},{"$f":"IF($B89=\"\",\"\",\nVLOOKUP($C89,'2. Unit Testing Results'!$C$5:$BD$13,36))","v":""},{"$f":"IF($B89=\"\",\"\",\nVLOOKUP($C89,'2. Unit Testing Results'!$C$5:$BD$13,38))","v":""},{"$f":"IF($B89=\"\",\"\",\nVLOOKUP($C89,'2. Unit Testing Results'!$C$5:$BD$13,39))","v":""},{"$f":"IF($B89=\"\",\"\",\nVLOOKUP($C89,'2. Unit Testing Results'!$C$5:$BD$13,40))","v":""},{"$f":"IF($B89=\"\",\"\",\nVLOOKUP($C89,'2. Unit Testing Results'!$C$5:$BD$13,42))","v":""},{"$f":"IF($B89=\"\",\"\",\nVLOOKUP($C89,'2. Unit Testing Results'!$C$5:$BD$13,44))","v":""},{"$f":"IF($B89=\"\",\"\",\nVLOOKUP($C89,'2. Unit Testing Results'!$C$5:$BD$13,46))","v":""},{"$f":"IF($B89=\"\",\"\",\nVLOOKUP($C89,'2. Unit Testing Results'!$C$5:$BD$13,48))","v":""},{"$f":"IF($B89=\"\",\"\",\nVLOOKUP($C89,'2. Unit Testing Results'!$C$5:$BD$13,50))","v":""},{"$f":"IF($B89=\"\",\"\",\nVLOOKUP($C89,'2. Unit Testing Results'!$C$5:$BD$13,51))","v":""},{"$f":"IF($B89=\"\",\"\",\nVLOOKUP($C89,'2. Unit Testing Results'!$C$5:$BD$13,52))","v":""},{"$f":"IF($B89=\"\",\"\",\nVLOOKUP($C89,'2. Unit Testing Results'!$C$5:$BD$13,53))","v":""},{"$f":"IF($B89=\"\",\"\",\nVLOOKUP($C89,'2. Unit Testing Results'!$C$5:$BD$13,54))","v":""}]
[null,{"$f":"IF('2. Unit Testing Results'!$C103=\"\",\"\",'2. Unit Testing Results'!$C103)","v":""},{"$f":"IF('2. Unit Testing Results'!$D103=\"\",\"\",'2. Unit Testing Results'!$D103)","v":""},{"$f":"IF('2. Unit Testing Results'!$E103=\"\",\"\",'2. Unit Testing Results'!$E103)","v":""},{"$f":"IF('2. Unit Testing Results'!$F103=\"\",\"\",'2. Unit Testing Results'!$F103)","v":""},null,{"$f":"IF($B90=\"\",\"\",\n(('2. Unit Testing Results'!$X103)*60)\n/((VLOOKUP($C90,'2. Unit Testing Results'!$C$5:$S$13,4))*(VLOOKUP($C90,'2. Unit Testing Results'!$C$5:$S$13,6)))\n)","v":""},{"$f":"IF($B90=\"\",\"\",\nVLOOKUP($C90,'2. Unit Testing Results'!$C$5:$BD$13,19))","v":""},{"$f":"IF($B90=\"\",\"\",\nVLOOKUP($C90,'2. Unit Testing Results'!$C$5:$BD$13,20))","v":""},{"$f":"IF($B90=\"\",\"\",\nVLOOKUP($C90,'2. Unit Testing Results'!$C$5:$BD$13,22))","v":""},{"$f":"IF($B90=\"\",\"\",\nVLOOKUP($C90,'2. Unit Testing Results'!$C$5:$BD$13,24))","v":""},{"$f":"IF($B90=\"\",\"\",\nVLOOKUP($C90,'2. Unit Testing Results'!$C$5:$BD$13,26))","v":""},{"$f":"IF($B90=\"\",\"\",\nVLOOKUP($C90,'2. Unit Testing Results'!$C$5:$BD$13,28))","v":""},{"$f":"IF($B90=\"\",\"\",'2. Unit Testing Results'!$Q103)","v":""},{"$f":"IF($B90=\"\",\"\",'2. Unit Testing Results'!$V103)","v":""},{"$f":"IF($B90=\"\",\"\",\nVLOOKUP($C90,'2. Unit Testing Results'!$C$5:$BD$13,30))","v":""},{"$f":"IF($B90=\"\",\"\",\nVLOOKUP($C90,'2. Unit Testing Results'!$C$5:$BD$13,32))","v":""},{"$f":"IF($B90=\"\",\"\",\nVLOOKUP($C90,'2. Unit Testing Results'!$C$5:$BD$13,34))","v":""},{"$f":"IF($B90=\"\",\"\",\nVLOOKUP($C90,'2. Unit Testing Results'!$C$5:$BD$13,36))","v":""},{"$f":"IF($B90=\"\",\"\",\nVLOOKUP($C90,'2. Unit Testing Results'!$C$5:$BD$13,38))","v":""},{"$f":"IF($B90=\"\",\"\",\nVLOOKUP($C90,'2. Unit Testing Results'!$C$5:$BD$13,39))","v":""},{"$f":"IF($B90=\"\",\"\",\nVLOOKUP($C90,'2. Unit Testing Results'!$C$5:$BD$13,40))","v":""},{"$f":"IF($B90=\"\",\"\",\nVLOOKUP($C90,'2. Unit Testing Results'!$C$5:$BD$13,42))","v":""},{"$f":"IF($B90=\"\",\"\",\nVLOOKUP($C90,'2. Unit Testing Results'!$C$5:$BD$13,44))","v":""},{"$f":"IF($B90=\"\",\"\",\nVLOOKUP($C90,'2. Unit Testing Results'!$C$5:$BD$13,46))","v":""},{"$f":"IF($B90=\"\",\"\",\nVLOOKUP($C90,'2. Unit Testing Results'!$C$5:$BD$13,48))","v":""},{"$f":"IF($B90=\"\",\"\",\nVLOOKUP($C90,'2. Unit Testing Results'!$C$5:$BD$13,50))","v":""},{"$f":"IF($B90=\"\",\"\",\nVLOOKUP($C90,'2. Unit Testing Results'!$C$5:$BD$13,51))","v":""},{"$f":"IF($B90=\"\",\"\",\nVLOOKUP($C90,'2. Unit Testing Results'!$C$5:$BD$13,52))","v":""},{"$f":"IF($B90=\"\",\"\",\nVLOOKUP($C90,'2. Unit Testing Results'!$C$5:$BD$13,53))","v":""},{"$f":"IF($B90=\"\",\"\",\nVLOOKUP($C90,'2. Unit Testing Results'!$C$5:$BD$13,54))","v":""}]
[null,{"$f":"IF('2. Unit Testing Results'!$C104=\"\",\"\",'2. Unit Testing Results'!$C104)","v":""},{"$f":"IF('2. Unit Testing Results'!$D104=\"\",\"\",'2. Unit Testing Results'!$D104)","v":""},{"$f":"IF('2. Unit Testing Results'!$E104=\"\",\"\",'2. Unit Testing Results'!$E104)","v":""},{"$f":"IF('2. Unit Testing Results'!$F104=\"\",\"\",'2. Unit Testing Results'!$F104)","v":""},null,{"$f":"IF($B91=\"\",\"\",\n(('2. Unit Testing Results'!$X104)*60)\n/((VLOOKUP($C91,'2. Unit Testing Results'!$C$5:$S$13,4))*(VLOOKUP($C91,'2. Unit Testing Results'!$C$5:$S$13,6)))\n)","v":""},{"$f":"IF($B91=\"\",\"\",\nVLOOKUP($C91,'2. Unit Testing Results'!$C$5:$BD$13,19))","v":""},{"$f":"IF($B91=\"\",\"\",\nVLOOKUP($C91,'2. Unit Testing Results'!$C$5:$BD$13,20))","v":""},{"$f":"IF($B91=\"\",\"\",\nVLOOKUP($C91,'2. Unit Testing Results'!$C$5:$BD$13,22))","v":""},{"$f":"IF($B91=\"\",\"\",\nVLOOKUP($C91,'2. Unit Testing Results'!$C$5:$BD$13,24))","v":""},{"$f":"IF($B91=\"\",\"\",\nVLOOKUP($C91,'2. Unit Testing Results'!$C$5:$BD$13,26))","v":""},{"$f":"IF($B91=\"\",\"\",\nVLOOKUP($C91,'2. Unit Testing Results'!$C$5:$BD$13,28))","v":""},{"$f":"IF($B91=\"\",\"\",'2. Unit Testing Results'!$Q104)","v":""},{"$f":"IF($B91=\"\",\"\",'2. Unit Testing Results'!$V104)","v":""},{"$f":"IF($B91=\"\",\"\",\nVLOOKUP($C91,'2. Unit Testing Results'!$C$5:$BD$13,30))","v":""},{"$f":"IF($B91=\"\",\"\",\nVLOOKUP($C91,'2. Unit Testing Results'!$C$5:$BD$13,32))","v":""},{"$f":"IF($B91=\"\",\"\",\nVLOOKUP($C91,'2. Unit Testing Results'!$C$5:$BD$13,34))","v":""},{"$f":"IF($B91=\"\",\"\",\nVLOOKUP($C91,'2. Unit Testing Results'!$C$5:$BD$13,36))","v":""},{"$f":"IF($B91=\"\",\"\",\nVLOOKUP($C91,'2. Unit Testing Results'!$C$5:$BD$13,38))","v":""},{"$f":"IF($B91=\"\",\"\",\nVLOOKUP($C91,'2. Unit Testing Results'!$C$5:$BD$13,39))","v":""},{"$f":"IF($B91=\"\",\"\",\nVLOOKUP($C91,'2. Unit Testing Results'!$C$5:$BD$13,40))","v":""},{"$f":"IF($B91=\"\",\"\",\nVLOOKUP($C91,'2. Unit Testing Results'!$C$5:$BD$13,42))","v":""},{"$f":"IF($B91=\"\",\"\",\nVLOOKUP($C91,'2. Unit Testing Results'!$C$5:$BD$13,44))","v":""},{"$f":"IF($B91=\"\",\"\",\nVLOOKUP($C91,'2. Unit Testing Results'!$C$5:$BD$13,46))","v":""},{"$f":"IF($B91=\"\",\"\",\nVLOOKUP($C91,'2. Unit Testing Results'!$C$5:$BD$13,48))","v":""},{"$f":"IF($B91=\"\",\"\",\nVLOOKUP($C91,'2. Unit Testing Results'!$C$5:$BD$13,50))","v":""},{"$f":"IF($B91=\"\",\"\",\nVLOOKUP($C91,'2. Unit Testing Results'!$C$5:$BD$13,51))","v":""},{"$f":"IF($B91=\"\",\"\",\nVLOOKUP($C91,'2. Unit Testing Results'!$C$5:$BD$13,52))","v":""},{"$f":"IF($B91=\"\",\"\",\nVLOOKUP($C91,'2. Unit Testing Results'!$C$5:$BD$13,53))","v":""},{"$f":"IF($B91=\"\",\"\",\nVLOOKUP($C91,'2. Unit Testing Results'!$C$5:$BD$13,54))","v":""}]
[null,{"$f":"IF('2. Unit Testing Results'!$C109=\"\",\"\",'2. Unit Testing Results'!$C109)","v":101},{"$f":"IF('2. Unit Testing Results'!$D109=\"\",\"\",'2. Unit Testing Results'!$D109)","v":"A1"},{"$f":"IF('2. Unit Testing Results'!$E109=\"\",\"\",'2. Unit Testing Results'!$E109)","v":515},{"$f":"IF('2. Unit Testing Results'!$F109=\"\",\"\",'2. Unit Testing Results'!$F109)","v":1990},null,{"$f":"IF($B92=\"\",\"\",\n(('2. Unit Testing Results'!$X109)*60)\n/((VLOOKUP($C92,'2. Unit Testing Results'!$C$5:$S$13,4))*(VLOOKUP($C92,'2. Unit Testing Results'!$C$5:$S$13,6)))\n)","v":{"$error":"#VALUE!"}},{"$f":"IF($B92=\"\",\"\",\nVLOOKUP($C92,'2. Unit Testing Results'!$C$5:$BD$13,19))","v":{"$error":"#N/A"}},{"$f":"IF($B92=\"\",\"\",\nVLOOKUP($C92,'2. Unit Testing Results'!$C$5:$BD$13,20))","v":{"$error":"#N/A"}},{"$f":"IF($B92=\"\",\"\",\nVLOOKUP($C92,'2. Unit Testing Results'!$C$5:$BD$13,22))","v":{"$error":"#N/A"}},{"$f":"IF($B92=\"\",\"\",\nVLOOKUP($C92,'2. Unit Testing Results'!$C$5:$BD$13,24))","v":{"$error":"#N/A"}},{"$f":"IF($B92=\"\",\"\",\nVLOOKUP($C92,'2. Unit Testing Results'!$C$5:$BD$13,26))","v":{"$error":"#N/A"}},{"$f":"IF($B92=\"\",\"\",\nVLOOKUP($C92,'2. Unit Testing Results'!$C$5:$BD$13,28))","v":{"$error":"#N/A"}},{"$f":"IF($B92=\"\",\"\",'2. Unit Testing Results'!$Q109)","v":"Yes"},{"$f":"IF($B92=\"\",\"\",'2. Unit Testing Results'!$V109)","v":"PASS"},{"$f":"IF($B92=\"\",\"\",\nVLOOKUP($C92,'2. Unit Testing Results'!$C$5:$BD$13,30))","v":{"$error":"#N/A"}},{"$f":"IF($B92=\"\",\"\",\nVLOOKUP($C92,'2. Unit Testing Results'!$C$5:$BD$13,32))","v":{"$error":"#N/A"}},{"$f":"IF($B92=\"\",\"\",\nVLOOKUP($C92,'2. Unit Testing Results'!$C$5:$BD$13,34))","v":{"$error":"#N/A"}},{"$f":"IF($B92=\"\",\"\",\nVLOOKUP($C92,'2. Unit Testing Results'!$C$5:$BD$13,36))","v":{"$error":"#N/A"}},{"$f":"IF($B92=\"\",\"\",\nVLOOKUP($C92,'2. Unit Testing Results'!$C$5:$BD$13,38))","v":{"$error":"#N/A"}},{"$f":"IF($B92=\"\",\"\",\nVLOOKUP($C92,'2. Unit Testing Results'!$C$5:$BD$13,39))","v":{"$error":"#N/A"}},{"$f":"IF($B92=\"\",\"\",\nVLOOKUP($C92,'2. Unit Testing Results'!$C$5:$BD$13,40))","v":{"$error":"#N/A"}},{"$f":"IF($B92=\"\",\"\",\nVLOOKUP($C92,'2. Unit Testing Results'!$C$5:$BD$13,42))","v":{"$error":"#N/A"}},{"$f":"IF($B92=\"\",\"\",\nVLOOKUP($C92,'2. Unit Testing Results'!$C$5:$BD$13,44))","v":{"$error":"#N/A"}},{"$f":"IF($B92=\"\",\"\",\nVLOOKUP($C92,'2. Unit Testing Results'!$C$5:$BD$13,46))","v":{"$error":"#N/A"}},{"$f":"IF($B92=\"\",\"\",\nVLOOKUP($C92,'2. Unit Testing Results'!$C$5:$BD$13,48))","v":{"$error":"#N/A"}},{"$f":"IF($B92=\"\",\"\",\nVLOOKUP($C92,'2. Unit Testing Results'!$C$5:$BD$13,50))","v":{"$error":"#N/A"}},{"$f":"IF($B92=\"\",\"\",\nVLOOKUP($C92,'2. Unit Testing Results'!$C$5:$BD$13,51))","v":{"$error":"#N/A"}},{"$f":"IF($B92=\"\",\"\",\nVLOOKUP($C92,'2. Unit Testing Results'!$C$5:$BD$13,52))","v":{"$error":"#N/A"}},{"$f":"IF($B92=\"\",\"\",\nVLOOKUP($C92,'2. Unit Testing Results'!$C$5:$BD$13,53))","v":{"$error":"#N/A"}},{"$f":"IF($B92=\"\",\"\",\nVLOOKUP($C92,'2. Unit Testing Results'!$C$5:$BD$13,54))","v":{"$error":"#N/A"}}]
[null,{"$f":"IF('2. Unit Testing Results'!$C110=\"\",\"\",'2. Unit Testing Results'!$C110)","v":102},{"$f":"IF('2. Unit Testing Results'!$D110=\"\",\"\",'2. Unit Testing Results'!$D110)","v":"B3"},{"$f":"IF('2. Unit Testing Results'!$E110=\"\",\"\",'2. Unit Testing Results'!$E110)","v":815},{"$f":"IF('2. Unit Testing Results'!$F110=\"\",\"\",'2. Unit Testing Results'!$F110)","v":3742},null,{"$f":"IF($B93=\"\",\"\",\n(('2. Unit Testing Results'!$X110)*60)\n/((VLOOKUP($C93,'2. Unit Testing Results'!$C$5:$S$13,4))*(VLOOKUP($C93,'2. Unit Testing Results'!$C$5:$S$13,6)))\n)","v":{"$error":"#VALUE!"}},{"$f":"IF($B93=\"\",\"\",\nVLOOKUP($C93,'2. Unit Testing Results'!$C$5:$BD$13,19))","v":{"$error":"#N/A"}},{"$f":"IF($B93=\"\",\"\",\nVLOOKUP($C93,'2. Unit Testing Results'!$C$5:$BD$13,20))","v":{"$error":"#N/A"}},{"$f":"IF($B93=\"\",\"\",\nVLOOKUP($C93,'2. Unit Testing Results'!$C$5:$BD$13,22))","v":{"$error":"#N/A"}},{"$f":"IF($B93=\"\",\"\",\nVLOOKUP($C93,'2. Unit Testing Results'!$C$5:$BD$13,24))","v":{"$error":"#N/A"}},{"$f":"IF($B93=\"\",\"\",\nVLOOKUP($C93,'2. Unit Testing Results'!$C$5:$BD$13,26))","v":{"$error":"#N/A"}},{"$f":"IF($B93=\"\",\"\",\nVLOOKUP($C93,'2. Unit Testing Results'!$C$5:$BD$13,28))","v":{"$error":"#N/A"}},{"$f":"IF($B93=\"\",\"\",'2. Unit Testing Results'!$Q110)","v":"Yes"},{"$f":"IF($B93=\"\",\"\",'2. Unit Testing Results'!$V110)","v":"PASS"},{"$f":"IF($B93=\"\",\"\",\nVLOOKUP($C93,'2. Unit Testing Results'!$C$5:$BD$13,30))","v":{"$error":"#N/A"}},{"$f":"IF($B93=\"\",\"\",\nVLOOKUP($C93,'2. Unit Testing Results'!$C$5:$BD$13,32))","v":{"$error":"#N/A"}},{"$f":"IF($B93=\"\",\"\",\nVLOOKUP($C93,'2. Unit Testing Results'!$C$5:$BD$13,34))","v":{"$error":"#N/A"}},{"$f":"IF($B93=\"\",\"\",\nVLOOKUP($C93,'2. Unit Testing Results'!$C$5:$BD$13,36))","v":{"$error":"#N/A"}},{"$f":"IF($B93=\"\",\"\",\nVLOOKUP($C93,'2. Unit Testing Results'!$C$5:$BD$13,38))","v":{"$error":"#N/A"}},{"$f":"IF($B93=\"\",\"\",\nVLOOKUP($C93,'2. Unit Testing Results'!$C$5:$BD$13,39))","v":{"$error":"#N/A"}},{"$f":"IF($B93=\"\",\"\",\nVLOOKUP($C93,'2. Unit Testing Results'!$C$5:$BD$13,40))","v":{"$error":"#N/A"}},{"$f":"IF($B93=\"\",\"\",\nVLOOKUP($C93,'2. Unit Testing Results'!$C$5:$BD$13,42))","v":{"$error":"#N/A"}},{"$f":"IF($B93=\"\",\"\",\nVLOOKUP($C93,'2. Unit Testing Results'!$C$5:$BD$13,44))","v":{"$error":"#N/A"}},{"$f":"IF($B93=\"\",\"\",\nVLOOKUP($C93,'2. Unit Testing Results'!$C$5:$BD$13,46))","v":{"$error":"#N/A"}},{"$f":"IF($B93=\"\",\"\",\nVLOOKUP($C93,'2. Unit Testing Results'!$C$5:$BD$13,48))","v":{"$error":"#N/A"}},{"$f":"IF($B93=\"\",\"\",\nVLOOKUP($C93,'2. Unit Testing Results'!$C$5:$BD$13,50))","v":{"$error":"#N/A"}},{"$f":"IF($B93=\"\",\"\",\nVLOOKUP($C93,'2. Unit Testing Results'!$C$5:$BD$13,51))","v":{"$error":"#N/A"}},{"$f":"IF($B93=\"\",\"\",\nVLOOKUP($C93,'2. Unit Testing Results'!$C$5:$BD$13,52))","v":{"$error":"#N/A"}},{"$f":"IF($B93=\"\",\"\",\nVLOOKUP($C93,'2. Unit Testing Results'!$C$5:$BD$13,53))","v":{"$error":"#N/A"}},{"$f":"IF($B93=\"\",\"\",\nVLOOKUP($C93,'2. Unit Testing Results'!$C$5:$BD$13,54))","v":{"$error":"#N/A"}}]
[null,{"$f":"IF('2. Unit Testing Results'!$C111=\"\",\"\",'2. Unit Testing Results'!$C111)","v":103},{"$f":"IF('2. Unit Testing Results'!$D111=\"\",\"\",'2. Unit Testing Results'!$D111)","v":"Studio"},{"$f":"IF('2. Unit Testing Results'!$E111=\"\",\"\",'2. Unit Testing Results'!$E111)","v":1800},{"$f":"IF('2. Unit Testing Results'!$F111=\"\",\"\",'2. Unit Testing Results'!$F111)","v":6141},null,{"$f":"IF($B94=\"\",\"\",\n(('2. Unit Testing Results'!$X111)*60)\n/((VLOOKUP($C94,'2. Unit Testing Results'!$C$5:$S$13,4))*(VLOOKUP($C94,'2. Unit Testing Results'!$C$5:$S$13,6)))\n)","v":{"$error":"#VALUE!"}},{"$f":"IF($B94=\"\",\"\",\nVLOOKUP($C94,'2. Unit Testing Results'!$C$5:$BD$13,19))","v":19},{"$f":"IF($B94=\"\",\"\",\nVLOOKUP($C94,'2. Unit Testing Results'!$C$5:$BD$13,20))","v":19},{"$f":"IF($B94=\"\",\"\",\nVLOOKUP($C94,'2. Unit Testing Results'!$C$5:$BD$13,22))","v":0},{"$f":"IF($B94=\"\",\"\",\nVLOOKUP($C94,'2. Unit Testing Results'!$C$5:$BD$13,24))","v":10},{"$f":"IF($B94=\"\",\"\",\nVLOOKUP($C94,'2. Unit Testing Results'!$C$5:$BD$13,26))","v":0.3},{"$f":"IF($B94=\"\",\"\",\nVLOOKUP($C94,'2. Unit Testing Results'!$C$5:$BD$13,28))","v":0.32},{"$f":"IF($B94=\"\",\"\",'2. Unit Testing Results'!$Q111)","v":"Yes"},{"$f":"IF($B94=\"\",\"\",'2. Unit Testing Results'!$V111)","v":"PASS"},{"$f":"IF($B94=\"\",\"\",\nVLOOKUP($C94,'2. Unit Testing Results'!$C$5:$BD$13,30))","v":"Furnace"},{"$f":"IF($B94=\"\",\"\",\nVLOOKUP($C94,'2. Unit Testing Results'!$C$5:$BD$13,32))","v":"NG"},{"$f":"IF($B94=\"\",\"\",\nVLOOKUP($C94,'2. Unit Testing Results'!$C$5:$BD$13,34))","v":92.5},{"$f":"IF($B94=\"\",\"\",\nVLOOKUP($C94,'2. Unit Testing Results'!$C$5:$BD$13,36))","v":"AFUE"},{"$f":"IF($B94=\"\",\"\",\nVLOOKUP($C94,'2. Unit Testing Results'!$C$5:$BD$13,38))","v":"Electricity"},{"$f":"IF($B94=\"\",\"\",\nVLOOKUP($C94,'2. Unit Testing Results'!$C$5:$BD$13,39))","v":0},{"$f":"IF($B94=\"\",\"\",\nVLOOKUP($C94,'2. Unit Testing Results'!$C$5:$BD$13,40))","v":9},{"$f":"IF($B94=\"\",\"\",\nVLOOKUP($C94,'2. Unit Testing Results'!$C$5:$BD$13,42))","v":"HSPF"},{"$f":"IF($B94=\"\",\"\",\nVLOOKUP($C94,'2. Unit Testing Results'!$C$5:$BD$13,44))","v":"Storage"},{"$f":"IF($B94=\"\",\"\",\nVLOOKUP($C94,'2. Unit Testing Results'!$C$5:$BD$13,46))","v":"Gas"},{"$f":"IF($B94=\"\",\"\",\nVLOOKUP($C94,'2. Unit Testing Results'!$C$5:$BD$13,48))","v":0.98},{"$f":"IF($B94=\"\",\"\",\nVLOOKUP($C94,'2. Unit Testing Results'!$C$5:$BD$13,50))","v":90},{"$f":"IF($B94=\"\",\"\",\nVLOOKUP($C94,'2. Unit Testing Results'!$C$5:$BD$13,51))","v":1},{"$f":"IF($B94=\"\",\"\",\nVLOOKUP($C94,'2. Unit Testing Results'!$C$5:$BD$13,52))","v":0},{"$f":"IF($B94=\"\",\"\",\nVLOOKUP($C94,'2. Unit Testing Results'!$C$5:$BD$13,53))","v":1},{"$f":"IF($B94=\"\",\"\",\nVLOOKUP($C94,'2. Unit Testing Results'!$C$5:$BD$13,54))","v":1}]
[null,{"$f":"IF('2. Unit Testing Results'!$C112=\"\",\"\",'2. Unit Testing Results'!$C112)","v":104},{"$f":"IF('2. Unit Testing Results'!$D112=\"\",\"\",'2. Unit Testing Results'!$D112)","v":"B4"},{"$f":"IF('2. Unit Testing Results'!$E112=\"\",\"\",'2. Unit Testing Results'!$E112)","v":1800},{"$f":"IF('2. Unit Testing Results'!$F112=\"\",\"\",'2. Unit Testing Results'!$F112)","v":6141},null,{"$f":"IF($B95=\"\",\"\",\n(('2. Unit Testing Results'!$X112)*60)\n/((VLOOKUP($C95,'2. Unit Testing Results'!$C$5:$S$13,4))*(VLOOKUP($C95,'2. Unit Testing Results'!$C$5:$S$13,6)))\n)","v":{"$error":"#VALUE!"}},{"$f":"IF($B95=\"\",\"\",\nVLOOKUP($C95,'2. Unit Testing Results'!$C$5:$BD$13,19))","v":{"$error":"#N/A"}},{"$f":"IF($B95=\"\",\"\",\nVLOOKUP($C95,'2. Unit Testing Results'!$C$5:$BD$13,20))","v":{"$error":"#N/A"}},{"$f":"IF($B95=\"\",\"\",\nVLOOKUP($C95,'2. Unit Testing Results'!$C$5:$BD$13,22))","v":{"$error":"#N/A"}},{"$f":"IF($B95=\"\",\"\",\nVLOOKUP($C95,'2. Unit Testing Results'!$C$5:$BD$13,24))","v":{"$error":"#N/A"}},{"$f":"IF($B95=\"\",\"\",\nVLOOKUP($C95,'2. Unit Testing Results'!$C$5:$BD$13,26))","v":{"$error":"#N/A"}},{"$f":"IF($B95=\"\",\"\",\nVLOOKUP($C95,'2. Unit Testing Results'!$C$5:$BD$13,28))","v":{"$error":"#N/A"}},{"$f":"IF($B95=\"\",\"\",'2. Unit Testing Results'!$Q112)","v":"Yes"},{"$f":"IF($B95=\"\",\"\",'2. Unit Testing Results'!$V112)","v":"FAIL"},{"$f":"IF($B95=\"\",\"\",\nVLOOKUP($C95,'2. Unit Testing Results'!$C$5:$BD$13,30))","v":{"$error":"#N/A"}},{"$f":"IF($B95=\"\",\"\",\nVLOOKUP($C95,'2. Unit Testing Results'!$C$5:$BD$13,32))","v":{"$error":"#N/A"}},{"$f":"IF($B95=\"\",\"\",\nVLOOKUP($C95,'2. Unit Testing Results'!$C$5:$BD$13,34))","v":{"$error":"#N/A"}},{"$f":"IF($B95=\"\",\"\",\nVLOOKUP($C95,'2. Unit Testing Results'!$C$5:$BD$13,36))","v":{"$error":"#N/A"}},{"$f":"IF($B95=\"\",\"\",\nVLOOKUP($C95,'2. Unit Testing Results'!$C$5:$BD$13,38))","v":{"$error":"#N/A"}},{"$f":"IF($B95=\"\",\"\",\nVLOOKUP($C95,'2. Unit Testing Results'!$C$5:$BD$13,39))","v":{"$error":"#N/A"}},{"$f":"IF($B95=\"\",\"\",\nVLOOKUP($C95,'2. Unit Testing Results'!$C$5:$BD$13,40))","v":{"$error":"#N/A"}},{"$f":"IF($B95=\"\",\"\",\nVLOOKUP($C95,'2. Unit Testing Results'!$C$5:$BD$13,42))","v":{"$error":"#N/A"}},{"$f":"IF($B95=\"\",\"\",\nVLOOKUP($C95,'2. Unit Testing Results'!$C$5:$BD$13,44))","v":{"$error":"#N/A"}},{"$f":"IF($B95=\"\",\"\",\nVLOOKUP($C95,'2. Unit Testing Results'!$C$5:$BD$13,46))","v":{"$error":"#N/A"}},{"$f":"IF($B95=\"\",\"\",\nVLOOKUP($C95,'2. Unit Testing Results'!$C$5:$BD$13,48))","v":{"$error":"#N/A"}},{"$f":"IF($B95=\"\",\"\",\nVLOOKUP($C95,'2. Unit Testing Results'!$C$5:$BD$13,50))","v":{"$error":"#N/A"}},{"$f":"IF($B95=\"\",\"\",\nVLOOKUP($C95,'2. Unit Testing Results'!$C$5:$BD$13,51))","v":{"$error":"#N/A"}},{"$f":"IF($B95=\"\",\"\",\nVLOOKUP($C95,'2. Unit Testing Results'!$C$5:$BD$13,52))","v":{"$error":"#N/A"}},{"$f":"IF($B95=\"\",\"\",\nVLOOKUP($C95,'2. Unit Testing Results'!$C$5:$BD$13,53))","v":{"$error":"#N/A"}},{"$f":"IF($B95=\"\",\"\",\nVLOOKUP($C95,'2. Unit Testing Results'!$C$5:$BD$13,54))","v":{"$error":"#N/A"}}]
[null,{"$f":"IF('2. Unit Testing Results'!$C113=\"\",\"\",'2. Unit Testing Results'!$C113)","v":105},{"$f":"IF('2. Unit Testing Results'!$D113=\"\",\"\",'2. Unit Testing Results'!$D113)","v":"Studio"},{"$f":"IF('2. Unit Testing Results'!$E113=\"\",\"\",'2. Unit Testing Results'!$E113)","v":1800},{"$f":"IF('2. Unit Testing Results'!$F113=\"\",\"\",'2. Unit Testing Results'!$F113)","v":6141},null,{"$f":"IF($B96=\"\",\"\",\n(('2. Unit Testing Results'!$X113)*60)\n/((VLOOKUP($C96,'2. Unit Testing Results'!$C$5:$S$13,4))*(VLOOKUP($C96,'2. Unit Testing Results'!$C$5:$S$13,6)))\n)","v":{"$error":"#VALUE!"}},{"$f":"IF($B96=\"\",\"\",\nVLOOKUP($C96,'2. Unit Testing Results'!$C$5:$BD$13,19))","v":19},{"$f":"IF($B96=\"\",\"\",\nVLOOKUP($C96,'2. Unit Testing Results'!$C$5:$BD$13,20))","v":19},{"$f":"IF($B96=\"\",\"\",\nVLOOKUP($C96,'2. Unit Testing Results'!$C$5:$BD$13,22))","v":0},{"$f":"IF($B96=\"\",\"\",\nVLOOKUP($C96,'2. Unit Testing Results'!$C$5:$BD$13,24))","v":10},{"$f":"IF($B96=\"\",\"\",\nVLOOKUP($C96,'2. Unit Testing Results'!$C$5:$BD$13,26))","v":0.3},{"$f":"IF($B96=\"\",\"\",\nVLOOKUP($C96,'2. Unit Testing Results'!$C$5:$BD$13,28))","v":0.32},{"$f":"IF($B96=\"\",\"\",'2. Unit Testing Results'!$Q113)","v":"Yes"},{"$f":"IF($B96=\"\",\"\",'2. Unit Testing Results'!$V113)","v":"FAIL"},{"$f":"IF($B96=\"\",\"\",\nVLOOKUP($C96,'2. Unit Testing Results'!$C$5:$BD$13,30))","v":"Furnace"},{"$f":"IF($B96=\"\",\"\",\nVLOOKUP($C96,'2. Unit Testing Results'!$C$5:$BD$13,32))","v":"NG"},{"$f":"IF($B96=\"\",\"\",\nVLOOKUP($C96,'2. Unit Testing Results'!$C$5:$BD$13,34))","v":92.5},{"$f":"IF($B96=\"\",\"\",\nVLOOKUP($C96,'2. Unit Testing Results'!$C$5:$BD$13,36))","v":"AFUE"},{"$f":"IF($B96=\"\",\"\",\nVLOOKUP($C96,'2. Unit Testing Results'!$C$5:$BD$13,38))","v":"Electricity"},{"$f":"IF($B96=\"\",\"\",\nVLOOKUP($C96,'2. Unit Testing Results'!$C$5:$BD$13,39))","v":0},{"$f":"IF($B96=\"\",\"\",\nVLOOKUP($C96,'2. Unit Testing Results'!$C$5:$BD$13,40))","v":9},{"$f":"IF($B96=\"\",\"\",\nVLOOKUP($C96,'2. Unit Testing Results'!$C$5:$BD$13,42))","v":"HSPF"},{"$f":"IF($B96=\"\",\"\",\nVLOOKUP($C96,'2. Unit Testing Results'!$C$5:$BD$13,44))","v":"Storage"},{"$f":"IF($B96=\"\",\"\",\nVLOOKUP($C96,'2. Unit Testing Results'!$C$5:$BD$13,46))","v":"Gas"},{"$f":"IF($B96=\"\",\"\",\nVLOOKUP($C96,'2. Unit Testing Results'!$C$5:$BD$13,48))","v":0.98},{"$f":"IF($B96=\"\",\"\",\nVLOOKUP($C96,'2. Unit Testing Results'!$C$5:$BD$13,50))","v":90},{"$f":"IF($B96=\"\",\"\",\nVLOOKUP($C96,'2. Unit Testing Results'!$C$5:$BD$13,51))","v":1},{"$f":"IF($B96=\"\",\"\",\nVLOOKUP($C96,'2. Unit Testing Results'!$C$5:$BD$13,52))","v":0},{"$f":"IF($B96=\"\",\"\",\nVLOOKUP($C96,'2. Unit Testing Results'!$C$5:$BD$13,53))","v":1},{"$f":"IF($B96=\"\",\"\",\nVLOOKUP($C96,'2. Unit Testing Results'!$C$5:$BD$13,54))","v":1}]
[null,{"$f":"IF('2. Unit Testing Results'!$C114=\"\",\"\",'2. Unit Testing Results'!$C114)","v":106},{"$f":"IF('2. Unit Testing Results'!$D114=\"\",\"\",'2. Unit Testing Results'!$D114)","v":"B1"},{"$f":"IF('2. Unit Testing Results'!$E114=\"\",\"\",'2. Unit Testing Results'!$E114)","v":650},{"$f":"IF('2. Unit Testing Results'!$F114=\"\",\"\",'2. Unit Testing Results'!$F114)","v":2220},null,{"$f":"IF($B97=\"\",\"\",\n(('2. Unit Testing Results'!$X114)*60)\n/((VLOOKUP($C97,'2. Unit Testing Results'!$C$5:$S$13,4))*(VLOOKUP($C97,'2. Unit Testing Results'!$C$5:$S$13,6)))\n)","v":{"$error":"#VALUE!"}},{"$f":"IF($B97=\"\",\"\",\nVLOOKUP($C97,'2. Unit Testing Results'!$C$5:$BD$13,19))","v":{"$error":"#N/A"}},{"$f":"IF($B97=\"\",\"\",\nVLOOKUP($C97,'2. Unit Testing Results'!$C$5:$BD$13,20))","v":{"$error":"#N/A"}},{"$f":"IF($B97=\"\",\"\",\nVLOOKUP($C97,'2. Unit Testing Results'!$C$5:$BD$13,22))","v":{"$error":"#N/A"}},{"$f":"IF($B97=\"\",\"\",\nVLOOKUP($C97,'2. Unit Testing Results'!$C$5:$BD$13,24))","v":{"$error":"#N/A"}},{"$f":"IF($B97=\"\",\"\",\nVLOOKUP($C97,'2. Unit Testing Results'!$C$5:$BD$13,26))","v":{"$error":"#N/A"}},{"$f":"IF($B97=\"\",\"\",\nVLOOKUP($C97,'2. Unit Testing Results'!$C$5:$BD$13,28))","v":{"$error":"#N/A"}},{"$f":"IF($B97=\"\",\"\",'2. Unit Testing Results'!$Q114)","v":"Yes"},{"$f":"IF($B97=\"\",\"\",'2. Unit Testing Results'!$V114)","v":"FAIL"},{"$f":"IF($B97=\"\",\"\",\nVLOOKUP($C97,'2. Unit Testing Results'!$C$5:$BD$13,30))","v":{"$error":"#N/A"}},{"$f":"IF($B97=\"\",\"\",\nVLOOKUP($C97,'2. Unit Testing Results'!$C$5:$BD$13,32))","v":{"$error":"#N/A"}},{"$f":"IF($B97=\"\",\"\",\nVLOOKUP($C97,'2. Unit Testing Results'!$C$5:$BD$13,34))","v":{"$error":"#N/A"}},{"$f":"IF($B97=\"\",\"\",\nVLOOKUP($C97,'2. Unit Testing Results'!$C$5:$BD$13,36))","v":{"$error":"#N/A"}},{"$f":"IF($B97=\"\",\"\",\nVLOOKUP($C97,'2. Unit Testing Results'!$C$5:$BD$13,38))","v":{"$error":"#N/A"}},{"$f":"IF($B97=\"\",\"\",\nVLOOKUP($C97,'2. Unit Testing Results'!$C$5:$BD$13,39))","v":{"$error":"#N/A"}},{"$f":"IF($B97=\"\",\"\",\nVLOOKUP($C97,'2. Unit Testing Results'!$C$5:$BD$13,40))","v":{"$error":"#N/A"}},{"$f":"IF($B97=\"\",\"\",\nVLOOKUP($C97,'2. Unit Testing Results'!$C$5:$BD$13,42))","v":{"$error":"#N/A"}},{"$f":"IF($B97=\"\",\"\",\nVLOOKUP($C97,'2. Unit Testing Results'!$C$5:$BD$13,44))","v":{"$error":"#N/A"}},{"$f":"IF($B97=\"\",\"\",\nVLOOKUP($C97,'2. Unit Testing Results'!$C$5:$BD$13,46))","v":{"$error":"#N/A"}},{"$f":"IF($B97=\"\",\"\",\nVLOOKUP($C97,'2. Unit Testing Results'!$C$5:$BD$13,48))","v":{"$error":"#N/A"}},{"$f":"IF($B97=\"\",\"\",\nVLOOKUP($C97,'2. Unit Testing Results'!$C$5:$BD$13,50))","v":{"$error":"#N/A"}},{"$f":"IF($B97=\"\",\"\",\nVLOOKUP($C97,'2. Unit Testing Results'!$C$5:$BD$13,51))","v":{"$error":"#N/A"}},{"$f":"IF($B97=\"\",\"\",\nVLOOKUP($C97,'2. Unit Testing Results'!$C$5:$BD$13,52))","v":{"$error":"#N/A"}},{"$f":"IF($B97=\"\",\"\",\nVLOOKUP($C97,'2. Unit Testing Results'!$C$5:$BD$13,53))","v":{"$error":"#N/A"}},{"$f":"IF($B97=\"\",\"\",\nVLOOKUP($C97,'2. Unit Testing Results'!$C$5:$BD$13,54))","v":{"$error":"#N/A"}}]
[null,{"$f":"IF('2. Unit Testing Results'!$C115=\"\",\"\",'2. Unit Testing Results'!$C115)","v":107},{"$f":"IF('2. Unit Testing Results'!$D115=\"\",\"\",'2. Unit Testing Results'!$D115)","v":"B3"},{"$f":"IF('2. Unit Testing Results'!$E115=\"\",\"\",'2. Unit Testing Results'!$E115)","v":815},{"$f":"IF('2. Unit Testing Results'!$F115=\"\",\"\",'2. Unit Testing Results'!$F115)","v":3742},null,{"$f":"IF($B98=\"\",\"\",\n(('2. Unit Testing Results'!$X115)*60)\n/((VLOOKUP($C98,'2. Unit Testing Results'!$C$5:$S$13,4))*(VLOOKUP($C98,'2. Unit Testing Results'!$C$5:$S$13,6)))\n)","v":{"$error":"#VALUE!"}},{"$f":"IF($B98=\"\",\"\",\nVLOOKUP($C98,'2. Unit Testing Results'!$C$5:$BD$13,19))","v":{"$error":"#N/A"}},{"$f":"IF($B98=\"\",\"\",\nVLOOKUP($C98,'2. Unit Testing Results'!$C$5:$BD$13,20))","v":{"$error":"#N/A"}},{"$f":"IF($B98=\"\",\"\",\nVLOOKUP($C98,'2. Unit Testing Results'!$C$5:$BD$13,22))","v":{"$error":"#N/A"}},{"$f":"IF($B98=\"\",\"\",\nVLOOKUP($C98,'2. Unit Testing Results'!$C$5:$BD$13,24))","v":{"$error":"#N/A"}},{"$f":"IF($B98=\"\",\"\",\nVLOOKUP($C98,'2. Unit Testing Results'!$C$5:$BD$13,26))","v":{"$error":"#N/A"}},{"$f":"IF($B98=\"\",\"\",\nVLOOKUP($C98,'2. Unit Testing Results'!$C$5:$BD$13,28))","v":{"$error":"#N/A"}},{"$f":"IF($B98=\"\",\"\",'2. Unit Testing Results'!$Q115)","v":"Yes"},{"$f":"IF($B98=\"\",\"\",'2. Unit Testing Results'!$V115)","v":"PASS"},{"$f":"IF($B98=\"\",\"\",\nVLOOKUP($C98,'2. Unit Testing Results'!$C$5:$BD$13,30))","v":{"$error":"#N/A"}},{"$f":"IF($B98=\"\",\"\",\nVLOOKUP($C98,'2. Unit Testing Results'!$C$5:$BD$13,32))","v":{"$error":"#N/A"}},{"$f":"IF($B98=\"\",\"\",\nVLOOKUP($C98,'2. Unit Testing Results'!$C$5:$BD$13,34))","v":{"$error":"#N/A"}},{"$f":"IF($B98=\"\",\"\",\nVLOOKUP($C98,'2. Unit Testing Results'!$C$5:$BD$13,36))","v":{"$error":"#N/A"}},{"$f":"IF($B98=\"\",\"\",\nVLOOKUP($C98,'2. Unit Testing Results'!$C$5:$BD$13,38))","v":{"$error":"#N/A"}},{"$f":"IF($B98=\"\",\"\",\nVLOOKUP($C98,'2. Unit Testing Results'!$C$5:$BD$13,39))","v":{"$error":"#N/A"}},{"$f":"IF($B98=\"\",\"\",\nVLOOKUP($C98,'2. Unit Testing Results'!$C$5:$BD$13,40))","v":{"$error":"#N/A"}},{"$f":"IF($B98=\"\",\"\",\nVLOOKUP($C98,'2. Unit Testing Results'!$C$5:$BD$13,42))","v":{"$error":"#N/A"}},{"$f":"IF($B98=\"\",\"\",\nVLOOKUP($C98,'2. Unit Testing Results'!$C$5:$BD$13,44))","v":{"$error":"#N/A"}},{"$f":"IF($B98=\"\",\"\",\nVLOOKUP($C98,'2. Unit Testing Results'!$C$5:$BD$13,46))","v":{"$error":"#N/A"}},{"$f":"IF($B98=\"\",\"\",\nVLOOKUP($C98,'2. Unit Testing Results'!$C$5:$BD$13,48))","v":{"$error":"#N/A"}},{"$f":"IF($B98=\"\",\"\",\nVLOOKUP($C98,'2. Unit Testing Results'!$C$5:$BD$13,50))","v":{"$error":"#N/A"}},{"$f":"IF($B98=\"\",\"\",\nVLOOKUP($C98,'2. Unit Testing Results'!$C$5:$BD$13,51))","v":{"$error":"#N/A"}},{"$f":"IF($B98=\"\",\"\",\nVLOOKUP($C98,'2. Unit Testing Results'!$C$5:$BD$13,52))","v":{"$error":"#N/A"}},{"$f":"IF($B98=\"\",\"\",\nVLOOKUP($C98,'2. Unit Testing Results'!$C$5:$BD$13,53))","v":{"$error":"#N/A"}},{"$f":"IF($B98=\"\",\"\",\nVLOOKUP($C98,'2. Unit Testing Results'!$C$5:$BD$13,54))","v":{"$error":"#N/A"}}]
[null,{"$f":"IF('2. Unit Testing Results'!$C116=\"\",\"\",'2. Unit Testing Results'!$C116)","v":108},{"$f":"IF('2. Unit Testing Results'!$D116=\"\",\"\",'2. Unit Testing Results'!$D116)","v":"B2"},{"$f":"IF('2. Unit Testing Results'!$E116=\"\",\"\",'2. Unit Testing Results'!$E116)","v":800},{"$f":"IF('2. Unit Testing Results'!$F116=\"\",\"\",'2. Unit Testing Results'!$F116)","v":3040},null,{"$f":"IF($B99=\"\",\"\",\n(('2. Unit Testing Results'!$X116)*60)\n/((VLOOKUP($C99,'2. Unit Testing Results'!$C$5:$S$13,4))*(VLOOKUP($C99,'2. Unit Testing Results'!$C$5:$S$13,6)))\n)","v":{"$error":"#VALUE!"}},{"$f":"IF($B99=\"\",\"\",\nVLOOKUP($C99,'2. Unit Testing Results'!$C$5:$BD$13,19))","v":{"$error":"#N/A"}},{"$f":"IF($B99=\"\",\"\",\nVLOOKUP($C99,'2. Unit Testing Results'!$C$5:$BD$13,20))","v":{"$error":"#N/A"}},{"$f":"IF($B99=\"\",\"\",\nVLOOKUP($C99,'2. Unit Testing Results'!$C$5:$BD$13,22))","v":{"$error":"#N/A"}},{"$f":"IF($B99=\"\",\"\",\nVLOOKUP($C99,'2. Unit Testing Results'!$C$5:$BD$13,24))","v":{"$error":"#N/A"}},{"$f":"IF($B99=\"\",\"\",\nVLOOKUP($C99,'2. Unit Testing Results'!$C$5:$BD$13,26))","v":{"$error":"#N/A"}},{"$f":"IF($B99=\"\",\"\",\nVLOOKUP($C99,'2. Unit Testing Results'!$C$5:$BD$13,28))","v":{"$error":"#N/A"}},{"$f":"IF($B99=\"\",\"\",'2. Unit Testing Results'!$Q116)","v":"Yes"},{"$f":"IF($B99=\"\",\"\",'2. Unit Testing Results'!$V116)","v":"FAIL"},{"$f":"IF($B99=\"\",\"\",\nVLOOKUP($C99,'2. Unit Testing Results'!$C$5:$BD$13,30))","v":{"$error":"#N/A"}},{"$f":"IF($B99=\"\",\"\",\nVLOOKUP($C99,'2. Unit Testing Results'!$C$5:$BD$13,32))","v":{"$error":"#N/A"}},{"$f":"IF($B99=\"\",\"\",\nVLOOKUP($C99,'2. Unit Testing Results'!$C$5:$BD$13,34))","v":{"$error":"#N/A"}},{"$f":"IF($B99=\"\",\"\",\nVLOOKUP($C99,'2. Unit Testing Results'!$C$5:$BD$13,36))","v":{"$error":"#N/A"}},{"$f":"IF($B99=\"\",\"\",\nVLOOKUP($C99,'2. Unit Testing Results'!$C$5:$BD$13,38))","v":{"$error":"#N/A"}},{"$f":"IF($B99=\"\",\"\",\nVLOOKUP($C99,'2. Unit Testing Results'!$C$5:$BD$13,39))","v":{"$error":"#N/A"}},{"$f":"IF($B99=\"\",\"\",\nVLOOKUP($C99,'2. Unit Testing Results'!$C$5:$BD$13,40))","v":{"$error":"#N/A"}},{"$f":"IF($B99=\"\",\"\",\nVLOOKUP($C99,'2. Unit Testing Results'!$C$5:$BD$13,42))","v":{"$error":"#N/A"}},{"$f":"IF($B99=\"\",\"\",\nVLOOKUP($C99,'2. Unit Testing Results'!$C$5:$BD$13,44))","v":{"$error":"#N/A"}},{"$f":"IF($B99=\"\",\"\",\nVLOOKUP($C99,'2. Unit Testing Results'!$C$5:$BD$13,46))","v":{"$error":"#N/A"}},{"$f":"IF($B99=\"\",\"\",\nVLOOKUP($C99,'2. Unit Testing Results'!$C$5:$BD$13,48))","v":{"$error":"#N/A"}},{"$f":"IF($B99=\"\",\"\",\nVLOOKUP($C99,'2. Unit Testing Results'!$C$5:$BD$13,50))","v":{"$error":"#N/A"}},{"$f":"IF($B99=\"\",\"\",\nVLOOKUP($C99,'2. Unit Testing Results'!$C$5:$BD$13,51))","v":{"$error":"#N/A"}},{"$f":"IF($B99=\"\",\"\",\nVLOOKUP($C99,'2. Unit Testing Results'!$C$5:$BD$13,52))","v":{"$error":"#N/A"}},{"$f":"IF($B99=\"\",\"\",\nVLOOKUP($C99,'2. Unit Testing Results'!$C$5:$BD$13,53))","v":{"$error":"#N/A"}},{"$f":"IF($B99=\"\",\"\",\nVLOOKUP($C99,'2. Unit Testing Results'!$C$5:$BD$13,54))","v":{"$error":"#N/A"}}]
[null,{"$f":"IF('2. Unit Testing Results'!$C117=\"\",\"\",'2. Unit Testing Results'!$C117)","v":""},{"$f":"IF('2. Unit Testing Results'!$D117=\"\",\"\",'2. Unit Testing Results'!$D117)","v":""},{"$f":"IF('2. Unit Testing Results'!$E117=\"\",\"\",'2. Unit Testing Results'!$E117)","v":""},{"$f":"IF('2. Unit Testing Results'!$F117=\"\",\"\",'2. Unit Testing Results'!$F117)","v":""},null,{"$f":"IF($B100=\"\",\"\",\n(('2. Unit Testing Results'!$X117)*60)\n/((VLOOKUP($C100,'2. Unit Testing Results'!$C$5:$S$13,4))*(VLOOKUP($C100,'2. Unit Testing Results'!$C$5:$S$13,6)))\n)","v":""},{"$f":"IF($B100=\"\",\"\",\nVLOOKUP($C100,'2. Unit Testing Results'!$C$5:$BD$13,19))","v":""},{"$f":"IF($B100=\"\",\"\",\nVLOOKUP($C100,'2. Unit Testing Results'!$C$5:$BD$13,20))","v":""},{"$f":"IF($B100=\"\",\"\",\nVLOOKUP($C100,'2. Unit Testing Results'!$C$5:$BD$13,22))","v":""},{"$f":"IF($B100=\"\",\"\",\nVLOOKUP($C100,'2. Unit Testing Results'!$C$5:$BD$13,24))","v":""},{"$f":"IF($B100=\"\",\"\",\nVLOOKUP($C100,'2. Unit Testing Results'!$C$5:$BD$13,26))","v":""},{"$f":"IF($B100=\"\",\"\",\nVLOOKUP($C100,'2. Unit Testing Results'!$C$5:$BD$13,28))","v":""},{"$f":"IF($B100=\"\",\"\",'2. Unit Testing Results'!$Q117)","v":""},{"$f":"IF($B100=\"\",\"\",'2. Unit Testing Results'!$V117)","v":""},{"$f":"IF($B100=\"\",\"\",\nVLOOKUP($C100,'2. Unit Testing Results'!$C$5:$BD$13,30))","v":""},{"$f":"IF($B100=\"\",\"\",\nVLOOKUP($C100,'2. Unit Testing Results'!$C$5:$BD$13,32))","v":""},{"$f":"IF($B100=\"\",\"\",\nVLOOKUP($C100,'2. Unit Testing Results'!$C$5:$BD$13,34))","v":""},{"$f":"IF($B100=\"\",\"\",\nVLOOKUP($C100,'2. Unit Testing Results'!$C$5:$BD$13,36))","v":""},{"$f":"IF($B100=\"\",\"\",\nVLOOKUP($C100,'2. Unit Testing Results'!$C$5:$BD$13,38))","v":""},{"$f":"IF($B100=\"\",\"\",\nVLOOKUP($C100,'2. Unit Testing Results'!$C$5:$BD$13,39))","v":""},{"$f":"IF($B100=\"\",\"\",\nVLOOKUP($C100,'2. Unit Testing Results'!$C$5:$BD$13,40))","v":""},{"$f":"IF($B100=\"\",\"\",\nVLOOKUP($C100,'2. Unit Testing Results'!$C$5:$BD$13,42))","v":""},{"$f":"IF($B100=\"\",\"\",\nVLOOKUP($C100,'2. Unit Testing Results'!$C$5:$BD$13,44))","v":""},{"$f":"IF($B100=\"\",\"\",\nVLOOKUP($C100,'2. Unit Testing Results'!$C$5:$BD$13,46))","v":""},{"$f":"IF($B100=\"\",\"\",\nVLOOKUP($C100,'2. Unit Testing Results'!$C$5:$BD$13,48))","v":""},{"$f":"IF($B100=\"\",\"\",\nVLOOKUP($C100,'2. Unit Testing Results'!$C$5:$BD$13,50))","v":""},{"$f":"IF($B100=\"\",\"\",\nVLOOKUP($C100,'2. Unit Testing Results'!$C$5:$BD$13,51))","v":""},{"$f":"IF($B100=\"\",\"\",\nVLOOKUP($C100,'2. Unit Testing Results'!$C$5:$BD$13,52))","v":""},{"$f":"IF($B100=\"\",\"\",\nVLOOKUP($C100,'2. Unit Testing Results'!$C$5:$BD$13,53))","v":""},{"$f":"IF($B100=\"\",\"\",\nVLOOKUP($C100,'2. Unit Testing Results'!$C$5:$BD$13,54))","v":""}]
[null,{"$f":"IF('2. Unit Testing Results'!$C118=\"\",\"\",'2. Unit Testing Results'!$C118)","v":""},{"$f":"IF('2. Unit Testing Results'!$D118=\"\",\"\",'2. Unit Testing Results'!$D118)","v":""},{"$f":"IF('2. Unit Testing Results'!$E118=\"\",\"\",'2. Unit Testing Results'!$E118)","v":""},{"$f":"IF('2. Unit Testing Results'!$F118=\"\",\"\",'2. Unit Testing Results'!$F118)","v":""},null,{"$f":"IF($B101=\"\",\"\",\n(('2. Unit Testing Results'!$X118)*60)\n/((VLOOKUP($C101,'2. Unit Testing Results'!$C$5:$S$13,4))*(VLOOKUP($C101,'2. Unit Testing Results'!$C$5:$S$13,6)))\n)","v":""},{"$f":"IF($B101=\"\",\"\",\nVLOOKUP($C101,'2. Unit Testing Results'!$C$5:$BD$13,19))","v":""},{"$f":"IF($B101=\"\",\"\",\nVLOOKUP($C101,'2. Unit Testing Results'!$C$5:$BD$13,20))","v":""},{"$f":"IF($B101=\"\",\"\",\nVLOOKUP($C101,'2. Unit Testing Results'!$C$5:$BD$13,22))","v":""},{"$f":"IF($B101=\"\",\"\",\nVLOOKUP($C101,'2. Unit Testing Results'!$C$5:$BD$13,24))","v":""},{"$f":"IF($B101=\"\",\"\",\nVLOOKUP($C101,'2. Unit Testing Results'!$C$5:$BD$13,26))","v":""},{"$f":"IF($B101=\"\",\"\",\nVLOOKUP($C101,'2. Unit Testing Results'!$C$5:$BD$13,28))","v":""},{"$f":"IF($B101=\"\",\"\",'2. Unit Testing Results'!$Q118)","v":""},{"$f":"IF($B101=\"\",\"\",'2. Unit Testing Results'!$V118)","v":""},{"$f":"IF($B101=\"\",\"\",\nVLOOKUP($C101,'2. Unit Testing Results'!$C$5:$BD$13,30))","v":""},{"$f":"IF($B101=\"\",\"\",\nVLOOKUP($C101,'2. Unit Testing Results'!$C$5:$BD$13,32))","v":""},{"$f":"IF($B101=\"\",\"\",\nVLOOKUP($C101,'2. Unit Testing Results'!$C$5:$BD$13,34))","v":""},{"$f":"IF($B101=\"\",\"\",\nVLOOKUP($C101,'2. Unit Testing Results'!$C$5:$BD$13,36))","v":""},{"$f":"IF($B101=\"\",\"\",\nVLOOKUP($C101,'2. Unit Testing Results'!$C$5:$BD$13,38))","v":""},{"$f":"IF($B101=\"\",\"\",\nVLOOKUP($C101,'2. Unit Testing Results'!$C$5:$BD$13,39))","v":""},{"$f":"IF($B101=\"\",\"\",\nVLOOKUP($C101,'2. Unit Testing Results'!$C$5:$BD$13,40))","v":""},{"$f":"IF($B101=\"\",\"\",\nVLOOKUP($C101,'2. Unit Testing Results'!$C$5:$BD$13,42))","v":""},{"$f":"IF($B101=\"\",\"\",\nVLOOKUP($C101,'2. Unit Testing Results'!$C$5:$BD$13,44))","v":""},{"$f":"IF($B101=\"\",\"\",\nVLOOKUP($C101,'2. Unit Testing Results'!$C$5:$BD$13,46))","v":""},{"$f":"IF($B101=\"\",\"\",\nVLOOKUP($C101,'2. Unit Testing Results'!$C$5:$BD$13,48))","v":""},{"$f":"IF($B101=\"\",\"\",\nVLOOKUP($C101,'2. Unit Testing Results'!$C$5:$BD$13,50))","v":""},{"$f":"IF($B101=\"\",\"\",\nVLOOKUP($C101,'2. Unit Testing Results'!$C$5:$BD$13,51))","v":""},{"$f":"IF($B101=\"\",\"\",\nVLOOKUP($C101,'2. Unit Testing Results'!$C$5:$BD$13,52))","v":""},{"$f":"IF($B101=\"\",\"\",\nVLOOKUP($C101,'2. Unit Testing Results'!$C$5:$BD$13,53))","v":""},{"$f":"IF($B101=\"\",\"\",\nVLOOKUP($C101,'2. Unit Testing Results'!$C$5:$BD$13,54))","v":""}]
[null,{"$f":"IF('2. Unit Testing Results'!$C119=\"\",\"\",'2. Unit Testing Results'!$C119)","v":""},{"$f":"IF('2. Unit Testing Results'!$D119=\"\",\"\",'2. Unit Testing Results'!$D119)","v":""},{"$f":"IF('2. Unit Testing Results'!$E119=\"\",\"\",'2. Unit Testing Results'!$E119)","v":""},{"$f":"IF('2. Unit Testing Results'!$F119=\"\",\"\",'2. Unit Testing Results'!$F119)","v":""},null,{"$f":"IF($B102=\"\",\"\",\n(('2. Unit Testing Results'!$X119)*60)\n/((VLOOKUP($C102,'2. Unit Testing Results'!$C$5:$S$13,4))*(VLOOKUP($C102,'2. Unit Testing Results'!$C$5:$S$13,6)))\n)","v":""},{"$f":"IF($B102=\"\",\"\",\nVLOOKUP($C102,'2. Unit Testing Results'!$C$5:$BD$13,19))","v":""},{"$f":"IF($B102=\"\",\"\",\nVLOOKUP($C102,'2. Unit Testing Results'!$C$5:$BD$13,20))","v":""},{"$f":"IF($B102=\"\",\"\",\nVLOOKUP($C102,'2. Unit Testing Results'!$C$5:$BD$13,22))","v":""},{"$f":"IF($B102=\"\",\"\",\nVLOOKUP($C102,'2. Unit Testing Results'!$C$5:$BD$13,24))","v":""},{"$f":"IF($B102=\"\",\"\",\nVLOOKUP($C102,'2. Unit Testing Results'!$C$5:$BD$13,26))","v":""},{"$f":"IF($B102=\"\",\"\",\nVLOOKUP($C102,'2. Unit Testing Results'!$C$5:$BD$13,28))","v":""},{"$f":"IF($B102=\"\",\"\",'2. Unit Testing Results'!$Q119)","v":""},{"$f":"IF($B102=\"\",\"\",'2. Unit Testing Results'!$V119)","v":""},{"$f":"IF($B102=\"\",\"\",\nVLOOKUP($C102,'2. Unit Testing Results'!$C$5:$BD$13,30))","v":""},{"$f":"IF($B102=\"\",\"\",\nVLOOKUP($C102,'2. Unit Testing Results'!$C$5:$BD$13,32))","v":""},{"$f":"IF($B102=\"\",\"\",\nVLOOKUP($C102,'2. Unit Testing Results'!$C$5:$BD$13,34))","v":""},{"$f":"IF($B102=\"\",\"\",\nVLOOKUP($C102,'2. Unit Testing Results'!$C$5:$BD$13,36))","v":""},{"$f":"IF($B102=\"\",\"\",\nVLOOKUP($C102,'2. Unit Testing Results'!$C$5:$BD$13,38))","v":""},{"$f":"IF($B102=\"\",\"\",\nVLOOKUP($C102,'2. Unit Testing Results'!$C$5:$BD$13,39))","v":""},{"$f":"IF($B102=\"\",\"\",\nVLOOKUP($C102,'2. Unit Testing Results'!$C$5:$BD$13,40))","v":""},{"$f":"IF($B102=\"\",\"\",\nVLOOKUP($C102,'2. Unit Testing Results'!$C$5:$BD$13,42))","v":""},{"$f":"IF($B102=\"\",\"\",\nVLOOKUP($C102,'2. Unit Testing Results'!$C$5:$BD$13,44))","v":""},{"$f":"IF($B102=\"\",\"\",\nVLOOKUP($C102,'2. Unit Testing Results'!$C$5:$BD$13,46))","v":""},{"$f":"IF($B102=\"\",\"\",\nVLOOKUP($C102,'2. Unit Testing Results'!$C$5:$BD$13,48))","v":""},{"$f":"IF($B102=\"\",\"\",\nVLOOKUP($C102,'2. Unit Testing Results'!$C$5:$BD$13,50))","v":""},{"$f":"IF($B102=\"\",\"\",\nVLOOKUP($C102,'2. Unit Testing Results'!$C$5:$BD$13,51))","v":""},{"$f":"IF($B102=\"\",\"\",\nVLOOKUP($C102,'2. Unit Testing Results'!$C$5:$BD$13,52))","v":""},{"$f":"IF($B102=\"\",\"\",\nVLOOKUP($C102,'2. Unit Testing Results'!$C$5:$BD$13,53))","v":""},{"$f":"IF($B102=\"\",\"\",\nVLOOKUP($C102,'2. Unit Testing Results'!$C$5:$BD$13,54))","v":""}]
[null,{"$f":"IF('2. Unit Testing Results'!$C120=\"\",\"\",'2. Unit Testing Results'!$C120)","v":""},{"$f":"IF('2. Unit Testing Results'!$D120=\"\",\"\",'2. Unit Testing Results'!$D120)","v":""},{"$f":"IF('2. Unit Testing Results'!$E120=\"\",\"\",'2. Unit Testing Results'!$E120)","v":""},{"$f":"IF('2. Unit Testing Results'!$F120=\"\",\"\",'2. Unit Testing Results'!$F120)","v":""},null,{"$f":"IF($B103=\"\",\"\",\n(('2. Unit Testing Results'!$X120)*60)\n/((VLOOKUP($C103,'2. Unit Testing Results'!$C$5:$S$13,4))*(VLOOKUP($C103,'2. Unit Testing Results'!$C$5:$S$13,6)))\n)","v":""},{"$f":"IF($B103=\"\",\"\",\nVLOOKUP($C103,'2. Unit Testing Results'!$C$5:$BD$13,19))","v":""},{"$f":"IF($B103=\"\",\"\",\nVLOOKUP($C103,'2. Unit Testing Results'!$C$5:$BD$13,20))","v":""},{"$f":"IF($B103=\"\",\"\",\nVLOOKUP($C103,'2. Unit Testing Results'!$C$5:$BD$13,22))","v":""},{"$f":"IF($B103=\"\",\"\",\nVLOOKUP($C103,'2. Unit Testing Results'!$C$5:$BD$13,24))","v":""},{"$f":"IF($B103=\"\",\"\",\nVLOOKUP($C103,'2. Unit Testing Results'!$C$5:$BD$13,26))","v":""},{"$f":"IF($B103=\"\",\"\",\nVLOOKUP($C103,'2. Unit Testing Results'!$C$5:$BD$13,28))","v":""},{"$f":"IF($B103=\"\",\"\",'2. Unit Testing Results'!$Q120)","v":""},{"$f":"IF($B103=\"\",\"\",'2. Unit Testing Results'!$V120)","v":""},{"$f":"IF($B103=\"\",\"\",\nVLOOKUP($C103,'2. Unit Testing Results'!$C$5:$BD$13,30))","v":""},{"$f":"IF($B103=\"\",\"\",\nVLOOKUP($C103,'2. Unit Testing Results'!$C$5:$BD$13,32))","v":""},{"$f":"IF($B103=\"\",\"\",\nVLOOKUP($C103,'2. Unit Testing Results'!$C$5:$BD$13,34))","v":""},{"$f":"IF($B103=\"\",\"\",\nVLOOKUP($C103,'2. Unit Testing Results'!$C$5:$BD$13,36))","v":""},{"$f":"IF($B103=\"\",\"\",\nVLOOKUP($C103,'2. Unit Testing Results'!$C$5:$BD$13,38))","v":""},{"$f":"IF($B103=\"\",\"\",\nVLOOKUP($C103,'2. Unit Testing Results'!$C$5:$BD$13,39))","v":""},{"$f":"IF($B103=\"\",\"\",\nVLOOKUP($C103,'2. Unit Testing Results'!$C$5:$BD$13,40))","v":""},{"$f":"IF($B103=\"\",\"\",\nVLOOKUP($C103,'2. Unit Testing Results'!$C$5:$BD$13,42))","v":""},{"$f":"IF($B103=\"\",\"\",\nVLOOKUP($C103,'2. Unit Testing Results'!$C$5:$BD$13,44))","v":""},{"$f":"IF($B103=\"\",\"\",\nVLOOKUP($C103,'2. Unit Testing Results'!$C$5:$BD$13,46))","v":""},{"$f":"IF($B103=\"\",\"\",\nVLOOKUP($C103,'2. Unit Testing Results'!$C$5:$BD$13,48))","v":""},{"$f":"IF($B103=\"\",\"\",\nVLOOKUP($C103,'2. Unit Testing Results'!$C$5:$BD$13,50))","v":""},{"$f":"IF($B103=\"\",\"\",\nVLOOKUP($C103,'2. Unit Testing Results'!$C$5:$BD$13,51))","v":""},{"$f":"IF($B103=\"\",\"\",\nVLOOKUP($C103,'2. Unit Testing Results'!$C$5:$BD$13,52))","v":""},{"$f":"IF($B103=\"\",\"\",\nVLOOKUP($C103,'2. Unit Testing Results'!$C$5:$BD$13,53))","v":""},{"$f":"IF($B103=\"\",\"\",\nVLOOKUP($C103,'2. Unit Testing Results'!$C$5:$BD$13,54))","v":""}]
[null,{"$f":"IF('2. Unit Testing Results'!$C121=\"\",\"\",'2. Unit Testing Results'!$C121)","v":""},{"$f":"IF('2. Unit Testing Results'!$D121=\"\",\"\",'2. Unit Testing Results'!$D121)","v":""},{"$f":"IF('2. Unit Testing Results'!$E121=\"\",\"\",'2. Unit Testing Results'!$E121)","v":""},{"$f":"IF('2. Unit Testing Results'!$F121=\"\",\"\",'2. Unit Testing Results'!$F121)","v":""},null,{"$f":"IF($B104=\"\",\"\",\n(('2. Unit Testing Results'!$X121)*60)\n/((VLOOKUP($C104,'2. Unit Testing Results'!$C$5:$S$13,4))*(VLOOKUP($C104,'2. Unit Testing Results'!$C$5:$S$13,6)))\n)","v":""},{"$f":"IF($B104=\"\",\"\",\nVLOOKUP($C104,'2. Unit Testing Results'!$C$5:$BD$13,19))","v":""},{"$f":"IF($B104=\"\",\"\",\nVLOOKUP($C104,'2. Unit Testing Results'!$C$5:$BD$13,20))","v":""},{"$f":"IF($B104=\"\",\"\",\nVLOOKUP($C104,'2. Unit Testing Results'!$C$5:$BD$13,22))","v":""},{"$f":"IF($B104=\"\",\"\",\nVLOOKUP($C104,'2. Unit Testing Results'!$C$5:$BD$13,24))","v":""},{"$f":"IF($B104=\"\",\"\",\nVLOOKUP($C104,'2. Unit Testing Results'!$C$5:$BD$13,26))","v":""},{"$f":"IF($B104=\"\",\"\",\nVLOOKUP($C104,'2. Unit Testing Results'!$C$5:$BD$13,28))","v":""},{"$f":"IF($B104=\"\",\"\",'2. Unit Testing Results'!$Q121)","v":""},{"$f":"IF($B104=\"\",\"\",'2. Unit Testing Results'!$V121)","v":""},{"$f":"IF($B104=\"\",\"\",\nVLOOKUP($C104,'2. Unit Testing Results'!$C$5:$BD$13,30))","v":""},{"$f":"IF($B104=\"\",\"\",\nVLOOKUP($C104,'2. Unit Testing Results'!$C$5:$BD$13,32))","v":""},{"$f":"IF($B104=\"\",\"\",\nVLOOKUP($C104,'2. Unit Testing Results'!$C$5:$BD$13,34))","v":""},{"$f":"IF($B104=\"\",\"\",\nVLOOKUP($C104,'2. Unit Testing Results'!$C$5:$BD$13,36))","v":""},{"$f":"IF($B104=\"\",\"\",\nVLOOKUP($C104,'2. Unit Testing Results'!$C$5:$BD$13,38))","v":""},{"$f":"IF($B104=\"\",\"\",\nVLOOKUP($C104,'2. Unit Testing Results'!$C$5:$BD$13,39))","v":""},{"$f":"IF($B104=\"\",\"\",\nVLOOKUP($C104,'2. Unit Testing Results'!$C$5:$BD$13,40))","v":""},{"$f":"IF($B104=\"\",\"\",\nVLOOKUP($C104,'2. Unit Testing Results'!$C$5:$BD$13,42))","v":""},{"$f":"IF($B104=\"\",\"\",\nVLOOKUP($C104,'2. Unit Testing Results'!$C$5:$BD$13,44))","v":""},{"$f":"IF($B104=\"\",\"\",\nVLOOKUP($C104,'2. Unit Testing Results'!$C$5:$BD$13,46))","v":""},{"$f":"IF($B104=\"\",\"\",\nVLOOKUP($C104,'2. Unit Testing Results'!$C$5:$BD$13,48))","v":""},{"$f":"IF($B104=\"\",\"\",\nVLOOKUP($C104,'2. Unit Testing Results'!$C$5:$BD$13,50))","v":""},{"$f":"IF($B104=\"\",\"\",\nVLOOKUP($C104,'2. Unit Testing Results'!$C$5:$BD$13,51))","v":""},{"$f":"IF($B104=\"\",\"\",\nVLOOKUP($C104,'2. Unit Testing Results'!$C$5:$BD$13,52))","v":""},{"$f":"IF($B104=\"\",\"\",\nVLOOKUP($C104,'2. Unit Testing Results'!$C$5:$BD$13,53))","v":""},{"$f":"IF($B104=\"\",\"\",\nVLOOKUP($C104,'2. Unit Testing Results'!$C$5:$BD$13,54))","v":""}]
[null,{"$f":"IF('2. Unit Testing Results'!$C122=\"\",\"\",'2. Unit Testing Results'!$C122)","v":""},{"$f":"IF('2. Unit Testing Results'!$D122=\"\",\"\",'2. Unit Testing Results'!$D122)","v":""},{"$f":"IF('2. Unit Testing Results'!$E122=\"\",\"\",'2. Unit Testing Results'!$E122)","v":""},{"$f":"IF('2. Unit Testing Results'!$F122=\"\",\"\",'2. Unit Testing Results'!$F122)","v":""},null,{"$f":"IF($B105=\"\",\"\",\n(('2. Unit Testing Results'!$X122)*60)\n/((VLOOKUP($C105,'2. Unit Testing Results'!$C$5:$S$13,4))*(VLOOKUP($C105,'2. Unit Testing Results'!$C$5:$S$13,6)))\n)","v":""},{"$f":"IF($B105=\"\",\"\",\nVLOOKUP($C105,'2. Unit Testing Results'!$C$5:$BD$13,19))","v":""},{"$f":"IF($B105=\"\",\"\",\nVLOOKUP($C105,'2. Unit Testing Results'!$C$5:$BD$13,20))","v":""},{"$f":"IF($B105=\"\",\"\",\nVLOOKUP($C105,'2. Unit Testing Results'!$C$5:$BD$13,22))","v":""},{"$f":"IF($B105=\"\",\"\",\nVLOOKUP($C105,'2. Unit Testing Results'!$C$5:$BD$13,24))","v":""},{"$f":"IF($B105=\"\",\"\",\nVLOOKUP($C105,'2. Unit Testing Results'!$C$5:$BD$13,26))","v":""},{"$f":"IF($B105=\"\",\"\",\nVLOOKUP($C105,'2. Unit Testing Results'!$C$5:$BD$13,28))","v":""},{"$f":"IF($B105=\"\",\"\",'2. Unit Testing Results'!$Q122)","v":""},{"$f":"IF($B105=\"\",\"\",'2. Unit Testing Results'!$V122)","v":""},{"$f":"IF($B105=\"\",\"\",\nVLOOKUP($C105,'2. Unit Testing Results'!$C$5:$BD$13,30))","v":""},{"$f":"IF($B105=\"\",\"\",\nVLOOKUP($C105,'2. Unit Testing Results'!$C$5:$BD$13,32))","v":""},{"$f":"IF($B105=\"\",\"\",\nVLOOKUP($C105,'2. Unit Testing Results'!$C$5:$BD$13,34))","v":""},{"$f":"IF($B105=\"\",\"\",\nVLOOKUP($C105,'2. Unit Testing Results'!$C$5:$BD$13,36))","v":""},{"$f":"IF($B105=\"\",\"\",\nVLOOKUP($C105,'2. Unit Testing Results'!$C$5:$BD$13,38))","v":""},{"$f":"IF($B105=\"\",\"\",\nVLOOKUP($C105,'2. Unit Testing Results'!$C$5:$BD$13,39))","v":""},{"$f":"IF($B105=\"\",\"\",\nVLOOKUP($C105,'2. Unit Testing Results'!$C$5:$BD$13,40))","v":""},{"$f":"IF($B105=\"\",\"\",\nVLOOKUP($C105,'2. Unit Testing Results'!$C$5:$BD$13,42))","v":""},{"$f":"IF($B105=\"\",\"\",\nVLOOKUP($C105,'2. Unit Testing Results'!$C$5:$BD$13,44))","v":""},{"$f":"IF($B105=\"\",\"\",\nVLOOKUP($C105,'2. Unit Testing Results'!$C$5:$BD$13,46))","v":""},{"$f":"IF($B105=\"\",\"\",\nVLOOKUP($C105,'2. Unit Testing Results'!$C$5:$BD$13,48))","v":""},{"$f":"IF($B105=\"\",\"\",\nVLOOKUP($C105,'2. Unit Testing Results'!$C$5:$BD$13,50))","v":""},{"$f":"IF($B105=\"\",\"\",\nVLOOKUP($C105,'2. Unit Testing Results'!$C$5:$BD$13,51))","v":""},{"$f":"IF($B105=\"\",\"\",\nVLOOKUP($C105,'2. Unit Testing Results'!$C$5:$BD$13,52))","v":""},{"$f":"IF($B105=\"\",\"\",\nVLOOKUP($C105,'2. Unit Testing Results'!$C$5:$BD$13,53))","v":""},{"$f":"IF($B105=\"\",\"\",\nVLOOKUP($C105,'2. Unit Testing Results'!$C$5:$BD$13,54))","v":""}]

{"sheet":"Must Correct Report","index":4,"n_rows":213,"n_cols":3,"rows_kept":213,"cut":false,"hidden":false,"merged":[[1,0,1,2],[5,0,5,2],[70,0,70,2],[2,0,2,2]]}
["                       Instructions"]
["ENERGY STAR Multifamily Workbook"]
["Must Correct Report"]
[]
["Checklist Items to Correct",null,"Checklist Comments"]
["1a. Rater Design Checklist  - Must Correct"]
["Rater Design Checklist","Must Correct","Comments"]
[{"$f":"'1a. Rater Design Checklist'!C9","v":" 1. Partnership Status "},{"$f":"'1a. Rater Design Checklist'!D9","v":0},{"$f":"'1a. Rater Design Checklist'!F9","v":0}]
[{"$f":"'1a. Rater Design Checklist'!C12","v":"1.1 Rater has verified and documented that builder or developer has an ENERGY STAR partnership agreement using www.energystar.gov/partnerlocator.\n\nBuilder Name: __________________________\nDeveloper Name: _______________________"},{"$f":"'1a. Rater Design Checklist'!D12","v":0},{"$f":"'1a. Rater Design Checklist'!F12","v":0}]
[{"$f":"'1a. Rater Design Checklist'!C13","v":"1.2 ASHRAE Only: Rater has verified that modeler is listed in the online directory using www.energystar.gov/ASHRAEdirectory.\n\nModeler name: ________________________________ (Not required for projects in California)"},{"$f":"'1a. Rater Design Checklist'!D13","v":0},{"$f":"'1a. Rater Design Checklist'!F13","v":0}]
[{"$f":"'1a. Rater Design Checklist'!C14","v":"2. High-Performance Fenestration "},{"$f":"'1a. Rater Design Checklist'!D14","v":0},{"$f":"'1a. Rater Design Checklist'!F14","v":0}]
[{"$f":"'1a. Rater Design Checklist'!C15","v":"2.1 Dwelling units: "},{"$f":"'1a. Rater Design Checklist'!D15","v":0},{"$f":"'1a. Rater Design Checklist'!F15","v":0}]
[{"$f":"'1a. Rater Design Checklist'!C16","v":" 2.1.1 Prescriptive: Specified fenestration meets or exceeds ENERGY STAR MF Reference Design requirements. 5\n"},{"$f":"'1a. Rater Design Checklist'!D16","v":0},{"$f":"'1a. Rater Design Checklist'!F16","v":0}]
[{"$f":"'1a. Rater Design Checklist'!C18","v":" 2.1.2 ERI and ASHRAE Only: Specified fenestration meets or exceeds 2009 IECC residential requirements. 5\n"},{"$f":"'1a. Rater Design Checklist'!D18","v":0},{"$f":"'1a. Rater Design Checklist'!F18","v":0}]
[{"$f":"'1a. Rater Design Checklist'!C20","v":"2.2 Common space: 2\n"},{"$f":"'1a. Rater Design Checklist'!D20","v":0},{"$f":"'1a. Rater Design Checklist'!F20","v":0}]
[{"$f":"'1a. Rater Design Checklist'!C22","v":" 2.2.1 ERI and Prescriptive: Specified fenestration meets or exceeds ENERGY STAR MF Reference Design requirements. 5\n"},{"$f":"'1a. Rater Design Checklist'!D22","v":0},{"$f":"'1a. Rater Design Checklist'!F22","v":0}]
[{"$f":"'1a. Rater Design Checklist'!C24","v":" 2.2.2 ASHRAE Only: Specified fenestration meets or exceeds 2009 IECC commercial requirements. 5\n\n"},{"$f":"'1a. Rater Design Checklist'!D24","v":0},{"$f":"'1a. Rater Design Checklist'!F24","v":0}]
[{"$f":"'1a. Rater Design Checklist'!C26","v":"3. High-Performance Insulation "},{"$f":"'1a. Rater Design Checklist'!D26","v":0},{"$f":"'1a. Rater Design Checklist'!F26","v":0}]
[{"$f":"'1a. Rater Design Checklist'!C27","v":"3.1 Dwelling unit: "},{"$f":"'1a. Rater Design Checklist'!D27","v":0},{"$f":"'1a. Rater Design Checklist'!F27","v":0}]
[{"$f":"'1a. Rater Design Checklist'!C28","v":" 3.1.1: Prescriptive: Specified ceiling 6, wall 7, and slab-on-grade insulation levels meet or exceed ENERGY STAR MF Reference Design requirements. 8, 9, 10 \n"},{"$f":"'1a. Rater Design Checklist'!D28","v":0},{"$f":"'1a. Rater Design Checklist'!F28","v":"UA"}]
[{"$f":"'1a. Rater Design Checklist'!C34","v":" 3.1.2: ERI and ASHRAE Only: Specified ceiling 6, wall 7, floor, and slab-on-grade insulation levels meet or exceed values from the “Group R” column in the 2009 IECC Commercial chapter. 8, 9, 10\n"},{"$f":"'1a. Rater Design Checklist'!D34","v":0},{"$f":"'1a. Rater Design Checklist'!F34","v":"SELECT PATH"}]
[{"$f":"'1a. Rater Design Checklist'!C40","v":"3.2 Common space: 2\n"},{"$f":"'1a. Rater Design Checklist'!D40","v":0},{"$f":"'1a. Rater Design Checklist'!F40","v":0}]
[{"$f":"'1a. Rater Design Checklist'!C42","v":" 3.2.1 ERI and Prescriptive: Specified ceiling 6, wall 7, and slab-on-grade insulation levels meet or exceed ENERGY STAR MF Reference Design requirements. 8, 9, 10\n"},{"$f":"'1a. Rater Design Checklist'!D42","v":0},{"$f":"'1a. Rater Design Checklist'!F42","v":"UA"}]
[{"$f":"'1a. Rater Design Checklist'!C48","v":" 3.2.2 ASHRAE Only: Specified ceiling 6, wall 7, floor, and slab-on-grade insulation levels meet or exceed the values from the \"All Other\" column in the 2009 IECC Commercial chapter. 8, 9, 10\n"},{"$f":"'1a. Rater Design Checklist'!D48","v":0},{"$f":"'1a. Rater Design Checklist'!F48","v":"SELECT PATH"}]
[{"$f":"'1a. Rater Design Checklist'!C54","v":"4. Review of HVAC Design Report\n"},{"$f":"'1a. Rater Design Checklist'!D54","v":0},{"$f":"'1a. Rater Design Checklist'!F54","v":0}]
[{"$f":"'1a. Rater Design Checklist'!C55","v":"4a. Review of ANSI / RESNET / ACCA Std. 310 HVAC Design Report with ENERGY STAR MFNC Supplement 3"},{"$f":"'1a. Rater Design Checklist'!D55","v":0},{"$f":"'1a. Rater Design Checklist'!F55","v":0}]
[{"$f":"'1a. Rater Design Checklist'!C57","v":"4a.1 HVAC design report(s) compliant with ANSI / RESNET / ACCA Std. 310 representing all applicable systems, with the ENERGY STAR MFNC supplement, collected for records, with no Items left blank."},{"$f":"'1a. Rater Design Checklist'!D57","v":0},{"$f":"'1a. Rater Design Checklist'!F57","v":0}]
[{"$f":"'1a. Rater Design Checklist'!C58","v":"4a.2 ANSI / RESNET / ACCA Std. 310 Rater Design Review Checklist completed for applicable housing type, with all items marked, “Rater Verified”."},{"$f":"'1a. Rater Design Checklist'!D58","v":0},{"$f":"'1a. Rater Design Checklist'!F58","v":0}]
[{"$f":"'1a. Rater Design Checklist'!C59","v":"4a.3 Prescriptive Path: Dwelling Unit Mechanical Ventilation is <150% of ASHRAE 62.2-2013 requirements. 11"},{"$f":"'1a. Rater Design Checklist'!D59","v":0},{"$f":"'1a. Rater Design Checklist'!F59","v":0}]
[{"$f":"'1a. Rater Design Checklist'!C61","v":"4a.4 Total occupant gains do not exceed 645 Btuh per occupant. 12"},{"$f":"'1a. Rater Design Checklist'!D61","v":"X"},{"$f":"'1a. Rater Design Checklist'!F61","v":0}]
[{"$f":"'1a. Rater Design Checklist'!C63","v":"4a.5 Non-occupant internal gains are less than 3,600 Btuh."},{"$f":"'1a. Rater Design Checklist'!D63","v":0},{"$f":"'1a. Rater Design Checklist'!F63","v":0}]
[{"$f":"'1a. Rater Design Checklist'!C64","v":"4a.6 Cooling sizing % is within the cooling sizing limit selected by the HVAC designer."},{"$f":"'1a. Rater Design Checklist'!D64","v":0},{"$f":"'1a. Rater Design Checklist'!F64","v":0}]
[{"$f":"'1a. Rater Design Checklist'!C65","v":"4b. Review of ENERGY STAR MFNC National HVAC Design Report (National HVAC Design Report Item # indicatd in parenthesis) 13\n"},{"$f":"'1a. Rater Design Checklist'!D65","v":0},{"$f":"'1a. Rater Design Checklist'!F65","v":0}]
[{"$f":"'1a. Rater Design Checklist'!C67","v":"4b.1 National HVAC Design Report(s) collected for records, with no Items left blank."},{"$f":"'1a. Rater Design Checklist'!D67","v":"X"},{"$f":"'1a. Rater Design Checklist'!F67","v":"Missing documentation"}]
[{"$f":"'1a. Rater Design Checklist'!C68","v":"4b.2 National HVAC Design Report(s) reviewed by Rater for the following parameters (National MFNC HVAC Design Report Item # indicated in parenthesis): "},{"$f":"'1a. Rater Design Checklist'!D68","v":0},{"$f":"'1a. Rater Design Checklist'!F68","v":0}]
[{"$f":"'1a. Rater Design Checklist'!C69","v":" 4b.2.1 Prescriptive Path: Dwelling Unit Mechanical Ventilation (2.7) is <150% of ASHRAE 62.2-2013 requirements. 11\n"},{"$f":"'1a. Rater Design Checklist'!D69","v":0},{"$f":"'1a. Rater Design Checklist'!F69","v":0}]
[{"$f":"'1a. Rater Design Checklist'!C71","v":" 4b.2.2 Cooling season and heating season outdoor design temperatures used in loads (3.4) are within the limits defined for the State and County where the building will be built, or the designer has provided an allowance from EPA to use alternative values. All limits are published at www.energystar.gov/hvacdesigntemps. Note that revised (i.e., 2019 Edition) limits are required to be used for all HVAC Design Reports generated after 07/01/2020. 14"},{"$f":"'1a. Rater Design Checklist'!D71","v":0},{"$f":"'1a. Rater Design Checklist'!F71","v":0}]
[{"$f":"'1a. Rater Design Checklist'!C73","v":" 4b.2.3 Number of occupants used in loads (3.6) is within ± 2 of the dwelling unit to be certified and occupant gains (3.7) do not exceed 645 Btuh per occupant. 12\n"},{"$f":"'1a. Rater Design Checklist'!D73","v":0},{"$f":"'1a. Rater Design Checklist'!F73","v":0}]
[{"$f":"'1a. Rater Design Checklist'!C75","v":" 4b.2.4 Conditioned floor area used in loads (3.8) is between 100 sq. ft. smaller and 300 sq. ft. larger than the dwelling unit to be certified. 15"},{"$f":"'1a. Rater Design Checklist'!D75","v":0},{"$f":"'1a. Rater Design Checklist'!F75","v":0}]
[{"$f":"'1a. Rater Design Checklist'!C77","v":" 4b.2.5 Window area used in loads (3.9) is between 15 sq. ft. smaller and 60 sq. ft. larger than the dwelling unit to be certified, or for dwelling units to be certified with > 500 sq. ft. of window area, between 3% smaller and 12% larger. 16"},{"$f":"'1a. Rater Design Checklist'!D77","v":0},{"$f":"'1a. Rater Design Checklist'!F77","v":0}]
[{"$f":"'1a. Rater Design Checklist'!C79","v":" 4b.2.6 Predominant window SHGC used in loads (3.10) is within 0.1 of predominant value in the dwelling unit to be certified. 17\n"},{"$f":"'1a. Rater Design Checklist'!D79","v":0},{"$f":"'1a. Rater Design Checklist'!F79","v":0}]
[{"$f":"'1a. Rater Design Checklist'!C81","v":" 4b.2.7 Mechanical ventilation used in loads (3.12) is the same as the ventilation design (2.7) for the given unit plan."},{"$f":"'1a. Rater Design Checklist'!D81","v":0},{"$f":"'1a. Rater Design Checklist'!F81","v":0}]
[{"$f":"'1a. Rater Design Checklist'!C82","v":" 4b.2.8 Non-occupant internal gains (3.13) are less than 3,600 Btuh."},{"$f":"'1a. Rater Design Checklist'!D82","v":0},{"$f":"'1a. Rater Design Checklist'!F82","v":0}]
[{"$f":"'1a. Rater Design Checklist'!C83","v":" 4b.2.9 Sensible & total heat gain are documented (3.14, 3.16) for the orientation of the dwelling unit to be certified. 18\n"},{"$f":"'1a. Rater Design Checklist'!D83","v":0},{"$f":"'1a. Rater Design Checklist'!F83","v":0}]
[{"$f":"'1a. Rater Design Checklist'!C85","v":" 4b.2.10 Cooling sizing % (4.18) is within the cooling sizing limit (4.19) selected by the HVAC designer."},{"$f":"'1a. Rater Design Checklist'!D85","v":0},{"$f":"'1a. Rater Design Checklist'!F85","v":0}]
[{"$f":"'1a. Rater Design Checklist'!C86","v":"5. Additional Construction Document Review"},{"$f":"'1a. Rater Design Checklist'!D86","v":0},{"$f":"'1a. Rater Design Checklist'!F86","v":0}]
[{"$f":"'1a. Rater Design Checklist'!C87","v":"5.1 Air Sealing: Review construction documents to verify that air-sealing details at assemblies adjacent to exterior and unconditioned spaces are represented which, at a minimum, demonstrate compliance with checklist items in Section 4 of the National Rater Field Checklist (noted with an asterisk below). Items 5.1.9 and 5.1.10 are not verified by the Rater in the field, but are recommended."},{"$f":"'1a. Rater Design Checklist'!D87","v":"N/A"},{"$f":"'1a. Rater Design Checklist'!F87","v":0}]
[{"$f":"'1a. Rater Design Checklist'!C88","v":" 5.1.1 Ducts, flues, shafts, plumbing, piping, wiring, exhaust fans, & other penetrations to unconditioned space sealed, with blocking / flashing as needed*."},{"$f":"'1a. Rater Design Checklist'!D88","v":"N/A"},{"$f":"'1a. Rater Design Checklist'!F88","v":0}]
[{"$f":"'1a. Rater Design Checklist'!C89","v":" 5.1.2 Recessed lighting fixtures adjacent to unconditioned space ICAT labeled and gasketed. Also, if in insulated ceiling without attic above, exterior surface of fixture insulated to ≥ R-10 in CZ 4-8*."},{"$f":"'1a. Rater Design Checklist'!D89","v":"N/A"},{"$f":"'1a. Rater Design Checklist'!F89","v":0}]
[{"$f":"'1a. Rater Design Checklist'!C90","v":" 5.1.3 Continuous top plate or blocking is at top of walls adjoining unconditioned space including at balloon-framed parapets, and sealed*."},{"$f":"'1a. Rater Design Checklist'!D90","v":"N/A"},{"$f":"'1a. Rater Design Checklist'!F90","v":0}]
[{"$f":"'1a. Rater Design Checklist'!C91","v":" 5.1.4 Drywall sealed to top plate at all unconditioned attic / wall interfaces using caulk, foam, drywall adhesive (but not other construction adhesives), or equivalent material. Either apply sealant directly between drywall and top plate or to the seam between the two from the attic above*."},{"$f":"'1a. Rater Design Checklist'!D91","v":"N/A"},{"$f":"'1a. Rater Design Checklist'!F91","v":0}]
[{"$f":"'1a. Rater Design Checklist'!C92","v":" 5.1.5 Rough opening around windows & exterior doors sealed*. 19\n"},{"$f":"'1a. Rater Design Checklist'!D92","v":"N/A"},{"$f":"'1a. Rater Design Checklist'!F92","v":0}]
[{"$f":"'1a. Rater Design Checklist'!C94","v":" 5.1.6 Assemblies that separate attached garages from occupiable space sealed and, also, an air barrier installed, sealed, and aligned with these assemblies*. 20"},{"$f":"'1a. Rater Design Checklist'!D94","v":"N/A"},{"$f":"'1a. Rater Design Checklist'!F94","v":0}]
[{"$f":"'1a. Rater Design Checklist'!C96","v":" 5.1.7 Attic access panels, roof hatches and drop-down stairs are gasketed (i.e., not caulked) or equipped with durable covers that are gasketed*. 21\n"},{"$f":"'1a. Rater Design Checklist'!D96","v":"N/A"},{"$f":"'1a. Rater Design Checklist'!F96","v":0}]
[{"$f":"'1a. Rater Design Checklist'!C98","v":" 5.1.8 Doors adjacent to unconditioned space (e.g., attics, garages, basements), ambient conditions, or a unit entrance to a corridor / stairwell, made substantially air-tight with doorsweep and weatherstripping or equivalent gasket*."},{"$f":"'1a. Rater Design Checklist'!D98","v":"N/A"},{"$f":"'1a. Rater Design Checklist'!F98","v":0}]
[{"$f":"'1a. Rater Design Checklist'!C99","v":" 5.1.9 Above-grade sill plates adjacent to conditioned space sealed to foundation or sub-floor. Gasket also placed beneath above-grade sill plate if resting atop concrete / masonry & adjacent to conditioned space. 22, 23\n"},{"$f":"'1a. Rater Design Checklist'!D99","v":"N/A"},{"$f":"'1a. Rater Design Checklist'!F99","v":0}]
[{"$f":"'1a. Rater Design Checklist'!C102","v":" 5.1.10 The gap between the common wall (e.g., the drywall shaft wall) and the structural framing between units sealed at all exterior boundaries."},{"$f":"'1a. Rater Design Checklist'!D102","v":"N/A"},{"$f":"'1a. Rater Design Checklist'!F102","v":0}]
[{"$f":"'1a. Rater Design Checklist'!C103","v":"5.2 Dwelling Unit Compartmentalization"},{"$f":"'1a. Rater Design Checklist'!D103","v":"N/A"},{"$f":"'1a. Rater Design Checklist'!F103","v":0}]
[{"$f":"'1a. Rater Design Checklist'!C104","v":" 5.2.1 Review construction documents to verify that air-sealing details 24 are represented such that air exchange between the dwelling unit and outside as well as the dwelling unit and other adjacent spaces is minimized and designed to achieve compartmentalization less than or equal to 0.30 CFM50 per square feet of dwelling unit enclosure area, following procedures in ANSI / RESNET / ICC Std. 380.\n\n"},{"$f":"'1a. Rater Design Checklist'!D104","v":"N/A"},{"$f":"'1a. Rater Design Checklist'!F104","v":0}]
[{"$f":"'1a. Rater Design Checklist'!C106","v":" 5.2.2 Seal all spaces 5.1.1-5.1.10 on adiabatic unit enclosure assemblies."},{"$f":"'1a. Rater Design Checklist'!D106","v":"N/A"},{"$f":"'1a. Rater Design Checklist'!F106","v":0}]
[{"$f":"'1a. Rater Design Checklist'!C107","v":"5.3 Prescriptive Path: Verify that Window-to-wall ratio ≤ 30%. 25\n"},{"$f":"'1a. Rater Design Checklist'!D107","v":"N/A"},{"$f":"'1a. Rater Design Checklist'!F107","v":0}]
[{"$f":"'1a. Rater Design Checklist'!C109","v":"5.4 Verify that fully-aligned air barrier details are in compliance with checklist items in Section 2 of the National Rater Field Checklist."},{"$f":"'1a. Rater Design Checklist'!D109","v":"N/A"},{"$f":"'1a. Rater Design Checklist'!F109","v":0}]
[{"$f":"'1a. Rater Design Checklist'!C110","v":"5.5 Verify that thermal bridging details are in compliance with checklist items in Section 3 of the National Rater Field Checklist."},{"$f":"'1a. Rater Design Checklist'!D110","v":"N/A"},{"$f":"'1a. Rater Design Checklist'!F110","v":0}]
[{"$f":"'1a. Rater Design Checklist'!C111","v":"5.6 Verify that HVAC details are in compliance with checklist items in Sections 5 - 10 of the National Rater Field Checklist."},{"$f":"'1a. Rater Design Checklist'!D111","v":"N/A"},{"$f":"'1a. Rater Design Checklist'!F111","v":0}]
[{"$f":"'1a. Rater Design Checklist'!C112","v":" 5.6.1 Verify that HVAC design includes access and means to measure the dwelling-unit mechanical ventilation airflow rate."},{"$f":"'1a. Rater Design Checklist'!D112","v":"N/A"},{"$f":"'1a. Rater Design Checklist'!F112","v":0}]
[{"$f":"'1a. Rater Design Checklist'!C113","v":" 5.6.2 Verify that bedrooms with design airflow ≥ 150 CFM are specified with a combination of transfer grilles, jump ducts dedicated return ducts, and/or undercut doors to achieve a Rater-measured pressure differential ≥ -5 Pa and ≤ +5 Pa with respect to the main body of the dwelling unit when all air handlers are operating."},{"$f":"'1a. Rater Design Checklist'!D113","v":"N/A"},{"$f":"'1a. Rater Design Checklist'!F113","v":0}]
[{"$f":"'1a. Rater Design Checklist'!C114","v":" 5.6.3 Verify that Functional Testing Agent(s) hold(s) credential required to complete the applicable sections of the National HVAC Functional Testing Checklist for all HVAC equipment in the building. For Track A, a Functional Testing Agent is not needed to complete Sections 2 and 3 for HVAC systems that will be verified and graded by the Rater. 26\n"},{"$f":"'1a. Rater Design Checklist'!D114","v":"N/A"},{"$f":"'1a. Rater Design Checklist'!F114","v":0}]
[{"$f":"'1a. Rater Design Checklist'!C116","v":"5.7 Verify that Domestic Hot Water, Lighting, Appliances, Plumbing Fixtures, and Whole Building Utility Data Acquisition Strategy details are in compliance with checklist items in Sections 11 – 14 of the National Rater Field Checklist."},{"$f":"'1a. Rater Design Checklist'!D116","v":"N/A"},{"$f":"'1a. Rater Design Checklist'!F116","v":0}]
[]
[]
["1b. Rater Field Checklist  - Must Correct"]
["Rater Design Checklist","Must Correct ","Notes/Comments"]
[{"$f":"'1b. Rater Field Checklist'!C16","v":"Thermal Enclosure System "},{"$f":"'1b. Rater Field Checklist'!D16","v":0},{"$f":"'1b. Rater Field Checklist'!M16","v":0}]
[{"$f":"'1b. Rater Field Checklist'!C17","v":"1. High-Performance Fenestration & Insulation "},{"$f":"'1b. Rater Field Checklist'!D17","v":0},{"$f":"'1b. Rater Field Checklist'!M17","v":0}]
[{"$f":"'1b. Rater Field Checklist'!C18","v":"1.1 Fenestration meets or exceeds specification in Items 2.1 and 2.2 of the National Rater Design Review Checklist."},{"$f":"'1b. Rater Field Checklist'!D18","v":0},{"$f":"'1b. Rater Field Checklist'!M18","v":0}]
[{"$f":"'1b. Rater Field Checklist'!C19","v":"1.2 Insulation meets or exceeds levels specified in Items 3.1 and 3.2 of the National Rater Design Review Checklist."},{"$f":"'1b. Rater Field Checklist'!D19","v":0},{"$f":"'1b. Rater Field Checklist'!M19","v":0}]
[{"$f":"'1b. Rater Field Checklist'!C20","v":"1.3 All insulation achieves Grade I install per ANSI / RESNET / ICC Std. 301. Alternatives in footnote 6. 6,7"},{"$f":"'1b. Rater Field Checklist'!D20","v":0},{"$f":"'1b. Rater Field Checklist'!M20","v":0}]
[{"$f":"'1b. Rater Field Checklist'!C23","v":"1.4 Prescriptive Path: Window-to-wall ratio ≤ 30%. 8"},{"$f":"'1b. Rater Field Checklist'!D23","v":0},{"$f":"'1b. Rater Field Checklist'!$M$23","v":0}]
[{"$f":"'1b. Rater Field Checklist'!C25","v":"1.5 Heated plenums in unconditioned space or ambient conditions must meet the following requirements: 9"},{"$f":"'1b. Rater Field Checklist'!D25","v":0},{"$f":"'1b. Rater Field Checklist'!$M$25","v":0}]
[{"$f":"'1b. Rater Field Checklist'!C27","v":" 1.5.1 Sides of heated plenum are an air barrier and insulated to ≥ R-3ci in CZ 1-4; ≥ R-5ci in CZ 5-6; ≥ R-7.5ci in CZ 7; ≥ R-9.5ci in CZ 8, AND;"},{"$f":"'1b. Rater Field Checklist'!D27","v":0},{"$f":"'1b. Rater Field Checklist'!M27","v":0}]
[{"$f":"'1b. Rater Field Checklist'!C28","v":" 1.5.2 Insulation at top of heated plenum meets or exceeds the R-value for mass floors from the “All Other” column of Table 502.2(1) of 2009 IECC, AND;"},{"$f":"'1b. Rater Field Checklist'!D28","v":0},{"$f":"'1b. Rater Field Checklist'!M28","v":0}]
[{"$f":"'1b. Rater Field Checklist'!C29","v":" 1.5.3 Bottom of heated plenum must have at least R-13 insulation. 10"},{"$f":"'1b. Rater Field Checklist'!D29","v":0},{"$f":"'1b. Rater Field Checklist'!M29","v":0}]
[{"$f":"'1b. Rater Field Checklist'!C31","v":"1.6 Garages with space heating must meet the following requirements: 9"},{"$f":"'1b. Rater Field Checklist'!D31","v":0},{"$f":"'1b. Rater Field Checklist'!$M$31","v":0}]
[{"$f":"'1b. Rater Field Checklist'!C33","v":" 1.6.1 Insulation on above grade walls and walls on the first story below grade ≥ R-5ci in CZ 5-6; ≥ R-7.5ci in CZ 7; ≥ R-9.5ci in CZ 8, AND;"},{"$f":"'1b. Rater Field Checklist'!D33","v":0},{"$f":"'1b. Rater Field Checklist'!M33","v":0}]
[{"$f":"'1b. Rater Field Checklist'!C34","v":" 1.6.2 Ceiling insulation meets or exceeds the R-value for mass floors from the “All Other” column of Table 502.2(1) of 2009 IECC."},{"$f":"'1b. Rater Field Checklist'!D34","v":0},{"$f":"'1b. Rater Field Checklist'!M34","v":0}]
[{"$f":"'1b. Rater Field Checklist'!C35","v":"2. Fully-Aligned Air Barriers 11 At each insulated location below, a complete air barrier is provided that is fully aligned as follows:"},{"$f":"'1b. Rater Field Checklist'!D35","v":0},{"$f":"'1b. Rater Field Checklist'!M35","v":0}]
[{"$f":"'1b. Rater Field Checklist'!C37","v":"Ceilings: At interior or exterior horizontal surface of ceiling insulation in Climate Zones 1-3; at interior horizontal surface of ceiling insulation in Climate Zones 4-8. Also, at exterior vertical surface of ceiling insulation in all climate zones (e.g., using a wind baffle that extends to the full height of the insulation in every bay or a tabbed baffle in each bay with a soffit vent that prevents wind washing in adjacent bays). 12"},{"$f":"'1b. Rater Field Checklist'!D37","v":0},{"$f":"'1b. Rater Field Checklist'!$M$37","v":0}]
[{"$f":"'1b. Rater Field Checklist'!C39","v":"2.1 Dropped ceilings / soffits below unconditioned attics, chase / dead space, and all other ceilings."},{"$f":"'1b. Rater Field Checklist'!D39","v":0},{"$f":"'1b. Rater Field Checklist'!M39","v":0}]
[{"$f":"'1b. Rater Field Checklist'!C40","v":"Walls: At exterior vertical surface of wall insulation in all climate zones; also at interior vertical surface of wall insulation in Climate Zones 4-8. 13"},{"$f":"'1b. Rater Field Checklist'!D40","v":0},{"$f":"'1b. Rater Field Checklist'!M40","v":0}]
[{"$f":"'1b. Rater Field Checklist'!C42","v":"2.2 Walls behind showers, tubs, staircases, and fireplaces."},{"$f":"'1b. Rater Field Checklist'!D42","v":0},{"$f":"'1b. Rater Field Checklist'!M42","v":0}]
[{"$f":"'1b. Rater Field Checklist'!C43","v":"2.3 Architectural bump-outs, dead space, and all other exterior walls."},{"$f":"'1b. Rater Field Checklist'!D43","v":0},{"$f":"'1b. Rater Field Checklist'!M43","v":0}]
[{"$f":"'1b. Rater Field Checklist'!C44","v":"Floors: At exterior vertical surface of floor insulation in all climate zones and, if over unconditioned space, also at interior horizontal surface including supports to ensure alignment. Alternatives in Footnotes 15 & 16. 14, 15, 16"},{"$f":"'1b. Rater Field Checklist'!D44","v":0},{"$f":"'1b. Rater Field Checklist'!M44","v":0}]
[{"$f":"'1b. Rater Field Checklist'!C48","v":"2.4 Floors above garages, floors above unconditioned spaces, and cantilevered floors."},{"$f":"'1b. Rater Field Checklist'!D48","v":"X"},{"$f":"'1b. Rater Field Checklist'!M48","v":0}]
[{"$f":"'1b. Rater Field Checklist'!C49","v":"2.5 All other floors adjoining unconditioned space (e.g., rim / band joists at exterior wall or at porch roof)."},{"$f":"'1b. Rater Field Checklist'!D49","v":0},{"$f":"'1b. Rater Field Checklist'!M49","v":0}]
[{"$f":"'1b. Rater Field Checklist'!C50","v":"3. Reduced Thermal Bridging"},{"$f":"'1b. Rater Field Checklist'!D50","v":0},{"$f":"'1b. Rater Field Checklist'!M50","v":0}]
[{"$f":"'1b. Rater Field Checklist'!C51","v":"3.1 For insulated ceilings with attic space above (i.e., non-cathedralized), Grade I insulation extends to the inside face of the exterior wall below and is ≥ R-21 in CZ 1-5; ≥ R-30 in CZ 6-8. 17"},{"$f":"'1b. Rater Field Checklist'!D51","v":0},{"$f":"'1b. Rater Field Checklist'!M51","v":0}]
[{"$f":"'1b. Rater Field Checklist'!C53","v":"3.2 For insulated ceilings with attic space above, attic access panels and drop-down stairs insulated ≥ R-10 or equipped with durable ≥ R-10 cover. 18"},{"$f":"'1b. Rater Field Checklist'!D53","v":0},{"$f":"'1b. Rater Field Checklist'!$M$53","v":0}]
[{"$f":"'1b. Rater Field Checklist'!C55","v":"3.3 Insulation beneath attic platforms (e.g., HVAC platforms, walkways) ≥ R-21 in CZ 1-5; ≥ R-30 in CZ 6-8."},{"$f":"'1b. Rater Field Checklist'!D55","v":0},{"$f":"'1b. Rater Field Checklist'!M55","v":0}]
[{"$f":"'1b. Rater Field Checklist'!C56","v":"3.4 For slabs on grade in CZ 4-8, 100% of slab edge insulated to ≥ R-5 at the depth specified by Table 502.2(1) of the 2009 IECC and aligned with the thermal boundary of the walls. 19, 20"},{"$f":"'1b. Rater Field Checklist'!D56","v":0},{"$f":"'1b. Rater Field Checklist'!M56","v":0}]
[{"$f":"'1b. Rater Field Checklist'!C59","v":"3.5 For elevated concrete slabs in CZ 4-8 (i.e., podiums and projected balconies, but not intermediate slab floor edges) 100% of the slab edge insulated to ≥ R-5. For podiums, this insulation must extend for a minimum of 8ft below the bottom of the slab edge. For columns, the insulation must surround the column, at a depth of 4ft. Alternatives in Footnote 21. 21"},{"$f":"'1b. Rater Field Checklist'!D59","v":0},{"$f":"'1b. Rater Field Checklist'!$M$59","v":0}]
[{"$f":"'1b. Rater Field Checklist'!C61","v":"3.6 For elevated concrete slabs in CZ 4-8 (i.e., podiums, but not intermediate floor slabs), floor insulation meets the U-factor specified in Table 502.1.2 of the 2009 IECC for Group R when dwelling units are above the slab, and for ‘All Other’ when common space is above the slab. 22"},{"$f":"'1b. Rater Field Checklist'!D61","v":0},{"$f":"'1b. Rater Field Checklist'!$M$61","v":0}]
[{"$f":"'1b. Rater Field Checklist'!C63","v":"3.7 At above-grade walls and rim / band joists separating conditioned space from the exterior, one of the following options used: 23, 26"},{"$f":"'1b. Rater Field Checklist'!D63","v":0},{"$f":"'1b. Rater Field Checklist'!$M$63","v":0}]
[{"$f":"'1b. Rater Field Checklist'!C66","v":" 3.7.1 Continuous rigid insulation, insulated siding, or combination of the two is ≥ R-3 in CZ 1-4; ≥ R-5 in CZ 5-8 24, 25, 26, 27; OR;"},{"$f":"'1b. Rater Field Checklist'!D66","v":0},{"$f":"'1b. Rater Field Checklist'!$M$66","v":0}]
[{"$f":"'1b. Rater Field Checklist'!C71","v":" 3.7.2 Structural Insulated Panels OR; Insulated Concrete Forms OR; Double-wall framing OR; 24, 26, 28"},{"$f":"'1b. Rater Field Checklist'!D71","v":"X"},{"$f":"'1b. Rater Field Checklist'!$M$71","v":0}]
[{"$f":"'1b. Rater Field Checklist'!C75","v":" 3.7.3 Option only for wood-framed walls either in CZ 1-3 OR ≤ 3 stories: ‘advanced framing’ details including all of the Items below: 26, 29"},{"$f":"'1b. Rater Field Checklist'!D75","v":0},{"$f":"'1b. Rater Field Checklist'!$M$75","v":0}]
[{"$f":"'1b. Rater Field Checklist'!C78","v":"  3.7.3a Corners insulated ≥ R-6 to edge, 30 AND;"},{"$f":"'1b. Rater Field Checklist'!D78","v":0},{"$f":"'1b. Rater Field Checklist'!$M$78","v":0}]
[{"$f":"'1b. Rater Field Checklist'!C80","v":"  3.7.3b Headers above windows & doors insulated ≥ R-3 for 2x4 framing or equivalent cavity width, and ≥ R-5 for all other assemblies (e.g., with 2x6 framing), 31 AND;"},{"$f":"'1b. Rater Field Checklist'!D80","v":0},{"$f":"'1b. Rater Field Checklist'!$M$80","v":0}]
[{"$f":"'1b. Rater Field Checklist'!C82","v":"  3.7.3c Interior / exterior wall intersections insulated to same R-value as rest of exterior wall. 32"},{"$f":"'1b. Rater Field Checklist'!D82","v":0},{"$f":"'1b. Rater Field Checklist'!$M$82","v":0}]
[{"$f":"'1b. Rater Field Checklist'!C84","v":"4. Air Sealing (Unless otherwise noted below, “sealed” indicates the use of caulk, foam, or equivalent material.)"},{"$f":"'1b. Rater Field Checklist'!D84","v":0},{"$f":"'1b. Rater Field Checklist'!M84","v":0}]
[{"$f":"'1b. Rater Field Checklist'!C85","v":"4.1 Ducts, flues, shafts, plumbing, piping, wiring, exhaust fans, & other penetrations to unconditioned space sealed, with blocking / flashing as needed."},{"$f":"'1b. Rater Field Checklist'!D85","v":0},{"$f":"'1b. Rater Field Checklist'!M85","v":0}]
[{"$f":"'1b. Rater Field Checklist'!C86","v":"4.2 Recessed lighting fixtures adjacent to unconditioned space ICAT labeled and gasketed. Also, if in insulated ceiling without attic above, exterior surface of fixture insulated to ≥ R-10 in CZ 4-8."},{"$f":"'1b. Rater Field Checklist'!D86","v":0},{"$f":"'1b. Rater Field Checklist'!M86","v":0}]
[{"$f":"'1b. Rater Field Checklist'!C87","v":"4.3 Continuous top plate or blocking is at top of walls adjoining unconditioned space including at balloon-framed parapets, and sealed."},{"$f":"'1b. Rater Field Checklist'!D87","v":0},{"$f":"'1b. Rater Field Checklist'!M87","v":0}]
[{"$f":"'1b. Rater Field Checklist'!C88","v":"4.4 Drywall sealed to top plate at all unconditioned attic / wall interfaces using caulk, foam, drywall adhesive (but not other construction adhesives), or equivalent material. Either apply sealant directly between drywall and top plate or to the seam between the two from the attic above."},{"$f":"'1b. Rater Field Checklist'!D88","v":0},{"$f":"'1b. Rater Field Checklist'!M88","v":0}]
[{"$f":"'1b. Rater Field Checklist'!C89","v":"4.5 Rough opening around windows & exterior doors sealed. 33"},{"$f":"'1b. Rater Field Checklist'!D89","v":0},{"$f":"'1b. Rater Field Checklist'!M89","v":0}]
[{"$f":"'1b. Rater Field Checklist'!C91","v":"4.6 Assemblies that separate attached garages from occupiable space sealed and, also, an air barrier installed, sealed, and aligned with these assemblies. 34"},{"$f":"'1b. Rater Field Checklist'!D91","v":0},{"$f":"'1b. Rater Field Checklist'!$M$91","v":0}]
[{"$f":"'1b. Rater Field Checklist'!C93","v":"4.7 Doors adjacent to unconditioned space (e.g., attics, garages, basements) or ambient conditions made substantially air-tight with doorsweep and weatherstripping or equivalent gasket."},{"$f":"'1b. Rater Field Checklist'!D93","v":0},{"$f":"'1b. Rater Field Checklist'!M93","v":0}]
[{"$f":"'1b. Rater Field Checklist'!C94","v":"4.8 Attic access panels, roof hatches and drop-down stairs are gasketed (i.e., not caulked) or equipped with durable covers that are gasketed. 18"},{"$f":"'1b. Rater Field Checklist'!D94","v":0},{"$f":"'1b. Rater Field Checklist'!M94","v":0}]
[{"$f":"'1b. Rater Field Checklist'!C96","v":"The following items must be additionally verified in dwelling units, to reduce air leakage between conditioned spaces."},{"$f":"'1b. Rater Field Checklist'!D96","v":0},{"$f":"'1b. Rater Field Checklist'!M96","v":0}]
[{"$f":"'1b. Rater Field Checklist'!C97","v":"4.9 Doors serving as a unit entrance from a corridor / stairwell made substantially air-tight with doorsweep and weatherstripping or equivalent gasket."},{"$f":"'1b. Rater Field Checklist'!D97","v":0},{"$f":"'1b. Rater Field Checklist'!M97","v":0}]
[{"$f":"'1b. Rater Field Checklist'!C98","v":"4.10 Rater-measured compartmentalization is no greater than 0.30 CFM50 per square feet of dwelling unit enclosure area, following procedures in ANSI / RESNET / ICC Std. 380. 35"},{"$f":"'1b. Rater Field Checklist'!D98","v":0},{"$f":"'1b. Rater Field Checklist'!M98","v":0}]
[{"$f":"'1b. Rater Field Checklist'!C100","v":" 4.10.1 For dwelling units with forced air distribution systems without ducted returns and located in a closet adjacent to unconditioned space, the Rater-measured pressure difference between the space containing the air handler and the conditioned space during the compartmentalization test is no greater than 5 Pa. 36"},{"$f":"'1b. Rater Field Checklist'!D100","v":0},{"$f":"'1b. Rater Field Checklist'!$M$100","v":0}]
[{"$f":"'1b. Rater Field Checklist'!C102","v":"HVAC System 37 (HVAC Design Report Item # indicated in parenthesis) "},{"$f":"'1b. Rater Field Checklist'!D102","v":0},{"$f":"'1b. Rater Field Checklist'!$M$102","v":0}]
[{"$f":"'1b. Rater Field Checklist'!C104","v":"5. Heating & Cooling Equipment – Complete Track A – HVAC Grading by Rater OR Track B – HVAC Testing by FT Agent 38"},{"$f":"'1b. Rater Field Checklist'!D104","v":0},{"$f":"'1b. Rater Field Checklist'!$M$104","v":0}]
[{"$f":"'1b. Rater Field Checklist'!C106","v":"Track A 39"},{"$f":"'1b. Rater Field Checklist'!D106","v":0},{"$f":"'1b. Rater Field Checklist'!$M$106","v":0}]
[{"$f":"'1b. Rater Field Checklist'!C108","v":"5a.1 Blower fan volumetric airflow is Grade I or II per ANSI / RESNET / ACCA Std. 310"},{"$f":"'1b. Rater Field Checklist'!D108","v":0},{"$f":"'1b. Rater Field Checklist'!M108","v":0}]
[{"$f":"'1b. Rater Field Checklist'!C109","v":"5a.2 Blower fan watt draw is Grade I or II per ANSI / RESNET / ACCA Std. 310"},{"$f":"'1b. Rater Field Checklist'!D109","v":0},{"$f":"'1b. Rater Field Checklist'!M109","v":0}]
[{"$f":"'1b. Rater Field Checklist'!C110","v":"5a.3 Refrigerant charge is Grade I per ANSI / RESNET / ACCA Std. 310. See Footnote 40 for exemptions. 40"},{"$f":"'1b. Rater Field Checklist'!D110","v":0},{"$f":"'1b. Rater Field Checklist'!M110","v":0}]
[{"$f":"'1b. Rater Field Checklist'!C112","v":"Track B"},{"$f":"'1b. Rater Field Checklist'!D112","v":0},{"$f":"'1b. Rater Field Checklist'!M112","v":0}]
[{"$f":"'1b. Rater Field Checklist'!C113","v":"5b.1 HVAC manufacturer & model number on installed equipment matches either of the following (check box): 41\n \n National HVAC Design Report (4.6-4.9 & 4.25-4.26)      Written approval received from designer"},{"$f":"'1b. Rater Field Checklist'!D113","v":0},{"$f":"'1b. Rater Field Checklist'!M113","v":0}]
[{"$f":"'1b. Rater Field Checklist'!C115","v":"5b.2 External static pressure measured by Rater at contractor-provided test locations and documented below: 42\n\nReturn-Side External Static Pressure: ________IWC\nSupply-Side External Static Pressure: __________IWC"},{"$f":"'1b. Rater Field Checklist'!D115","v":0},{"$f":"'1b. Rater Field Checklist'!$M$115","v":0}]
[{"$f":"'1b. Rater Field Checklist'!C117","v":"5.4 Prescriptive Path: Heating and cooling equipment serving dwelling units and common spaces meet the efficiency levels specified in the Exhibit X. Electric resistance space heating is not installed in dwelling units."},{"$f":"'1b. Rater Field Checklist'!D117","v":0},{"$f":"'1b. Rater Field Checklist'!M117","v":0}]
[{"$f":"'1b. Rater Field Checklist'!C118","v":"5.5 ERI Path: Heating and cooling equipment serving common spaces, but not serving dwelling units, meet the efficiency levels specified in the Exhibit X. See Exhibit X for restrictions on electric resistance space heating."},{"$f":"'1b. Rater Field Checklist'!D118","v":0},{"$f":"'1b. Rater Field Checklist'!M118","v":0}]
[{"$f":"'1b. Rater Field Checklist'!C119","v":"5.6 National HVAC Functional Testing Checklist(s) collected prior to certification, with all HVAC systems in the building / project fully documented. Exception: Where credentialed HVAC Contractor(s) are completing the National HVAC Functional Testing Checklist, the checklist is not required to be collected for the systems they verify. 43"},{"$f":"'1b. Rater Field Checklist'!D119","v":0},{"$f":"'1b. Rater Field Checklist'!M119","v":0}]
[{"$f":"'1b. Rater Field Checklist'!C121","v":"5.7 Rater has verified and documented that Functional Testing Agent(s) (“FT Agent(s)”) completing the National HVAC Functional Testing Checklist(s) hold one of the required credentials and completed orientation, if applicable. 43\n\nCredential: ______________________ “FT Agent” Company Name(s): _______________________"},{"$f":"'1b. Rater Field Checklist'!D121","v":0},{"$f":"'1b. Rater Field Checklist'!$M$121","v":0}]
[{"$f":"'1b. Rater Field Checklist'!C123","v":"Equipment Controls "},{"$f":"'1b. Rater Field Checklist'!D123","v":0},{"$f":"'1b. Rater Field Checklist'!M123","v":0}]
[{"$f":"'1b. Rater Field Checklist'!C124","v":"5.8 All heating and cooling systems serving a dwelling unit have thermostatic controls within the dwelling unit which are not located on exterior walls."},{"$f":"'1b. Rater Field Checklist'!D124","v":0},{"$f":"'1b. Rater Field Checklist'!M124","v":0}]
[{"$f":"'1b. Rater Field Checklist'!C125","v":" 5.8.1 Prescriptive Path: Dwelling unit thermostats are programmable."},{"$f":"'1b. Rater Field Checklist'!D125","v":0},{"$f":"'1b. Rater Field Checklist'!M125","v":0}]
[{"$f":"'1b. Rater Field Checklist'!C126","v":"5.9 Stair and elevator shaft vents equipped with motorized dampers that are capable of being automatically closed during normal building operation and are interlocked to open as required by fire and smoke detection systems. Dampers are verified to be closed at the time of inspection."},{"$f":"'1b. Rater Field Checklist'!D126","v":0},{"$f":"'1b. Rater Field Checklist'!M126","v":0}]
[{"$f":"'1b. Rater Field Checklist'!C127","v":"5.10 Freeze protection systems, such as heat tracing of piping and heat exchangers, including self-regulating heat tracing, and garage / plenum heaters include automatic controls that are verified to shut off the systems when pipe wall or garage / plenum temperatures are above 40°F."},{"$f":"'1b. Rater Field Checklist'!D127","v":0},{"$f":"'1b. Rater Field Checklist'!M127","v":0}]
[{"$f":"'1b. Rater Field Checklist'!C128","v":" 5.10.1 Where heat tracing is installed for freeze-protection, controls must be based on pipe wall temperature and a minimum of R-3 pipe insulation is also required."},{"$f":"'1b. Rater Field Checklist'!D128","v":0},{"$f":"'1b. Rater Field Checklist'!M128","v":0}]
[{"$f":"'1b. Rater Field Checklist'!C129","v":"5.11 Snow- and ice-melting systems include automatic controls that are verified to shut off the systems when the pavement temperature is above 50°F and no precipitation is falling, and an automatic or manual control is installed that is verified to shut off system when the outdoor temperature is above 40°F, so that the potential for snow or ice accumulation is negligible."},{"$f":"'1b. Rater Field Checklist'!D129","v":0},{"$f":"'1b. Rater Field Checklist'!M129","v":0}]
[{"$f":"'1b. Rater Field Checklist'!C130","v":"Hydronic Distribution "},{"$f":"'1b. Rater Field Checklist'!D130","v":0},{"$f":"'1b. Rater Field Checklist'!M130","v":0}]
[{"$f":"'1b. Rater Field Checklist'!C131","v":"5.12 For hydronic distribution systems, all terminal heating and cooling distribution equipment are separated from the riser or distribution loop by a control valve or terminal distribution pump, so that heated or cooled fluid is not delivered to the dwelling unit distribution equipment when there is no call from the thermostat."},{"$f":"'1b. Rater Field Checklist'!D131","v":0},{"$f":"'1b. Rater Field Checklist'!M131","v":0}]
[{"$f":"'1b. Rater Field Checklist'!C132","v":"5.13 Terminal units in hydronic distribution systems are equipped with pressure independent balancing valves or pressure independent control valves."},{"$f":"'1b. Rater Field Checklist'!D132","v":0},{"$f":"'1b. Rater Field Checklist'!M132","v":0}]
[{"$f":"'1b. Rater Field Checklist'!C133","v":"5.14 Piping of a heating or cooling system is insulated in accordance with Item 4.41 on the National HVAC Design Report, including where passing through planks or any other penetrations."},{"$f":"'1b. Rater Field Checklist'!D133","v":0},{"$f":"'1b. Rater Field Checklist'!M133","v":0}]
[{"$f":"'1b. Rater Field Checklist'!C134","v":"5.15 For circulating pumps serving hydronic heating or cooling systems with three-phase motors, 1 horsepower or larger, motors meet or exceed efficiency standards for NEMA Premium™ motors. If 5 horsepower or larger, also installed with variable frequency drives."},{"$f":"'1b. Rater Field Checklist'!D134","v":0},{"$f":"'1b. Rater Field Checklist'!M134","v":0}]
[{"$f":"'1b. Rater Field Checklist'!C135","v":"6. Duct Quality Installation - Applies to Heating, Cooling, Ventilation, Exhaust, & Pressure Balancing Ducts, Unless Noted in Footnote."},{"$f":"'1b. Rater Field Checklist'!D135","v":0},{"$f":"'1b. Rater Field Checklist'!M135","v":0}]
[{"$f":"'1b. Rater Field Checklist'!C136","v":"6.1 Ductwork installed without kinks, sharp bends, compressions, or excessive coiled flexible ductwork. 45"},{"$f":"'1b. Rater Field Checklist'!D136","v":0},{"$f":"'1b. Rater Field Checklist'!M136","v":0}]
[{"$f":"'1b. Rater Field Checklist'!C138","v":"6.2 Bedrooms with a design supply airflow ≥ 150 CFM (per Item 5.2 on the National HVAC Design Report) pressure-balanced (e.g., using transfer grilles, jump ducts, dedicated return ducts, undercut doors) to achieve a Rater-measured pressure differential ≥ -5 Pa and ≤ +5 Pa with respect to the main body of the dwelling unit when all air handlers are operating. See Footnote 46 for test configuration. 46"},{"$f":"'1b. Rater Field Checklist'!D138","v":0},{"$f":"'1b. Rater Field Checklist'!$M$138","v":0}]
[{"$f":"'1b. Rater Field Checklist'!C140","v":"6.3 All supply and return ducts in unconditioned space, including connections to trunk ducts, are insulated to ≥ R-6. 47"},{"$f":"'1b. Rater Field Checklist'!D140","v":0},{"$f":"'1b. Rater Field Checklist'!$M$140","v":0}]
[{"$f":"'1b. Rater Field Checklist'!C142","v":" 6.3.1 Prescriptive Path: Dwelling unit ductwork meets the location and insulation requirements specified in the ENERGY STAR Multifamily Reference Design."},{"$f":"'1b. Rater Field Checklist'!D142","v":0},{"$f":"'1b. Rater Field Checklist'!M142","v":0}]
[{"$f":"'1b. Rater Field Checklist'!C143","v":"6.4 Rater-measured total duct leakage in dwelling units meets one of the following two options: 48, 49"},{"$f":"'1b. Rater Field Checklist'!D143","v":0},{"$f":"'1b. Rater Field Checklist'!M143","v":0}]
[{"$f":"'1b. Rater Field Checklist'!C146","v":" 6.4.1 Rough-in: Tested per allowances below, with air handler & all ducts, building cavities used as ducts, & duct boots installed. In addition, all duct boots sealed to finished surface, Rater-verified at final. 50\n\nNo ducted returns 36: The greater of ≤ 3 CFM25 per 100 sq. ft. of CFA or ≤ 30 CFM. Additionally, the Rater-measured pressure difference between the space containing the air handler and the conditioned space, with the air handler running at high speed, is ≤ 5 Pa. For systems > 1 ton, increase by 1 Pa per half ton.\n\nOne or two ducted returns 36: The greater of ≤ 4 CFM25 per 100 sq. ft. of CFA or ≤ 40 CFM.\n\nThree or more ducted returns 36 : The greater of ≤ 6 CFM25 per 100 sq. ft. of CFA or ≤ 60 CFM."},{"$f":"'1b. Rater Field Checklist'!D146","v":0},{"$f":"'1b. Rater Field Checklist'!$M$146","v":0}]
[{"$f":"'1b. Rater Field Checklist'!C149","v":" 6.4.2 Final: Tested per allowances below, with the air handler & all ducts, building cavities used as ducts, duct boots, & register grilles atop the finished surface (e.g., drywall, floor) installed. 51\n\nNo ducted returns 36: The greater of ≤ 6 CFM25 per 100 sq. ft. of CFA or ≤ 60 CFM. Additionally, the Rater-measured pressure difference between the space containing the air handler and the conditioned space, with the air handler running at high speed, is ≤ 5 Pa. For systems > 1 ton, increase by 1 Pa per half ton.\n\nOne or two ducted returns 36: The greater of ≤ 8 CFM25 per 100 sq. ft. of CFA or ≤ 80 CFM.\n\nThree or more ducted returns 36 : The greater of ≤ 12 CFM25 per 100 sq. ft. of CFA or ≤ 120 CFM."},{"$f":"'1b. Rater Field Checklist'!D149","v":0},{"$f":"'1b. Rater Field Checklist'!$M$149","v":0}]
[{"$f":"'1b. Rater Field Checklist'!C152","v":"6.5 Townhouses only: Rater-measured duct leakage to the outside the greater of ≤ 4 CFM25 per 100 sq. ft. of CFA or ≤ 40 CFM25. 48, 52"},{"$f":"'1b. Rater Field Checklist'!D152","v":0},{"$f":"'1b. Rater Field Checklist'!$M$152","v":0}]
[{"$f":"'1b. Rater Field Checklist'!C155","v":"6.6 Common Space: Supply, return, and exhaust ductwork and all plenums serving common spaces are sealed at all transverse joints, longitudinal seams, and duct wall penetrations with mastic, mastic tape, or internal aerosol-based sealant."},{"$f":"'1b. Rater Field Checklist'!D155","v":0},{"$f":"'1b. Rater Field Checklist'!M155","v":0}]
[{"$f":"'1b. Rater Field Checklist'!C156","v":"6.7 Duct leakage of central exhaust systems that serve four or more dwelling units, meets one of the following two options:"},{"$f":"'1b. Rater Field Checklist'!D156","v":0},{"$f":"'1b. Rater Field Checklist'!M156","v":0}]
[{"$f":"'1b. Rater Field Checklist'!C157","v":" 6.7.1 Rough-in: Tested including horizontal run outs, trunks, branches, and take-offs up to, but not including, the grilles, the leakage does not exceed 25% of exhaust fan flow. 53"},{"$f":"'1b. Rater Field Checklist'!D157","v":0},{"$f":"'1b. Rater Field Checklist'!M157","v":0}]
[{"$f":"'1b. Rater Field Checklist'!C159","v":" 6.7.2 Final: Tested inclusive of all ductwork between the fan and the grilles, the leakage does not exceed 30% of exhaust fan flow. 53"},{"$f":"'1b. Rater Field Checklist'!D159","v":0},{"$f":"'1b. Rater Field Checklist'!$M$159","v":0}]
[{"$f":"'1b. Rater Field Checklist'!C161","v":"7. Dwelling-Unit & Common Space Mechanical Vent. Systems (\"Vent Systems\") 54 & Inlets in Return Duct 55\n(National HVAC Design Report Item # indicated in parenthesis)"},{"$f":"'1b. Rater Field Checklist'!D161","v":0},{"$f":"'1b. Rater Field Checklist'!M161","v":0}]
[{"$f":"'1b. Rater Field Checklist'!C164","v":"7.1 Ventilation manufacturer & model number on installed equipment matches either of the following (check box): 41\n\n National HVAC Design Report           Written approval received from designer"},{"$f":"'1b. Rater Field Checklist'!D164","v":0},{"$f":"'1b. Rater Field Checklist'!M164","v":0}]
[{"$f":"'1b. Rater Field Checklist'!C166","v":"7.2 Rater-measured ventilation rate is within either ± 15 CFM or ± 15% of dwelling unit design values (2.7), and meets or exceeds rates required by ASHRAE 62.2-2010. 56"},{"$f":"'1b. Rater Field Checklist'!D166","v":0},{"$f":"'1b. Rater Field Checklist'!$M$166","v":0}]
[{"$f":"'1b. Rater Field Checklist'!C168","v":"7.3 Measured ventilation rate is within either ± 15 CFM or ± 15 % of common space design values (2.9), and meets or exceeds rates required by ASHRAE 62.1-2010 (2.8). 57"},{"$f":"'1b. Rater Field Checklist'!D168","v":0},{"$f":"'1b. Rater Field Checklist'!$M$168","v":0}]
[{"$f":"'1b. Rater Field Checklist'!C170","v":"7.4 A ventilation override control installed and also labeled if its function is not obvious (e.g., a label is required for a standalone wall switch, but not for a switch that’s on the ventilation equipment). Townhouses only: A readily-accessible ventilation override control installed and also labeled if its function is not obvious (e.g., a label is required for a toggle wall switch, but not for a switch that’s on the ventilation equipment)."},{"$f":"'1b. Rater Field Checklist'!D170","v":0},{"$f":"'1b. Rater Field Checklist'!M170","v":0}]
[{"$f":"'1b. Rater Field Checklist'!C171","v":"7.5 For any outdoor air inlet connected to a ducted return of the dwelling unit HVAC system (Complete if present; otherwise check “N/A”): 55"},{"$f":"'1b. Rater Field Checklist'!D171","v":"-"},{"$f":"'1b. Rater Field Checklist'!M171","v":0}]
[{"$f":"'1b. Rater Field Checklist'!C177","v":"7.6 If located in the dwelling unit, system fan rated ≤ 3 sones if intermittent and ≤ 2 sone if continuous, or exempted. 60"},{"$f":"'1b. Rater Field Checklist'!D177","v":0},{"$f":"'1b. Rater Field Checklist'!M177","v":0}]
[{"$f":"'1b. Rater Field Checklist'!C179","v":"7.7 If dwelling-unit Vent System controller operates the dwelling unit HVAC fan, then HVAC fan operation is intermittent and either the fan type is ECM / ICM (4.12), or the controls will reduce the run-time by accounting for HVAC system heating or cooling hours. 61"},{"$f":"'1b. Rater Field Checklist'!D179","v":0},{"$f":"'1b. Rater Field Checklist'!M179","v":0}]
[{"$f":"'1b. Rater Field Checklist'!C181","v":"7.8 In-unit bathroom fans or in-line fans are ENERGY STAR certified if used as part of the dwelling-unit mechanical ventilation system. 62"},{"$f":"'1b. Rater Field Checklist'!D181","v":0},{"$f":"'1b. Rater Field Checklist'!M181","v":0}]
[{"$f":"'1b. Rater Field Checklist'!C183","v":"7.9 If central exhaust fans, ≤ 1 HP, are installed as part of the dwelling-unit mechanical ventilation system, then they are direct-drive, ECM, with variable speed controllers. If > 1 HP, they are installed with NEMATM Premium Motors."},{"$f":"'1b. Rater Field Checklist'!D183","v":0},{"$f":"'1b. Rater Field Checklist'!M183","v":0}]
[{"$f":"'1b. Rater Field Checklist'!C184","v":"7.10 Air inlet locations (Complete if ventilation air inlet locations were installed (2.22, 2.23); otherwise check “N/A”): 63, 64"},{"$f":"'1b. Rater Field Checklist'!D184","v":0},{"$f":"'1b. Rater Field Checklist'!M184","v":0}]
[{"$f":"'1b. Rater Field Checklist'!C187","v":" 7.10.1 Inlet(s) pull ventilation air directly from outdoors and not from attic, crawlspace, garage, or adjacent dwelling unit."},{"$f":"'1b. Rater Field Checklist'!D187","v":0},{"$f":"'1b. Rater Field Checklist'!M187","v":0}]
[{"$f":"'1b. Rater Field Checklist'!C188","v":" 7.10.2 Inlet(s) are ≥ 2 ft. above grade or roof deck; ≥ 10 ft. of stretched-string distance from known contamination sources not exiting the roof, and ≥ 3 ft. distance from dryer exhausts and sources exiting the roof. 65"},{"$f":"'1b. Rater Field Checklist'!D188","v":0},{"$f":"'1b. Rater Field Checklist'!M188","v":0}]
[{"$f":"'1b. Rater Field Checklist'!C191","v":"8. Local Mechanical Exhaust (National HVAC Design Report Item # indicated in parenthesis)"},{"$f":"'1b. Rater Field Checklist'!D191","v":0},{"$f":"'1b. Rater Field Checklist'!M191","v":0}]
[{"$f":"'1b. Rater Field Checklist'!C192","v":"Dwelling Unit Mechanical exhaust - In each dwelling unit kitchen and bathroom, a system is installed that exhausts directly to the outdoors and meets one of the following Rater-measured airflow and manufacturer-rated sound level standards: 54, 66"},{"$f":"'1b. Rater Field Checklist'!D192","v":0},{"$f":"'1b. Rater Field Checklist'!M192","v":0}]
[{"$f":"'1b. Rater Field Checklist'!C195","v":"Location "},{"$f":"'1b. Rater Field Checklist'!D195","v":0},{"$f":"'1b. Rater Field Checklist'!M195","v":0}]
[{"$f":"'1b. Rater Field Checklist'!C196","v":"8.1 Kitchen\nAirflow\nContinuous Rate:  ≥ 5 ACH, based on kitchen volume 68, 69\nIntermittent Rate 67: ≥ 100 CFM and, if not integrated with range, also ≥ 5 ACH based on kitchen volume 68, 69, 70\n\nSound\nContinuous Rate: Recommended: ≤ 1 sone\nIntermittent Rate 67:  Recommended: ≤ 3 sones"},{"$f":"'1b. Rater Field Checklist'!D196","v":0},{"$f":"'1b. Rater Field Checklist'!M196","v":0}]
[{"$f":"'1b. Rater Field Checklist'!C201","v":"8.2 Bathroom\nAirflow\nContinuous Rate:  ≥ 20 CFM\nIntermittent Rate 67: ≥ 50 CFM\n\nSound\nContinuous Rate: Required: ≤ 2 sones\nIntermittent Rate 67:  Recommended: ≤ 3 sones"},{"$f":"'1b. Rater Field Checklist'!D201","v":0},{"$f":"'1b. Rater Field Checklist'!$M$201","v":0}]
[{"$f":"'1b. Rater Field Checklist'!C203","v":"Mechanical Exhaust for Common Spaces 2 and Shared Garages "},{"$f":"'1b. Rater Field Checklist'!D203","v":0},{"$f":"'1b. Rater Field Checklist'!$M$203","v":0}]
[{"$f":"'1b. Rater Field Checklist'!C205","v":"8.3 Measured exhaust rates are  ≥ ASHRAE 62.1 rates (2c). 57"},{"$f":"'1b. Rater Field Checklist'!D205","v":0},{"$f":"'1b. Rater Field Checklist'!$M$205","v":0}]
[{"$f":"'1b. Rater Field Checklist'!C207","v":"8.4 Where an exhaust system is installed in a shared garage, it is equipped with controls that sense CO and NO2."},{"$f":"'1b. Rater Field Checklist'!D207","v":0},{"$f":"'1b. Rater Field Checklist'!M207","v":0}]
[{"$f":"'1b. Rater Field Checklist'!C208","v":"9. Filtration "},{"$f":"'1b. Rater Field Checklist'!D208","v":0},{"$f":"'1b. Rater Field Checklist'!M208","v":0}]
[{"$f":"'1b. Rater Field Checklist'!C209","v":"9.1 MERV 6+ filter(s) installed in each ducted mechanical system serving an individual dwelling unit and located to facilitate access & regular service by the occupant or building owner. 71"},{"$f":"'1b. Rater Field Checklist'!D209","v":0},{"$f":"'1b. Rater Field Checklist'!M209","v":0}]
[{"$f":"'1b. Rater Field Checklist'!C211","v":" 9.1.1 Filter access panel includes gasket and fits snugly against the exposed edge of filter when closed to prevent bypass. 72"},{"$f":"'1b. Rater Field Checklist'!D211","v":0},{"$f":"'1b. Rater Field Checklist'!$M$211","v":0}]
[{"$f":"'1b. Rater Field Checklist'!C213","v":" 9.1.2 All return air and mechanically supplied outdoor air passes through filter prior to conditioning."},{"$f":"'1b. Rater Field Checklist'!D213","v":0},{"$f":"'1b. Rater Field Checklist'!M213","v":0}]
[{"$f":"'1b. Rater Field Checklist'!C214","v":"10. Combustion Appliances "},{"$f":"'1b. Rater Field Checklist'!D214","v":0},{"$f":"'1b. Rater Field Checklist'!M214","v":0}]
[{"$f":"'1b. Rater Field Checklist'!C215","v":"10.1 Furnaces, boilers, and water heaters located within the building’s pressure boundary are mechanically drafted or direct-vented. If mechanically drafted, the minimum volume of combustion air required for safe operation by the manufacturer and/or code shall be met or exceeded and make-up air sources must be mechanically closed when the combustion appliance is not in operation. Alternatives in Footnote 75. 73, 74, 75"},{"$f":"'1b. Rater Field Checklist'!D215","v":0},{"$f":"'1b. Rater Field Checklist'!M215","v":0}]
[{"$f":"'1b. Rater Field Checklist'!C219","v":"10.2 Fireplaces located within the building’s pressure boundary are direct-vented. 73, 74"},{"$f":"'1b. Rater Field Checklist'!D219","v":0},{"$f":"'1b. Rater Field Checklist'!$M$219","v":0}]
[{"$f":"'1b. Rater Field Checklist'!C222","v":"10.3 No unvented combustion appliances other than cooking ranges or ovens are located inside the building’s pressure boundary. For cooking ranges and ovens, local mechanical exhaust per Checklist Item 8.1 requirements must be met. 73"},{"$f":"'1b. Rater Field Checklist'!D222","v":0},{"$f":"'1b. Rater Field Checklist'!$M$222","v":0}]
[{"$f":"'1b. Rater Field Checklist'!C224","v":"Other "},{"$f":"'1b. Rater Field Checklist'!D224","v":0},{"$f":"'1b. Rater Field Checklist'!M224","v":0}]
[{"$f":"'1b. Rater Field Checklist'!C225","v":"11. Domestic Hot Water "},{"$f":"'1b. Rater Field Checklist'!D225","v":0},{"$f":"'1b. Rater Field Checklist'!M225","v":0}]
[{"$f":"'1b. Rater Field Checklist'!C226","v":"11.1 Prescriptive Path: Hot water equipment rated in EF or UEF meet the efficiency levels specified in the ENERGY STAR Multifamily Reference Design. Otherwise, meet or exceed ≥85% Et. 76"},{"$f":"'1b. Rater Field Checklist'!D226","v":0},{"$f":"'1b. Rater Field Checklist'!M226","v":0}]
[{"$f":"'1b. Rater Field Checklist'!C228","v":"11.2 ERI: For hot water equipment serving common spaces but not dwelling units nor shared laundry: where rated EF or UEF, meet the efficiency levels specified in the ENERGY STAR Multifamily Reference Design. Otherwise, meet or exceed 85% Et. 76"},{"$f":"'1b. Rater Field Checklist'!D228","v":0},{"$f":"'1b. Rater Field Checklist'!$M$228","v":0}]
[{"$f":"'1b. Rater Field Checklist'!C230","v":"11.3 For in-unit storage water heaters, AHRI Certificate confirms the presence of a heat trap."},{"$f":"'1b. Rater Field Checklist'!D230","v":0},{"$f":"'1b. Rater Field Checklist'!M230","v":0}]
[{"$f":"'1b. Rater Field Checklist'!C231","v":"11.4 DHW piping located in the dwelling unit is insulated with a minimum of R-3. 77"},{"$f":"'1b. Rater Field Checklist'!D231","v":0},{"$f":"'1b. Rater Field Checklist'!M231","v":0}]
[{"$f":"'1b. Rater Field Checklist'!C233","v":"11.5 Rater-measured delivery temperatures at faucets and showerheads do not exceed 125°F. 78"},{"$f":"'1b. Rater Field Checklist'!D233","v":0},{"$f":"'1b. Rater Field Checklist'!$M$233","v":0}]
[{"$f":"'1b. Rater Field Checklist'!C235","v":"12. Lighting "},{"$f":"'1b. Rater Field Checklist'!D235","v":0},{"$f":"'1b. Rater Field Checklist'!M235","v":0}]
[{"$f":"'1b. Rater Field Checklist'!C236","v":"12.1 Common Space 2 Lighting Controls:"},{"$f":"'1b. Rater Field Checklist'!D236","v":0},{"$f":"'1b. Rater Field Checklist'!M236","v":0}]
[{"$f":"'1b. Rater Field Checklist'!C238","v":" 12.1.1 ERI and Prescriptive Path: All common spaces 2 (including shared garages), except the building lobby and where automatic shutoff would endanger the safety of occupants, have occupancy sensors or automatic bi-level lighting controls installed and operation has been verified."},{"$f":"'1b. Rater Field Checklist'!D238","v":0},{"$f":"'1b. Rater Field Checklist'!$M$238","v":0}]
[{"$f":"'1b. Rater Field Checklist'!C240","v":" 12.1.2 ASHRAE Path only: All common spaces 2 (including shared garages), except the building lobby, corridors, and stairwells and where automatic shutoff would endanger the safety of occupants, have occupancy sensors or automatic bi-level lighting controls installed and operation has been verified."},{"$f":"'1b. Rater Field Checklist'!D240","v":0},{"$f":"'1b. Rater Field Checklist'!$M$240","v":0}]
[{"$f":"'1b. Rater Field Checklist'!C242","v":"12.2 Common Space 2 Lighting Power Density Maximum (except garages): 79"},{"$f":"'1b. Rater Field Checklist'!D242","v":0},{"$f":"'1b. Rater Field Checklist'!$M$242","v":0}]
[{"$f":"'1b. Rater Field Checklist'!C244","v":" 12.2.1 ERI and Prescriptive Path: Total installed lighting power for the combined common spaces 2 must not exceed ASHRAE 90.1-2007 allowances for those combined spaces, using the Space-by-Space or Building Area Method. See Footnote 80 for allowances. 80"},{"$f":"'1b. Rater Field Checklist'!D244","v":0},{"$f":"'1b. Rater Field Checklist'!$M$244","v":0}]
[{"$f":"'1b. Rater Field Checklist'!C247","v":" 12.2.2 ASHRAE Path only: Total installed lighting power for the combined common spaces 2 must not exceed ASHRAE 90.1-2007 allowances for those combined spaces, using the Space-by-Space or Building Area Method, by more than 20%. See Footnote 80 for allowances. 80"},{"$f":"'1b. Rater Field Checklist'!D247","v":0},{"$f":"'1b. Rater Field Checklist'!$M$247","v":0}]
[{"$f":"'1b. Rater Field Checklist'!C250","v":"12.3 Shared garages: Lighting power density does not exceed 0.24 W/ft2."},{"$f":"'1b. Rater Field Checklist'!D250","v":0},{"$f":"'1b. Rater Field Checklist'!M250","v":0}]
[{"$f":"'1b. Rater Field Checklist'!C251","v":"12.4 Exterior lighting controls: Fixtures, including parking lot fixtures, must include automatic switching on timers or photocell controls except fixtures intended for 24-hour operation, required for security, or located on dwelling unit balconies."},{"$f":"'1b. Rater Field Checklist'!D251","v":0},{"$f":"'1b. Rater Field Checklist'!M251","v":0}]
[{"$f":"'1b. Rater Field Checklist'!C252","v":"12.5 ERI Path: All exterior and common space lighting fixtures meet the efficiency requirements in the ENERGY STAR Multifamily Reference Design, except fixtures located on dwelling unit balconies. 81, 82"},{"$f":"'1b. Rater Field Checklist'!D252","v":0},{"$f":"'1b. Rater Field Checklist'!M252","v":0}]
[{"$f":"'1b. Rater Field Checklist'!C255","v":"12.6 Prescriptive Path: All lighting fixtures (i.e., dwelling units, common spaces, and exterior) meet the efficiency requirements in the ENERGY STAR Multifamily Reference Design. 81, 82"},{"$f":"'1b. Rater Field Checklist'!D255","v":0},{"$f":"'1b. Rater Field Checklist'!$M$255","v":0}]
[{"$f":"'1b. Rater Field Checklist'!C258","v":"12.7 Prescriptive Path: Dwelling unit overall in-unit lighting power density ≤ 0.75 W/ft2. When calculating overall lighting power density, use 1.1 W/ft2 where lighting is not installed. 79"},{"$f":"'1b. Rater Field Checklist'!D258","v":0},{"$f":"'1b. Rater Field Checklist'!$M$258","v":0}]
[{"$f":"'1b. Rater Field Checklist'!C260","v":"13. Appliances, Ceiling Fans, and Plumbing Fixtures "},{"$f":"'1b. Rater Field Checklist'!D260","v":0},{"$f":"'1b. Rater Field Checklist'!M260","v":0}]
[{"$f":"'1b. Rater Field Checklist'!C261","v":"13.1 Prescriptive Path: Installed appliances are ENERGY STAR certified. Installed bathroom faucets, bathroom aerators, and showerheads are WaterSense labeled. 83"},{"$f":"'1b. Rater Field Checklist'!D261","v":0},{"$f":"'1b. Rater Field Checklist'!M261","v":0}]
[{"$f":"'1b. Rater Field Checklist'!C263","v":"13.2 ERI Path: Where installed in common spaces, refrigerators and dishwashers are ENERGY STAR certified and showerheads are WaterSense labeled."},{"$f":"'1b. Rater Field Checklist'!D263","v":0},{"$f":"'1b. Rater Field Checklist'!$M$263","v":0}]
[{"$f":"'1b. Rater Field Checklist'!C264","v":"13.3 Prescriptive Path: Shower compartments with multiple fixtures cannot be operated simultaneously OR the total flow rate per shower compartment must not exceed 1.75 gallons per minute, as rated at 80 psi."},{"$f":"'1b. Rater Field Checklist'!D264","v":0},{"$f":"'1b. Rater Field Checklist'!M264","v":0}]
[{"$f":"'1b. Rater Field Checklist'!C265","v":"14. Whole Building Energy Consumption Data Acquisition "},{"$f":"'1b. Rater Field Checklist'!D265","v":0},{"$f":"'1b. Rater Field Checklist'!M265","v":0}]
[{"$f":"'1b. Rater Field Checklist'!C266","v":"14.1 For buildings 50,000 ft2 and larger, a strategy that enables the collection of monthly or annual building-level energy consumption data (electricity, natural gas, chilled water, steam, fuel oil, propane, etc.) has been confirmed. 84"},{"$f":"'1b. Rater Field Checklist'!D266","v":0},{"$f":"'1b. Rater Field Checklist'!M266","v":0}]

{"sheet":"Verification Phase","index":5,"n_rows":1742,"n_cols":6,"rows_kept":1742,"cut":false,"hidden":false,"merged":[[0,0,8,2],[1599,0,1599,2],[9,0,10,2],[11,0,12,2],[879,0,879,2],[1023,0,1023,2],[1167,0,1167,2],[1311,0,1311,2],[1455,0,1455,2],[159,0,159,2],[303,0,303,2],[447,0,447,2],[591,0,591,2],[735,0,735,2],[15,0,15,2]]}
["                       Instructions\n\nNote Verification Phase in the Rater Field Checklist.\nAdd descriptions for each phase to the Verification Phase Dropdown List table."]
[null,null,null,null,"Verification Phase Dropdown List","Description"]
[null,null,null,null,"Open Wall 1","First Site Visit"]
[null,null,null,null,"Open Wall 2"]
[null,null,null,null,"Open Wall 3"]
[null,null,null,null,"Open Wall 4"]
[null,null,null,null,"Intermediate 1","HVAC Rough In"]
[null,null,null,null,"Intermediate 2"]
[null,null,null,null,"Intermediate 3"]
["ENERGY STAR Multifamily Workbook",null,null,null,"Intermediate 4"]
[null,null,null,null,"Final 1"]
["Verification Phase Report",null,null,null,"Final 2"]
[null,null,null,null,"Final 3"]
["Verification Phase of Checklist Items",null,"Checklist Comments",null,"Final 4"]
[]
[{"$f":"E3","v":"Open Wall 1"}]
["Rater Design Checklist","Verification Phase","Notes/Comments"]
[{"$f":"'1b. Rater Field Checklist'!$C$16","v":"Thermal Enclosure System "},{"$f":"'1b. Rater Field Checklist'!$N$16","v":0},{"$f":"'1b. Rater Field Checklist'!$M$16","v":0}]
[{"$f":"'1b. Rater Field Checklist'!$C$17","v":"1. High-Performance Fenestration & Insulation "},{"$f":"'1b. Rater Field Checklist'!$N$17","v":0},{"$f":"'1b. Rater Field Checklist'!$M$17","v":0}]
[{"$f":"'1b. Rater Field Checklist'!$C$18","v":"1.1 Fenestration meets or exceeds specification in Items 2.1 and 2.2 of the National Rater Design Review Checklist."},{"$f":"'1b. Rater Field Checklist'!$N$18","v":"Open Wall 3"},{"$f":"'1b. Rater Field Checklist'!$M$18","v":0}]
[{"$f":"'1b. Rater Field Checklist'!$C$19","v":"1.2 Insulation meets or exceeds levels specified in Items 3.1 and 3.2 of the National Rater Design Review Checklist."},{"$f":"'1b. Rater Field Checklist'!$N$19","v":"Open Wall 3"},{"$f":"'1b. Rater Field Checklist'!$M$19","v":0}]
[{"$f":"'1b. Rater Field Checklist'!$C$20","v":"1.3 All insulation achieves Grade I install per ANSI / RESNET / ICC Std. 301. Alternatives in footnote 6. 6,7"},{"$f":"'1b. Rater Field Checklist'!$N$20","v":"Open Wall 3"},{"$f":"'1b. Rater Field Checklist'!$M$20","v":0}]
[{"$f":"'1b. Rater Field Checklist'!$C$23","v":"1.4 Prescriptive Path: Window-to-wall ratio ≤ 30%. 8"},{"$f":"'1b. Rater Field Checklist'!$N$23","v":"Open Wall 1"},{"$f":"'1b. Rater Field Checklist'!$M$23","v":0}]
[{"$f":"'1b. Rater Field Checklist'!$C$25","v":"1.5 Heated plenums in unconditioned space or ambient conditions must meet the following requirements: 9"},{"$f":"'1b. Rater Field Checklist'!$N$25","v":0},{"$f":"'1b. Rater Field Checklist'!$M$25","v":0}]
[{"$f":"'1b. Rater Field Checklist'!$C$27","v":" 1.5.1 Sides of heated plenum are an air barrier and insulated to ≥ R-3ci in CZ 1-4; ≥ R-5ci in CZ 5-6; ≥ R-7.5ci in CZ 7; ≥ R-9.5ci in CZ 8, AND;"},{"$f":"'1b. Rater Field Checklist'!$N$27","v":"Open Wall 4"},{"$f":"'1b. Rater Field Checklist'!$M$27","v":0}]
[{"$f":"'1b. Rater Field Checklist'!$C$28","v":" 1.5.2 Insulation at top of heated plenum meets or exceeds the R-value for mass floors from the “All Other” column of Table 502.2(1) of 2009 IECC, AND;"},{"$f":"'1b. Rater Field Checklist'!$N$28","v":"Open Wall 4"},{"$f":"'1b. Rater Field Checklist'!$M$28","v":0}]
[{"$f":"'1b. Rater Field Checklist'!$C$29","v":" 1.5.3 Bottom of heated plenum must have at least R-13 insulation. 10"},{"$f":"'1b. Rater Field Checklist'!$N$29","v":"Open Wall 3"},{"$f":"'1b. Rater Field Checklist'!$M$29","v":0}]
[{"$f":"'1b. Rater Field Checklist'!$C$31","v":"1.6 Garages with space heating must meet the following requirements: 9"},{"$f":"'1b. Rater Field Checklist'!$N$31","v":0},{"$f":"'1b. Rater Field Checklist'!$M$31","v":0}]
[{"$f":"'1b. Rater Field Checklist'!$C$33","v":" 1.6.1 Insulation on above grade walls and walls on the first story below grade ≥ R-5ci in CZ 5-6; ≥ R-7.5ci in CZ 7; ≥ R-9.5ci in CZ 8, AND;"},{"$f":"'1b. Rater Field Checklist'!$N$33","v":0},{"$f":"'1b. Rater Field Checklist'!$M$33","v":0}]
[{"$f":"'1b. Rater Field Checklist'!$C$34","v":" 1.6.2 Ceiling insulation meets or exceeds the R-value for mass floors from the “All Other” column of Table 502.2(1) of 2009 IECC."},{"$f":"'1b. Rater Field Checklist'!$N$34","v":0},{"$f":"'1b. Rater Field Checklist'!$M$34","v":0}]
[{"$f":"'1b. Rater Field Checklist'!$C$35","v":"2. Fully-Aligned Air Barriers 11 At each insulated location below, a complete air barrier is provided that is fully aligned as follows:"},{"$f":"'1b. Rater Field Checklist'!$N$35","v":0},{"$f":"'1b. Rater Field Checklist'!$M$35","v":0}]
[{"$f":"'1b. Rater Field Checklist'!$C$37","v":"Ceilings: At interior or exterior horizontal surface of ceiling insulation in Climate Zones 1-3; at interior horizontal surface of ceiling insulation in Climate Zones 4-8. Also, at exterior vertical surface of ceiling insulation in all climate zones (e.g., using a wind baffle that extends to the full height of the insulation in every bay or a tabbed baffle in each bay with a soffit vent that prevents wind washing in adjacent bays). 12"},{"$f":"'1b. Rater Field Checklist'!$N$37","v":0},{"$f":"'1b. Rater Field Checklist'!$M$37","v":0}]
[{"$f":"'1b. Rater Field Checklist'!$C$39","v":"2.1 Dropped ceilings / soffits below unconditioned attics, chase / dead space, and all other ceilings."},{"$f":"'1b. Rater Field Checklist'!$N$39","v":0},{"$f":"'1b. Rater Field Checklist'!$M$39","v":0}]
[{"$f":"'1b. Rater Field Checklist'!$C$40","v":"Walls: At exterior vertical surface of wall insulation in all climate zones; also at interior vertical surface of wall insulation in Climate Zones 4-8. 13"},{"$f":"'1b. Rater Field Checklist'!$N$40","v":0},{"$f":"'1b. Rater Field Checklist'!$M$40","v":0}]
[{"$f":"'1b. Rater Field Checklist'!$C$42","v":"2.2 Walls behind showers, tubs, staircases, and fireplaces."},{"$f":"'1b. Rater Field Checklist'!$N$42","v":"Open Wall 2"},{"$f":"'1b. Rater Field Checklist'!$M$42","v":0}]
[{"$f":"'1b. Rater Field Checklist'!$C$43","v":"2.3 Architectural bump-outs, dead space, and all other exterior walls."},{"$f":"'1b. Rater Field Checklist'!$N$43","v":0},{"$f":"'1b. Rater Field Checklist'!$M$43","v":0}]
[{"$f":"'1b. Rater Field Checklist'!$C$44","v":"Floors: At exterior vertical surface of floor insulation in all climate zones and, if over unconditioned space, also at interior horizontal surface including supports to ensure alignment. Alternatives in Footnotes 15 & 16. 14, 15, 16"},{"$f":"'1b. Rater Field Checklist'!$N$44","v":0},{"$f":"'1b. Rater Field Checklist'!$M$44","v":0}]
[{"$f":"'1b. Rater Field Checklist'!$C$48","v":"2.4 Floors above garages, floors above unconditioned spaces, and cantilevered floors."},{"$f":"'1b. Rater Field Checklist'!$N$48","v":0},{"$f":"'1b. Rater Field Checklist'!$M$48","v":0}]
[{"$f":"'1b. Rater Field Checklist'!$C$49","v":"2.5 All other floors adjoining unconditioned space (e.g., rim / band joists at exterior wall or at porch roof)."},{"$f":"'1b. Rater Field Checklist'!$N$49","v":0},{"$f":"'1b. Rater Field Checklist'!$M$49","v":0}]
[{"$f":"'1b. Rater Field Checklist'!$C$50","v":"3. Reduced Thermal Bridging"},{"$f":"'1b. Rater Field Checklist'!$N$50","v":0},{"$f":"'1b. Rater Field Checklist'!$M$50","v":0}]
[{"$f":"'1b. Rater Field Checklist'!$C$51","v":"3.1 For insulated ceilings with attic space above (i.e., non-cathedralized), Grade I insulation extends to the inside face of the exterior wall below and is ≥ R-21 in CZ 1-5; ≥ R-30 in CZ 6-8. 17"},{"$f":"'1b. Rater Field Checklist'!$N$51","v":0},{"$f":"'1b. Rater Field Checklist'!$M$51","v":0}]
[{"$f":"'1b. Rater Field Checklist'!$C$53","v":"3.2 For insulated ceilings with attic space above, attic access panels and drop-down stairs insulated ≥ R-10 or equipped with durable ≥ R-10 cover. 18"},{"$f":"'1b. Rater Field Checklist'!$N$53","v":0},{"$f":"'1b. Rater Field Checklist'!$M$53","v":0}]
[{"$f":"'1b. Rater Field Checklist'!$C$55","v":"3.3 Insulation beneath attic platforms (e.g., HVAC platforms, walkways) ≥ R-21 in CZ 1-5; ≥ R-30 in CZ 6-8."},{"$f":"'1b. Rater Field Checklist'!$N$55","v":0},{"$f":"'1b. Rater Field Checklist'!$M$55","v":0}]
[{"$f":"'1b. Rater Field Checklist'!$C$56","v":"3.4 For slabs on grade in CZ 4-8, 100% of slab edge insulated to ≥ R-5 at the depth specified by Table 502.2(1) of the 2009 IECC and aligned with the thermal boundary of the walls. 19, 20"},{"$f":"'1b. Rater Field Checklist'!$N$56","v":0},{"$f":"'1b. Rater Field Checklist'!$M$56","v":0}]
[{"$f":"'1b. Rater Field Checklist'!$C$59","v":"3.5 For elevated concrete slabs in CZ 4-8 (i.e., podiums and projected balconies, but not intermediate slab floor edges) 100% of the slab edge insulated to ≥ R-5. For podiums, this insulation must extend for a minimum of 8ft below the bottom of the slab edge. For columns, the insulation must surround the column, at a depth of 4ft. Alternatives in Footnote 21. 21"},{"$f":"'1b. Rater Field Checklist'!$N$59","v":0},{"$f":"'1b. Rater Field Checklist'!$M$59","v":0}]
[{"$f":"'1b. Rater Field Checklist'!$C$61","v":"3.6 For elevated concrete slabs in CZ 4-8 (i.e., podiums, but not intermediate floor slabs), floor insulation meets the U-factor specified in Table 502.1.2 of the 2009 IECC for Group R when dwelling units are above the slab, and for ‘All Other’ when common space is above the slab. 22"},{"$f":"'1b. Rater Field Checklist'!$N$61","v":0},{"$f":"'1b. Rater Field Checklist'!$M$61","v":0}]
[{"$f":"'1b. Rater Field Checklist'!$C$63","v":"3.7 At above-grade walls and rim / band joists separating conditioned space from the exterior, one of the following options used: 23, 26"},{"$f":"'1b. Rater Field Checklist'!$N$63","v":0},{"$f":"'1b. Rater Field Checklist'!$M$63","v":0}]
[{"$f":"'1b. Rater Field Checklist'!$C$66","v":" 3.7.1 Continuous rigid insulation, insulated siding, or combination of the two is ≥ R-3 in CZ 1-4; ≥ R-5 in CZ 5-8 24, 25, 26, 27; OR;"},{"$f":"'1b. Rater Field Checklist'!$N$66","v":0},{"$f":"'1b. Rater Field Checklist'!$M$66","v":0}]
[{"$f":"'1b. Rater Field Checklist'!$C$71","v":" 3.7.2 Structural Insulated Panels OR; Insulated Concrete Forms OR; Double-wall framing OR; 24, 26, 28"},{"$f":"'1b. Rater Field Checklist'!$N$71","v":0},{"$f":"'1b. Rater Field Checklist'!$M$71","v":0}]
[{"$f":"'1b. Rater Field Checklist'!$C$75","v":" 3.7.3 Option only for wood-framed walls either in CZ 1-3 OR ≤ 3 stories: ‘advanced framing’ details including all of the Items below: 26, 29"},{"$f":"'1b. Rater Field Checklist'!$N$75","v":0},{"$f":"'1b. Rater Field Checklist'!$M$75","v":0}]
[{"$f":"'1b. Rater Field Checklist'!$C$78","v":"  3.7.3a Corners insulated ≥ R-6 to edge, 30 AND;"},{"$f":"'1b. Rater Field Checklist'!$N$78","v":0},{"$f":"'1b. Rater Field Checklist'!$M$78","v":0}]
[{"$f":"'1b. Rater Field Checklist'!$C$80","v":"  3.7.3b Headers above windows & doors insulated ≥ R-3 for 2x4 framing or equivalent cavity width, and ≥ R-5 for all other assemblies (e.g., with 2x6 framing), 31 AND;"},{"$f":"'1b. Rater Field Checklist'!$N$80","v":0},{"$f":"'1b. Rater Field Checklist'!$M$80","v":0}]
[{"$f":"'1b. Rater Field Checklist'!$C$82","v":"  3.7.3c Interior / exterior wall intersections insulated to same R-value as rest of exterior wall. 32"},{"$f":"'1b. Rater Field Checklist'!$N$82","v":0},{"$f":"'1b. Rater Field Checklist'!$M$82","v":0}]
[{"$f":"'1b. Rater Field Checklist'!$C$84","v":"4. Air Sealing (Unless otherwise noted below, “sealed” indicates the use of caulk, foam, or equivalent material.)"},{"$f":"'1b. Rater Field Checklist'!$N$84","v":0},{"$f":"'1b. Rater Field Checklist'!$M$84","v":0}]
[{"$f":"'1b. Rater Field Checklist'!$C$85","v":"4.1 Ducts, flues, shafts, plumbing, piping, wiring, exhaust fans, & other penetrations to unconditioned space sealed, with blocking / flashing as needed."},{"$f":"'1b. Rater Field Checklist'!$N$85","v":0},{"$f":"'1b. Rater Field Checklist'!$M$85","v":0}]
[{"$f":"'1b. Rater Field Checklist'!$C$86","v":"4.2 Recessed lighting fixtures adjacent to unconditioned space ICAT labeled and gasketed. Also, if in insulated ceiling without attic above, exterior surface of fixture insulated to ≥ R-10 in CZ 4-8."},{"$f":"'1b. Rater Field Checklist'!$N$86","v":0},{"$f":"'1b. Rater Field Checklist'!$M$86","v":0}]
[{"$f":"'1b. Rater Field Checklist'!$C$87","v":"4.3 Continuous top plate or blocking is at top of walls adjoining unconditioned space including at balloon-framed parapets, and sealed."},{"$f":"'1b. Rater Field Checklist'!$N$87","v":0},{"$f":"'1b. Rater Field Checklist'!$M$87","v":0}]
[{"$f":"'1b. Rater Field Checklist'!$C$88","v":"4.4 Drywall sealed to top plate at all unconditioned attic / wall interfaces using caulk, foam, drywall adhesive (but not other construction adhesives), or equivalent material. Either apply sealant directly between drywall and top plate or to the seam between the two from the attic above."},{"$f":"'1b. Rater Field Checklist'!$N$88","v":0},{"$f":"'1b. Rater Field Checklist'!$M$88","v":0}]
[{"$f":"'1b. Rater Field Checklist'!$C$89","v":"4.5 Rough opening around windows & exterior doors sealed. 33"},{"$f":"'1b. Rater Field Checklist'!$N$89","v":0},{"$f":"'1b. Rater Field Checklist'!$M$89","v":0}]
[{"$f":"'1b. Rater Field Checklist'!$C$91","v":"4.6 Assemblies that separate attached garages from occupiable space sealed and, also, an air barrier installed, sealed, and aligned with these assemblies. 34"},{"$f":"'1b. Rater Field Checklist'!$N$91","v":0},{"$f":"'1b. Rater Field Checklist'!$M$91","v":0}]
[{"$f":"'1b. Rater Field Checklist'!$C$93","v":"4.7 Doors adjacent to unconditioned space (e.g., attics, garages, basements) or ambient conditions made substantially air-tight with doorsweep and weatherstripping or equivalent gasket."},{"$f":"'1b. Rater Field Checklist'!$N$93","v":0},{"$f":"'1b. Rater Field Checklist'!$M$93","v":0}]
[{"$f":"'1b. Rater Field Checklist'!$C$94","v":"4.8 Attic access panels, roof hatches and drop-down stairs are gasketed (i.e., not caulked) or equipped with durable covers that are gasketed. 18"},{"$f":"'1b. Rater Field Checklist'!$N$94","v":0},{"$f":"'1b. Rater Field Checklist'!$M$94","v":0}]
[{"$f":"'1b. Rater Field Checklist'!$C$96","v":"The following items must be additionally verified in dwelling units, to reduce air leakage between conditioned spaces."},{"$f":"'1b. Rater Field Checklist'!$N$96","v":0},{"$f":"'1b. Rater Field Checklist'!$M$96","v":0}]
[{"$f":"'1b. Rater Field Checklist'!$C$97","v":"4.9 Doors serving as a unit entrance from a corridor / stairwell made substantially air-tight with doorsweep and weatherstripping or equivalent gasket."},{"$f":"'1b. Rater Field Checklist'!$N$97","v":0},{"$f":"'1b. Rater Field Checklist'!$M$97","v":0}]
[{"$f":"'1b. Rater Field Checklist'!$C$98","v":"4.10 Rater-measured compartmentalization is no greater than 0.30 CFM50 per square feet of dwelling unit enclosure area, following procedures in ANSI / RESNET / ICC Std. 380. 35"},{"$f":"'1b. Rater Field Checklist'!$N$98","v":0},{"$f":"'1b. Rater Field Checklist'!$M$98","v":0}]
[{"$f":"'1b. Rater Field Checklist'!$C$100","v":" 4.10.1 For dwelling units with forced air distribution systems without ducted returns and located in a closet adjacent to unconditioned space, the Rater-measured pressure difference between the space containing the air handler and the conditioned space during the compartmentalization test is no greater than 5 Pa. 36"},{"$f":"'1b. Rater Field Checklist'!$N$100","v":0},{"$f":"'1b. Rater Field Checklist'!$M$100","v":0}]
[{"$f":"'1b. Rater Field Checklist'!$C$102","v":"HVAC System 37 (HVAC Design Report Item # indicated in parenthesis) "},{"$f":"'1b. Rater Field Checklist'!$N$102","v":0},{"$f":"'1b. Rater Field Checklist'!$M$102","v":0}]
[{"$f":"'1b. Rater Field Checklist'!$C$104","v":"5. Heating & Cooling Equipment – Complete Track A – HVAC Grading by Rater OR Track B – HVAC Testing by FT Agent 38"},{"$f":"'1b. Rater Field Checklist'!$N$104","v":0},{"$f":"'1b. Rater Field Checklist'!$M$104","v":0}]
[{"$f":"'1b. Rater Field Checklist'!$C$106","v":"Track A 39"},{"$f":"'1b. Rater Field Checklist'!$N$106","v":0},{"$f":"'1b. Rater Field Checklist'!$M$106","v":0}]
[{"$f":"'1b. Rater Field Checklist'!$C$108","v":"5a.1 Blower fan volumetric airflow is Grade I or II per ANSI / RESNET / ACCA Std. 310"},{"$f":"'1b. Rater Field Checklist'!$N$108","v":0},{"$f":"'1b. Rater Field Checklist'!$M$108","v":0}]
[{"$f":"'1b. Rater Field Checklist'!$C$109","v":"5a.2 Blower fan watt draw is Grade I or II per ANSI / RESNET / ACCA Std. 310"},{"$f":"'1b. Rater Field Checklist'!$N$109","v":0},{"$f":"'1b. Rater Field Checklist'!$M$109","v":0}]
[{"$f":"'1b. Rater Field Checklist'!$C$110","v":"5a.3 Refrigerant charge is Grade I per ANSI / RESNET / ACCA Std. 310. See Footnote 40 for exemptions. 40"},{"$f":"'1b. Rater Field Checklist'!$N$110","v":0},{"$f":"'1b. Rater Field Checklist'!$M$110","v":0}]
[{"$f":"'1b. Rater Field Checklist'!$C$112","v":"Track B"},{"$f":"'1b. Rater Field Checklist'!$N$112","v":0},{"$f":"'1b. Rater Field Checklist'!$M$112","v":0}]
[{"$f":"'1b. Rater Field Checklist'!$C$113","v":"5b.1 HVAC manufacturer & model number on installed equipment matches either of the following (check box): 41\n \n National HVAC Design Report (4.6-4.9 & 4.25-4.26)      Written approval received from designer"},{"$f":"'1b. Rater Field Checklist'!$N$113","v":0},{"$f":"'1b. Rater Field Checklist'!$M$113","v":0}]
[{"$f":"'1b. Rater Field Checklist'!$C$115","v":"5b.2 External static pressure measured by Rater at contractor-provided test locations and documented below: 42\n\nReturn-Side External Static Pressure: ________IWC\nSupply-Side External Static Pressure: __________IWC"},{"$f":"'1b. Rater Field Checklist'!$N$115","v":0},{"$f":"'1b. Rater Field Checklist'!$M$115","v":0}]
[{"$f":"'1b. Rater Field Checklist'!$C$117","v":"5.4 Prescriptive Path: Heating and cooling equipment serving dwelling units and common spaces meet the efficiency levels specified in the Exhibit X. Electric resistance space heating is not installed in dwelling units."},{"$f":"'1b. Rater Field Checklist'!$N$117","v":0},{"$f":"'1b. Rater Field Checklist'!$M$117","v":0}]
[{"$f":"'1b. Rater Field Checklist'!$C$118","v":"5.5 ERI Path: Heating and cooling equipment serving common spaces, but not serving dwelling units, meet the efficiency levels specified in the Exhibit X. See Exhibit X for restrictions on electric resistance space heating."},{"$f":"'1b. Rater Field Checklist'!$N$118","v":0},{"$f":"'1b. Rater Field Checklist'!$M$118","v":0}]
[{"$f":"'1b. Rater Field Checklist'!$C$119","v":"5.6 National HVAC Functional Testing Checklist(s) collected prior to certification, with all HVAC systems in the building / project fully documented. Exception: Where credentialed HVAC Contractor(s) are completing the National HVAC Functional Testing Checklist, the checklist is not required to be collected for the systems they verify. 43"},{"$f":"'1b. Rater Field Checklist'!$N$119","v":0},{"$f":"'1b. Rater Field Checklist'!$M$119","v":0}]
[{"$f":"'1b. Rater Field Checklist'!$C$121","v":"5.7 Rater has verified and documented that Functional Testing Agent(s) (“FT Agent(s)”) completing the National HVAC Functional Testing Checklist(s) hold one of the required credentials and completed orientation, if applicable. 43\n\nCredential: ______________________ “FT Agent” Company Name(s): _______________________"},{"$f":"'1b. Rater Field Checklist'!$N$121","v":0},{"$f":"'1b. Rater Field Checklist'!$M$121","v":0}]
[{"$f":"'1b. Rater Field Checklist'!$C$123","v":"Equipment Controls "},{"$f":"'1b. Rater Field Checklist'!$N$123","v":0},{"$f":"'1b. Rater Field Checklist'!$M$123","v":0}]
[{"$f":"'1b. Rater Field Checklist'!$C$124","v":"5.8 All heating and cooling systems serving a dwelling unit have thermostatic controls within the dwelling unit which are not located on exterior walls."},{"$f":"'1b. Rater Field Checklist'!$N$124","v":0},{"$f":"'1b. Rater Field Checklist'!$M$124","v":0}]
[{"$f":"'1b. Rater Field Checklist'!$C$125","v":" 5.8.1 Prescriptive Path: Dwelling unit thermostats are programmable."},{"$f":"'1b. Rater Field Checklist'!$N$125","v":0},{"$f":"'1b. Rater Field Checklist'!$M$125","v":0}]
[{"$f":"'1b. Rater Field Checklist'!$C$126","v":"5.9 Stair and elevator shaft vents equipped with motorized dampers that are capable of being automatically closed during normal building operation and are interlocked to open as required by fire and smoke detection systems. Dampers are verified to be closed at the time of inspection."},{"$f":"'1b. Rater Field Checklist'!$N$126","v":0},{"$f":"'1b. Rater Field Checklist'!$M$126","v":0}]
[{"$f":"'1b. Rater Field Checklist'!$C$127","v":"5.10 Freeze protection systems, such as heat tracing of piping and heat exchangers, including self-regulating heat tracing, and garage / plenum heaters include automatic controls that are verified to shut off the systems when pipe wall or garage / plenum temperatures are above 40°F."},{"$f":"'1b. Rater Field Checklist'!$N$127","v":0},{"$f":"'1b. Rater Field Checklist'!$M$127","v":0}]
[{"$f":"'1b. Rater Field Checklist'!$C$128","v":" 5.10.1 Where heat tracing is installed for freeze-protection, controls must be based on pipe wall temperature and a minimum of R-3 pipe insulation is also required."},{"$f":"'1b. Rater Field Checklist'!$N$128","v":0},{"$f":"'1b. Rater Field Checklist'!$M$128","v":0}]
[{"$f":"'1b. Rater Field Checklist'!$C$129","v":"5.11 Snow- and ice-melting systems include automatic controls that are verified to shut off the systems when the pavement temperature is above 50°F and no precipitation is falling, and an automatic or manual control is installed that is verified to shut off system when the outdoor temperature is above 40°F, so that the potential for snow or ice accumulation is negligible."},{"$f":"'1b. Rater Field Checklist'!$N$129","v":0},{"$f":"'1b. Rater Field Checklist'!$M$129","v":0}]
[{"$f":"'1b. Rater Field Checklist'!$C$130","v":"Hydronic Distribution "},{"$f":"'1b. Rater Field Checklist'!$N$130","v":0},{"$f":"'1b. Rater Field Checklist'!$M$130","v":0}]
[{"$f":"'1b. Rater Field Checklist'!$C$131","v":"5.12 For hydronic distribution systems, all terminal heating and cooling distribution equipment are separated from the riser or distribution loop by a control valve or terminal distribution pump, so that heated or cooled fluid is not delivered to the dwelling unit distribution equipment when there is no call from the thermostat."},{"$f":"'1b. Rater Field Checklist'!$N$131","v":0},{"$f":"'1b. Rater Field Checklist'!$M$131","v":0}]
[{"$f":"'1b. Rater Field Checklist'!$C$132","v":"5.13 Terminal units in hydronic distribution systems are equipped with pressure independent balancing valves or pressure independent control valves."},{"$f":"'1b. Rater Field Checklist'!$N$132","v":0},{"$f":"'1b. Rater Field Checklist'!$M$132","v":0}]
[{"$f":"'1b. Rater Field Checklist'!$C$133","v":"5.14 Piping of a heating or cooling system is insulated in accordance with Item 4.41 on the National HVAC Design Report, including where passing through planks or any other penetrations."},{"$f":"'1b. Rater Field Checklist'!$N$133","v":0},{"$f":"'1b. Rater Field Checklist'!$M$133","v":0}]
[{"$f":"'1b. Rater Field Checklist'!$C$134","v":"5.15 For circulating pumps serving hydronic heating or cooling systems with three-phase motors, 1 horsepower or larger, motors meet or exceed efficiency standards for NEMA Premium™ motors. If 5 horsepower or larger, also installed with variable frequency drives."},{"$f":"'1b. Rater Field Checklist'!$N$134","v":0},{"$f":"'1b. Rater Field Checklist'!$M$134","v":0}]
[{"$f":"'1b. Rater Field Checklist'!$C$135","v":"6. Duct Quality Installation - Applies to Heating, Cooling, Ventilation, Exhaust, & Pressure Balancing Ducts, Unless Noted in Footnote."},{"$f":"'1b. Rater Field Checklist'!$N$135","v":0},{"$f":"'1b. Rater Field Checklist'!$M$135","v":0}]
[{"$f":"'1b. Rater Field Checklist'!$C$136","v":"6.1 Ductwork installed without kinks, sharp bends, compressions, or excessive coiled flexible ductwork. 45"},{"$f":"'1b. Rater Field Checklist'!$N$136","v":0},{"$f":"'1b. Rater Field Checklist'!$M$136","v":0}]
[{"$f":"'1b. Rater Field Checklist'!$C$138","v":"6.2 Bedrooms with a design supply airflow ≥ 150 CFM (per Item 5.2 on the National HVAC Design Report) pressure-balanced (e.g., using transfer grilles, jump ducts, dedicated return ducts, undercut doors) to achieve a Rater-measured pressure differential ≥ -5 Pa and ≤ +5 Pa with respect to the main body of the dwelling unit when all air handlers are operating. See Footnote 46 for test configuration. 46"},{"$f":"'1b. Rater Field Checklist'!$N$138","v":0},{"$f":"'1b. Rater Field Checklist'!$M$138","v":0}]
[{"$f":"'1b. Rater Field Checklist'!$C$140","v":"6.3 All supply and return ducts in unconditioned space, including connections to trunk ducts, are insulated to ≥ R-6. 47"},{"$f":"'1b. Rater Field Checklist'!$N$140","v":0},{"$f":"'1b. Rater Field Checklist'!$M$140","v":0}]
[{"$f":"'1b. Rater Field Checklist'!$C$142","v":" 6.3.1 Prescriptive Path: Dwelling unit ductwork meets the location and insulation requirements specified in the ENERGY STAR Multifamily Reference Design."},{"$f":"'1b. Rater Field Checklist'!$N$142","v":0},{"$f":"'1b. Rater Field Checklist'!$M$142","v":0}]
[{"$f":"'1b. Rater Field Checklist'!$C$143","v":"6.4 Rater-measured total duct leakage in dwelling units meets one of the following two options: 48, 49"},{"$f":"'1b. Rater Field Checklist'!$N$143","v":0},{"$f":"'1b. Rater Field Checklist'!$M$143","v":0}]
[{"$f":"'1b. Rater Field Checklist'!$C$146","v":" 6.4.1 Rough-in: Tested per allowances below, with air handler & all ducts, building cavities used as ducts, & duct boots installed. In addition, all duct boots sealed to finished surface, Rater-verified at final. 50\n\nNo ducted returns 36: The greater of ≤ 3 CFM25 per 100 sq. ft. of CFA or ≤ 30 CFM. Additionally, the Rater-measured pressure difference between the space containing the air handler and the conditioned space, with the air handler running at high speed, is ≤ 5 Pa. For systems > 1 ton, increase by 1 Pa per half ton.\n\nOne or two ducted returns 36: The greater of ≤ 4 CFM25 per 100 sq. ft. of CFA or ≤ 40 CFM.\n\nThree or more ducted returns 36 : The greater of ≤ 6 CFM25 per 100 sq. ft. of CFA or ≤ 60 CFM."},{"$f":"'1b. Rater Field Checklist'!$N$146","v":0},{"$f":"'1b. Rater Field Checklist'!$M$146","v":0}]
[{"$f":"'1b. Rater Field Checklist'!$C$149","v":" 6.4.2 Final: Tested per allowances below, with the air handler & all ducts, building cavities used as ducts, duct boots, & register grilles atop the finished surface (e.g., drywall, floor) installed. 51\n\nNo ducted returns 36: The greater of ≤ 6 CFM25 per 100 sq. ft. of CFA or ≤ 60 CFM. Additionally, the Rater-measured pressure difference between the space containing the air handler and the conditioned space, with the air handler running at high speed, is ≤ 5 Pa. For systems > 1 ton, increase by 1 Pa per half ton.\n\nOne or two ducted returns 36: The greater of ≤ 8 CFM25 per 100 sq. ft. of CFA or ≤ 80 CFM.\n\nThree or more ducted returns 36 : The greater of ≤ 12 CFM25 per 100 sq. ft. of CFA or ≤ 120 CFM."},{"$f":"'1b. Rater Field Checklist'!$N$149","v":0},{"$f":"'1b. Rater Field Checklist'!$M$149","v":0}]
[{"$f":"'1b. Rater Field Checklist'!$C$152","v":"6.5 Townhouses only: Rater-measured duct leakage to the outside the greater of ≤ 4 CFM25 per 100 sq. ft. of CFA or ≤ 40 CFM25. 48, 52"},{"$f":"'1b. Rater Field Checklist'!$N$152","v":0},{"$f":"'1b. Rater Field Checklist'!$M$152","v":0}]
[{"$f":"'1b. Rater Field Checklist'!$C$155","v":"6.6 Common Space: Supply, return, and exhaust ductwork and all plenums serving common spaces are sealed at all transverse joints, longitudinal seams, and duct wall penetrations with mastic, mastic tape, or internal aerosol-based sealant."},{"$f":"'1b. Rater Field Checklist'!$N$155","v":0},{"$f":"'1b. Rater Field Checklist'!$M$155","v":0}]
[{"$f":"'1b. Rater Field Checklist'!$C$156","v":"6.7 Duct leakage of central exhaust systems that serve four or more dwelling units, meets one of the following two options:"},{"$f":"'1b. Rater Field Checklist'!$N$156","v":0},{"$f":"'1b. Rater Field Checklist'!$M$156","v":0}]
[{"$f":"'1b. Rater Field Checklist'!$C$157","v":" 6.7.1 Rough-in: Tested including horizontal run outs, trunks, branches, and take-offs up to, but not including, the grilles, the leakage does not exceed 25% of exhaust fan flow. 53"},{"$f":"'1b. Rater Field Checklist'!$N$157","v":0},{"$f":"'1b. Rater Field Checklist'!$M$157","v":0}]
[{"$f":"'1b. Rater Field Checklist'!$C$159","v":" 6.7.2 Final: Tested inclusive of all ductwork between the fan and the grilles, the leakage does not exceed 30% of exhaust fan flow. 53"},{"$f":"'1b. Rater Field Checklist'!$N$159","v":0},{"$f":"'1b. Rater Field Checklist'!$M$159","v":0}]
[{"$f":"'1b. Rater Field Checklist'!$C$161","v":"7. Dwelling-Unit & Common Space Mechanical Vent. Systems (\"Vent Systems\") 54 & Inlets in Return Duct 55\n(National HVAC Design Report Item # indicated in parenthesis)"},{"$f":"'1b. Rater Field Checklist'!$N$161","v":0},{"$f":"'1b. Rater Field Checklist'!$M$161","v":0}]
[{"$f":"'1b. Rater Field Checklist'!$C$164","v":"7.1 Ventilation manufacturer & model number on installed equipment matches either of the following (check box): 41\n\n National HVAC Design Report           Written approval received from designer"},{"$f":"'1b. Rater Field Checklist'!$N$164","v":0},{"$f":"'1b. Rater Field Checklist'!$M$164","v":0}]
[{"$f":"'1b. Rater Field Checklist'!$C$166","v":"7.2 Rater-measured ventilation rate is within either ± 15 CFM or ± 15% of dwelling unit design values (2.7), and meets or exceeds rates required by ASHRAE 62.2-2010. 56"},{"$f":"'1b. Rater Field Checklist'!$N$166","v":0},{"$f":"'1b. Rater Field Checklist'!$M$166","v":0}]
[{"$f":"'1b. Rater Field Checklist'!$C$168","v":"7.3 Measured ventilation rate is within either ± 15 CFM or ± 15 % of common space design values (2.9), and meets or exceeds rates required by ASHRAE 62.1-2010 (2.8). 57"},{"$f":"'1b. Rater Field Checklist'!$N$168","v":0},{"$f":"'1b. Rater Field Checklist'!$M$168","v":0}]
[{"$f":"'1b. Rater Field Checklist'!$C$170","v":"7.4 A ventilation override control installed and also labeled if its function is not obvious (e.g., a label is required for a standalone wall switch, but not for a switch that’s on the ventilation equipment). Townhouses only: A readily-accessible ventilation override control installed and also labeled if its function is not obvious (e.g., a label is required for a toggle wall switch, but not for a switch that’s on the ventilation equipment)."},{"$f":"'1b. Rater Field Checklist'!$N$170","v":0},{"$f":"'1b. Rater Field Checklist'!$M$170","v":0}]
[{"$f":"'1b. Rater Field Checklist'!$C$171","v":"7.5 For any outdoor air inlet connected to a ducted return of the dwelling unit HVAC system (Complete if present; otherwise check “N/A”): 55"},{"$f":"'1b. Rater Field Checklist'!$N$171","v":0},{"$f":"'1b. Rater Field Checklist'!$M$171","v":0}]
[{"$f":"'1b. Rater Field Checklist'!$C$177","v":"7.6 If located in the dwelling unit, system fan rated ≤ 3 sones if intermittent and ≤ 2 sone if continuous, or exempted. 60"},{"$f":"'1b. Rater Field Checklist'!$N$177","v":0},{"$f":"'1b. Rater Field Checklist'!$M$177","v":0}]
[{"$f":"'1b. Rater Field Checklist'!$C$179","v":"7.7 If dwelling-unit Vent System controller operates the dwelling unit HVAC fan, then HVAC fan operation is intermittent and either the fan type is ECM / ICM (4.12), or the controls will reduce the run-time by accounting for HVAC system heating or cooling hours. 61"},{"$f":"'1b. Rater Field Checklist'!$N$179","v":0},{"$f":"'1b. Rater Field Checklist'!$M$179","v":0}]
[{"$f":"'1b. Rater Field Checklist'!$C$181","v":"7.8 In-unit bathroom fans or in-line fans are ENERGY STAR certified if used as part of the dwelling-unit mechanical ventilation system. 62"},{"$f":"'1b. Rater Field Checklist'!$N$181","v":0},{"$f":"'1b. Rater Field Checklist'!$M$181","v":0}]
[{"$f":"'1b. Rater Field Checklist'!$C$183","v":"7.9 If central exhaust fans, ≤ 1 HP, are installed as part of the dwelling-unit mechanical ventilation system, then they are direct-drive, ECM, with variable speed controllers. If > 1 HP, they are installed with NEMATM Premium Motors."},{"$f":"'1b. Rater Field Checklist'!$N$183","v":0},{"$f":"'1b. Rater Field Checklist'!$M$183","v":0}]
[{"$f":"'1b. Rater Field Checklist'!$C$184","v":"7.10 Air inlet locations (Complete if ventilation air inlet locations were installed (2.22, 2.23); otherwise check “N/A”): 63, 64"},{"$f":"'1b. Rater Field Checklist'!$N$184","v":0},{"$f":"'1b. Rater Field Checklist'!$M$184","v":0}]
[{"$f":"'1b. Rater Field Checklist'!$C$187","v":" 7.10.1 Inlet(s) pull ventilation air directly from outdoors and not from attic, crawlspace, garage, or adjacent dwelling unit."},{"$f":"'1b. Rater Field Checklist'!$N$187","v":0},{"$f":"'1b. Rater Field Checklist'!$M$187","v":0}]
[{"$f":"'1b. Rater Field Checklist'!$C$188","v":" 7.10.2 Inlet(s) are ≥ 2 ft. above grade or roof deck; ≥ 10 ft. of stretched-string distance from known contamination sources not exiting the roof, and ≥ 3 ft. distance from dryer exhausts and sources exiting the roof. 65"},{"$f":"'1b. Rater Field Checklist'!$N$188","v":0},{"$f":"'1b. Rater Field Checklist'!$M$188","v":0}]
[{"$f":"'1b. Rater Field Checklist'!$C$191","v":"8. Local Mechanical Exhaust (National HVAC Design Report Item # indicated in parenthesis)"},{"$f":"'1b. Rater Field Checklist'!$N$191","v":0},{"$f":"'1b. Rater Field Checklist'!$M$191","v":0}]
[{"$f":"'1b. Rater Field Checklist'!$C$192","v":"Dwelling Unit Mechanical exhaust - In each dwelling unit kitchen and bathroom, a system is installed that exhausts directly to the outdoors and meets one of the following Rater-measured airflow and manufacturer-rated sound level standards: 54, 66"},{"$f":"'1b. Rater Field Checklist'!$N$192","v":0},{"$f":"'1b. Rater Field Checklist'!$M$192","v":0}]
[{"$f":"'1b. Rater Field Checklist'!$C$195","v":"Location "},{"$f":"'1b. Rater Field Checklist'!$N$195","v":0},{"$f":"'1b. Rater Field Checklist'!$M$195","v":0}]
[{"$f":"'1b. Rater Field Checklist'!$C$196","v":"8.1 Kitchen\nAirflow\nContinuous Rate:  ≥ 5 ACH, based on kitchen volume 68, 69\nIntermittent Rate 67: ≥ 100 CFM and, if not integrated with range, also ≥ 5 ACH based on kitchen volume 68, 69, 70\n\nSound\nContinuous Rate: Recommended: ≤ 1 sone\nIntermittent Rate 67:  Recommended: ≤ 3 sones"},{"$f":"'1b. Rater Field Checklist'!$N$196","v":0},{"$f":"'1b. Rater Field Checklist'!$M$196","v":0}]
[{"$f":"'1b. Rater Field Checklist'!$C$201","v":"8.2 Bathroom\nAirflow\nContinuous Rate:  ≥ 20 CFM\nIntermittent Rate 67: ≥ 50 CFM\n\nSound\nContinuous Rate: Required: ≤ 2 sones\nIntermittent Rate 67:  Recommended: ≤ 3 sones"},{"$f":"'1b. Rater Field Checklist'!$N$201","v":0},{"$f":"'1b. Rater Field Checklist'!$M$201","v":0}]
[{"$f":"'1b. Rater Field Checklist'!$C$203","v":"Mechanical Exhaust for Common Spaces 2 and Shared Garages "},{"$f":"'1b. Rater Field Checklist'!$N$203","v":0},{"$f":"'1b. Rater Field Checklist'!$M$203","v":0}]
[{"$f":"'1b. Rater Field Checklist'!$C$205","v":"8.3 Measured exhaust rates are  ≥ ASHRAE 62.1 rates (2c). 57"},{"$f":"'1b. Rater Field Checklist'!$N$205","v":0},{"$f":"'1b. Rater Field Checklist'!$M$205","v":0}]
[{"$f":"'1b. Rater Field Checklist'!$C$207","v":"8.4 Where an exhaust system is installed in a shared garage, it is equipped with controls that sense CO and NO2."},{"$f":"'1b. Rater Field Checklist'!$N$207","v":0},{"$f":"'1b. Rater Field Checklist'!$M$207","v":0}]
[{"$f":"'1b. Rater Field Checklist'!$C$208","v":"9. Filtration "},{"$f":"'1b. Rater Field Checklist'!$N$208","v":0},{"$f":"'1b. Rater Field Checklist'!$M$208","v":0}]
[{"$f":"'1b. Rater Field Checklist'!$C$209","v":"9.1 MERV 6+ filter(s) installed in each ducted mechanical system serving an individual dwelling unit and located to facilitate access & regular service by the occupant or building owner. 71"},{"$f":"'1b. Rater Field Checklist'!$N$209","v":0},{"$f":"'1b. Rater Field Checklist'!$M$209","v":0}]
[{"$f":"'1b. Rater Field Checklist'!$C$211","v":" 9.1.1 Filter access panel includes gasket and fits snugly against the exposed edge of filter when closed to prevent bypass. 72"},{"$f":"'1b. Rater Field Checklist'!$N$211","v":0},{"$f":"'1b. Rater Field Checklist'!$M$211","v":0}]
[{"$f":"'1b. Rater Field Checklist'!$C$213","v":" 9.1.2 All return air and mechanically supplied outdoor air passes through filter prior to conditioning."},{"$f":"'1b. Rater Field Checklist'!$N$213","v":0},{"$f":"'1b. Rater Field Checklist'!$M$213","v":0}]
[{"$f":"'1b. Rater Field Checklist'!$C$214","v":"10. Combustion Appliances "},{"$f":"'1b. Rater Field Checklist'!$N$214","v":0},{"$f":"'1b. Rater Field Checklist'!$M$214","v":0}]
[{"$f":"'1b. Rater Field Checklist'!$C$215","v":"10.1 Furnaces, boilers, and water heaters located within the building’s pressure boundary are mechanically drafted or direct-vented. If mechanically drafted, the minimum volume of combustion air required for safe operation by the manufacturer and/or code shall be met or exceeded and make-up air sources must be mechanically closed when the combustion appliance is not in operation. Alternatives in Footnote 75. 73, 74, 75"},{"$f":"'1b. Rater Field Checklist'!$N$215","v":0},{"$f":"'1b. Rater Field Checklist'!$M$215","v":0}]
[{"$f":"'1b. Rater Field Checklist'!$C$219","v":"10.2 Fireplaces located within the building’s pressure boundary are direct-vented. 73, 74"},{"$f":"'1b. Rater Field Checklist'!$N$219","v":0},{"$f":"'1b. Rater Field Checklist'!$M$219","v":0}]
[{"$f":"'1b. Rater Field Checklist'!$C$222","v":"10.3 No unvented combustion appliances other than cooking ranges or ovens are located inside the building’s pressure boundary. For cooking ranges and ovens, local mechanical exhaust per Checklist Item 8.1 requirements must be met. 73"},{"$f":"'1b. Rater Field Checklist'!$N$222","v":0},{"$f":"'1b. Rater Field Checklist'!$M$222","v":0}]
[{"$f":"'1b. Rater Field Checklist'!$C$224","v":"Other "},{"$f":"'1b. Rater Field Checklist'!$N$224","v":0},{"$f":"'1b. Rater Field Checklist'!$M$224","v":0}]
[{"$f":"'1b. Rater Field Checklist'!$C$225","v":"11. Domestic Hot Water "},{"$f":"'1b. Rater Field Checklist'!$N$225","v":0},{"$f":"'1b. Rater Field Checklist'!$M$225","v":0}]
[{"$f":"'1b. Rater Field Checklist'!$C$226","v":"11.1 Prescriptive Path: Hot water equipment rated in EF or UEF meet the efficiency levels specified in the ENERGY STAR Multifamily Reference Design. Otherwise, meet or exceed ≥85% Et. 76"},{"$f":"'1b. Rater Field Checklist'!$N$226","v":0},{"$f":"'1b. Rater Field Checklist'!$M$226","v":0}]
[{"$f":"'1b. Rater Field Checklist'!$C$228","v":"11.2 ERI: For hot water equipment serving common spaces but not dwelling units nor shared laundry: where rated EF or UEF, meet the efficiency levels specified in the ENERGY STAR Multifamily Reference Design. Otherwise, meet or exceed 85% Et. 76"},{"$f":"'1b. Rater Field Checklist'!$N$228","v":0},{"$f":"'1b. Rater Field Checklist'!$M$228","v":0}]
[{"$f":"'1b. Rater Field Checklist'!$C$230","v":"11.3 For in-unit storage water heaters, AHRI Certificate confirms the presence of a heat trap."},{"$f":"'1b. Rater Field Checklist'!$N$230","v":0},{"$f":"'1b. Rater Field Checklist'!$M$230","v":0}]
[{"$f":"'1b. Rater Field Checklist'!$C$231","v":"11.4 DHW piping located in the dwelling unit is insulated with a minimum of R-3. 77"},{"$f":"'1b. Rater Field Checklist'!$N$231","v":0},{"$f":"'1b. Rater Field Checklist'!$M$231","v":0}]
[{"$f":"'1b. Rater Field Checklist'!$C$233","v":"11.5 Rater-measured delivery temperatures at faucets and showerheads do not exceed 125°F. 78"},{"$f":"'1b. Rater Field Checklist'!$N$233","v":0},{"$f":"'1b. Rater Field Checklist'!$M$233","v":0}]
[{"$f":"'1b. Rater Field Checklist'!$C$235","v":"12. Lighting "},{"$f":"'1b. Rater Field Checklist'!$N$235","v":0},{"$f":"'1b. Rater Field Checklist'!$M$235","v":0}]
[{"$f":"'1b. Rater Field Checklist'!$C$236","v":"12.1 Common Space 2 Lighting Controls:"},{"$f":"'1b. Rater Field Checklist'!$N$236","v":0},{"$f":"'1b. Rater Field Checklist'!$M$236","v":0}]
[{"$f":"'1b. Rater Field Checklist'!$C$238","v":" 12.1.1 ERI and Prescriptive Path: All common spaces 2 (including shared garages), except the building lobby and where automatic shutoff would endanger the safety of occupants, have occupancy sensors or automatic bi-level lighting controls installed and operation has been verified."},{"$f":"'1b. Rater Field Checklist'!$N$238","v":0},{"$f":"'1b. Rater Field Checklist'!$M$238","v":0}]
[{"$f":"'1b. Rater Field Checklist'!$C$240","v":" 12.1.2 ASHRAE Path only: All common spaces 2 (including shared garages), except the building lobby, corridors, and stairwells and where automatic shutoff would endanger the safety of occupants, have occupancy sensors or automatic bi-level lighting controls installed and operation has been verified."},{"$f":"'1b. Rater Field Checklist'!$N$240","v":0},{"$f":"'1b. Rater Field Checklist'!$M$240","v":0}]
[{"$f":"'1b. Rater Field Checklist'!$C$242","v":"12.2 Common Space 2 Lighting Power Density Maximum (except garages): 79"},{"$f":"'1b. Rater Field Checklist'!$N$242","v":0},{"$f":"'1b. Rater Field Checklist'!$M$242","v":0}]
[{"$f":"'1b. Rater Field Checklist'!$C$244","v":" 12.2.1 ERI and Prescriptive Path: Total installed lighting power for the combined common spaces 2 must not exceed ASHRAE 90.1-2007 allowances for those combined spaces, using the Space-by-Space or Building Area Method. See Footnote 80 for allowances. 80"},{"$f":"'1b. Rater Field Checklist'!$N$244","v":0},{"$f":"'1b. Rater Field Checklist'!$M$244","v":0}]
[{"$f":"'1b. Rater Field Checklist'!$C$247","v":" 12.2.2 ASHRAE Path only: Total installed lighting power for the combined common spaces 2 must not exceed ASHRAE 90.1-2007 allowances for those combined spaces, using the Space-by-Space or Building Area Method, by more than 20%. See Footnote 80 for allowances. 80"},{"$f":"'1b. Rater Field Checklist'!$N$247","v":0},{"$f":"'1b. Rater Field Checklist'!$M$247","v":0}]
[{"$f":"'1b. Rater Field Checklist'!$C$250","v":"12.3 Shared garages: Lighting power density does not exceed 0.24 W/ft2."},{"$f":"'1b. Rater Field Checklist'!$N$250","v":0},{"$f":"'1b. Rater Field Checklist'!$M$250","v":0}]
[{"$f":"'1b. Rater Field Checklist'!$C$251","v":"12.4 Exterior lighting controls: Fixtures, including parking lot fixtures, must include automatic switching on timers or photocell controls except fixtures intended for 24-hour operation, required for security, or located on dwelling unit balconies."},{"$f":"'1b. Rater Field Checklist'!$N$251","v":0},{"$f":"'1b. Rater Field Checklist'!$M$251","v":0}]
[{"$f":"'1b. Rater Field Checklist'!$C$252","v":"12.5 ERI Path: All exterior and common space lighting fixtures meet the efficiency requirements in the ENERGY STAR Multifamily Reference Design, except fixtures located on dwelling unit balconies. 81, 82"},{"$f":"'1b. Rater Field Checklist'!$N$252","v":0},{"$f":"'1b. Rater Field Checklist'!$M$252","v":0}]
[{"$f":"'1b. Rater Field Checklist'!$C$255","v":"12.6 Prescriptive Path: All lighting fixtures (i.e., dwelling units, common spaces, and exterior) meet the efficiency requirements in the ENERGY STAR Multifamily Reference Design. 81, 82"},{"$f":"'1b. Rater Field Checklist'!$N$255","v":0},{"$f":"'1b. Rater Field Checklist'!$M$255","v":0}]
[{"$f":"'1b. Rater Field Checklist'!$C$258","v":"12.7 Prescriptive Path: Dwelling unit overall in-unit lighting power density ≤ 0.75 W/ft2. When calculating overall lighting power density, use 1.1 W/ft2 where lighting is not installed. 79"},{"$f":"'1b. Rater Field Checklist'!$N$258","v":0},{"$f":"'1b. Rater Field Checklist'!$M$258","v":0}]
[{"$f":"'1b. Rater Field Checklist'!$C$260","v":"13. Appliances, Ceiling Fans, and Plumbing Fixtures "},{"$f":"'1b. Rater Field Checklist'!$N$260","v":0},{"$f":"'1b. Rater Field Checklist'!$M$260","v":0}]
[{"$f":"'1b. Rater Field Checklist'!$C$261","v":"13.1 Prescriptive Path: Installed appliances are ENERGY STAR certified. Installed bathroom faucets, bathroom aerators, and showerheads are WaterSense labeled. 83"},{"$f":"'1b. Rater Field Checklist'!$N$261","v":0},{"$f":"'1b. Rater Field Checklist'!$M$261","v":0}]
[{"$f":"'1b. Rater Field Checklist'!$C$263","v":"13.2 ERI Path: Where installed in common spaces, refrigerators and dishwashers are ENERGY STAR certified and showerheads are WaterSense labeled."},{"$f":"'1b. Rater Field Checklist'!$N$263","v":0},{"$f":"'1b. Rater Field Checklist'!$M$263","v":0}]
[{"$f":"'1b. Rater Field Checklist'!$C$264","v":"13.3 Prescriptive Path: Shower compartments with multiple fixtures cannot be operated simultaneously OR the total flow rate per shower compartment must not exceed 1.75 gallons per minute, as rated at 80 psi."},{"$f":"'1b. Rater Field Checklist'!$N$264","v":0},{"$f":"'1b. Rater Field Checklist'!$M$264","v":0}]
[{"$f":"'1b. Rater Field Checklist'!$C$265","v":"14. Whole Building Energy Consumption Data Acquisition "},{"$f":"'1b. Rater Field Checklist'!$N$265","v":0},{"$f":"'1b. Rater Field Checklist'!$M$265","v":0}]
[{"$f":"'1b. Rater Field Checklist'!$C$266","v":"14.1 For buildings 50,000 ft2 and larger, a strategy that enables the collection of monthly or annual building-level energy consumption data (electricity, natural gas, chilled water, steam, fuel oil, propane, etc.) has been confirmed. 84"},{"$f":"'1b. Rater Field Checklist'!$N$266","v":0},{"$f":"'1b. Rater Field Checklist'!$M$266","v":0}]
[]
[{"$f":"E4","v":"Open Wall 2"}]
["Rater Design Checklist","Verification Phase","Notes/Comments"]
[{"$f":"'1b. Rater Field Checklist'!$C$16","v":"Thermal Enclosure System "},{"$f":"'1b. Rater Field Checklist'!$N$16","v":0},{"$f":"'1b. Rater Field Checklist'!$M$16","v":0}]
[{"$f":"'1b. Rater Field Checklist'!$C$17","v":"1. High-Performance Fenestration & Insulation "},{"$f":"'1b. Rater Field Checklist'!$N$17","v":0},{"$f":"'1b. Rater Field Checklist'!$M$17","v":0}]
[{"$f":"'1b. Rater Field Checklist'!$C$18","v":"1.1 Fenestration meets or exceeds specification in Items 2.1 and 2.2 of the National Rater Design Review Checklist."},{"$f":"'1b. Rater Field Checklist'!$N$18","v":"Open Wall 3"},{"$f":"'1b. Rater Field Checklist'!$M$18","v":0}]
[{"$f":"'1b. Rater Field Checklist'!$C$19","v":"1.2 Insulation meets or exceeds levels specified in Items 3.1 and 3.2 of the National Rater Design Review Checklist."},{"$f":"'1b. Rater Field Checklist'!$N$19","v":"Open Wall 3"},{"$f":"'1b. Rater Field Checklist'!$M$19","v":0}]
[{"$f":"'1b. Rater Field Checklist'!$C$20","v":"1.3 All insulation achieves Grade I install per ANSI / RESNET / ICC Std. 301. Alternatives in footnote 6. 6,7"},{"$f":"'1b. Rater Field Checklist'!$N$20","v":"Open Wall 3"},{"$f":"'1b. Rater Field Checklist'!$M$20","v":0}]
[{"$f":"'1b. Rater Field Checklist'!$C$23","v":"1.4 Prescriptive Path: Window-to-wall ratio ≤ 30%. 8"},{"$f":"'1b. Rater Field Checklist'!$N$23","v":"Open Wall 1"},{"$f":"'1b. Rater Field Checklist'!$M$23","v":0}]
[{"$f":"'1b. Rater Field Checklist'!$C$25","v":"1.5 Heated plenums in unconditioned space or ambient conditions must meet the following requirements: 9"},{"$f":"'1b. Rater Field Checklist'!$N$25","v":0},{"$f":"'1b. Rater Field Checklist'!$M$25","v":0}]
[{"$f":"'1b. Rater Field Checklist'!$C$27","v":" 1.5.1 Sides of heated plenum are an air barrier and insulated to ≥ R-3ci in CZ 1-4; ≥ R-5ci in CZ 5-6; ≥ R-7.5ci in CZ 7; ≥ R-9.5ci in CZ 8, AND;"},{"$f":"'1b. Rater Field Checklist'!$N$27","v":"Open Wall 4"},{"$f":"'1b. Rater Field Checklist'!$M$27","v":0}]
[{"$f":"'1b. Rater Field Checklist'!$C$28","v":" 1.5.2 Insulation at top of heated plenum meets or exceeds the R-value for mass floors from the “All Other” column of Table 502.2(1) of 2009 IECC, AND;"},{"$f":"'1b. Rater Field Checklist'!$N$28","v":"Open Wall 4"},{"$f":"'1b. Rater Field Checklist'!$M$28","v":0}]
[{"$f":"'1b. Rater Field Checklist'!$C$29","v":" 1.5.3 Bottom of heated plenum must have at least R-13 insulation. 10"},{"$f":"'1b. Rater Field Checklist'!$N$29","v":"Open Wall 3"},{"$f":"'1b. Rater Field Checklist'!$M$29","v":0}]
[{"$f":"'1b. Rater Field Checklist'!$C$31","v":"1.6 Garages with space heating must meet the following requirements: 9"},{"$f":"'1b. Rater Field Checklist'!$N$31","v":0},{"$f":"'1b. Rater Field Checklist'!$M$31","v":0}]
[{"$f":"'1b. Rater Field Checklist'!$C$33","v":" 1.6.1 Insulation on above grade walls and walls on the first story below grade ≥ R-5ci in CZ 5-6; ≥ R-7.5ci in CZ 7; ≥ R-9.5ci in CZ 8, AND;"},{"$f":"'1b. Rater Field Checklist'!$N$33","v":0},{"$f":"'1b. Rater Field Checklist'!$M$33","v":0}]
[{"$f":"'1b. Rater Field Checklist'!$C$34","v":" 1.6.2 Ceiling insulation meets or exceeds the R-value for mass floors from the “All Other” column of Table 502.2(1) of 2009 IECC."},{"$f":"'1b. Rater Field Checklist'!$N$34","v":0},{"$f":"'1b. Rater Field Checklist'!$M$34","v":0}]
[{"$f":"'1b. Rater Field Checklist'!$C$35","v":"2. Fully-Aligned Air Barriers 11 At each insulated location below, a complete air barrier is provided that is fully aligned as follows:"},{"$f":"'1b. Rater Field Checklist'!$N$35","v":0},{"$f":"'1b. Rater Field Checklist'!$M$35","v":0}]
[{"$f":"'1b. Rater Field Checklist'!$C$37","v":"Ceilings: At interior or exterior horizontal surface of ceiling insulation in Climate Zones 1-3; at interior horizontal surface of ceiling insulation in Climate Zones 4-8. Also, at exterior vertical surface of ceiling insulation in all climate zones (e.g., using a wind baffle that extends to the full height of the insulation in every bay or a tabbed baffle in each bay with a soffit vent that prevents wind washing in adjacent bays). 12"},{"$f":"'1b. Rater Field Checklist'!$N$37","v":0},{"$f":"'1b. Rater Field Checklist'!$M$37","v":0}]
[{"$f":"'1b. Rater Field Checklist'!$C$39","v":"2.1 Dropped ceilings / soffits below unconditioned attics, chase / dead space, and all other ceilings."},{"$f":"'1b. Rater Field Checklist'!$N$39","v":0},{"$f":"'1b. Rater Field Checklist'!$M$39","v":0}]
[{"$f":"'1b. Rater Field Checklist'!$C$40","v":"Walls: At exterior vertical surface of wall insulation in all climate zones; also at interior vertical surface of wall insulation in Climate Zones 4-8. 13"},{"$f":"'1b. Rater Field Checklist'!$N$40","v":0},{"$f":"'1b. Rater Field Checklist'!$M$40","v":0}]
[{"$f":"'1b. Rater Field Checklist'!$C$42","v":"2.2 Walls behind showers, tubs, staircases, and fireplaces."},{"$f":"'1b. Rater Field Checklist'!$N$42","v":"Open Wall 2"},{"$f":"'1b. Rater Field Checklist'!$M$42","v":0}]
[{"$f":"'1b. Rater Field Checklist'!$C$43","v":"2.3 Architectural bump-outs, dead space, and all other exterior walls."},{"$f":"'1b. Rater Field Checklist'!$N$43","v":0},{"$f":"'1b. Rater Field Checklist'!$M$43","v":0}]
[{"$f":"'1b. Rater Field Checklist'!$C$44","v":"Floors: At exterior vertical surface of floor insulation in all climate zones and, if over unconditioned space, also at interior horizontal surface including supports to ensure alignment. Alternatives in Footnotes 15 & 16. 14, 15, 16"},{"$f":"'1b. Rater Field Checklist'!$N$44","v":0},{"$f":"'1b. Rater Field Checklist'!$M$44","v":0}]
[{"$f":"'1b. Rater Field Checklist'!$C$48","v":"2.4 Floors above garages, floors above unconditioned spaces, and cantilevered floors."},{"$f":"'1b. Rater Field Checklist'!$N$48","v":0},{"$f":"'1b. Rater Field Checklist'!$M$48","v":0}]
[{"$f":"'1b. Rater Field Checklist'!$C$49","v":"2.5 All other floors adjoining unconditioned space (e.g., rim / band joists at exterior wall or at porch roof)."},{"$f":"'1b. Rater Field Checklist'!$N$49","v":0},{"$f":"'1b. Rater Field Checklist'!$M$49","v":0}]
[{"$f":"'1b. Rater Field Checklist'!$C$50","v":"3. Reduced Thermal Bridging"},{"$f":"'1b. Rater Field Checklist'!$N$50","v":0},{"$f":"'1b. Rater Field Checklist'!$M$50","v":0}]
[{"$f":"'1b. Rater Field Checklist'!$C$51","v":"3.1 For insulated ceilings with attic space above (i.e., non-cathedralized), Grade I insulation extends to the inside face of the exterior wall below and is ≥ R-21 in CZ 1-5; ≥ R-30 in CZ 6-8. 17"},{"$f":"'1b. Rater Field Checklist'!$N$51","v":0},{"$f":"'1b. Rater Field Checklist'!$M$51","v":0}]
[{"$f":"'1b. Rater Field Checklist'!$C$53","v":"3.2 For insulated ceilings with attic space above, attic access panels and drop-down stairs insulated ≥ R-10 or equipped with durable ≥ R-10 cover. 18"},{"$f":"'1b. Rater Field Checklist'!$N$53","v":0},{"$f":"'1b. Rater Field Checklist'!$M$53","v":0}]
[{"$f":"'1b. Rater Field Checklist'!$C$55","v":"3.3 Insulation beneath attic platforms (e.g., HVAC platforms, walkways) ≥ R-21 in CZ 1-5; ≥ R-30 in CZ 6-8."},{"$f":"'1b. Rater Field Checklist'!$N$55","v":0},{"$f":"'1b. Rater Field Checklist'!$M$55","v":0}]
[{"$f":"'1b. Rater Field Checklist'!$C$56","v":"3.4 For slabs on grade in CZ 4-8, 100% of slab edge insulated to ≥ R-5 at the depth specified by Table 502.2(1) of the 2009 IECC and aligned with the thermal boundary of the walls. 19, 20"},{"$f":"'1b. Rater Field Checklist'!$N$56","v":0},{"$f":"'1b. Rater Field Checklist'!$M$56","v":0}]
[{"$f":"'1b. Rater Field Checklist'!$C$59","v":"3.5 For elevated concrete slabs in CZ 4-8 (i.e., podiums and projected balconies, but not intermediate slab floor edges) 100% of the slab edge insulated to ≥ R-5. For podiums, this insulation must extend for a minimum of 8ft below the bottom of the slab edge. For columns, the insulation must surround the column, at a depth of 4ft. Alternatives in Footnote 21. 21"},{"$f":"'1b. Rater Field Checklist'!$N$59","v":0},{"$f":"'1b. Rater Field Checklist'!$M$59","v":0}]
[{"$f":"'1b. Rater Field Checklist'!$C$61","v":"3.6 For elevated concrete slabs in CZ 4-8 (i.e., podiums, but not intermediate floor slabs), floor insulation meets the U-factor specified in Table 502.1.2 of the 2009 IECC for Group R when dwelling units are above the slab, and for ‘All Other’ when common space is above the slab. 22"},{"$f":"'1b. Rater Field Checklist'!$N$61","v":0},{"$f":"'1b. Rater Field Checklist'!$M$61","v":0}]
[{"$f":"'1b. Rater Field Checklist'!$C$63","v":"3.7 At above-grade walls and rim / band joists separating conditioned space from the exterior, one of the following options used: 23, 26"},{"$f":"'1b. Rater Field Checklist'!$N$63","v":0},{"$f":"'1b. Rater Field Checklist'!$M$63","v":0}]
[{"$f":"'1b. Rater Field Checklist'!$C$66","v":" 3.7.1 Continuous rigid insulation, insulated siding, or combination of the two is ≥ R-3 in CZ 1-4; ≥ R-5 in CZ 5-8 24, 25, 26, 27; OR;"},{"$f":"'1b. Rater Field Checklist'!$N$66","v":0},{"$f":"'1b. Rater Field Checklist'!$M$66","v":0}]
[{"$f":"'1b. Rater Field Checklist'!$C$71","v":" 3.7.2 Structural Insulated Panels OR; Insulated Concrete Forms OR; Double-wall framing OR; 24, 26, 28"},{"$f":"'1b. Rater Field Checklist'!$N$71","v":0},{"$f":"'1b. Rater Field Checklist'!$M$71","v":0}]
[{"$f":"'1b. Rater Field Checklist'!$C$75","v":" 3.7.3 Option only for wood-framed walls either in CZ 1-3 OR ≤ 3 stories: ‘advanced framing’ details including all of the Items below: 26, 29"},{"$f":"'1b. Rater Field Checklist'!$N$75","v":0},{"$f":"'1b. Rater Field Checklist'!$M$75","v":0}]
[{"$f":"'1b. Rater Field Checklist'!$C$78","v":"  3.7.3a Corners insulated ≥ R-6 to edge, 30 AND;"},{"$f":"'1b. Rater Field Checklist'!$N$78","v":0},{"$f":"'1b. Rater Field Checklist'!$M$78","v":0}]
[{"$f":"'1b. Rater Field Checklist'!$C$80","v":"  3.7.3b Headers above windows & doors insulated ≥ R-3 for 2x4 framing or equivalent cavity width, and ≥ R-5 for all other assemblies (e.g., with 2x6 framing), 31 AND;"},{"$f":"'1b. Rater Field Checklist'!$N$80","v":0},{"$f":"'1b. Rater Field Checklist'!$M$80","v":0}]
[{"$f":"'1b. Rater Field Checklist'!$C$82","v":"  3.7.3c Interior / exterior wall intersections insulated to same R-value as rest of exterior wall. 32"},{"$f":"'1b. Rater Field Checklist'!$N$82","v":0},{"$f":"'1b. Rater Field Checklist'!$M$82","v":0}]
[{"$f":"'1b. Rater Field Checklist'!$C$84","v":"4. Air Sealing (Unless otherwise noted below, “sealed” indicates the use of caulk, foam, or equivalent material.)"},{"$f":"'1b. Rater Field Checklist'!$N$84","v":0},{"$f":"'1b. Rater Field Checklist'!$M$84","v":0}]
[{"$f":"'1b. Rater Field Checklist'!$C$85","v":"4.1 Ducts, flues, shafts, plumbing, piping, wiring, exhaust fans, & other penetrations to unconditioned space sealed, with blocking / flashing as needed."},{"$f":"'1b. Rater Field Checklist'!$N$85","v":0},{"$f":"'1b. Rater Field Checklist'!$M$85","v":0}]
[{"$f":"'1b. Rater Field Checklist'!$C$86","v":"4.2 Recessed lighting fixtures adjacent to unconditioned space ICAT labeled and gasketed. Also, if in insulated ceiling without attic above, exterior surface of fixture insulated to ≥ R-10 in CZ 4-8."},{"$f":"'1b. Rater Field Checklist'!$N$86","v":0},{"$f":"'1b. Rater Field Checklist'!$M$86","v":0}]
[{"$f":"'1b. Rater Field Checklist'!$C$87","v":"4.3 Continuous top plate or blocking is at top of walls adjoining unconditioned space including at balloon-framed parapets, and sealed."},{"$f":"'1b. Rater Field Checklist'!$N$87","v":0},{"$f":"'1b. Rater Field Checklist'!$M$87","v":0}]
[{"$f":"'1b. Rater Field Checklist'!$C$88","v":"4.4 Drywall sealed to top plate at all unconditioned attic / wall interfaces using caulk, foam, drywall adhesive (but not other construction adhesives), or equivalent material. Either apply sealant directly between drywall and top plate or to the seam between the two from the attic above."},{"$f":"'1b. Rater Field Checklist'!$N$88","v":0},{"$f":"'1b. Rater Field Checklist'!$M$88","v":0}]
[{"$f":"'1b. Rater Field Checklist'!$C$89","v":"4.5 Rough opening around windows & exterior doors sealed. 33"},{"$f":"'1b. Rater Field Checklist'!$N$89","v":0},{"$f":"'1b. Rater Field Checklist'!$M$89","v":0}]
[{"$f":"'1b. Rater Field Checklist'!$C$91","v":"4.6 Assemblies that separate attached garages from occupiable space sealed and, also, an air barrier installed, sealed, and aligned with these assemblies. 34"},{"$f":"'1b. Rater Field Checklist'!$N$91","v":0},{"$f":"'1b. Rater Field Checklist'!$M$91","v":0}]
[{"$f":"'1b. Rater Field Checklist'!$C$93","v":"4.7 Doors adjacent to unconditioned space (e.g., attics, garages, basements) or ambient conditions made substantially air-tight with doorsweep and weatherstripping or equivalent gasket."},{"$f":"'1b. Rater Field Checklist'!$N$93","v":0},{"$f":"'1b. Rater Field Checklist'!$M$93","v":0}]
[{"$f":"'1b. Rater Field Checklist'!$C$94","v":"4.8 Attic access panels, roof hatches and drop-down stairs are gasketed (i.e., not caulked) or equipped with durable covers that are gasketed. 18"},{"$f":"'1b. Rater Field Checklist'!$N$94","v":0},{"$f":"'1b. Rater Field Checklist'!$M$94","v":0}]
[{"$f":"'1b. Rater Field Checklist'!$C$96","v":"The following items must be additionally verified in dwelling units, to reduce air leakage between conditioned spaces."},{"$f":"'1b. Rater Field Checklist'!$N$96","v":0},{"$f":"'1b. Rater Field Checklist'!$M$96","v":0}]
[{"$f":"'1b. Rater Field Checklist'!$C$97","v":"4.9 Doors serving as a unit entrance from a corridor / stairwell made substantially air-tight with doorsweep and weatherstripping or equivalent gasket."},{"$f":"'1b. Rater Field Checklist'!$N$97","v":0},{"$f":"'1b. Rater Field Checklist'!$M$97","v":0}]
[{"$f":"'1b. Rater Field Checklist'!$C$98","v":"4.10 Rater-measured compartmentalization is no greater than 0.30 CFM50 per square feet of dwelling unit enclosure area, following procedures in ANSI / RESNET / ICC Std. 380. 35"},{"$f":"'1b. Rater Field Checklist'!$N$98","v":0},{"$f":"'1b. Rater Field Checklist'!$M$98","v":0}]
[{"$f":"'1b. Rater Field Checklist'!$C$100","v":" 4.10.1 For dwelling units with forced air distribution systems without ducted returns and located in a closet adjacent to unconditioned space, the Rater-measured pressure difference between the space containing the air handler and the conditioned space during the compartmentalization test is no greater than 5 Pa. 36"},{"$f":"'1b. Rater Field Checklist'!$N$100","v":0},{"$f":"'1b. Rater Field Checklist'!$M$100","v":0}]
[{"$f":"'1b. Rater Field Checklist'!$C$102","v":"HVAC System 37 (HVAC Design Report Item # indicated in parenthesis) "},{"$f":"'1b. Rater Field Checklist'!$N$102","v":0},{"$f":"'1b. Rater Field Checklist'!$M$102","v":0}]
[{"$f":"'1b. Rater Field Checklist'!$C$104","v":"5. Heating & Cooling Equipment – Complete Track A – HVAC Grading by Rater OR Track B – HVAC Testing by FT Agent 38"},{"$f":"'1b. Rater Field Checklist'!$N$104","v":0},{"$f":"'1b. Rater Field Checklist'!$M$104","v":0}]
[{"$f":"'1b. Rater Field Checklist'!$C$106","v":"Track A 39"},{"$f":"'1b. Rater Field Checklist'!$N$106","v":0},{"$f":"'1b. Rater Field Checklist'!$M$106","v":0}]
[{"$f":"'1b. Rater Field Checklist'!$C$108","v":"5a.1 Blower fan volumetric airflow is Grade I or II per ANSI / RESNET / ACCA Std. 310"},{"$f":"'1b. Rater Field Checklist'!$N$108","v":0},{"$f":"'1b. Rater Field Checklist'!$M$108","v":0}]
[{"$f":"'1b. Rater Field Checklist'!$C$109","v":"5a.2 Blower fan watt draw is Grade I or II per ANSI / RESNET / ACCA Std. 310"},{"$f":"'1b. Rater Field Checklist'!$N$109","v":0},{"$f":"'1b. Rater Field Checklist'!$M$109","v":0}]
[{"$f":"'1b. Rater Field Checklist'!$C$110","v":"5a.3 Refrigerant charge is Grade I per ANSI / RESNET / ACCA Std. 310. See Footnote 40 for exemptions. 40"},{"$f":"'1b. Rater Field Checklist'!$N$110","v":0},{"$f":"'1b. Rater Field Checklist'!$M$110","v":0}]
[{"$f":"'1b. Rater Field Checklist'!$C$112","v":"Track B"},{"$f":"'1b. Rater Field Checklist'!$N$112","v":0},{"$f":"'1b. Rater Field Checklist'!$M$112","v":0}]
[{"$f":"'1b. Rater Field Checklist'!$C$113","v":"5b.1 HVAC manufacturer & model number on installed equipment matches either of the following (check box): 41\n \n National HVAC Design Report (4.6-4.9 & 4.25-4.26)      Written approval received from designer"},{"$f":"'1b. Rater Field Checklist'!$N$113","v":0},{"$f":"'1b. Rater Field Checklist'!$M$113","v":0}]
[{"$f":"'1b. Rater Field Checklist'!$C$115","v":"5b.2 External static pressure measured by Rater at contractor-provided test locations and documented below: 42\n\nReturn-Side External Static Pressure: ________IWC\nSupply-Side External Static Pressure: __________IWC"},{"$f":"'1b. Rater Field Checklist'!$N$115","v":0},{"$f":"'1b. Rater Field Checklist'!$M$115","v":0}]
[{"$f":"'1b. Rater Field Checklist'!$C$117","v":"5.4 Prescriptive Path: Heating and cooling equipment serving dwelling units and common spaces meet the efficiency levels specified in the Exhibit X. Electric resistance space heating is not installed in dwelling units."},{"$f":"'1b. Rater Field Checklist'!$N$117","v":0},{"$f":"'1b. Rater Field Checklist'!$M$117","v":0}]
[{"$f":"'1b. Rater Field Checklist'!$C$118","v":"5.5 ERI Path: Heating and cooling equipment serving common spaces, but not serving dwelling units, meet the efficiency levels specified in the Exhibit X. See Exhibit X for restrictions on electric resistance space heating."},{"$f":"'1b. Rater Field Checklist'!$N$118","v":0},{"$f":"'1b. Rater Field Checklist'!$M$118","v":0}]
[{"$f":"'1b. Rater Field Checklist'!$C$119","v":"5.6 National HVAC Functional Testing Checklist(s) collected prior to certification, with all HVAC systems in the building / project fully documented. Exception: Where credentialed HVAC Contractor(s) are completing the National HVAC Functional Testing Checklist, the checklist is not required to be collected for the systems they verify. 43"},{"$f":"'1b. Rater Field Checklist'!$N$119","v":0},{"$f":"'1b. Rater Field Checklist'!$M$119","v":0}]
[{"$f":"'1b. Rater Field Checklist'!$C$121","v":"5.7 Rater has verified and documented that Functional Testing Agent(s) (“FT Agent(s)”) completing the National HVAC Functional Testing Checklist(s) hold one of the required credentials and completed orientation, if applicable. 43\n\nCredential: ______________________ “FT Agent” Company Name(s): _______________________"},{"$f":"'1b. Rater Field Checklist'!$N$121","v":0},{"$f":"'1b. Rater Field Checklist'!$M$121","v":0}]
[{"$f":"'1b. Rater Field Checklist'!$C$123","v":"Equipment Controls "},{"$f":"'1b. Rater Field Checklist'!$N$123","v":0},{"$f":"'1b. Rater Field Checklist'!$M$123","v":0}]
[{"$f":"'1b. Rater Field Checklist'!$C$124","v":"5.8 All heating and cooling systems serving a dwelling unit have thermostatic controls within the dwelling unit which are not located on exterior walls."},{"$f":"'1b. Rater Field Checklist'!$N$124","v":0},{"$f":"'1b. Rater Field Checklist'!$M$124","v":0}]
[{"$f":"'1b. Rater Field Checklist'!$C$125","v":" 5.8.1 Prescriptive Path: Dwelling unit thermostats are programmable."},{"$f":"'1b. Rater Field Checklist'!$N$125","v":0},{"$f":"'1b. Rater Field Checklist'!$M$125","v":0}]
[{"$f":"'1b. Rater Field Checklist'!$C$126","v":"5.9 Stair and elevator shaft vents equipped with motorized dampers that are capable of being automatically closed during normal building operation and are interlocked to open as required by fire and smoke detection systems. Dampers are verified to be closed at the time of inspection."},{"$f":"'1b. Rater Field Checklist'!$N$126","v":0},{"$f":"'1b. Rater Field Checklist'!$M$126","v":0}]
[{"$f":"'1b. Rater Field Checklist'!$C$127","v":"5.10 Freeze protection systems, such as heat tracing of piping and heat exchangers, including self-regulating heat tracing, and garage / plenum heaters include automatic controls that are verified to shut off the systems when pipe wall or garage / plenum temperatures are above 40°F."},{"$f":"'1b. Rater Field Checklist'!$N$127","v":0},{"$f":"'1b. Rater Field Checklist'!$M$127","v":0}]
[{"$f":"'1b. Rater Field Checklist'!$C$128","v":" 5.10.1 Where heat tracing is installed for freeze-protection, controls must be based on pipe wall temperature and a minimum of R-3 pipe insulation is also required."},{"$f":"'1b. Rater Field Checklist'!$N$128","v":0},{"$f":"'1b. Rater Field Checklist'!$M$128","v":0}]
[{"$f":"'1b. Rater Field Checklist'!$C$129","v":"5.11 Snow- and ice-melting systems include automatic controls that are verified to shut off the systems when the pavement temperature is above 50°F and no precipitation is falling, and an automatic or manual control is installed that is verified to shut off system when the outdoor temperature is above 40°F, so that the potential for snow or ice accumulation is negligible."},{"$f":"'1b. Rater Field Checklist'!$N$129","v":0},{"$f":"'1b. Rater Field Checklist'!$M$129","v":0}]
[{"$f":"'1b. Rater Field Checklist'!$C$130","v":"Hydronic Distribution "},{"$f":"'1b. Rater Field Checklist'!$N$130","v":0},{"$f":"'1b. Rater Field Checklist'!$M$130","v":0}]
[{"$f":"'1b. Rater Field Checklist'!$C$131","v":"5.12 For hydronic distribution systems, all terminal heating and cooling distribution equipment are separated from the riser or distribution loop by a control valve or terminal distribution pump, so that heated or cooled fluid is not delivered to the dwelling unit distribution equipment when there is no call from the thermostat."},{"$f":"'1b. Rater Field Checklist'!$N$131","v":0},{"$f":"'1b. Rater Field Checklist'!$M$131","v":0}]
[{"$f":"'1b. Rater Field Checklist'!$C$132","v":"5.13 Terminal units in hydronic distribution systems are equipped with pressure independent balancing valves or pressure independent control valves."},{"$f":"'1b. Rater Field Checklist'!$N$132","v":0},{"$f":"'1b. Rater Field Checklist'!$M$132","v":0}]
[{"$f":"'1b. Rater Field Checklist'!$C$133","v":"5.14 Piping of a heating or cooling system is insulated in accordance with Item 4.41 on the National HVAC Design Report, including where passing through planks or any other penetrations."},{"$f":"'1b. Rater Field Checklist'!$N$133","v":0},{"$f":"'1b. Rater Field Checklist'!$M$133","v":0}]
[{"$f":"'1b. Rater Field Checklist'!$C$134","v":"5.15 For circulating pumps serving hydronic heating or cooling systems with three-phase motors, 1 horsepower or larger, motors meet or exceed efficiency standards for NEMA Premium™ motors. If 5 horsepower or larger, also installed with variable frequency drives."},{"$f":"'1b. Rater Field Checklist'!$N$134","v":0},{"$f":"'1b. Rater Field Checklist'!$M$134","v":0}]
[{"$f":"'1b. Rater Field Checklist'!$C$135","v":"6. Duct Quality Installation - Applies to Heating, Cooling, Ventilation, Exhaust, & Pressure Balancing Ducts, Unless Noted in Footnote."},{"$f":"'1b. Rater Field Checklist'!$N$135","v":0},{"$f":"'1b. Rater Field Checklist'!$M$135","v":0}]
[{"$f":"'1b. Rater Field Checklist'!$C$136","v":"6.1 Ductwork installed without kinks, sharp bends, compressions, or excessive coiled flexible ductwork. 45"},{"$f":"'1b. Rater Field Checklist'!$N$136","v":0},{"$f":"'1b. Rater Field Checklist'!$M$136","v":0}]
[{"$f":"'1b. Rater Field Checklist'!$C$138","v":"6.2 Bedrooms with a design supply airflow ≥ 150 CFM (per Item 5.2 on the National HVAC Design Report) pressure-balanced (e.g., using transfer grilles, jump ducts, dedicated return ducts, undercut doors) to achieve a Rater-measured pressure differential ≥ -5 Pa and ≤ +5 Pa with respect to the main body of the dwelling unit when all air handlers are operating. See Footnote 46 for test configuration. 46"},{"$f":"'1b. Rater Field Checklist'!$N$138","v":0},{"$f":"'1b. Rater Field Checklist'!$M$138","v":0}]
[{"$f":"'1b. Rater Field Checklist'!$C$140","v":"6.3 All supply and return ducts in unconditioned space, including connections to trunk ducts, are insulated to ≥ R-6. 47"},{"$f":"'1b. Rater Field Checklist'!$N$140","v":0},{"$f":"'1b. Rater Field Checklist'!$M$140","v":0}]
[{"$f":"'1b. Rater Field Checklist'!$C$142","v":" 6.3.1 Prescriptive Path: Dwelling unit ductwork meets the location and insulation requirements specified in the ENERGY STAR Multifamily Reference Design."},{"$f":"'1b. Rater Field Checklist'!$N$142","v":0},{"$f":"'1b. Rater Field Checklist'!$M$142","v":0}]
[{"$f":"'1b. Rater Field Checklist'!$C$143","v":"6.4 Rater-measured total duct leakage in dwelling units meets one of the following two options: 48, 49"},{"$f":"'1b. Rater Field Checklist'!$N$143","v":0},{"$f":"'1b. Rater Field Checklist'!$M$143","v":0}]
[{"$f":"'1b. Rater Field Checklist'!$C$146","v":" 6.4.1 Rough-in: Tested per allowances below, with air handler & all ducts, building cavities used as ducts, & duct boots installed. In addition, all duct boots sealed to finished surface, Rater-verified at final. 50\n\nNo ducted returns 36: The greater of ≤ 3 CFM25 per 100 sq. ft. of CFA or ≤ 30 CFM. Additionally, the Rater-measured pressure difference between the space containing the air handler and the conditioned space, with the air handler running at high speed, is ≤ 5 Pa. For systems > 1 ton, increase by 1 Pa per half ton.\n\nOne or two ducted returns 36: The greater of ≤ 4 CFM25 per 100 sq. ft. of CFA or ≤ 40 CFM.\n\nThree or more ducted returns 36 : The greater of ≤ 6 CFM25 per 100 sq. ft. of CFA or ≤ 60 CFM."},{"$f":"'1b. Rater Field Checklist'!$N$146","v":0},{"$f":"'1b. Rater Field Checklist'!$M$146","v":0}]
[{"$f":"'1b. Rater Field Checklist'!$C$149","v":" 6.4.2 Final: Tested per allowances below, with the air handler & all ducts, building cavities used as ducts, duct boots, & register grilles atop the finished surface (e.g., drywall, floor) installed. 51\n\nNo ducted returns 36: The greater of ≤ 6 CFM25 per 100 sq. ft. of CFA or ≤ 60 CFM. Additionally, the Rater-measured pressure difference between the space containing the air handler and the conditioned space, with the air handler running at high speed, is ≤ 5 Pa. For systems > 1 ton, increase by 1 Pa per half ton.\n\nOne or two ducted returns 36: The greater of ≤ 8 CFM25 per 100 sq. ft. of CFA or ≤ 80 CFM.\n\nThree or more ducted returns 36 : The greater of ≤ 12 CFM25 per 100 sq. ft. of CFA or ≤ 120 CFM."},{"$f":"'1b. Rater Field Checklist'!$N$149","v":0},{"$f":"'1b. Rater Field Checklist'!$M$149","v":0}]
[{"$f":"'1b. Rater Field Checklist'!$C$152","v":"6.5 Townhouses only: Rater-measured duct leakage to the outside the greater of ≤ 4 CFM25 per 100 sq. ft. of CFA or ≤ 40 CFM25. 48, 52"},{"$f":"'1b. Rater Field Checklist'!$N$152","v":0},{"$f":"'1b. Rater Field Checklist'!$M$152","v":0}]
[{"$f":"'1b. Rater Field Checklist'!$C$155","v":"6.6 Common Space: Supply, return, and exhaust ductwork and all plenums serving common spaces are sealed at all transverse joints, longitudinal seams, and duct wall penetrations with mastic, mastic tape, or internal aerosol-based sealant."},{"$f":"'1b. Rater Field Checklist'!$N$155","v":0},{"$f":"'1b. Rater Field Checklist'!$M$155","v":0}]
[{"$f":"'1b. Rater Field Checklist'!$C$156","v":"6.7 Duct leakage of central exhaust systems that serve four or more dwelling units, meets one of the following two options:"},{"$f":"'1b. Rater Field Checklist'!$N$156","v":0},{"$f":"'1b. Rater Field Checklist'!$M$156","v":0}]
[{"$f":"'1b. Rater Field Checklist'!$C$157","v":" 6.7.1 Rough-in: Tested including horizontal run outs, trunks, branches, and take-offs up to, but not including, the grilles, the leakage does not exceed 25% of exhaust fan flow. 53"},{"$f":"'1b. Rater Field Checklist'!$N$157","v":0},{"$f":"'1b. Rater Field Checklist'!$M$157","v":0}]
[{"$f":"'1b. Rater Field Checklist'!$C$159","v":" 6.7.2 Final: Tested inclusive of all ductwork between the fan and the grilles, the leakage does not exceed 30% of exhaust fan flow. 53"},{"$f":"'1b. Rater Field Checklist'!$N$159","v":0},{"$f":"'1b. Rater Field Checklist'!$M$159","v":0}]
[{"$f":"'1b. Rater Field Checklist'!$C$161","v":"7. Dwelling-Unit & Common Space Mechanical Vent. Systems (\"Vent Systems\") 54 & Inlets in Return Duct 55\n(National HVAC Design Report Item # indicated in parenthesis)"},{"$f":"'1b. Rater Field Checklist'!$N$161","v":0},{"$f":"'1b. Rater Field Checklist'!$M$161","v":0}]
[{"$f":"'1b. Rater Field Checklist'!$C$164","v":"7.1 Ventilation manufacturer & model number on installed equipment matches either of the following (check box): 41\n\n National HVAC Design Report           Written approval received from designer"},{"$f":"'1b. Rater Field Checklist'!$N$164","v":0},{"$f":"'1b. Rater Field Checklist'!$M$164","v":0}]
[{"$f":"'1b. Rater Field Checklist'!$C$166","v":"7.2 Rater-measured ventilation rate is within either ± 15 CFM or ± 15% of dwelling unit design values (2.7), and meets or exceeds rates required by ASHRAE 62.2-2010. 56"},{"$f":"'1b. Rater Field Checklist'!$N$166","v":0},{"$f":"'1b. Rater Field Checklist'!$M$166","v":0}]
[{"$f":"'1b. Rater Field Checklist'!$C$168","v":"7.3 Measured ventilation rate is within either ± 15 CFM or ± 15 % of common space design values (2.9), and meets or exceeds rates required by ASHRAE 62.1-2010 (2.8). 57"},{"$f":"'1b. Rater Field Checklist'!$N$168","v":0},{"$f":"'1b. Rater Field Checklist'!$M$168","v":0}]
[{"$f":"'1b. Rater Field Checklist'!$C$170","v":"7.4 A ventilation override control installed and also labeled if its function is not obvious (e.g., a label is required for a standalone wall switch, but not for a switch that’s on the ventilation equipment). Townhouses only: A readily-accessible ventilation override control installed and also labeled if its function is not obvious (e.g., a label is required for a toggle wall switch, but not for a switch that’s on the ventilation equipment)."},{"$f":"'1b. Rater Field Checklist'!$N$170","v":0},{"$f":"'1b. Rater Field Checklist'!$M$170","v":0}]
[{"$f":"'1b. Rater Field Checklist'!$C$171","v":"7.5 For any outdoor air inlet connected to a ducted return of the dwelling unit HVAC system (Complete if present; otherwise check “N/A”): 55"},{"$f":"'1b. Rater Field Checklist'!$N$171","v":0},{"$f":"'1b. Rater Field Checklist'!$M$171","v":0}]
[{"$f":"'1b. Rater Field Checklist'!$C$177","v":"7.6 If located in the dwelling unit, system fan rated ≤ 3 sones if intermittent and ≤ 2 sone if continuous, or exempted. 60"},{"$f":"'1b. Rater Field Checklist'!$N$177","v":0},{"$f":"'1b. Rater Field Checklist'!$M$177","v":0}]
[{"$f":"'1b. Rater Field Checklist'!$C$179","v":"7.7 If dwelling-unit Vent System controller operates the dwelling unit HVAC fan, then HVAC fan operation is intermittent and either the fan type is ECM / ICM (4.12), or the controls will reduce the run-time by accounting for HVAC system heating or cooling hours. 61"},{"$f":"'1b. Rater Field Checklist'!$N$179","v":0},{"$f":"'1b. Rater Field Checklist'!$M$179","v":0}]
[{"$f":"'1b. Rater Field Checklist'!$C$181","v":"7.8 In-unit bathroom fans or in-line fans are ENERGY STAR certified if used as part of the dwelling-unit mechanical ventilation system. 62"},{"$f":"'1b. Rater Field Checklist'!$N$181","v":0},{"$f":"'1b. Rater Field Checklist'!$M$181","v":0}]
[{"$f":"'1b. Rater Field Checklist'!$C$183","v":"7.9 If central exhaust fans, ≤ 1 HP, are installed as part of the dwelling-unit mechanical ventilation system, then they are direct-drive, ECM, with variable speed controllers. If > 1 HP, they are installed with NEMATM Premium Motors."},{"$f":"'1b. Rater Field Checklist'!$N$183","v":0},{"$f":"'1b. Rater Field Checklist'!$M$183","v":0}]
[{"$f":"'1b. Rater Field Checklist'!$C$184","v":"7.10 Air inlet locations (Complete if ventilation air inlet locations were installed (2.22, 2.23); otherwise check “N/A”): 63, 64"},{"$f":"'1b. Rater Field Checklist'!$N$184","v":0},{"$f":"'1b. Rater Field Checklist'!$M$184","v":0}]
[{"$f":"'1b. Rater Field Checklist'!$C$187","v":" 7.10.1 Inlet(s) pull ventilation air directly from outdoors and not from attic, crawlspace, garage, or adjacent dwelling unit."},{"$f":"'1b. Rater Field Checklist'!$N$187","v":0},{"$f":"'1b. Rater Field Checklist'!$M$187","v":0}]
[{"$f":"'1b. Rater Field Checklist'!$C$188","v":" 7.10.2 Inlet(s) are ≥ 2 ft. above grade or roof deck; ≥ 10 ft. of stretched-string distance from known contamination sources not exiting the roof, and ≥ 3 ft. distance from dryer exhausts and sources exiting the roof. 65"},{"$f":"'1b. Rater Field Checklist'!$N$188","v":0},{"$f":"'1b. Rater Field Checklist'!$M$188","v":0}]
[{"$f":"'1b. Rater Field Checklist'!$C$191","v":"8. Local Mechanical Exhaust (National HVAC Design Report Item # indicated in parenthesis)"},{"$f":"'1b. Rater Field Checklist'!$N$191","v":0},{"$f":"'1b. Rater Field Checklist'!$M$191","v":0}]
[{"$f":"'1b. Rater Field Checklist'!$C$192","v":"Dwelling Unit Mechanical exhaust - In each dwelling unit kitchen and bathroom, a system is installed that exhausts directly to the outdoors and meets one of the following Rater-measured airflow and manufacturer-rated sound level standards: 54, 66"},{"$f":"'1b. Rater Field Checklist'!$N$192","v":0},{"$f":"'1b. Rater Field Checklist'!$M$192","v":0}]
[{"$f":"'1b. Rater Field Checklist'!$C$195","v":"Location "},{"$f":"'1b. Rater Field Checklist'!$N$195","v":0},{"$f":"'1b. Rater Field Checklist'!$M$195","v":0}]
[{"$f":"'1b. Rater Field Checklist'!$C$196","v":"8.1 Kitchen\nAirflow\nContinuous Rate:  ≥ 5 ACH, based on kitchen volume 68, 69\nIntermittent Rate 67: ≥ 100 CFM and, if not integrated with range, also ≥ 5 ACH based on kitchen volume 68, 69, 70\n\nSound\nContinuous Rate: Recommended: ≤ 1 sone\nIntermittent Rate 67:  Recommended: ≤ 3 sones"},{"$f":"'1b. Rater Field Checklist'!$N$196","v":0},{"$f":"'1b. Rater Field Checklist'!$M$196","v":0}]
[{"$f":"'1b. Rater Field Checklist'!$C$201","v":"8.2 Bathroom\nAirflow\nContinuous Rate:  ≥ 20 CFM\nIntermittent Rate 67: ≥ 50 CFM\n\nSound\nContinuous Rate: Required: ≤ 2 sones\nIntermittent Rate 67:  Recommended: ≤ 3 sones"},{"$f":"'1b. Rater Field Checklist'!$N$201","v":0},{"$f":"'1b. Rater Field Checklist'!$M$201","v":0}]
[{"$f":"'1b. Rater Field Checklist'!$C$203","v":"Mechanical Exhaust for Common Spaces 2 and Shared Garages "},{"$f":"'1b. Rater Field Checklist'!$N$203","v":0},{"$f":"'1b. Rater Field Checklist'!$M$203","v":0}]
[{"$f":"'1b. Rater Field Checklist'!$C$205","v":"8.3 Measured exhaust rates are  ≥ ASHRAE 62.1 rates (2c). 57"},{"$f":"'1b. Rater Field Checklist'!$N$205","v":0},{"$f":"'1b. Rater Field Checklist'!$M$205","v":0}]
[{"$f":"'1b. Rater Field Checklist'!$C$207","v":"8.4 Where an exhaust system is installed in a shared garage, it is equipped with controls that sense CO and NO2."},{"$f":"'1b. Rater Field Checklist'!$N$207","v":0},{"$f":"'1b. Rater Field Checklist'!$M$207","v":0}]
[{"$f":"'1b. Rater Field Checklist'!$C$208","v":"9. Filtration "},{"$f":"'1b. Rater Field Checklist'!$N$208","v":0},{"$f":"'1b. Rater Field Checklist'!$M$208","v":0}]
[{"$f":"'1b. Rater Field Checklist'!$C$209","v":"9.1 MERV 6+ filter(s) installed in each ducted mechanical system serving an individual dwelling unit and located to facilitate access & regular service by the occupant or building owner. 71"},{"$f":"'1b. Rater Field Checklist'!$N$209","v":0},{"$f":"'1b. Rater Field Checklist'!$M$209","v":0}]
[{"$f":"'1b. Rater Field Checklist'!$C$211","v":" 9.1.1 Filter access panel includes gasket and fits snugly against the exposed edge of filter when closed to prevent bypass. 72"},{"$f":"'1b. Rater Field Checklist'!$N$211","v":0},{"$f":"'1b. Rater Field Checklist'!$M$211","v":0}]
[{"$f":"'1b. Rater Field Checklist'!$C$213","v":" 9.1.2 All return air and mechanically supplied outdoor air passes through filter prior to conditioning."},{"$f":"'1b. Rater Field Checklist'!$N$213","v":0},{"$f":"'1b. Rater Field Checklist'!$M$213","v":0}]
[{"$f":"'1b. Rater Field Checklist'!$C$214","v":"10. Combustion Appliances "},{"$f":"'1b. Rater Field Checklist'!$N$214","v":0},{"$f":"'1b. Rater Field Checklist'!$M$214","v":0}]
[{"$f":"'1b. Rater Field Checklist'!$C$215","v":"10.1 Furnaces, boilers, and water heaters located within the building’s pressure boundary are mechanically drafted or direct-vented. If mechanically drafted, the minimum volume of combustion air required for safe operation by the manufacturer and/or code shall be met or exceeded and make-up air sources must be mechanically closed when the combustion appliance is not in operation. Alternatives in Footnote 75. 73, 74, 75"},{"$f":"'1b. Rater Field Checklist'!$N$215","v":0},{"$f":"'1b. Rater Field Checklist'!$M$215","v":0}]
[{"$f":"'1b. Rater Field Checklist'!$C$219","v":"10.2 Fireplaces located within the building’s pressure boundary are direct-vented. 73, 74"},{"$f":"'1b. Rater Field Checklist'!$N$219","v":0},{"$f":"'1b. Rater Field Checklist'!$M$219","v":0}]
[{"$f":"'1b. Rater Field Checklist'!$C$222","v":"10.3 No unvented combustion appliances other than cooking ranges or ovens are located inside the building’s pressure boundary. For cooking ranges and ovens, local mechanical exhaust per Checklist Item 8.1 requirements must be met. 73"},{"$f":"'1b. Rater Field Checklist'!$N$222","v":0},{"$f":"'1b. Rater Field Checklist'!$M$222","v":0}]
[{"$f":"'1b. Rater Field Checklist'!$C$224","v":"Other "},{"$f":"'1b. Rater Field Checklist'!$N$224","v":0},{"$f":"'1b. Rater Field Checklist'!$M$224","v":0}]
[{"$f":"'1b. Rater Field Checklist'!$C$225","v":"11. Domestic Hot Water "},{"$f":"'1b. Rater Field Checklist'!$N$225","v":0},{"$f":"'1b. Rater Field Checklist'!$M$225","v":0}]
[{"$f":"'1b. Rater Field Checklist'!$C$226","v":"11.1 Prescriptive Path: Hot water equipment rated in EF or UEF meet the efficiency levels specified in the ENERGY STAR Multifamily Reference Design. Otherwise, meet or exceed ≥85% Et. 76"},{"$f":"'1b. Rater Field Checklist'!$N$226","v":0},{"$f":"'1b. Rater Field Checklist'!$M$226","v":0}]
[{"$f":"'1b. Rater Field Checklist'!$C$228","v":"11.2 ERI: For hot water equipment serving common spaces but not dwelling units nor shared laundry: where rated EF or UEF, meet the efficiency levels specified in the ENERGY STAR Multifamily Reference Design. Otherwise, meet or exceed 85% Et. 76"},{"$f":"'1b. Rater Field Checklist'!$N$228","v":0},{"$f":"'1b. Rater Field Checklist'!$M$228","v":0}]
[{"$f":"'1b. Rater Field Checklist'!$C$230","v":"11.3 For in-unit storage water heaters, AHRI Certificate confirms the presence of a heat trap."},{"$f":"'1b. Rater Field Checklist'!$N$230","v":0},{"$f":"'1b. Rater Field Checklist'!$M$230","v":0}]
[{"$f":"'1b. Rater Field Checklist'!$C$231","v":"11.4 DHW piping located in the dwelling unit is insulated with a minimum of R-3. 77"},{"$f":"'1b. Rater Field Checklist'!$N$231","v":0},{"$f":"'1b. Rater Field Checklist'!$M$231","v":0}]
[{"$f":"'1b. Rater Field Checklist'!$C$233","v":"11.5 Rater-measured delivery temperatures at faucets and showerheads do not exceed 125°F. 78"},{"$f":"'1b. Rater Field Checklist'!$N$233","v":0},{"$f":"'1b. Rater Field Checklist'!$M$233","v":0}]
[{"$f":"'1b. Rater Field Checklist'!$C$235","v":"12. Lighting "},{"$f":"'1b. Rater Field Checklist'!$N$235","v":0},{"$f":"'1b. Rater Field Checklist'!$M$235","v":0}]
[{"$f":"'1b. Rater Field Checklist'!$C$236","v":"12.1 Common Space 2 Lighting Controls:"},{"$f":"'1b. Rater Field Checklist'!$N$236","v":0},{"$f":"'1b. Rater Field Checklist'!$M$236","v":0}]
[{"$f":"'1b. Rater Field Checklist'!$C$238","v":" 12.1.1 ERI and Prescriptive Path: All common spaces 2 (including shared garages), except the building lobby and where automatic shutoff would endanger the safety of occupants, have occupancy sensors or automatic bi-level lighting controls installed and operation has been verified."},{"$f":"'1b. Rater Field Checklist'!$N$238","v":0},{"$f":"'1b. Rater Field Checklist'!$M$238","v":0}]
[{"$f":"'1b. Rater Field Checklist'!$C$240","v":" 12.1.2 ASHRAE Path only: All common spaces 2 (including shared garages), except the building lobby, corridors, and stairwells and where automatic shutoff would endanger the safety of occupants, have occupancy sensors or automatic bi-level lighting controls installed and operation has been verified."},{"$f":"'1b. Rater Field Checklist'!$N$240","v":0},{"$f":"'1b. Rater Field Checklist'!$M$240","v":0}]
[{"$f":"'1b. Rater Field Checklist'!$C$242","v":"12.2 Common Space 2 Lighting Power Density Maximum (except garages): 79"},{"$f":"'1b. Rater Field Checklist'!$N$242","v":0},{"$f":"'1b. Rater Field Checklist'!$M$242","v":0}]
[{"$f":"'1b. Rater Field Checklist'!$C$244","v":" 12.2.1 ERI and Prescriptive Path: Total installed lighting power for the combined common spaces 2 must not exceed ASHRAE 90.1-2007 allowances for those combined spaces, using the Space-by-Space or Building Area Method. See Footnote 80 for allowances. 80"},{"$f":"'1b. Rater Field Checklist'!$N$244","v":0},{"$f":"'1b. Rater Field Checklist'!$M$244","v":0}]
[{"$f":"'1b. Rater Field Checklist'!$C$247","v":" 12.2.2 ASHRAE Path only: Total installed lighting power for the combined common spaces 2 must not exceed ASHRAE 90.1-2007 allowances for those combined spaces, using the Space-by-Space or Building Area Method, by more than 20%. See Footnote 80 for allowances. 80"},{"$f":"'1b. Rater Field Checklist'!$N$247","v":0},{"$f":"'1b. Rater Field Checklist'!$M$247","v":0}]
[{"$f":"'1b. Rater Field Checklist'!$C$250","v":"12.3 Shared garages: Lighting power density does not exceed 0.24 W/ft2."},{"$f":"'1b. Rater Field Checklist'!$N$250","v":0},{"$f":"'1b. Rater Field Checklist'!$M$250","v":0}]
[{"$f":"'1b. Rater Field Checklist'!$C$251","v":"12.4 Exterior lighting controls: Fixtures, including parking lot fixtures, must include automatic switching on timers or photocell controls except fixtures intended for 24-hour operation, required for security, or located on dwelling unit balconies."},{"$f":"'1b. Rater Field Checklist'!$N$251","v":0},{"$f":"'1b. Rater Field Checklist'!$M$251","v":0}]
[{"$f":"'1b. Rater Field Checklist'!$C$252","v":"12.5 ERI Path: All exterior and common space lighting fixtures meet the efficiency requirements in the ENERGY STAR Multifamily Reference Design, except fixtures located on dwelling unit balconies. 81, 82"},{"$f":"'1b. Rater Field Checklist'!$N$252","v":0},{"$f":"'1b. Rater Field Checklist'!$M$252","v":0}]
[{"$f":"'1b. Rater Field Checklist'!$C$255","v":"12.6 Prescriptive Path: All lighting fixtures (i.e., dwelling units, common spaces, and exterior) meet the efficiency requirements in the ENERGY STAR Multifamily Reference Design. 81, 82"},{"$f":"'1b. Rater Field Checklist'!$N$255","v":0},{"$f":"'1b. Rater Field Checklist'!$M$255","v":0}]
[{"$f":"'1b. Rater Field Checklist'!$C$258","v":"12.7 Prescriptive Path: Dwelling unit overall in-unit lighting power density ≤ 0.75 W/ft2. When calculating overall lighting power density, use 1.1 W/ft2 where lighting is not installed. 79"},{"$f":"'1b. Rater Field Checklist'!$N$258","v":0},{"$f":"'1b. Rater Field Checklist'!$M$258","v":0}]
[{"$f":"'1b. Rater Field Checklist'!$C$260","v":"13. Appliances, Ceiling Fans, and Plumbing Fixtures "},{"$f":"'1b. Rater Field Checklist'!$N$260","v":0},{"$f":"'1b. Rater Field Checklist'!$M$260","v":0}]
[{"$f":"'1b. Rater Field Checklist'!$C$261","v":"13.1 Prescriptive Path: Installed appliances are ENERGY STAR certified. Installed bathroom faucets, bathroom aerators, and showerheads are WaterSense labeled. 83"},{"$f":"'1b. Rater Field Checklist'!$N$261","v":0},{"$f":"'1b. Rater Field Checklist'!$M$261","v":0}]
[{"$f":"'1b. Rater Field Checklist'!$C$263","v":"13.2 ERI Path: Where installed in common spaces, refrigerators and dishwashers are ENERGY STAR certified and showerheads are WaterSense labeled."},{"$f":"'1b. Rater Field Checklist'!$N$263","v":0},{"$f":"'1b. Rater Field Checklist'!$M$263","v":0}]
[{"$f":"'1b. Rater Field Checklist'!$C$264","v":"13.3 Prescriptive Path: Shower compartments with multiple fixtures cannot be operated simultaneously OR the total flow rate per shower compartment must not exceed 1.75 gallons per minute, as rated at 80 psi."},{"$f":"'1b. Rater Field Checklist'!$N$264","v":0},{"$f":"'1b. Rater Field Checklist'!$M$264","v":0}]
[{"$f":"'1b. Rater Field Checklist'!$C$265","v":"14. Whole Building Energy Consumption Data Acquisition "},{"$f":"'1b. Rater Field Checklist'!$N$265","v":0},{"$f":"'1b. Rater Field Checklist'!$M$265","v":0}]
[{"$f":"'1b. Rater Field Checklist'!$C$266","v":"14.1 For buildings 50,000 ft2 and larger, a strategy that enables the collection of monthly or annual building-level energy consumption data (electricity, natural gas, chilled water, steam, fuel oil, propane, etc.) has been confirmed. 84"},{"$f":"'1b. Rater Field Checklist'!$N$266","v":0},{"$f":"'1b. Rater Field Checklist'!$M$266","v":0}]
[]
[{"$f":"E5","v":"Open Wall 3"}]
["Rater Design Checklist","Verification Phase","Notes/Comments"]
[{"$f":"'1b. Rater Field Checklist'!$C$16","v":"Thermal Enclosure System "},{"$f":"'1b. Rater Field Checklist'!$N$16","v":0},{"$f":"'1b. Rater Field Checklist'!$M$16","v":0}]
[{"$f":"'1b. Rater Field Checklist'!$C$17","v":"1. High-Performance Fenestration & Insulation "},{"$f":"'1b. Rater Field Checklist'!$N$17","v":0},{"$f":"'1b. Rater Field Checklist'!$M$17","v":0}]
[{"$f":"'1b. Rater Field Checklist'!$C$18","v":"1.1 Fenestration meets or exceeds specification in Items 2.1 and 2.2 of the National Rater Design Review Checklist."},{"$f":"'1b. Rater Field Checklist'!$N$18","v":"Open Wall 3"},{"$f":"'1b. Rater Field Checklist'!$M$18","v":0}]
[{"$f":"'1b. Rater Field Checklist'!$C$19","v":"1.2 Insulation meets or exceeds levels specified in Items 3.1 and 3.2 of the National Rater Design Review Checklist."},{"$f":"'1b. Rater Field Checklist'!$N$19","v":"Open Wall 3"},{"$f":"'1b. Rater Field Checklist'!$M$19","v":0}]
[{"$f":"'1b. Rater Field Checklist'!$C$20","v":"1.3 All insulation achieves Grade I install per ANSI / RESNET / ICC Std. 301. Alternatives in footnote 6. 6,7"},{"$f":"'1b. Rater Field Checklist'!$N$20","v":"Open Wall 3"},{"$f":"'1b. Rater Field Checklist'!$M$20","v":0}]
[{"$f":"'1b. Rater Field Checklist'!$C$23","v":"1.4 Prescriptive Path: Window-to-wall ratio ≤ 30%. 8"},{"$f":"'1b. Rater Field Checklist'!$N$23","v":"Open Wall 1"},{"$f":"'1b. Rater Field Checklist'!$M$23","v":0}]
[{"$f":"'1b. Rater Field Checklist'!$C$25","v":"1.5 Heated plenums in unconditioned space or ambient conditions must meet the following requirements: 9"},{"$f":"'1b. Rater Field Checklist'!$N$25","v":0},{"$f":"'1b. Rater Field Checklist'!$M$25","v":0}]
[{"$f":"'1b. Rater Field Checklist'!$C$27","v":" 1.5.1 Sides of heated plenum are an air barrier and insulated to ≥ R-3ci in CZ 1-4; ≥ R-5ci in CZ 5-6; ≥ R-7.5ci in CZ 7; ≥ R-9.5ci in CZ 8, AND;"},{"$f":"'1b. Rater Field Checklist'!$N$27","v":"Open Wall 4"},{"$f":"'1b. Rater Field Checklist'!$M$27","v":0}]
[{"$f":"'1b. Rater Field Checklist'!$C$28","v":" 1.5.2 Insulation at top of heated plenum meets or exceeds the R-value for mass floors from the “All Other” column of Table 502.2(1) of 2009 IECC, AND;"},{"$f":"'1b. Rater Field Checklist'!$N$28","v":"Open Wall 4"},{"$f":"'1b. Rater Field Checklist'!$M$28","v":0}]
[{"$f":"'1b. Rater Field Checklist'!$C$29","v":" 1.5.3 Bottom of heated plenum must have at least R-13 insulation. 10"},{"$f":"'1b. Rater Field Checklist'!$N$29","v":"Open Wall 3"},{"$f":"'1b. Rater Field Checklist'!$M$29","v":0}]
[{"$f":"'1b. Rater Field Checklist'!$C$31","v":"1.6 Garages with space heating must meet the following requirements: 9"},{"$f":"'1b. Rater Field Checklist'!$N$31","v":0},{"$f":"'1b. Rater Field Checklist'!$M$31","v":0}]
[{"$f":"'1b. Rater Field Checklist'!$C$33","v":" 1.6.1 Insulation on above grade walls and walls on the first story below grade ≥ R-5ci in CZ 5-6; ≥ R-7.5ci in CZ 7; ≥ R-9.5ci in CZ 8, AND;"},{"$f":"'1b. Rater Field Checklist'!$N$33","v":0},{"$f":"'1b. Rater Field Checklist'!$M$33","v":0}]
[{"$f":"'1b. Rater Field Checklist'!$C$34","v":" 1.6.2 Ceiling insulation meets or exceeds the R-value for mass floors from the “All Other” column of Table 502.2(1) of 2009 IECC."},{"$f":"'1b. Rater Field Checklist'!$N$34","v":0},{"$f":"'1b. Rater Field Checklist'!$M$34","v":0}]
[{"$f":"'1b. Rater Field Checklist'!$C$35","v":"2. Fully-Aligned Air Barriers 11 At each insulated location below, a complete air barrier is provided that is fully aligned as follows:"},{"$f":"'1b. Rater Field Checklist'!$N$35","v":0},{"$f":"'1b. Rater Field Checklist'!$M$35","v":0}]
[{"$f":"'1b. Rater Field Checklist'!$C$37","v":"Ceilings: At interior or exterior horizontal surface of ceiling insulation in Climate Zones 1-3; at interior horizontal surface of ceiling insulation in Climate Zones 4-8. Also, at exterior vertical surface of ceiling insulation in all climate zones (e.g., using a wind baffle that extends to the full height of the insulation in every bay or a tabbed baffle in each bay with a soffit vent that prevents wind washing in adjacent bays). 12"},{"$f":"'1b. Rater Field Checklist'!$N$37","v":0},{"$f":"'1b. Rater Field Checklist'!$M$37","v":0}]
[{"$f":"'1b. Rater Field Checklist'!$C$39","v":"2.1 Dropped ceilings / soffits below unconditioned attics, chase / dead space, and all other ceilings."},{"$f":"'1b. Rater Field Checklist'!$N$39","v":0},{"$f":"'1b. Rater Field Checklist'!$M$39","v":0}]
[{"$f":"'1b. Rater Field Checklist'!$C$40","v":"Walls: At exterior vertical surface of wall insulation in all climate zones; also at interior vertical surface of wall insulation in Climate Zones 4-8. 13"},{"$f":"'1b. Rater Field Checklist'!$N$40","v":0},{"$f":"'1b. Rater Field Checklist'!$M$40","v":0}]
[{"$f":"'1b. Rater Field Checklist'!$C$42","v":"2.2 Walls behind showers, tubs, staircases, and fireplaces."},{"$f":"'1b. Rater Field Checklist'!$N$42","v":"Open Wall 2"},{"$f":"'1b. Rater Field Checklist'!$M$42","v":0}]
[{"$f":"'1b. Rater Field Checklist'!$C$43","v":"2.3 Architectural bump-outs, dead space, and all other exterior walls."},{"$f":"'1b. Rater Field Checklist'!$N$43","v":0},{"$f":"'1b. Rater Field Checklist'!$M$43","v":0}]
[{"$f":"'1b. Rater Field Checklist'!$C$44","v":"Floors: At exterior vertical surface of floor insulation in all climate zones and, if over unconditioned space, also at interior horizontal surface including supports to ensure alignment. Alternatives in Footnotes 15 & 16. 14, 15, 16"},{"$f":"'1b. Rater Field Checklist'!$N$44","v":0},{"$f":"'1b. Rater Field Checklist'!$M$44","v":0}]
[{"$f":"'1b. Rater Field Checklist'!$C$48","v":"2.4 Floors above garages, floors above unconditioned spaces, and cantilevered floors."},{"$f":"'1b. Rater Field Checklist'!$N$48","v":0},{"$f":"'1b. Rater Field Checklist'!$M$48","v":0}]
[{"$f":"'1b. Rater Field Checklist'!$C$49","v":"2.5 All other floors adjoining unconditioned space (e.g., rim / band joists at exterior wall or at porch roof)."},{"$f":"'1b. Rater Field Checklist'!$N$49","v":0},{"$f":"'1b. Rater Field Checklist'!$M$49","v":0}]
[{"$f":"'1b. Rater Field Checklist'!$C$50","v":"3. Reduced Thermal Bridging"},{"$f":"'1b. Rater Field Checklist'!$N$50","v":0},{"$f":"'1b. Rater Field Checklist'!$M$50","v":0}]
[{"$f":"'1b. Rater Field Checklist'!$C$51","v":"3.1 For insulated ceilings with attic space above (i.e., non-cathedralized), Grade I insulation extends to the inside face of the exterior wall below and is ≥ R-21 in CZ 1-5; ≥ R-30 in CZ 6-8. 17"},{"$f":"'1b. Rater Field Checklist'!$N$51","v":0},{"$f":"'1b. Rater Field Checklist'!$M$51","v":0}]
[{"$f":"'1b. Rater Field Checklist'!$C$53","v":"3.2 For insulated ceilings with attic space above, attic access panels and drop-down stairs insulated ≥ R-10 or equipped with durable ≥ R-10 cover. 18"},{"$f":"'1b. Rater Field Checklist'!$N$53","v":0},{"$f":"'1b. Rater Field Checklist'!$M$53","v":0}]
[{"$f":"'1b. Rater Field Checklist'!$C$55","v":"3.3 Insulation beneath attic platforms (e.g., HVAC platforms, walkways) ≥ R-21 in CZ 1-5; ≥ R-30 in CZ 6-8."},{"$f":"'1b. Rater Field Checklist'!$N$55","v":0},{"$f":"'1b. Rater Field Checklist'!$M$55","v":0}]
[{"$f":"'1b. Rater Field Checklist'!$C$56","v":"3.4 For slabs on grade in CZ 4-8, 100% of slab edge insulated to ≥ R-5 at the depth specified by Table 502.2(1) of the 2009 IECC and aligned with the thermal boundary of the walls. 19, 20"},{"$f":"'1b. Rater Field Checklist'!$N$56","v":0},{"$f":"'1b. Rater Field Checklist'!$M$56","v":0}]
[{"$f":"'1b. Rater Field Checklist'!$C$59","v":"3.5 For elevated concrete slabs in CZ 4-8 (i.e., podiums and projected balconies, but not intermediate slab floor edges) 100% of the slab edge insulated to ≥ R-5. For podiums, this insulation must extend for a minimum of 8ft below the bottom of the slab edge. For columns, the insulation must surround the column, at a depth of 4ft. Alternatives in Footnote 21. 21"},{"$f":"'1b. Rater Field Checklist'!$N$59","v":0},{"$f":"'1b. Rater Field Checklist'!$M$59","v":0}]
[{"$f":"'1b. Rater Field Checklist'!$C$61","v":"3.6 For elevated concrete slabs in CZ 4-8 (i.e., podiums, but not intermediate floor slabs), floor insulation meets the U-factor specified in Table 502.1.2 of the 2009 IECC for Group R when dwelling units are above the slab, and for ‘All Other’ when common space is above the slab. 22"},{"$f":"'1b. Rater Field Checklist'!$N$61","v":0},{"$f":"'1b. Rater Field Checklist'!$M$61","v":0}]
[{"$f":"'1b. Rater Field Checklist'!$C$63","v":"3.7 At above-grade walls and rim / band joists separating conditioned space from the exterior, one of the following options used: 23, 26"},{"$f":"'1b. Rater Field Checklist'!$N$63","v":0},{"$f":"'1b. Rater Field Checklist'!$M$63","v":0}]
[{"$f":"'1b. Rater Field Checklist'!$C$66","v":" 3.7.1 Continuous rigid insulation, insulated siding, or combination of the two is ≥ R-3 in CZ 1-4; ≥ R-5 in CZ 5-8 24, 25, 26, 27; OR;"},{"$f":"'1b. Rater Field Checklist'!$N$66","v":0},{"$f":"'1b. Rater Field Checklist'!$M$66","v":0}]
[{"$f":"'1b. Rater Field Checklist'!$C$71","v":" 3.7.2 Structural Insulated Panels OR; Insulated Concrete Forms OR; Double-wall framing OR; 24, 26, 28"},{"$f":"'1b. Rater Field Checklist'!$N$71","v":0},{"$f":"'1b. Rater Field Checklist'!$M$71","v":0}]
[{"$f":"'1b. Rater Field Checklist'!$C$75","v":" 3.7.3 Option only for wood-framed walls either in CZ 1-3 OR ≤ 3 stories: ‘advanced framing’ details including all of the Items below: 26, 29"},{"$f":"'1b. Rater Field Checklist'!$N$75","v":0},{"$f":"'1b. Rater Field Checklist'!$M$75","v":0}]
[{"$f":"'1b. Rater Field Checklist'!$C$78","v":"  3.7.3a Corners insulated ≥ R-6 to edge, 30 AND;"},{"$f":"'1b. Rater Field Checklist'!$N$78","v":0},{"$f":"'1b. Rater Field Checklist'!$M$78","v":0}]
[{"$f":"'1b. Rater Field Checklist'!$C$80","v":"  3.7.3b Headers above windows & doors insulated ≥ R-3 for 2x4 framing or equivalent cavity width, and ≥ R-5 for all other assemblies (e.g., with 2x6 framing), 31 AND;"},{"$f":"'1b. Rater Field Checklist'!$N$80","v":0},{"$f":"'1b. Rater Field Checklist'!$M$80","v":0}]
[{"$f":"'1b. Rater Field Checklist'!$C$82","v":"  3.7.3c Interior / exterior wall intersections insulated to same R-value as rest of exterior wall. 32"},{"$f":"'1b. Rater Field Checklist'!$N$82","v":0},{"$f":"'1b. Rater Field Checklist'!$M$82","v":0}]
[{"$f":"'1b. Rater Field Checklist'!$C$84","v":"4. Air Sealing (Unless otherwise noted below, “sealed” indicates the use of caulk, foam, or equivalent material.)"},{"$f":"'1b. Rater Field Checklist'!$N$84","v":0},{"$f":"'1b. Rater Field Checklist'!$M$84","v":0}]
[{"$f":"'1b. Rater Field Checklist'!$C$85","v":"4.1 Ducts, flues, shafts, plumbing, piping, wiring, exhaust fans, & other penetrations to unconditioned space sealed, with blocking / flashing as needed."},{"$f":"'1b. Rater Field Checklist'!$N$85","v":0},{"$f":"'1b. Rater Field Checklist'!$M$85","v":0}]
[{"$f":"'1b. Rater Field Checklist'!$C$86","v":"4.2 Recessed lighting fixtures adjacent to unconditioned space ICAT labeled and gasketed. Also, if in insulated ceiling without attic above, exterior surface of fixture insulated to ≥ R-10 in CZ 4-8."},{"$f":"'1b. Rater Field Checklist'!$N$86","v":0},{"$f":"'1b. Rater Field Checklist'!$M$86","v":0}]
[{"$f":"'1b. Rater Field Checklist'!$C$87","v":"4.3 Continuous top plate or blocking is at top of walls adjoining unconditioned space including at balloon-framed parapets, and sealed."},{"$f":"'1b. Rater Field Checklist'!$N$87","v":0},{"$f":"'1b. Rater Field Checklist'!$M$87","v":0}]
[{"$f":"'1b. Rater Field Checklist'!$C$88","v":"4.4 Drywall sealed to top plate at all unconditioned attic / wall interfaces using caulk, foam, drywall adhesive (but not other construction adhesives), or equivalent material. Either apply sealant directly between drywall and top plate or to the seam between the two from the attic above."},{"$f":"'1b. Rater Field Checklist'!$N$88","v":0},{"$f":"'1b. Rater Field Checklist'!$M$88","v":0}]
[{"$f":"'1b. Rater Field Checklist'!$C$89","v":"4.5 Rough opening around windows & exterior doors sealed. 33"},{"$f":"'1b. Rater Field Checklist'!$N$89","v":0},{"$f":"'1b. Rater Field Checklist'!$M$89","v":0}]
[{"$f":"'1b. Rater Field Checklist'!$C$91","v":"4.6 Assemblies that separate attached garages from occupiable space sealed and, also, an air barrier installed, sealed, and aligned with these assemblies. 34"},{"$f":"'1b. Rater Field Checklist'!$N$91","v":0},{"$f":"'1b. Rater Field Checklist'!$M$91","v":0}]
[{"$f":"'1b. Rater Field Checklist'!$C$93","v":"4.7 Doors adjacent to unconditioned space (e.g., attics, garages, basements) or ambient conditions made substantially air-tight with doorsweep and weatherstripping or equivalent gasket."},{"$f":"'1b. Rater Field Checklist'!$N$93","v":0},{"$f":"'1b. Rater Field Checklist'!$M$93","v":0}]
[{"$f":"'1b. Rater Field Checklist'!$C$94","v":"4.8 Attic access panels, roof hatches and drop-down stairs are gasketed (i.e., not caulked) or equipped with durable covers that are gasketed. 18"},{"$f":"'1b. Rater Field Checklist'!$N$94","v":0},{"$f":"'1b. Rater Field Checklist'!$M$94","v":0}]
[{"$f":"'1b. Rater Field Checklist'!$C$96","v":"The following items must be additionally verified in dwelling units, to reduce air leakage between conditioned spaces."},{"$f":"'1b. Rater Field Checklist'!$N$96","v":0},{"$f":"'1b. Rater Field Checklist'!$M$96","v":0}]
[{"$f":"'1b. Rater Field Checklist'!$C$97","v":"4.9 Doors serving as a unit entrance from a corridor / stairwell made substantially air-tight with doorsweep and weatherstripping or equivalent gasket."},{"$f":"'1b. Rater Field Checklist'!$N$97","v":0},{"$f":"'1b. Rater Field Checklist'!$M$97","v":0}]
[{"$f":"'1b. Rater Field Checklist'!$C$98","v":"4.10 Rater-measured compartmentalization is no greater than 0.30 CFM50 per square feet of dwelling unit enclosure area, following procedures in ANSI / RESNET / ICC Std. 380. 35"},{"$f":"'1b. Rater Field Checklist'!$N$98","v":0},{"$f":"'1b. Rater Field Checklist'!$M$98","v":0}]
[{"$f":"'1b. Rater Field Checklist'!$C$100","v":" 4.10.1 For dwelling units with forced air distribution systems without ducted returns and located in a closet adjacent to unconditioned space, the Rater-measured pressure difference between the space containing the air handler and the conditioned space during the compartmentalization test is no greater than 5 Pa. 36"},{"$f":"'1b. Rater Field Checklist'!$N$100","v":0},{"$f":"'1b. Rater Field Checklist'!$M$100","v":0}]
[{"$f":"'1b. Rater Field Checklist'!$C$102","v":"HVAC System 37 (HVAC Design Report Item # indicated in parenthesis) "},{"$f":"'1b. Rater Field Checklist'!$N$102","v":0},{"$f":"'1b. Rater Field Checklist'!$M$102","v":0}]
[{"$f":"'1b. Rater Field Checklist'!$C$104","v":"5. Heating & Cooling Equipment – Complete Track A – HVAC Grading by Rater OR Track B – HVAC Testing by FT Agent 38"},{"$f":"'1b. Rater Field Checklist'!$N$104","v":0},{"$f":"'1b. Rater Field Checklist'!$M$104","v":0}]
[{"$f":"'1b. Rater Field Checklist'!$C$106","v":"Track A 39"},{"$f":"'1b. Rater Field Checklist'!$N$106","v":0},{"$f":"'1b. Rater Field Checklist'!$M$106","v":0}]
[{"$f":"'1b. Rater Field Checklist'!$C$108","v":"5a.1 Blower fan volumetric airflow is Grade I or II per ANSI / RESNET / ACCA Std. 310"},{"$f":"'1b. Rater Field Checklist'!$N$108","v":0},{"$f":"'1b. Rater Field Checklist'!$M$108","v":0}]
[{"$f":"'1b. Rater Field Checklist'!$C$109","v":"5a.2 Blower fan watt draw is Grade I or II per ANSI / RESNET / ACCA Std. 310"},{"$f":"'1b. Rater Field Checklist'!$N$109","v":0},{"$f":"'1b. Rater Field Checklist'!$M$109","v":0}]
[{"$f":"'1b. Rater Field Checklist'!$C$110","v":"5a.3 Refrigerant charge is Grade I per ANSI / RESNET / ACCA Std. 310. See Footnote 40 for exemptions. 40"},{"$f":"'1b. Rater Field Checklist'!$N$110","v":0},{"$f":"'1b. Rater Field Checklist'!$M$110","v":0}]
[{"$f":"'1b. Rater Field Checklist'!$C$112","v":"Track B"},{"$f":"'1b. Rater Field Checklist'!$N$112","v":0},{"$f":"'1b. Rater Field Checklist'!$M$112","v":0}]
[{"$f":"'1b. Rater Field Checklist'!$C$113","v":"5b.1 HVAC manufacturer & model number on installed equipment matches either of the following (check box): 41\n \n National HVAC Design Report (4.6-4.9 & 4.25-4.26)      Written approval received from designer"},{"$f":"'1b. Rater Field Checklist'!$N$113","v":0},{"$f":"'1b. Rater Field Checklist'!$M$113","v":0}]
[{"$f":"'1b. Rater Field Checklist'!$C$115","v":"5b.2 External static pressure measured by Rater at contractor-provided test locations and documented below: 42\n\nReturn-Side External Static Pressure: ________IWC\nSupply-Side External Static Pressure: __________IWC"},{"$f":"'1b. Rater Field Checklist'!$N$115","v":0},{"$f":"'1b. Rater Field Checklist'!$M$115","v":0}]
[{"$f":"'1b. Rater Field Checklist'!$C$117","v":"5.4 Prescriptive Path: Heating and cooling equipment serving dwelling units and common spaces meet the efficiency levels specified in the Exhibit X. Electric resistance space heating is not installed in dwelling units."},{"$f":"'1b. Rater Field Checklist'!$N$117","v":0},{"$f":"'1b. Rater Field Checklist'!$M$117","v":0}]
[{"$f":"'1b. Rater Field Checklist'!$C$118","v":"5.5 ERI Path: Heating and cooling equipment serving common spaces, but not serving dwelling units, meet the efficiency levels specified in the Exhibit X. See Exhibit X for restrictions on electric resistance space heating."},{"$f":"'1b. Rater Field Checklist'!$N$118","v":0},{"$f":"'1b. Rater Field Checklist'!$M$118","v":0}]
[{"$f":"'1b. Rater Field Checklist'!$C$119","v":"5.6 National HVAC Functional Testing Checklist(s) collected prior to certification, with all HVAC systems in the building / project fully documented. Exception: Where credentialed HVAC Contractor(s) are completing the National HVAC Functional Testing Checklist, the checklist is not required to be collected for the systems they verify. 43"},{"$f":"'1b. Rater Field Checklist'!$N$119","v":0},{"$f":"'1b. Rater Field Checklist'!$M$119","v":0}]
[{"$f":"'1b. Rater Field Checklist'!$C$121","v":"5.7 Rater has verified and documented that Functional Testing Agent(s) (“FT Agent(s)”) completing the National HVAC Functional Testing Checklist(s) hold one of the required credentials and completed orientation, if applicable. 43\n\nCredential: ______________________ “FT Agent” Company Name(s): _______________________"},{"$f":"'1b. Rater Field Checklist'!$N$121","v":0},{"$f":"'1b. Rater Field Checklist'!$M$121","v":0}]
[{"$f":"'1b. Rater Field Checklist'!$C$123","v":"Equipment Controls "},{"$f":"'1b. Rater Field Checklist'!$N$123","v":0},{"$f":"'1b. Rater Field Checklist'!$M$123","v":0}]
[{"$f":"'1b. Rater Field Checklist'!$C$124","v":"5.8 All heating and cooling systems serving a dwelling unit have thermostatic controls within the dwelling unit which are not located on exterior walls."},{"$f":"'1b. Rater Field Checklist'!$N$124","v":0},{"$f":"'1b. Rater Field Checklist'!$M$124","v":0}]
[{"$f":"'1b. Rater Field Checklist'!$C$125","v":" 5.8.1 Prescriptive Path: Dwelling unit thermostats are programmable."},{"$f":"'1b. Rater Field Checklist'!$N$125","v":0},{"$f":"'1b. Rater Field Checklist'!$M$125","v":0}]
[{"$f":"'1b. Rater Field Checklist'!$C$126","v":"5.9 Stair and elevator shaft vents equipped with motorized dampers that are capable of being automatically closed during normal building operation and are interlocked to open as required by fire and smoke detection systems. Dampers are verified to be closed at the time of inspection."},{"$f":"'1b. Rater Field Checklist'!$N$126","v":0},{"$f":"'1b. Rater Field Checklist'!$M$126","v":0}]
[{"$f":"'1b. Rater Field Checklist'!$C$127","v":"5.10 Freeze protection systems, such as heat tracing of piping and heat exchangers, including self-regulating heat tracing, and garage / plenum heaters include automatic controls that are verified to shut off the systems when pipe wall or garage / plenum temperatures are above 40°F."},{"$f":"'1b. Rater Field Checklist'!$N$127","v":0},{"$f":"'1b. Rater Field Checklist'!$M$127","v":0}]
[{"$f":"'1b. Rater Field Checklist'!$C$128","v":" 5.10.1 Where heat tracing is installed for freeze-protection, controls must be based on pipe wall temperature and a minimum of R-3 pipe insulation is also required."},{"$f":"'1b. Rater Field Checklist'!$N$128","v":0},{"$f":"'1b. Rater Field Checklist'!$M$128","v":0}]
[{"$f":"'1b. Rater Field Checklist'!$C$129","v":"5.11 Snow- and ice-melting systems include automatic controls that are verified to shut off the systems when the pavement temperature is above 50°F and no precipitation is falling, and an automatic or manual control is installed that is verified to shut off system when the outdoor temperature is above 40°F, so that the potential for snow or ice accumulation is negligible."},{"$f":"'1b. Rater Field Checklist'!$N$129","v":0},{"$f":"'1b. Rater Field Checklist'!$M$129","v":0}]
[{"$f":"'1b. Rater Field Checklist'!$C$130","v":"Hydronic Distribution "},{"$f":"'1b. Rater Field Checklist'!$N$130","v":0},{"$f":"'1b. Rater Field Checklist'!$M$130","v":0}]
[{"$f":"'1b. Rater Field Checklist'!$C$131","v":"5.12 For hydronic distribution systems, all terminal heating and cooling distribution equipment are separated from the riser or distribution loop by a control valve or terminal distribution pump, so that heated or cooled fluid is not delivered to the dwelling unit distribution equipment when there is no call from the thermostat."},{"$f":"'1b. Rater Field Checklist'!$N$131","v":0},{"$f":"'1b. Rater Field Checklist'!$M$131","v":0}]
[{"$f":"'1b. Rater Field Checklist'!$C$132","v":"5.13 Terminal units in hydronic distribution systems are equipped with pressure independent balancing valves or pressure independent control valves."},{"$f":"'1b. Rater Field Checklist'!$N$132","v":0},{"$f":"'1b. Rater Field Checklist'!$M$132","v":0}]
[{"$f":"'1b. Rater Field Checklist'!$C$133","v":"5.14 Piping of a heating or cooling system is insulated in accordance with Item 4.41 on the National HVAC Design Report, including where passing through planks or any other penetrations."},{"$f":"'1b. Rater Field Checklist'!$N$133","v":0},{"$f":"'1b. Rater Field Checklist'!$M$133","v":0}]
[{"$f":"'1b. Rater Field Checklist'!$C$134","v":"5.15 For circulating pumps serving hydronic heating or cooling systems with three-phase motors, 1 horsepower or larger, motors meet or exceed efficiency standards for NEMA Premium™ motors. If 5 horsepower or larger, also installed with variable frequency drives."},{"$f":"'1b. Rater Field Checklist'!$N$134","v":0},{"$f":"'1b. Rater Field Checklist'!$M$134","v":0}]
[{"$f":"'1b. Rater Field Checklist'!$C$135","v":"6. Duct Quality Installation - Applies to Heating, Cooling, Ventilation, Exhaust, & Pressure Balancing Ducts, Unless Noted in Footnote."},{"$f":"'1b. Rater Field Checklist'!$N$135","v":0},{"$f":"'1b. Rater Field Checklist'!$M$135","v":0}]
[{"$f":"'1b. Rater Field Checklist'!$C$136","v":"6.1 Ductwork installed without kinks, sharp bends, compressions, or excessive coiled flexible ductwork. 45"},{"$f":"'1b. Rater Field Checklist'!$N$136","v":0},{"$f":"'1b. Rater Field Checklist'!$M$136","v":0}]
[{"$f":"'1b. Rater Field Checklist'!$C$138","v":"6.2 Bedrooms with a design supply airflow ≥ 150 CFM (per Item 5.2 on the National HVAC Design Report) pressure-balanced (e.g., using transfer grilles, jump ducts, dedicated return ducts, undercut doors) to achieve a Rater-measured pressure differential ≥ -5 Pa and ≤ +5 Pa with respect to the main body of the dwelling unit when all air handlers are operating. See Footnote 46 for test configuration. 46"},{"$f":"'1b. Rater Field Checklist'!$N$138","v":0},{"$f":"'1b. Rater Field Checklist'!$M$138","v":0}]
[{"$f":"'1b. Rater Field Checklist'!$C$140","v":"6.3 All supply and return ducts in unconditioned space, including connections to trunk ducts, are insulated to ≥ R-6. 47"},{"$f":"'1b. Rater Field Checklist'!$N$140","v":0},{"$f":"'1b. Rater Field Checklist'!$M$140","v":0}]
[{"$f":"'1b. Rater Field Checklist'!$C$142","v":" 6.3.1 Prescriptive Path: Dwelling unit ductwork meets the location and insulation requirements specified in the ENERGY STAR Multifamily Reference Design."},{"$f":"'1b. Rater Field Checklist'!$N$142","v":0},{"$f":"'1b. Rater Field Checklist'!$M$142","v":0}]
[{"$f":"'1b. Rater Field Checklist'!$C$143","v":"6.4 Rater-measured total duct leakage in dwelling units meets one of the following two options: 48, 49"},{"$f":"'1b. Rater Field Checklist'!$N$143","v":0},{"$f":"'1b. Rater Field Checklist'!$M$143","v":0}]
[{"$f":"'1b. Rater Field Checklist'!$C$146","v":" 6.4.1 Rough-in: Tested per allowances below, with air handler & all ducts, building cavities used as ducts, & duct boots installed. In addition, all duct boots sealed to finished surface, Rater-verified at final. 50\n\nNo ducted returns 36: The greater of ≤ 3 CFM25 per 100 sq. ft. of CFA or ≤ 30 CFM. Additionally, the Rater-measured pressure difference between the space containing the air handler and the conditioned space, with the air handler running at high speed, is ≤ 5 Pa. For systems > 1 ton, increase by 1 Pa per half ton.\n\nOne or two ducted returns 36: The greater of ≤ 4 CFM25 per 100 sq. ft. of CFA or ≤ 40 CFM.\n\nThree or more ducted returns 36 : The greater of ≤ 6 CFM25 per 100 sq. ft. of CFA or ≤ 60 CFM."},{"$f":"'1b. Rater Field Checklist'!$N$146","v":0},{"$f":"'1b. Rater Field Checklist'!$M$146","v":0}]
[{"$f":"'1b. Rater Field Checklist'!$C$149","v":" 6.4.2 Final: Tested per allowances below, with the air handler & all ducts, building cavities used as ducts, duct boots, & register grilles atop the finished surface (e.g., drywall, floor) installed. 51\n\nNo ducted returns 36: The greater of ≤ 6 CFM25 per 100 sq. ft. of CFA or ≤ 60 CFM. Additionally, the Rater-measured pressure difference between the space containing the air handler and the conditioned space, with the air handler running at high speed, is ≤ 5 Pa. For systems > 1 ton, increase by 1 Pa per half ton.\n\nOne or two ducted returns 36: The greater of ≤ 8 CFM25 per 100 sq. ft. of CFA or ≤ 80 CFM.\n\nThree or more ducted returns 36 : The greater of ≤ 12 CFM25 per 100 sq. ft. of CFA or ≤ 120 CFM."},{"$f":"'1b. Rater Field Checklist'!$N$149","v":0},{"$f":"'1b. Rater Field Checklist'!$M$149","v":0}]
[{"$f":"'1b. Rater Field Checklist'!$C$152","v":"6.5 Townhouses only: Rater-measured duct leakage to the outside the greater of ≤ 4 CFM25 per 100 sq. ft. of CFA or ≤ 40 CFM25. 48, 52"},{"$f":"'1b. Rater Field Checklist'!$N$152","v":0},{"$f":"'1b. Rater Field Checklist'!$M$152","v":0}]
[{"$f":"'1b. Rater Field Checklist'!$C$155","v":"6.6 Common Space: Supply, return, and exhaust ductwork and all plenums serving common spaces are sealed at all transverse joints, longitudinal seams, and duct wall penetrations with mastic, mastic tape, or internal aerosol-based sealant."},{"$f":"'1b. Rater Field Checklist'!$N$155","v":0},{"$f":"'1b. Rater Field Checklist'!$M$155","v":0}]
[{"$f":"'1b. Rater Field Checklist'!$C$156","v":"6.7 Duct leakage of central exhaust systems that serve four or more dwelling units, meets one of the following two options:"},{"$f":"'1b. Rater Field Checklist'!$N$156","v":0},{"$f":"'1b. Rater Field Checklist'!$M$156","v":0}]
[{"$f":"'1b. Rater Field Checklist'!$C$157","v":" 6.7.1 Rough-in: Tested including horizontal run outs, trunks, branches, and take-offs up to, but not including, the grilles, the leakage does not exceed 25% of exhaust fan flow. 53"},{"$f":"'1b. Rater Field Checklist'!$N$157","v":0},{"$f":"'1b. Rater Field Checklist'!$M$157","v":0}]
[{"$f":"'1b. Rater Field Checklist'!$C$159","v":" 6.7.2 Final: Tested inclusive of all ductwork between the fan and the grilles, the leakage does not exceed 30% of exhaust fan flow. 53"},{"$f":"'1b. Rater Field Checklist'!$N$159","v":0},{"$f":"'1b. Rater Field Checklist'!$M$159","v":0}]
[{"$f":"'1b. Rater Field Checklist'!$C$161","v":"7. Dwelling-Unit & Common Space Mechanical Vent. Systems (\"Vent Systems\") 54 & Inlets in Return Duct 55\n(National HVAC Design Report Item # indicated in parenthesis)"},{"$f":"'1b. Rater Field Checklist'!$N$161","v":0},{"$f":"'1b. Rater Field Checklist'!$M$161","v":0}]
[{"$f":"'1b. Rater Field Checklist'!$C$164","v":"7.1 Ventilation manufacturer & model number on installed equipment matches either of the following (check box): 41\n\n National HVAC Design Report           Written approval received from designer"},{"$f":"'1b. Rater Field Checklist'!$N$164","v":0},{"$f":"'1b. Rater Field Checklist'!$M$164","v":0}]
[{"$f":"'1b. Rater Field Checklist'!$C$166","v":"7.2 Rater-measured ventilation rate is within either ± 15 CFM or ± 15% of dwelling unit design values (2.7), and meets or exceeds rates required by ASHRAE 62.2-2010. 56"},{"$f":"'1b. Rater Field Checklist'!$N$166","v":0},{"$f":"'1b. Rater Field Checklist'!$M$166","v":0}]
[{"$f":"'1b. Rater Field Checklist'!$C$168","v":"7.3 Measured ventilation rate is within either ± 15 CFM or ± 15 % of common space design values (2.9), and meets or exceeds rates required by ASHRAE 62.1-2010 (2.8). 57"},{"$f":"'1b. Rater Field Checklist'!$N$168","v":0},{"$f":"'1b. Rater Field Checklist'!$M$168","v":0}]
[{"$f":"'1b. Rater Field Checklist'!$C$170","v":"7.4 A ventilation override control installed and also labeled if its function is not obvious (e.g., a label is required for a standalone wall switch, but not for a switch that’s on the ventilation equipment). Townhouses only: A readily-accessible ventilation override control installed and also labeled if its function is not obvious (e.g., a label is required for a toggle wall switch, but not for a switch that’s on the ventilation equipment)."},{"$f":"'1b. Rater Field Checklist'!$N$170","v":0},{"$f":"'1b. Rater Field Checklist'!$M$170","v":0}]
[{"$f":"'1b. Rater Field Checklist'!$C$171","v":"7.5 For any outdoor air inlet connected to a ducted return of the dwelling unit HVAC system (Complete if present; otherwise check “N/A”): 55"},{"$f":"'1b. Rater Field Checklist'!$N$171","v":0},{"$f":"'1b. Rater Field Checklist'!$M$171","v":0}]
[{"$f":"'1b. Rater Field Checklist'!$C$177","v":"7.6 If located in the dwelling unit, system fan rated ≤ 3 sones if intermittent and ≤ 2 sone if continuous, or exempted. 60"},{"$f":"'1b. Rater Field Checklist'!$N$177","v":0},{"$f":"'1b. Rater Field Checklist'!$M$177","v":0}]
[{"$f":"'1b. Rater Field Checklist'!$C$179","v":"7.7 If dwelling-unit Vent System controller operates the dwelling unit HVAC fan, then HVAC fan operation is intermittent and either the fan type is ECM / ICM (4.12), or the controls will reduce the run-time by accounting for HVAC system heating or cooling hours. 61"},{"$f":"'1b. Rater Field Checklist'!$N$179","v":0},{"$f":"'1b. Rater Field Checklist'!$M$179","v":0}]
[{"$f":"'1b. Rater Field Checklist'!$C$181","v":"7.8 In-unit bathroom fans or in-line fans are ENERGY STAR certified if used as part of the dwelling-unit mechanical ventilation system. 62"},{"$f":"'1b. Rater Field Checklist'!$N$181","v":0},{"$f":"'1b. Rater Field Checklist'!$M$181","v":0}]
[{"$f":"'1b. Rater Field Checklist'!$C$183","v":"7.9 If central exhaust fans, ≤ 1 HP, are installed as part of the dwelling-unit mechanical ventilation system, then they are direct-drive, ECM, with variable speed controllers. If > 1 HP, they are installed with NEMATM Premium Motors."},{"$f":"'1b. Rater Field Checklist'!$N$183","v":0},{"$f":"'1b. Rater Field Checklist'!$M$183","v":0}]
[{"$f":"'1b. Rater Field Checklist'!$C$184","v":"7.10 Air inlet locations (Complete if ventilation air inlet locations were installed (2.22, 2.23); otherwise check “N/A”): 63, 64"},{"$f":"'1b. Rater Field Checklist'!$N$184","v":0},{"$f":"'1b. Rater Field Checklist'!$M$184","v":0}]
[{"$f":"'1b. Rater Field Checklist'!$C$187","v":" 7.10.1 Inlet(s) pull ventilation air directly from outdoors and not from attic, crawlspace, garage, or adjacent dwelling unit."},{"$f":"'1b. Rater Field Checklist'!$N$187","v":0},{"$f":"'1b. Rater Field Checklist'!$M$187","v":0}]
[{"$f":"'1b. Rater Field Checklist'!$C$188","v":" 7.10.2 Inlet(s) are ≥ 2 ft. above grade or roof deck; ≥ 10 ft. of stretched-string distance from known contamination sources not exiting the roof, and ≥ 3 ft. distance from dryer exhausts and sources exiting the roof. 65"},{"$f":"'1b. Rater Field Checklist'!$N$188","v":0},{"$f":"'1b. Rater Field Checklist'!$M$188","v":0}]
[{"$f":"'1b. Rater Field Checklist'!$C$191","v":"8. Local Mechanical Exhaust (National HVAC Design Report Item # indicated in parenthesis)"},{"$f":"'1b. Rater Field Checklist'!$N$191","v":0},{"$f":"'1b. Rater Field Checklist'!$M$191","v":0}]
[{"$f":"'1b. Rater Field Checklist'!$C$192","v":"Dwelling Unit Mechanical exhaust - In each dwelling unit kitchen and bathroom, a system is installed that exhausts directly to the outdoors and meets one of the following Rater-measured airflow and manufacturer-rated sound level standards: 54, 66"},{"$f":"'1b. Rater Field Checklist'!$N$192","v":0},{"$f":"'1b. Rater Field Checklist'!$M$192","v":0}]
[{"$f":"'1b. Rater Field Checklist'!$C$195","v":"Location "},{"$f":"'1b. Rater Field Checklist'!$N$195","v":0},{"$f":"'1b. Rater Field Checklist'!$M$195","v":0}]
[{"$f":"'1b. Rater Field Checklist'!$C$196","v":"8.1 Kitchen\nAirflow\nContinuous Rate:  ≥ 5 ACH, based on kitchen volume 68, 69\nIntermittent Rate 67: ≥ 100 CFM and, if not integrated with range, also ≥ 5 ACH based on kitchen volume 68, 69, 70\n\nSound\nContinuous Rate: Recommended: ≤ 1 sone\nIntermittent Rate 67:  Recommended: ≤ 3 sones"},{"$f":"'1b. Rater Field Checklist'!$N$196","v":0},{"$f":"'1b. Rater Field Checklist'!$M$196","v":0}]
[{"$f":"'1b. Rater Field Checklist'!$C$201","v":"8.2 Bathroom\nAirflow\nContinuous Rate:  ≥ 20 CFM\nIntermittent Rate 67: ≥ 50 CFM\n\nSound\nContinuous Rate: Required: ≤ 2 sones\nIntermittent Rate 67:  Recommended: ≤ 3 sones"},{"$f":"'1b. Rater Field Checklist'!$N$201","v":0},{"$f":"'1b. Rater Field Checklist'!$M$201","v":0}]
[{"$f":"'1b. Rater Field Checklist'!$C$203","v":"Mechanical Exhaust for Common Spaces 2 and Shared Garages "},{"$f":"'1b. Rater Field Checklist'!$N$203","v":0},{"$f":"'1b. Rater Field Checklist'!$M$203","v":0}]
[{"$f":"'1b. Rater Field Checklist'!$C$205","v":"8.3 Measured exhaust rates are  ≥ ASHRAE 62.1 rates (2c). 57"},{"$f":"'1b. Rater Field Checklist'!$N$205","v":0},{"$f":"'1b. Rater Field Checklist'!$M$205","v":0}]
[{"$f":"'1b. Rater Field Checklist'!$C$207","v":"8.4 Where an exhaust system is installed in a shared garage, it is equipped with controls that sense CO and NO2."},{"$f":"'1b. Rater Field Checklist'!$N$207","v":0},{"$f":"'1b. Rater Field Checklist'!$M$207","v":0}]
[{"$f":"'1b. Rater Field Checklist'!$C$208","v":"9. Filtration "},{"$f":"'1b. Rater Field Checklist'!$N$208","v":0},{"$f":"'1b. Rater Field Checklist'!$M$208","v":0}]
[{"$f":"'1b. Rater Field Checklist'!$C$209","v":"9.1 MERV 6+ filter(s) installed in each ducted mechanical system serving an individual dwelling unit and located to facilitate access & regular service by the occupant or building owner. 71"},{"$f":"'1b. Rater Field Checklist'!$N$209","v":0},{"$f":"'1b. Rater Field Checklist'!$M$209","v":0}]
[{"$f":"'1b. Rater Field Checklist'!$C$211","v":" 9.1.1 Filter access panel includes gasket and fits snugly against the exposed edge of filter when closed to prevent bypass. 72"},{"$f":"'1b. Rater Field Checklist'!$N$211","v":0},{"$f":"'1b. Rater Field Checklist'!$M$211","v":0}]
[{"$f":"'1b. Rater Field Checklist'!$C$213","v":" 9.1.2 All return air and mechanically supplied outdoor air passes through filter prior to conditioning."},{"$f":"'1b. Rater Field Checklist'!$N$213","v":0},{"$f":"'1b. Rater Field Checklist'!$M$213","v":0}]
[{"$f":"'1b. Rater Field Checklist'!$C$214","v":"10. Combustion Appliances "},{"$f":"'1b. Rater Field Checklist'!$N$214","v":0},{"$f":"'1b. Rater Field Checklist'!$M$214","v":0}]
[{"$f":"'1b. Rater Field Checklist'!$C$215","v":"10.1 Furnaces, boilers, and water heaters located within the building’s pressure boundary are mechanically drafted or direct-vented. If mechanically drafted, the minimum volume of combustion air required for safe operation by the manufacturer and/or code shall be met or exceeded and make-up air sources must be mechanically closed when the combustion appliance is not in operation. Alternatives in Footnote 75. 73, 74, 75"},{"$f":"'1b. Rater Field Checklist'!$N$215","v":0},{"$f":"'1b. Rater Field Checklist'!$M$215","v":0}]
[{"$f":"'1b. Rater Field Checklist'!$C$219","v":"10.2 Fireplaces located within the building’s pressure boundary are direct-vented. 73, 74"},{"$f":"'1b. Rater Field Checklist'!$N$219","v":0},{"$f":"'1b. Rater Field Checklist'!$M$219","v":0}]
[{"$f":"'1b. Rater Field Checklist'!$C$222","v":"10.3 No unvented combustion appliances other than cooking ranges or ovens are located inside the building’s pressure boundary. For cooking ranges and ovens, local mechanical exhaust per Checklist Item 8.1 requirements must be met. 73"},{"$f":"'1b. Rater Field Checklist'!$N$222","v":0},{"$f":"'1b. Rater Field Checklist'!$M$222","v":0}]
[{"$f":"'1b. Rater Field Checklist'!$C$224","v":"Other "},{"$f":"'1b. Rater Field Checklist'!$N$224","v":0},{"$f":"'1b. Rater Field Checklist'!$M$224","v":0}]
[{"$f":"'1b. Rater Field Checklist'!$C$225","v":"11. Domestic Hot Water "},{"$f":"'1b. Rater Field Checklist'!$N$225","v":0},{"$f":"'1b. Rater Field Checklist'!$M$225","v":0}]
[{"$f":"'1b. Rater Field Checklist'!$C$226","v":"11.1 Prescriptive Path: Hot water equipment rated in EF or UEF meet the efficiency levels specified in the ENERGY STAR Multifamily Reference Design. Otherwise, meet or exceed ≥85% Et. 76"},{"$f":"'1b. Rater Field Checklist'!$N$226","v":0},{"$f":"'1b. Rater Field Checklist'!$M$226","v":0}]
[{"$f":"'1b. Rater Field Checklist'!$C$228","v":"11.2 ERI: For hot water equipment serving common spaces but not dwelling units nor shared laundry: where rated EF or UEF, meet the efficiency levels specified in the ENERGY STAR Multifamily Reference Design. Otherwise, meet or exceed 85% Et. 76"},{"$f":"'1b. Rater Field Checklist'!$N$228","v":0},{"$f":"'1b. Rater Field Checklist'!$M$228","v":0}]
[{"$f":"'1b. Rater Field Checklist'!$C$230","v":"11.3 For in-unit storage water heaters, AHRI Certificate confirms the presence of a heat trap."},{"$f":"'1b. Rater Field Checklist'!$N$230","v":0},{"$f":"'1b. Rater Field Checklist'!$M$230","v":0}]
[{"$f":"'1b. Rater Field Checklist'!$C$231","v":"11.4 DHW piping located in the dwelling unit is insulated with a minimum of R-3. 77"},{"$f":"'1b. Rater Field Checklist'!$N$231","v":0},{"$f":"'1b. Rater Field Checklist'!$M$231","v":0}]
[{"$f":"'1b. Rater Field Checklist'!$C$233","v":"11.5 Rater-measured delivery temperatures at faucets and showerheads do not exceed 125°F. 78"},{"$f":"'1b. Rater Field Checklist'!$N$233","v":0},{"$f":"'1b. Rater Field Checklist'!$M$233","v":0}]
[{"$f":"'1b. Rater Field Checklist'!$C$235","v":"12. Lighting "},{"$f":"'1b. Rater Field Checklist'!$N$235","v":0},{"$f":"'1b. Rater Field Checklist'!$M$235","v":0}]
[{"$f":"'1b. Rater Field Checklist'!$C$236","v":"12.1 Common Space 2 Lighting Controls:"},{"$f":"'1b. Rater Field Checklist'!$N$236","v":0},{"$f":"'1b. Rater Field Checklist'!$M$236","v":0}]
[{"$f":"'1b. Rater Field Checklist'!$C$238","v":" 12.1.1 ERI and Prescriptive Path: All common spaces 2 (including shared garages), except the building lobby and where automatic shutoff would endanger the safety of occupants, have occupancy sensors or automatic bi-level lighting controls installed and operation has been verified."},{"$f":"'1b. Rater Field Checklist'!$N$238","v":0},{"$f":"'1b. Rater Field Checklist'!$M$238","v":0}]
[{"$f":"'1b. Rater Field Checklist'!$C$240","v":" 12.1.2 ASHRAE Path only: All common spaces 2 (including shared garages), except the building lobby, corridors, and stairwells and where automatic shutoff would endanger the safety of occupants, have occupancy sensors or automatic bi-level lighting controls installed and operation has been verified."},{"$f":"'1b. Rater Field Checklist'!$N$240","v":0},{"$f":"'1b. Rater Field Checklist'!$M$240","v":0}]
[{"$f":"'1b. Rater Field Checklist'!$C$242","v":"12.2 Common Space 2 Lighting Power Density Maximum (except garages): 79"},{"$f":"'1b. Rater Field Checklist'!$N$242","v":0},{"$f":"'1b. Rater Field Checklist'!$M$242","v":0}]
[{"$f":"'1b. Rater Field Checklist'!$C$244","v":" 12.2.1 ERI and Prescriptive Path: Total installed lighting power for the combined common spaces 2 must not exceed ASHRAE 90.1-2007 allowances for those combined spaces, using the Space-by-Space or Building Area Method. See Footnote 80 for allowances. 80"},{"$f":"'1b. Rater Field Checklist'!$N$244","v":0},{"$f":"'1b. Rater Field Checklist'!$M$244","v":0}]
[{"$f":"'1b. Rater Field Checklist'!$C$247","v":" 12.2.2 ASHRAE Path only: Total installed lighting power for the combined common spaces 2 must not exceed ASHRAE 90.1-2007 allowances for those combined spaces, using the Space-by-Space or Building Area Method, by more than 20%. See Footnote 80 for allowances. 80"},{"$f":"'1b. Rater Field Checklist'!$N$247","v":0},{"$f":"'1b. Rater Field Checklist'!$M$247","v":0}]
[{"$f":"'1b. Rater Field Checklist'!$C$250","v":"12.3 Shared garages: Lighting power density does not exceed 0.24 W/ft2."},{"$f":"'1b. Rater Field Checklist'!$N$250","v":0},{"$f":"'1b. Rater Field Checklist'!$M$250","v":0}]
[{"$f":"'1b. Rater Field Checklist'!$C$251","v":"12.4 Exterior lighting controls: Fixtures, including parking lot fixtures, must include automatic switching on timers or photocell controls except fixtures intended for 24-hour operation, required for security, or located on dwelling unit balconies."},{"$f":"'1b. Rater Field Checklist'!$N$251","v":0},{"$f":"'1b. Rater Field Checklist'!$M$251","v":0}]
[{"$f":"'1b. Rater Field Checklist'!$C$252","v":"12.5 ERI Path: All exterior and common space lighting fixtures meet the efficiency requirements in the ENERGY STAR Multifamily Reference Design, except fixtures located on dwelling unit balconies. 81, 82"},{"$f":"'1b. Rater Field Checklist'!$N$252","v":0},{"$f":"'1b. Rater Field Checklist'!$M$252","v":0}]
[{"$f":"'1b. Rater Field Checklist'!$C$255","v":"12.6 Prescriptive Path: All lighting fixtures (i.e., dwelling units, common spaces, and exterior) meet the efficiency requirements in the ENERGY STAR Multifamily Reference Design. 81, 82"},{"$f":"'1b. Rater Field Checklist'!$N$255","v":0},{"$f":"'1b. Rater Field Checklist'!$M$255","v":0}]
[{"$f":"'1b. Rater Field Checklist'!$C$258","v":"12.7 Prescriptive Path: Dwelling unit overall in-unit lighting power density ≤ 0.75 W/ft2. When calculating overall lighting power density, use 1.1 W/ft2 where lighting is not installed. 79"},{"$f":"'1b. Rater Field Checklist'!$N$258","v":0},{"$f":"'1b. Rater Field Checklist'!$M$258","v":0}]
[{"$f":"'1b. Rater Field Checklist'!$C$260","v":"13. Appliances, Ceiling Fans, and Plumbing Fixtures "},{"$f":"'1b. Rater Field Checklist'!$N$260","v":0},{"$f":"'1b. Rater Field Checklist'!$M$260","v":0}]
[{"$f":"'1b. Rater Field Checklist'!$C$261","v":"13.1 Prescriptive Path: Installed appliances are ENERGY STAR certified. Installed bathroom faucets, bathroom aerators, and showerheads are WaterSense labeled. 83"},{"$f":"'1b. Rater Field Checklist'!$N$261","v":0},{"$f":"'1b. Rater Field Checklist'!$M$261","v":0}]
[{"$f":"'1b. Rater Field Checklist'!$C$263","v":"13.2 ERI Path: Where installed in common spaces, refrigerators and dishwashers are ENERGY STAR certified and showerheads are WaterSense labeled."},{"$f":"'1b. Rater Field Checklist'!$N$263","v":0},{"$f":"'1b. Rater Field Checklist'!$M$263","v":0}]
[{"$f":"'1b. Rater Field Checklist'!$C$264","v":"13.3 Prescriptive Path: Shower compartments with multiple fixtures cannot be operated simultaneously OR the total flow rate per shower compartment must not exceed 1.75 gallons per minute, as rated at 80 psi."},{"$f":"'1b. Rater Field Checklist'!$N$264","v":0},{"$f":"'1b. Rater Field Checklist'!$M$264","v":0}]
[{"$f":"'1b. Rater Field Checklist'!$C$265","v":"14. Whole Building Energy Consumption Data Acquisition "},{"$f":"'1b. Rater Field Checklist'!$N$265","v":0},{"$f":"'1b. Rater Field Checklist'!$M$265","v":0}]
[{"$f":"'1b. Rater Field Checklist'!$C$266","v":"14.1 For buildings 50,000 ft2 and larger, a strategy that enables the collection of monthly or annual building-level energy consumption data (electricity, natural gas, chilled water, steam, fuel oil, propane, etc.) has been confirmed. 84"},{"$f":"'1b. Rater Field Checklist'!$N$266","v":0},{"$f":"'1b. Rater Field Checklist'!$M$266","v":0}]
[]
[{"$f":"E6","v":"Open Wall 4"}]
["Rater Design Checklist","Verification Phase","Notes/Comments"]
[{"$f":"'1b. Rater Field Checklist'!$C$16","v":"Thermal Enclosure System "},{"$f":"'1b. Rater Field Checklist'!$N$16","v":0},{"$f":"'1b. Rater Field Checklist'!$M$16","v":0}]
[{"$f":"'1b. Rater Field Checklist'!$C$17","v":"1. High-Performance Fenestration & Insulation "},{"$f":"'1b. Rater Field Checklist'!$N$17","v":0},{"$f":"'1b. Rater Field Checklist'!$M$17","v":0}]
[{"$f":"'1b. Rater Field Checklist'!$C$18","v":"1.1 Fenestration meets or exceeds specification in Items 2.1 and 2.2 of the National Rater Design Review Checklist."},{"$f":"'1b. Rater Field Checklist'!$N$18","v":"Open Wall 3"},{"$f":"'1b. Rater Field Checklist'!$M$18","v":0}]
[{"$f":"'1b. Rater Field Checklist'!$C$19","v":"1.2 Insulation meets or exceeds levels specified in Items 3.1 and 3.2 of the National Rater Design Review Checklist."},{"$f":"'1b. Rater Field Checklist'!$N$19","v":"Open Wall 3"},{"$f":"'1b. Rater Field Checklist'!$M$19","v":0}]
[{"$f":"'1b. Rater Field Checklist'!$C$20","v":"1.3 All insulation achieves Grade I install per ANSI / RESNET / ICC Std. 301. Alternatives in footnote 6. 6,7"},{"$f":"'1b. Rater Field Checklist'!$N$20","v":"Open Wall 3"},{"$f":"'1b. Rater Field Checklist'!$M$20","v":0}]
[{"$f":"'1b. Rater Field Checklist'!$C$23","v":"1.4 Prescriptive Path: Window-to-wall ratio ≤ 30%. 8"},{"$f":"'1b. Rater Field Checklist'!$N$23","v":"Open Wall 1"},{"$f":"'1b. Rater Field Checklist'!$M$23","v":0}]
[{"$f":"'1b. Rater Field Checklist'!$C$25","v":"1.5 Heated plenums in unconditioned space or ambient conditions must meet the following requirements: 9"},{"$f":"'1b. Rater Field Checklist'!$N$25","v":0},{"$f":"'1b. Rater Field Checklist'!$M$25","v":0}]
[{"$f":"'1b. Rater Field Checklist'!$C$27","v":" 1.5.1 Sides of heated plenum are an air barrier and insulated to ≥ R-3ci in CZ 1-4; ≥ R-5ci in CZ 5-6; ≥ R-7.5ci in CZ 7; ≥ R-9.5ci in CZ 8, AND;"},{"$f":"'1b. Rater Field Checklist'!$N$27","v":"Open Wall 4"},{"$f":"'1b. Rater Field Checklist'!$M$27","v":0}]
[{"$f":"'1b. Rater Field Checklist'!$C$28","v":" 1.5.2 Insulation at top of heated plenum meets or exceeds the R-value for mass floors from the “All Other” column of Table 502.2(1) of 2009 IECC, AND;"},{"$f":"'1b. Rater Field Checklist'!$N$28","v":"Open Wall 4"},{"$f":"'1b. Rater Field Checklist'!$M$28","v":0}]
[{"$f":"'1b. Rater Field Checklist'!$C$29","v":" 1.5.3 Bottom of heated plenum must have at least R-13 insulation. 10"},{"$f":"'1b. Rater Field Checklist'!$N$29","v":"Open Wall 3"},{"$f":"'1b. Rater Field Checklist'!$M$29","v":0}]
[{"$f":"'1b. Rater Field Checklist'!$C$31","v":"1.6 Garages with space heating must meet the following requirements: 9"},{"$f":"'1b. Rater Field Checklist'!$N$31","v":0},{"$f":"'1b. Rater Field Checklist'!$M$31","v":0}]
[{"$f":"'1b. Rater Field Checklist'!$C$33","v":" 1.6.1 Insulation on above grade walls and walls on the first story below grade ≥ R-5ci in CZ 5-6; ≥ R-7.5ci in CZ 7; ≥ R-9.5ci in CZ 8, AND;"},{"$f":"'1b. Rater Field Checklist'!$N$33","v":0},{"$f":"'1b. Rater Field Checklist'!$M$33","v":0}]
[{"$f":"'1b. Rater Field Checklist'!$C$34","v":" 1.6.2 Ceiling insulation meets or exceeds the R-value for mass floors from the “All Other” column of Table 502.2(1) of 2009 IECC."},{"$f":"'1b. Rater Field Checklist'!$N$34","v":0},{"$f":"'1b. Rater Field Checklist'!$M$34","v":0}]
[{"$f":"'1b. Rater Field Checklist'!$C$35","v":"2. Fully-Aligned Air Barriers 11 At each insulated location below, a complete air barrier is provided that is fully aligned as follows:"},{"$f":"'1b. Rater Field Checklist'!$N$35","v":0},{"$f":"'1b. Rater Field Checklist'!$M$35","v":0}]
[{"$f":"'1b. Rater Field Checklist'!$C$37","v":"Ceilings: At interior or exterior horizontal surface of ceiling insulation in Climate Zones 1-3; at interior horizontal surface of ceiling insulation in Climate Zones 4-8. Also, at exterior vertical surface of ceiling insulation in all climate zones (e.g., using a wind baffle that extends to the full height of the insulation in every bay or a tabbed baffle in each bay with a soffit vent that prevents wind washing in adjacent bays). 12"},{"$f":"'1b. Rater Field Checklist'!$N$37","v":0},{"$f":"'1b. Rater Field Checklist'!$M$37","v":0}]
[{"$f":"'1b. Rater Field Checklist'!$C$39","v":"2.1 Dropped ceilings / soffits below unconditioned attics, chase / dead space, and all other ceilings."},{"$f":"'1b. Rater Field Checklist'!$N$39","v":0},{"$f":"'1b. Rater Field Checklist'!$M$39","v":0}]
[{"$f":"'1b. Rater Field Checklist'!$C$40","v":"Walls: At exterior vertical surface of wall insulation in all climate zones; also at interior vertical surface of wall insulation in Climate Zones 4-8. 13"},{"$f":"'1b. Rater Field Checklist'!$N$40","v":0},{"$f":"'1b. Rater Field Checklist'!$M$40","v":0}]
[{"$f":"'1b. Rater Field Checklist'!$C$42","v":"2.2 Walls behind showers, tubs, staircases, and fireplaces."},{"$f":"'1b. Rater Field Checklist'!$N$42","v":"Open Wall 2"},{"$f":"'1b. Rater Field Checklist'!$M$42","v":0}]
[{"$f":"'1b. Rater Field Checklist'!$C$43","v":"2.3 Architectural bump-outs, dead space, and all other exterior walls."},{"$f":"'1b. Rater Field Checklist'!$N$43","v":0},{"$f":"'1b. Rater Field Checklist'!$M$43","v":0}]
[{"$f":"'1b. Rater Field Checklist'!$C$44","v":"Floors: At exterior vertical surface of floor insulation in all climate zones and, if over unconditioned space, also at interior horizontal surface including supports to ensure alignment. Alternatives in Footnotes 15 & 16. 14, 15, 16"},{"$f":"'1b. Rater Field Checklist'!$N$44","v":0},{"$f":"'1b. Rater Field Checklist'!$M$44","v":0}]
[{"$f":"'1b. Rater Field Checklist'!$C$48","v":"2.4 Floors above garages, floors above unconditioned spaces, and cantilevered floors."},{"$f":"'1b. Rater Field Checklist'!$N$48","v":0},{"$f":"'1b. Rater Field Checklist'!$M$48","v":0}]
[{"$f":"'1b. Rater Field Checklist'!$C$49","v":"2.5 All other floors adjoining unconditioned space (e.g., rim / band joists at exterior wall or at porch roof)."},{"$f":"'1b. Rater Field Checklist'!$N$49","v":0},{"$f":"'1b. Rater Field Checklist'!$M$49","v":0}]
[{"$f":"'1b. Rater Field Checklist'!$C$50","v":"3. Reduced Thermal Bridging"},{"$f":"'1b. Rater Field Checklist'!$N$50","v":0},{"$f":"'1b. Rater Field Checklist'!$M$50","v":0}]
[{"$f":"'1b. Rater Field Checklist'!$C$51","v":"3.1 For insulated ceilings with attic space above (i.e., non-cathedralized), Grade I insulation extends to the inside face of the exterior wall below and is ≥ R-21 in CZ 1-5; ≥ R-30 in CZ 6-8. 17"},{"$f":"'1b. Rater Field Checklist'!$N$51","v":0},{"$f":"'1b. Rater Field Checklist'!$M$51","v":0}]
[{"$f":"'1b. Rater Field Checklist'!$C$53","v":"3.2 For insulated ceilings with attic space above, attic access panels and drop-down stairs insulated ≥ R-10 or equipped with durable ≥ R-10 cover. 18"},{"$f":"'1b. Rater Field Checklist'!$N$53","v":0},{"$f":"'1b. Rater Field Checklist'!$M$53","v":0}]
[{"$f":"'1b. Rater Field Checklist'!$C$55","v":"3.3 Insulation beneath attic platforms (e.g., HVAC platforms, walkways) ≥ R-21 in CZ 1-5; ≥ R-30 in CZ 6-8."},{"$f":"'1b. Rater Field Checklist'!$N$55","v":0},{"$f":"'1b. Rater Field Checklist'!$M$55","v":0}]
[{"$f":"'1b. Rater Field Checklist'!$C$56","v":"3.4 For slabs on grade in CZ 4-8, 100% of slab edge insulated to ≥ R-5 at the depth specified by Table 502.2(1) of the 2009 IECC and aligned with the thermal boundary of the walls. 19, 20"},{"$f":"'1b. Rater Field Checklist'!$N$56","v":0},{"$f":"'1b. Rater Field Checklist'!$M$56","v":0}]
[{"$f":"'1b. Rater Field Checklist'!$C$59","v":"3.5 For elevated concrete slabs in CZ 4-8 (i.e., podiums and projected balconies, but not intermediate slab floor edges) 100% of the slab edge insulated to ≥ R-5. For podiums, this insulation must extend for a minimum of 8ft below the bottom of the slab edge. For columns, the insulation must surround the column, at a depth of 4ft. Alternatives in Footnote 21. 21"},{"$f":"'1b. Rater Field Checklist'!$N$59","v":0},{"$f":"'1b. Rater Field Checklist'!$M$59","v":0}]
[{"$f":"'1b. Rater Field Checklist'!$C$61","v":"3.6 For elevated concrete slabs in CZ 4-8 (i.e., podiums, but not intermediate floor slabs), floor insulation meets the U-factor specified in Table 502.1.2 of the 2009 IECC for Group R when dwelling units are above the slab, and for ‘All Other’ when common space is above the slab. 22"},{"$f":"'1b. Rater Field Checklist'!$N$61","v":0},{"$f":"'1b. Rater Field Checklist'!$M$61","v":0}]
[{"$f":"'1b. Rater Field Checklist'!$C$63","v":"3.7 At above-grade walls and rim / band joists separating conditioned space from the exterior, one of the following options used: 23, 26"},{"$f":"'1b. Rater Field Checklist'!$N$63","v":0},{"$f":"'1b. Rater Field Checklist'!$M$63","v":0}]
[{"$f":"'1b. Rater Field Checklist'!$C$66","v":" 3.7.1 Continuous rigid insulation, insulated siding, or combination of the two is ≥ R-3 in CZ 1-4; ≥ R-5 in CZ 5-8 24, 25, 26, 27; OR;"},{"$f":"'1b. Rater Field Checklist'!$N$66","v":0},{"$f":"'1b. Rater Field Checklist'!$M$66","v":0}]
[{"$f":"'1b. Rater Field Checklist'!$C$71","v":" 3.7.2 Structural Insulated Panels OR; Insulated Concrete Forms OR; Double-wall framing OR; 24, 26, 28"},{"$f":"'1b. Rater Field Checklist'!$N$71","v":0},{"$f":"'1b. Rater Field Checklist'!$M$71","v":0}]
[{"$f":"'1b. Rater Field Checklist'!$C$75","v":" 3.7.3 Option only for wood-framed walls either in CZ 1-3 OR ≤ 3 stories: ‘advanced framing’ details including all of the Items below: 26, 29"},{"$f":"'1b. Rater Field Checklist'!$N$75","v":0},{"$f":"'1b. Rater Field Checklist'!$M$75","v":0}]
[{"$f":"'1b. Rater Field Checklist'!$C$78","v":"  3.7.3a Corners insulated ≥ R-6 to edge, 30 AND;"},{"$f":"'1b. Rater Field Checklist'!$N$78","v":0},{"$f":"'1b. Rater Field Checklist'!$M$78","v":0}]
[{"$f":"'1b. Rater Field Checklist'!$C$80","v":"  3.7.3b Headers above windows & doors insulated ≥ R-3 for 2x4 framing or equivalent cavity width, and ≥ R-5 for all other assemblies (e.g., with 2x6 framing), 31 AND;"},{"$f":"'1b. Rater Field Checklist'!$N$80","v":0},{"$f":"'1b. Rater Field Checklist'!$M$80","v":0}]
[{"$f":"'1b. Rater Field Checklist'!$C$82","v":"  3.7.3c Interior / exterior wall intersections insulated to same R-value as rest of exterior wall. 32"},{"$f":"'1b. Rater Field Checklist'!$N$82","v":0},{"$f":"'1b. Rater Field Checklist'!$M$82","v":0}]
[{"$f":"'1b. Rater Field Checklist'!$C$84","v":"4. Air Sealing (Unless otherwise noted below, “sealed” indicates the use of caulk, foam, or equivalent material.)"},{"$f":"'1b. Rater Field Checklist'!$N$84","v":0},{"$f":"'1b. Rater Field Checklist'!$M$84","v":0}]
[{"$f":"'1b. Rater Field Checklist'!$C$85","v":"4.1 Ducts, flues, shafts, plumbing, piping, wiring, exhaust fans, & other penetrations to unconditioned space sealed, with blocking / flashing as needed."},{"$f":"'1b. Rater Field Checklist'!$N$85","v":0},{"$f":"'1b. Rater Field Checklist'!$M$85","v":0}]
[{"$f":"'1b. Rater Field Checklist'!$C$86","v":"4.2 Recessed lighting fixtures adjacent to unconditioned space ICAT labeled and gasketed. Also, if in insulated ceiling without attic above, exterior surface of fixture insulated to ≥ R-10 in CZ 4-8."},{"$f":"'1b. Rater Field Checklist'!$N$86","v":0},{"$f":"'1b. Rater Field Checklist'!$M$86","v":0}]
[{"$f":"'1b. Rater Field Checklist'!$C$87","v":"4.3 Continuous top plate or blocking is at top of walls adjoining unconditioned space including at balloon-framed parapets, and sealed."},{"$f":"'1b. Rater Field Checklist'!$N$87","v":0},{"$f":"'1b. Rater Field Checklist'!$M$87","v":0}]
[{"$f":"'1b. Rater Field Checklist'!$C$88","v":"4.4 Drywall sealed to top plate at all unconditioned attic / wall interfaces using caulk, foam, drywall adhesive (but not other construction adhesives), or equivalent material. Either apply sealant directly between drywall and top plate or to the seam between the two from the attic above."},{"$f":"'1b. Rater Field Checklist'!$N$88","v":0},{"$f":"'1b. Rater Field Checklist'!$M$88","v":0}]
[{"$f":"'1b. Rater Field Checklist'!$C$89","v":"4.5 Rough opening around windows & exterior doors sealed. 33"},{"$f":"'1b. Rater Field Checklist'!$N$89","v":0},{"$f":"'1b. Rater Field Checklist'!$M$89","v":0}]
[{"$f":"'1b. Rater Field Checklist'!$C$91","v":"4.6 Assemblies that separate attached garages from occupiable space sealed and, also, an air barrier installed, sealed, and aligned with these assemblies. 34"},{"$f":"'1b. Rater Field Checklist'!$N$91","v":0},{"$f":"'1b. Rater Field Checklist'!$M$91","v":0}]
[{"$f":"'1b. Rater Field Checklist'!$C$93","v":"4.7 Doors adjacent to unconditioned space (e.g., attics, garages, basements) or ambient conditions made substantially air-tight with doorsweep and weatherstripping or equivalent gasket."},{"$f":"'1b. Rater Field Checklist'!$N$93","v":0},{"$f":"'1b. Rater Field Checklist'!$M$93","v":0}]
[{"$f":"'1b. Rater Field Checklist'!$C$94","v":"4.8 Attic access panels, roof hatches and drop-down stairs are gasketed (i.e., not caulked) or equipped with durable covers that are gasketed. 18"},{"$f":"'1b. Rater Field Checklist'!$N$94","v":0},{"$f":"'1b. Rater Field Checklist'!$M$94","v":0}]
[{"$f":"'1b. Rater Field Checklist'!$C$96","v":"The following items must be additionally verified in dwelling units, to reduce air leakage between conditioned spaces."},{"$f":"'1b. Rater Field Checklist'!$N$96","v":0},{"$f":"'1b. Rater Field Checklist'!$M$96","v":0}]
[{"$f":"'1b. Rater Field Checklist'!$C$97","v":"4.9 Doors serving as a unit entrance from a corridor / stairwell made substantially air-tight with doorsweep and weatherstripping or equivalent gasket."},{"$f":"'1b. Rater Field Checklist'!$N$97","v":0},{"$f":"'1b. Rater Field Checklist'!$M$97","v":0}]
[{"$f":"'1b. Rater Field Checklist'!$C$98","v":"4.10 Rater-measured compartmentalization is no greater than 0.30 CFM50 per square feet of dwelling unit enclosure area, following procedures in ANSI / RESNET / ICC Std. 380. 35"},{"$f":"'1b. Rater Field Checklist'!$N$98","v":0},{"$f":"'1b. Rater Field Checklist'!$M$98","v":0}]
[{"$f":"'1b. Rater Field Checklist'!$C$100","v":" 4.10.1 For dwelling units with forced air distribution systems without ducted returns and located in a closet adjacent to unconditioned space, the Rater-measured pressure difference between the space containing the air handler and the conditioned space during the compartmentalization test is no greater than 5 Pa. 36"},{"$f":"'1b. Rater Field Checklist'!$N$100","v":0},{"$f":"'1b. Rater Field Checklist'!$M$100","v":0}]
[{"$f":"'1b. Rater Field Checklist'!$C$102","v":"HVAC System 37 (HVAC Design Report Item # indicated in parenthesis) "},{"$f":"'1b. Rater Field Checklist'!$N$102","v":0},{"$f":"'1b. Rater Field Checklist'!$M$102","v":0}]
[{"$f":"'1b. Rater Field Checklist'!$C$104","v":"5. Heating & Cooling Equipment – Complete Track A – HVAC Grading by Rater OR Track B – HVAC Testing by FT Agent 38"},{"$f":"'1b. Rater Field Checklist'!$N$104","v":0},{"$f":"'1b. Rater Field Checklist'!$M$104","v":0}]
[{"$f":"'1b. Rater Field Checklist'!$C$106","v":"Track A 39"},{"$f":"'1b. Rater Field Checklist'!$N$106","v":0},{"$f":"'1b. Rater Field Checklist'!$M$106","v":0}]
[{"$f":"'1b. Rater Field Checklist'!$C$108","v":"5a.1 Blower fan volumetric airflow is Grade I or II per ANSI / RESNET / ACCA Std. 310"},{"$f":"'1b. Rater Field Checklist'!$N$108","v":0},{"$f":"'1b. Rater Field Checklist'!$M$108","v":0}]
[{"$f":"'1b. Rater Field Checklist'!$C$109","v":"5a.2 Blower fan watt draw is Grade I or II per ANSI / RESNET / ACCA Std. 310"},{"$f":"'1b. Rater Field Checklist'!$N$109","v":0},{"$f":"'1b. Rater Field Checklist'!$M$109","v":0}]
[{"$f":"'1b. Rater Field Checklist'!$C$110","v":"5a.3 Refrigerant charge is Grade I per ANSI / RESNET / ACCA Std. 310. See Footnote 40 for exemptions. 40"},{"$f":"'1b. Rater Field Checklist'!$N$110","v":0},{"$f":"'1b. Rater Field Checklist'!$M$110","v":0}]
[{"$f":"'1b. Rater Field Checklist'!$C$112","v":"Track B"},{"$f":"'1b. Rater Field Checklist'!$N$112","v":0},{"$f":"'1b. Rater Field Checklist'!$M$112","v":0}]
[{"$f":"'1b. Rater Field Checklist'!$C$113","v":"5b.1 HVAC manufacturer & model number on installed equipment matches either of the following (check box): 41\n \n National HVAC Design Report (4.6-4.9 & 4.25-4.26)      Written approval received from designer"},{"$f":"'1b. Rater Field Checklist'!$N$113","v":0},{"$f":"'1b. Rater Field Checklist'!$M$113","v":0}]
[{"$f":"'1b. Rater Field Checklist'!$C$115","v":"5b.2 External static pressure measured by Rater at contractor-provided test locations and documented below: 42\n\nReturn-Side External Static Pressure: ________IWC\nSupply-Side External Static Pressure: __________IWC"},{"$f":"'1b. Rater Field Checklist'!$N$115","v":0},{"$f":"'1b. Rater Field Checklist'!$M$115","v":0}]
[{"$f":"'1b. Rater Field Checklist'!$C$117","v":"5.4 Prescriptive Path: Heating and cooling equipment serving dwelling units and common spaces meet the efficiency levels specified in the Exhibit X. Electric resistance space heating is not installed in dwelling units."},{"$f":"'1b. Rater Field Checklist'!$N$117","v":0},{"$f":"'1b. Rater Field Checklist'!$M$117","v":0}]
[{"$f":"'1b. Rater Field Checklist'!$C$118","v":"5.5 ERI Path: Heating and cooling equipment serving common spaces, but not serving dwelling units, meet the efficiency levels specified in the Exhibit X. See Exhibit X for restrictions on electric resistance space heating."},{"$f":"'1b. Rater Field Checklist'!$N$118","v":0},{"$f":"'1b. Rater Field Checklist'!$M$118","v":0}]
[{"$f":"'1b. Rater Field Checklist'!$C$119","v":"5.6 National HVAC Functional Testing Checklist(s) collected prior to certification, with all HVAC systems in the building / project fully documented. Exception: Where credentialed HVAC Contractor(s) are completing the National HVAC Functional Testing Checklist, the checklist is not required to be collected for the systems they verify. 43"},{"$f":"'1b. Rater Field Checklist'!$N$119","v":0},{"$f":"'1b. Rater Field Checklist'!$M$119","v":0}]
[{"$f":"'1b. Rater Field Checklist'!$C$121","v":"5.7 Rater has verified and documented that Functional Testing Agent(s) (“FT Agent(s)”) completing the National HVAC Functional Testing Checklist(s) hold one of the required credentials and completed orientation, if applicable. 43\n\nCredential: ______________________ “FT Agent” Company Name(s): _______________________"},{"$f":"'1b. Rater Field Checklist'!$N$121","v":0},{"$f":"'1b. Rater Field Checklist'!$M$121","v":0}]
[{"$f":"'1b. Rater Field Checklist'!$C$123","v":"Equipment Controls "},{"$f":"'1b. Rater Field Checklist'!$N$123","v":0},{"$f":"'1b. Rater Field Checklist'!$M$123","v":0}]
[{"$f":"'1b. Rater Field Checklist'!$C$124","v":"5.8 All heating and cooling systems serving a dwelling unit have thermostatic controls within the dwelling unit which are not located on exterior walls."},{"$f":"'1b. Rater Field Checklist'!$N$124","v":0},{"$f":"'1b. Rater Field Checklist'!$M$124","v":0}]
[{"$f":"'1b. Rater Field Checklist'!$C$125","v":" 5.8.1 Prescriptive Path: Dwelling unit thermostats are programmable."},{"$f":"'1b. Rater Field Checklist'!$N$125","v":0},{"$f":"'1b. Rater Field Checklist'!$M$125","v":0}]
[{"$f":"'1b. Rater Field Checklist'!$C$126","v":"5.9 Stair and elevator shaft vents equipped with motorized dampers that are capable of being automatically closed during normal building operation and are interlocked to open as required by fire and smoke detection systems. Dampers are verified to be closed at the time of inspection."},{"$f":"'1b. Rater Field Checklist'!$N$126","v":0},{"$f":"'1b. Rater Field Checklist'!$M$126","v":0}]
[{"$f":"'1b. Rater Field Checklist'!$C$127","v":"5.10 Freeze protection systems, such as heat tracing of piping and heat exchangers, including self-regulating heat tracing, and garage / plenum heaters include automatic controls that are verified to shut off the systems when pipe wall or garage / plenum temperatures are above 40°F."},{"$f":"'1b. Rater Field Checklist'!$N$127","v":0},{"$f":"'1b. Rater Field Checklist'!$M$127","v":0}]
[{"$f":"'1b. Rater Field Checklist'!$C$128","v":" 5.10.1 Where heat tracing is installed for freeze-protection, controls must be based on pipe wall temperature and a minimum of R-3 pipe insulation is also required."},{"$f":"'1b. Rater Field Checklist'!$N$128","v":0},{"$f":"'1b. Rater Field Checklist'!$M$128","v":0}]
[{"$f":"'1b. Rater Field Checklist'!$C$129","v":"5.11 Snow- and ice-melting systems include automatic controls that are verified to shut off the systems when the pavement temperature is above 50°F and no precipitation is falling, and an automatic or manual control is installed that is verified to shut off system when the outdoor temperature is above 40°F, so that the potential for snow or ice accumulation is negligible."},{"$f":"'1b. Rater Field Checklist'!$N$129","v":0},{"$f":"'1b. Rater Field Checklist'!$M$129","v":0}]
[{"$f":"'1b. Rater Field Checklist'!$C$130","v":"Hydronic Distribution "},{"$f":"'1b. Rater Field Checklist'!$N$130","v":0},{"$f":"'1b. Rater Field Checklist'!$M$130","v":0}]
[{"$f":"'1b. Rater Field Checklist'!$C$131","v":"5.12 For hydronic distribution systems, all terminal heating and cooling distribution equipment are separated from the riser or distribution loop by a control valve or terminal distribution pump, so that heated or cooled fluid is not delivered to the dwelling unit distribution equipment when there is no call from the thermostat."},{"$f":"'1b. Rater Field Checklist'!$N$131","v":0},{"$f":"'1b. Rater Field Checklist'!$M$131","v":0}]
[{"$f":"'1b. Rater Field Checklist'!$C$132","v":"5.13 Terminal units in hydronic distribution systems are equipped with pressure independent balancing valves or pressure independent control valves."},{"$f":"'1b. Rater Field Checklist'!$N$132","v":0},{"$f":"'1b. Rater Field Checklist'!$M$132","v":0}]
[{"$f":"'1b. Rater Field Checklist'!$C$133","v":"5.14 Piping of a heating or cooling system is insulated in accordance with Item 4.41 on the National HVAC Design Report, including where passing through planks or any other penetrations."},{"$f":"'1b. Rater Field Checklist'!$N$133","v":0},{"$f":"'1b. Rater Field Checklist'!$M$133","v":0}]
[{"$f":"'1b. Rater Field Checklist'!$C$134","v":"5.15 For circulating pumps serving hydronic heating or cooling systems with three-phase motors, 1 horsepower or larger, motors meet or exceed efficiency standards for NEMA Premium™ motors. If 5 horsepower or larger, also installed with variable frequency drives."},{"$f":"'1b. Rater Field Checklist'!$N$134","v":0},{"$f":"'1b. Rater Field Checklist'!$M$134","v":0}]
[{"$f":"'1b. Rater Field Checklist'!$C$135","v":"6. Duct Quality Installation - Applies to Heating, Cooling, Ventilation, Exhaust, & Pressure Balancing Ducts, Unless Noted in Footnote."},{"$f":"'1b. Rater Field Checklist'!$N$135","v":0},{"$f":"'1b. Rater Field Checklist'!$M$135","v":0}]
[{"$f":"'1b. Rater Field Checklist'!$C$136","v":"6.1 Ductwork installed without kinks, sharp bends, compressions, or excessive coiled flexible ductwork. 45"},{"$f":"'1b. Rater Field Checklist'!$N$136","v":0},{"$f":"'1b. Rater Field Checklist'!$M$136","v":0}]
[{"$f":"'1b. Rater Field Checklist'!$C$138","v":"6.2 Bedrooms with a design supply airflow ≥ 150 CFM (per Item 5.2 on the National HVAC Design Report) pressure-balanced (e.g., using transfer grilles, jump ducts, dedicated return ducts, undercut doors) to achieve a Rater-measured pressure differential ≥ -5 Pa and ≤ +5 Pa with respect to the main body of the dwelling unit when all air handlers are operating. See Footnote 46 for test configuration. 46"},{"$f":"'1b. Rater Field Checklist'!$N$138","v":0},{"$f":"'1b. Rater Field Checklist'!$M$138","v":0}]
[{"$f":"'1b. Rater Field Checklist'!$C$140","v":"6.3 All supply and return ducts in unconditioned space, including connections to trunk ducts, are insulated to ≥ R-6. 47"},{"$f":"'1b. Rater Field Checklist'!$N$140","v":0},{"$f":"'1b. Rater Field Checklist'!$M$140","v":0}]
[{"$f":"'1b. Rater Field Checklist'!$C$142","v":" 6.3.1 Prescriptive Path: Dwelling unit ductwork meets the location and insulation requirements specified in the ENERGY STAR Multifamily Reference Design."},{"$f":"'1b. Rater Field Checklist'!$N$142","v":0},{"$f":"'1b. Rater Field Checklist'!$M$142","v":0}]
[{"$f":"'1b. Rater Field Checklist'!$C$143","v":"6.4 Rater-measured total duct leakage in dwelling units meets one of the following two options: 48, 49"},{"$f":"'1b. Rater Field Checklist'!$N$143","v":0},{"$f":"'1b. Rater Field Checklist'!$M$143","v":0}]
[{"$f":"'1b. Rater Field Checklist'!$C$146","v":" 6.4.1 Rough-in: Tested per allowances below, with air handler & all ducts, building cavities used as ducts, & duct boots installed. In addition, all duct boots sealed to finished surface, Rater-verified at final. 50\n\nNo ducted returns 36: The greater of ≤ 3 CFM25 per 100 sq. ft. of CFA or ≤ 30 CFM. Additionally, the Rater-measured pressure difference between the space containing the air handler and the conditioned space, with the air handler running at high speed, is ≤ 5 Pa. For systems > 1 ton, increase by 1 Pa per half ton.\n\nOne or two ducted returns 36: The greater of ≤ 4 CFM25 per 100 sq. ft. of CFA or ≤ 40 CFM.\n\nThree or more ducted returns 36 : The greater of ≤ 6 CFM25 per 100 sq. ft. of CFA or ≤ 60 CFM."},{"$f":"'1b. Rater Field Checklist'!$N$146","v":0},{"$f":"'1b. Rater Field Checklist'!$M$146","v":0}]
[{"$f":"'1b. Rater Field Checklist'!$C$149","v":" 6.4.2 Final: Tested per allowances below, with the air handler & all ducts, building cavities used as ducts, duct boots, & register grilles atop the finished surface (e.g., drywall, floor) installed. 51\n\nNo ducted returns 36: The greater of ≤ 6 CFM25 per 100 sq. ft. of CFA or ≤ 60 CFM. Additionally, the Rater-measured pressure difference between the space containing the air handler and the conditioned space, with the air handler running at high speed, is ≤ 5 Pa. For systems > 1 ton, increase by 1 Pa per half ton.\n\nOne or two ducted returns 36: The greater of ≤ 8 CFM25 per 100 sq. ft. of CFA or ≤ 80 CFM.\n\nThree or more ducted returns 36 : The greater of ≤ 12 CFM25 per 100 sq. ft. of CFA or ≤ 120 CFM."},{"$f":"'1b. Rater Field Checklist'!$N$149","v":0},{"$f":"'1b. Rater Field Checklist'!$M$149","v":0}]
[{"$f":"'1b. Rater Field Checklist'!$C$152","v":"6.5 Townhouses only: Rater-measured duct leakage to the outside the greater of ≤ 4 CFM25 per 100 sq. ft. of CFA or ≤ 40 CFM25. 48, 52"},{"$f":"'1b. Rater Field Checklist'!$N$152","v":0},{"$f":"'1b. Rater Field Checklist'!$M$152","v":0}]
[{"$f":"'1b. Rater Field Checklist'!$C$155","v":"6.6 Common Space: Supply, return, and exhaust ductwork and all plenums serving common spaces are sealed at all transverse joints, longitudinal seams, and duct wall penetrations with mastic, mastic tape, or internal aerosol-based sealant."},{"$f":"'1b. Rater Field Checklist'!$N$155","v":0},{"$f":"'1b. Rater Field Checklist'!$M$155","v":0}]
[{"$f":"'1b. Rater Field Checklist'!$C$156","v":"6.7 Duct leakage of central exhaust systems that serve four or more dwelling units, meets one of the following two options:"},{"$f":"'1b. Rater Field Checklist'!$N$156","v":0},{"$f":"'1b. Rater Field Checklist'!$M$156","v":0}]
[{"$f":"'1b. Rater Field Checklist'!$C$157","v":" 6.7.1 Rough-in: Tested including horizontal run outs, trunks, branches, and take-offs up to, but not including, the grilles, the leakage does not exceed 25% of exhaust fan flow. 53"},{"$f":"'1b. Rater Field Checklist'!$N$157","v":0},{"$f":"'1b. Rater Field Checklist'!$M$157","v":0}]
[{"$f":"'1b. Rater Field Checklist'!$C$159","v":" 6.7.2 Final: Tested inclusive of all ductwork between the fan and the grilles, the leakage does not exceed 30% of exhaust fan flow. 53"},{"$f":"'1b. Rater Field Checklist'!$N$159","v":0},{"$f":"'1b. Rater Field Checklist'!$M$159","v":0}]
[{"$f":"'1b. Rater Field Checklist'!$C$161","v":"7. Dwelling-Unit & Common Space Mechanical Vent. Systems (\"Vent Systems\") 54 & Inlets in Return Duct 55\n(National HVAC Design Report Item # indicated in parenthesis)"},{"$f":"'1b. Rater Field Checklist'!$N$161","v":0},{"$f":"'1b. Rater Field Checklist'!$M$161","v":0}]
[{"$f":"'1b. Rater Field Checklist'!$C$164","v":"7.1 Ventilation manufacturer & model number on installed equipment matches either of the following (check box): 41\n\n National HVAC Design Report           Written approval received from designer"},{"$f":"'1b. Rater Field Checklist'!$N$164","v":0},{"$f":"'1b. Rater Field Checklist'!$M$164","v":0}]
[{"$f":"'1b. Rater Field Checklist'!$C$166","v":"7.2 Rater-measured ventilation rate is within either ± 15 CFM or ± 15% of dwelling unit design values (2.7), and meets or exceeds rates required by ASHRAE 62.2-2010. 56"},{"$f":"'1b. Rater Field Checklist'!$N$166","v":0},{"$f":"'1b. Rater Field Checklist'!$M$166","v":0}]
[{"$f":"'1b. Rater Field Checklist'!$C$168","v":"7.3 Measured ventilation rate is within either ± 15 CFM or ± 15 % of common space design values (2.9), and meets or exceeds rates required by ASHRAE 62.1-2010 (2.8). 57"},{"$f":"'1b. Rater Field Checklist'!$N$168","v":0},{"$f":"'1b. Rater Field Checklist'!$M$168","v":0}]
[{"$f":"'1b. Rater Field Checklist'!$C$170","v":"7.4 A ventilation override control installed and also labeled if its function is not obvious (e.g., a label is required for a standalone wall switch, but not for a switch that’s on the ventilation equipment). Townhouses only: A readily-accessible ventilation override control installed and also labeled if its function is not obvious (e.g., a label is required for a toggle wall switch, but not for a switch that’s on the ventilation equipment)."},{"$f":"'1b. Rater Field Checklist'!$N$170","v":0},{"$f":"'1b. Rater Field Checklist'!$M$170","v":0}]
[{"$f":"'1b. Rater Field Checklist'!$C$171","v":"7.5 For any outdoor air inlet connected to a ducted return of the dwelling unit HVAC system (Complete if present; otherwise check “N/A”): 55"},{"$f":"'1b. Rater Field Checklist'!$N$171","v":0},{"$f":"'1b. Rater Field Checklist'!$M$171","v":0}]
[{"$f":"'1b. Rater Field Checklist'!$C$177","v":"7.6 If located in the dwelling unit, system fan rated ≤ 3 sones if intermittent and ≤ 2 sone if continuous, or exempted. 60"},{"$f":"'1b. Rater Field Checklist'!$N$177","v":0},{"$f":"'1b. Rater Field Checklist'!$M$177","v":0}]
[{"$f":"'1b. Rater Field Checklist'!$C$179","v":"7.7 If dwelling-unit Vent System controller operates the dwelling unit HVAC fan, then HVAC fan operation is intermittent and either the fan type is ECM / ICM (4.12), or the controls will reduce the run-time by accounting for HVAC system heating or cooling hours. 61"},{"$f":"'1b. Rater Field Checklist'!$N$179","v":0},{"$f":"'1b. Rater Field Checklist'!$M$179","v":0}]
[{"$f":"'1b. Rater Field Checklist'!$C$181","v":"7.8 In-unit bathroom fans or in-line fans are ENERGY STAR certified if used as part of the dwelling-unit mechanical ventilation system. 62"},{"$f":"'1b. Rater Field Checklist'!$N$181","v":0},{"$f":"'1b. Rater Field Checklist'!$M$181","v":0}]
[{"$f":"'1b. Rater Field Checklist'!$C$183","v":"7.9 If central exhaust fans, ≤ 1 HP, are installed as part of the dwelling-unit mechanical ventilation system, then they are direct-drive, ECM, with variable speed controllers. If > 1 HP, they are installed with NEMATM Premium Motors."},{"$f":"'1b. Rater Field Checklist'!$N$183","v":0},{"$f":"'1b. Rater Field Checklist'!$M$183","v":0}]
[{"$f":"'1b. Rater Field Checklist'!$C$184","v":"7.10 Air inlet locations (Complete if ventilation air inlet locations were installed (2.22, 2.23); otherwise check “N/A”): 63, 64"},{"$f":"'1b. Rater Field Checklist'!$N$184","v":0},{"$f":"'1b. Rater Field Checklist'!$M$184","v":0}]
[{"$f":"'1b. Rater Field Checklist'!$C$187","v":" 7.10.1 Inlet(s) pull ventilation air directly from outdoors and not from attic, crawlspace, garage, or adjacent dwelling unit."},{"$f":"'1b. Rater Field Checklist'!$N$187","v":0},{"$f":"'1b. Rater Field Checklist'!$M$187","v":0}]
[{"$f":"'1b. Rater Field Checklist'!$C$188","v":" 7.10.2 Inlet(s) are ≥ 2 ft. above grade or roof deck; ≥ 10 ft. of stretched-string distance from known contamination sources not exiting the roof, and ≥ 3 ft. distance from dryer exhausts and sources exiting the roof. 65"},{"$f":"'1b. Rater Field Checklist'!$N$188","v":0},{"$f":"'1b. Rater Field Checklist'!$M$188","v":0}]
[{"$f":"'1b. Rater Field Checklist'!$C$191","v":"8. Local Mechanical Exhaust (National HVAC Design Report Item # indicated in parenthesis)"},{"$f":"'1b. Rater Field Checklist'!$N$191","v":0},{"$f":"'1b. Rater Field Checklist'!$M$191","v":0}]
[{"$f":"'1b. Rater Field Checklist'!$C$192","v":"Dwelling Unit Mechanical exhaust - In each dwelling unit kitchen and bathroom, a system is installed that exhausts directly to the outdoors and meets one of the following Rater-measured airflow and manufacturer-rated sound level standards: 54, 66"},{"$f":"'1b. Rater Field Checklist'!$N$192","v":0},{"$f":"'1b. Rater Field Checklist'!$M$192","v":0}]
[{"$f":"'1b. Rater Field Checklist'!$C$195","v":"Location "},{"$f":"'1b. Rater Field Checklist'!$N$195","v":0},{"$f":"'1b. Rater Field Checklist'!$M$195","v":0}]
[{"$f":"'1b. Rater Field Checklist'!$C$196","v":"8.1 Kitchen\nAirflow\nContinuous Rate:  ≥ 5 ACH, based on kitchen volume 68, 69\nIntermittent Rate 67: ≥ 100 CFM and, if not integrated with range, also ≥ 5 ACH based on kitchen volume 68, 69, 70\n\nSound\nContinuous Rate: Recommended: ≤ 1 sone\nIntermittent Rate 67:  Recommended: ≤ 3 sones"},{"$f":"'1b. Rater Field Checklist'!$N$196","v":0},{"$f":"'1b. Rater Field Checklist'!$M$196","v":0}]
[{"$f":"'1b. Rater Field Checklist'!$C$201","v":"8.2 Bathroom\nAirflow\nContinuous Rate:  ≥ 20 CFM\nIntermittent Rate 67: ≥ 50 CFM\n\nSound\nContinuous Rate: Required: ≤ 2 sones\nIntermittent Rate 67:  Recommended: ≤ 3 sones"},{"$f":"'1b. Rater Field Checklist'!$N$201","v":0},{"$f":"'1b. Rater Field Checklist'!$M$201","v":0}]
[{"$f":"'1b. Rater Field Checklist'!$C$203","v":"Mechanical Exhaust for Common Spaces 2 and Shared Garages "},{"$f":"'1b. Rater Field Checklist'!$N$203","v":0},{"$f":"'1b. Rater Field Checklist'!$M$203","v":0}]
[{"$f":"'1b. Rater Field Checklist'!$C$205","v":"8.3 Measured exhaust rates are  ≥ ASHRAE 62.1 rates (2c). 57"},{"$f":"'1b. Rater Field Checklist'!$N$205","v":0},{"$f":"'1b. Rater Field Checklist'!$M$205","v":0}]
[{"$f":"'1b. Rater Field Checklist'!$C$207","v":"8.4 Where an exhaust system is installed in a shared garage, it is equipped with controls that sense CO and NO2."},{"$f":"'1b. Rater Field Checklist'!$N$207","v":0},{"$f":"'1b. Rater Field Checklist'!$M$207","v":0}]
[{"$f":"'1b. Rater Field Checklist'!$C$208","v":"9. Filtration "},{"$f":"'1b. Rater Field Checklist'!$N$208","v":0},{"$f":"'1b. Rater Field Checklist'!$M$208","v":0}]
[{"$f":"'1b. Rater Field Checklist'!$C$209","v":"9.1 MERV 6+ filter(s) installed in each ducted mechanical system serving an individual dwelling unit and located to facilitate access & regular service by the occupant or building owner. 71"},{"$f":"'1b. Rater Field Checklist'!$N$209","v":0},{"$f":"'1b. Rater Field Checklist'!$M$209","v":0}]
[{"$f":"'1b. Rater Field Checklist'!$C$211","v":" 9.1.1 Filter access panel includes gasket and fits snugly against the exposed edge of filter when closed to prevent bypass. 72"},{"$f":"'1b. Rater Field Checklist'!$N$211","v":0},{"$f":"'1b. Rater Field Checklist'!$M$211","v":0}]
[{"$f":"'1b. Rater Field Checklist'!$C$213","v":" 9.1.2 All return air and mechanically supplied outdoor air passes through filter prior to conditioning."},{"$f":"'1b. Rater Field Checklist'!$N$213","v":0},{"$f":"'1b. Rater Field Checklist'!$M$213","v":0}]
[{"$f":"'1b. Rater Field Checklist'!$C$214","v":"10. Combustion Appliances "},{"$f":"'1b. Rater Field Checklist'!$N$214","v":0},{"$f":"'1b. Rater Field Checklist'!$M$214","v":0}]
[{"$f":"'1b. Rater Field Checklist'!$C$215","v":"10.1 Furnaces, boilers, and water heaters located within the building’s pressure boundary are mechanically drafted or direct-vented. If mechanically drafted, the minimum volume of combustion air required for safe operation by the manufacturer and/or code shall be met or exceeded and make-up air sources must be mechanically closed when the combustion appliance is not in operation. Alternatives in Footnote 75. 73, 74, 75"},{"$f":"'1b. Rater Field Checklist'!$N$215","v":0},{"$f":"'1b. Rater Field Checklist'!$M$215","v":0}]
[{"$f":"'1b. Rater Field Checklist'!$C$219","v":"10.2 Fireplaces located within the building’s pressure boundary are direct-vented. 73, 74"},{"$f":"'1b. Rater Field Checklist'!$N$219","v":0},{"$f":"'1b. Rater Field Checklist'!$M$219","v":0}]
[{"$f":"'1b. Rater Field Checklist'!$C$222","v":"10.3 No unvented combustion appliances other than cooking ranges or ovens are located inside the building’s pressure boundary. For cooking ranges and ovens, local mechanical exhaust per Checklist Item 8.1 requirements must be met. 73"},{"$f":"'1b. Rater Field Checklist'!$N$222","v":0},{"$f":"'1b. Rater Field Checklist'!$M$222","v":0}]
[{"$f":"'1b. Rater Field Checklist'!$C$224","v":"Other "},{"$f":"'1b. Rater Field Checklist'!$N$224","v":0},{"$f":"'1b. Rater Field Checklist'!$M$224","v":0}]
[{"$f":"'1b. Rater Field Checklist'!$C$225","v":"11. Domestic Hot Water "},{"$f":"'1b. Rater Field Checklist'!$N$225","v":0},{"$f":"'1b. Rater Field Checklist'!$M$225","v":0}]
[{"$f":"'1b. Rater Field Checklist'!$C$226","v":"11.1 Prescriptive Path: Hot water equipment rated in EF or UEF meet the efficiency levels specified in the ENERGY STAR Multifamily Reference Design. Otherwise, meet or exceed ≥85% Et. 76"},{"$f":"'1b. Rater Field Checklist'!$N$226","v":0},{"$f":"'1b. Rater Field Checklist'!$M$226","v":0}]
[{"$f":"'1b. Rater Field Checklist'!$C$228","v":"11.2 ERI: For hot water equipment serving common spaces but not dwelling units nor shared laundry: where rated EF or UEF, meet the efficiency levels specified in the ENERGY STAR Multifamily Reference Design. Otherwise, meet or exceed 85% Et. 76"},{"$f":"'1b. Rater Field Checklist'!$N$228","v":0},{"$f":"'1b. Rater Field Checklist'!$M$228","v":0}]
[{"$f":"'1b. Rater Field Checklist'!$C$230","v":"11.3 For in-unit storage water heaters, AHRI Certificate confirms the presence of a heat trap."},{"$f":"'1b. Rater Field Checklist'!$N$230","v":0},{"$f":"'1b. Rater Field Checklist'!$M$230","v":0}]
[{"$f":"'1b. Rater Field Checklist'!$C$231","v":"11.4 DHW piping located in the dwelling unit is insulated with a minimum of R-3. 77"},{"$f":"'1b. Rater Field Checklist'!$N$231","v":0},{"$f":"'1b. Rater Field Checklist'!$M$231","v":0}]
[{"$f":"'1b. Rater Field Checklist'!$C$233","v":"11.5 Rater-measured delivery temperatures at faucets and showerheads do not exceed 125°F. 78"},{"$f":"'1b. Rater Field Checklist'!$N$233","v":0},{"$f":"'1b. Rater Field Checklist'!$M$233","v":0}]
[{"$f":"'1b. Rater Field Checklist'!$C$235","v":"12. Lighting "},{"$f":"'1b. Rater Field Checklist'!$N$235","v":0},{"$f":"'1b. Rater Field Checklist'!$M$235","v":0}]
[{"$f":"'1b. Rater Field Checklist'!$C$236","v":"12.1 Common Space 2 Lighting Controls:"},{"$f":"'1b. Rater Field Checklist'!$N$236","v":0},{"$f":"'1b. Rater Field Checklist'!$M$236","v":0}]
[{"$f":"'1b. Rater Field Checklist'!$C$238","v":" 12.1.1 ERI and Prescriptive Path: All common spaces 2 (including shared garages), except the building lobby and where automatic shutoff would endanger the safety of occupants, have occupancy sensors or automatic bi-level lighting controls installed and operation has been verified."},{"$f":"'1b. Rater Field Checklist'!$N$238","v":0},{"$f":"'1b. Rater Field Checklist'!$M$238","v":0}]
[{"$f":"'1b. Rater Field Checklist'!$C$240","v":" 12.1.2 ASHRAE Path only: All common spaces 2 (including shared garages), except the building lobby, corridors, and stairwells and where automatic shutoff would endanger the safety of occupants, have occupancy sensors or automatic bi-level lighting controls installed and operation has been verified."},{"$f":"'1b. Rater Field Checklist'!$N$240","v":0},{"$f":"'1b. Rater Field Checklist'!$M$240","v":0}]
[{"$f":"'1b. Rater Field Checklist'!$C$242","v":"12.2 Common Space 2 Lighting Power Density Maximum (except garages): 79"},{"$f":"'1b. Rater Field Checklist'!$N$242","v":0},{"$f":"'1b. Rater Field Checklist'!$M$242","v":0}]
[{"$f":"'1b. Rater Field Checklist'!$C$244","v":" 12.2.1 ERI and Prescriptive Path: Total installed lighting power for the combined common spaces 2 must not exceed ASHRAE 90.1-2007 allowances for those combined spaces, using the Space-by-Space or Building Area Method. See Footnote 80 for allowances. 80"},{"$f":"'1b. Rater Field Checklist'!$N$244","v":0},{"$f":"'1b. Rater Field Checklist'!$M$244","v":0}]
[{"$f":"'1b. Rater Field Checklist'!$C$247","v":" 12.2.2 ASHRAE Path only: Total installed lighting power for the combined common spaces 2 must not exceed ASHRAE 90.1-2007 allowances for those combined spaces, using the Space-by-Space or Building Area Method, by more than 20%. See Footnote 80 for allowances. 80"},{"$f":"'1b. Rater Field Checklist'!$N$247","v":0},{"$f":"'1b. Rater Field Checklist'!$M$247","v":0}]
[{"$f":"'1b. Rater Field Checklist'!$C$250","v":"12.3 Shared garages: Lighting power density does not exceed 0.24 W/ft2."},{"$f":"'1b. Rater Field Checklist'!$N$250","v":0},{"$f":"'1b. Rater Field Checklist'!$M$250","v":0}]
[{"$f":"'1b. Rater Field Checklist'!$C$251","v":"12.4 Exterior lighting controls: Fixtures, including parking lot fixtures, must include automatic switching on timers or photocell controls except fixtures intended for 24-hour operation, required for security, or located on dwelling unit balconies."},{"$f":"'1b. Rater Field Checklist'!$N$251","v":0},{"$f":"'1b. Rater Field Checklist'!$M$251","v":0}]
[{"$f":"'1b. Rater Field Checklist'!$C$252","v":"12.5 ERI Path: All exterior and common space lighting fixtures meet the efficiency requirements in the ENERGY STAR Multifamily Reference Design, except fixtures located on dwelling unit balconies. 81, 82"},{"$f":"'1b. Rater Field Checklist'!$N$252","v":0},{"$f":"'1b. Rater Field Checklist'!$M$252","v":0}]
[{"$f":"'1b. Rater Field Checklist'!$C$255","v":"12.6 Prescriptive Path: All lighting fixtures (i.e., dwelling units, common spaces, and exterior) meet the efficiency requirements in the ENERGY STAR Multifamily Reference Design. 81, 82"},{"$f":"'1b. Rater Field Checklist'!$N$255","v":0},{"$f":"'1b. Rater Field Checklist'!$M$255","v":0}]
[{"$f":"'1b. Rater Field Checklist'!$C$258","v":"12.7 Prescriptive Path: Dwelling unit overall in-unit lighting power density ≤ 0.75 W/ft2. When calculating overall lighting power density, use 1.1 W/ft2 where lighting is not installed. 79"},{"$f":"'1b. Rater Field Checklist'!$N$258","v":0},{"$f":"'1b. Rater Field Checklist'!$M$258","v":0}]
[{"$f":"'1b. Rater Field Checklist'!$C$260","v":"13. Appliances, Ceiling Fans, and Plumbing Fixtures "},{"$f":"'1b. Rater Field Checklist'!$N$260","v":0},{"$f":"'1b. Rater Field Checklist'!$M$260","v":0}]
[{"$f":"'1b. Rater Field Checklist'!$C$261","v":"13.1 Prescriptive Path: Installed appliances are ENERGY STAR certified. Installed bathroom faucets, bathroom aerators, and showerheads are WaterSense labeled. 83"},{"$f":"'1b. Rater Field Checklist'!$N$261","v":0},{"$f":"'1b. Rater Field Checklist'!$M$261","v":0}]
[{"$f":"'1b. Rater Field Checklist'!$C$263","v":"13.2 ERI Path: Where installed in common spaces, refrigerators and dishwashers are ENERGY STAR certified and showerheads are WaterSense labeled."},{"$f":"'1b. Rater Field Checklist'!$N$263","v":0},{"$f":"'1b. Rater Field Checklist'!$M$263","v":0}]
[{"$f":"'1b. Rater Field Checklist'!$C$264","v":"13.3 Prescriptive Path: Shower compartments with multiple fixtures cannot be operated simultaneously OR the total flow rate per shower compartment must not exceed 1.75 gallons per minute, as rated at 80 psi."},{"$f":"'1b. Rater Field Checklist'!$N$264","v":0},{"$f":"'1b. Rater Field Checklist'!$M$264","v":0}]
[{"$f":"'1b. Rater Field Checklist'!$C$265","v":"14. Whole Building Energy Consumption Data Acquisition "},{"$f":"'1b. Rater Field Checklist'!$N$265","v":0},{"$f":"'1b. Rater Field Checklist'!$M$265","v":0}]
[{"$f":"'1b. Rater Field Checklist'!$C$266","v":"14.1 For buildings 50,000 ft2 and larger, a strategy that enables the collection of monthly or annual building-level energy consumption data (electricity, natural gas, chilled water, steam, fuel oil, propane, etc.) has been confirmed. 84"},{"$f":"'1b. Rater Field Checklist'!$N$266","v":0},{"$f":"'1b. Rater Field Checklist'!$M$266","v":0}]
[]
[{"$f":"E7","v":"Intermediate 1"}]
["Rater Design Checklist","Verification Phase","Notes/Comments"]
[{"$f":"'1b. Rater Field Checklist'!$C$16","v":"Thermal Enclosure System "},{"$f":"'1b. Rater Field Checklist'!$N$16","v":0},{"$f":"'1b. Rater Field Checklist'!$M$16","v":0}]
[{"$f":"'1b. Rater Field Checklist'!$C$17","v":"1. High-Performance Fenestration & Insulation "},{"$f":"'1b. Rater Field Checklist'!$N$17","v":0},{"$f":"'1b. Rater Field Checklist'!$M$17","v":0}]
[{"$f":"'1b. Rater Field Checklist'!$C$18","v":"1.1 Fenestration meets or exceeds specification in Items 2.1 and 2.2 of the National Rater Design Review Checklist."},{"$f":"'1b. Rater Field Checklist'!$N$18","v":"Open Wall 3"},{"$f":"'1b. Rater Field Checklist'!$M$18","v":0}]
[{"$f":"'1b. Rater Field Checklist'!$C$19","v":"1.2 Insulation meets or exceeds levels specified in Items 3.1 and 3.2 of the National Rater Design Review Checklist."},{"$f":"'1b. Rater Field Checklist'!$N$19","v":"Open Wall 3"},{"$f":"'1b. Rater Field Checklist'!$M$19","v":0}]
[{"$f":"'1b. Rater Field Checklist'!$C$20","v":"1.3 All insulation achieves Grade I install per ANSI / RESNET / ICC Std. 301. Alternatives in footnote 6. 6,7"},{"$f":"'1b. Rater Field Checklist'!$N$20","v":"Open Wall 3"},{"$f":"'1b. Rater Field Checklist'!$M$20","v":0}]
[{"$f":"'1b. Rater Field Checklist'!$C$23","v":"1.4 Prescriptive Path: Window-to-wall ratio ≤ 30%. 8"},{"$f":"'1b. Rater Field Checklist'!$N$23","v":"Open Wall 1"},{"$f":"'1b. Rater Field Checklist'!$M$23","v":0}]
[{"$f":"'1b. Rater Field Checklist'!$C$25","v":"1.5 Heated plenums in unconditioned space or ambient conditions must meet the following requirements: 9"},{"$f":"'1b. Rater Field Checklist'!$N$25","v":0},{"$f":"'1b. Rater Field Checklist'!$M$25","v":0}]
[{"$f":"'1b. Rater Field Checklist'!$C$27","v":" 1.5.1 Sides of heated plenum are an air barrier and insulated to ≥ R-3ci in CZ 1-4; ≥ R-5ci in CZ 5-6; ≥ R-7.5ci in CZ 7; ≥ R-9.5ci in CZ 8, AND;"},{"$f":"'1b. Rater Field Checklist'!$N$27","v":"Open Wall 4"},{"$f":"'1b. Rater Field Checklist'!$M$27","v":0}]
[{"$f":"'1b. Rater Field Checklist'!$C$28","v":" 1.5.2 Insulation at top of heated plenum meets or exceeds the R-value for mass floors from the “All Other” column of Table 502.2(1) of 2009 IECC, AND;"},{"$f":"'1b. Rater Field Checklist'!$N$28","v":"Open Wall 4"},{"$f":"'1b. Rater Field Checklist'!$M$28","v":0}]
[{"$f":"'1b. Rater Field Checklist'!$C$29","v":" 1.5.3 Bottom of heated plenum must have at least R-13 insulation. 10"},{"$f":"'1b. Rater Field Checklist'!$N$29","v":"Open Wall 3"},{"$f":"'1b. Rater Field Checklist'!$M$29","v":0}]
[{"$f":"'1b. Rater Field Checklist'!$C$31","v":"1.6 Garages with space heating must meet the following requirements: 9"},{"$f":"'1b. Rater Field Checklist'!$N$31","v":0},{"$f":"'1b. Rater Field Checklist'!$M$31","v":0}]
[{"$f":"'1b. Rater Field Checklist'!$C$33","v":" 1.6.1 Insulation on above grade walls and walls on the first story below grade ≥ R-5ci in CZ 5-6; ≥ R-7.5ci in CZ 7; ≥ R-9.5ci in CZ 8, AND;"},{"$f":"'1b. Rater Field Checklist'!$N$33","v":0},{"$f":"'1b. Rater Field Checklist'!$M$33","v":0}]
[{"$f":"'1b. Rater Field Checklist'!$C$34","v":" 1.6.2 Ceiling insulation meets or exceeds the R-value for mass floors from the “All Other” column of Table 502.2(1) of 2009 IECC."},{"$f":"'1b. Rater Field Checklist'!$N$34","v":0},{"$f":"'1b. Rater Field Checklist'!$M$34","v":0}]
[{"$f":"'1b. Rater Field Checklist'!$C$35","v":"2. Fully-Aligned Air Barriers 11 At each insulated location below, a complete air barrier is provided that is fully aligned as follows:"},{"$f":"'1b. Rater Field Checklist'!$N$35","v":0},{"$f":"'1b. Rater Field Checklist'!$M$35","v":0}]
[{"$f":"'1b. Rater Field Checklist'!$C$37","v":"Ceilings: At interior or exterior horizontal surface of ceiling insulation in Climate Zones 1-3; at interior horizontal surface of ceiling insulation in Climate Zones 4-8. Also, at exterior vertical surface of ceiling insulation in all climate zones (e.g., using a wind baffle that extends to the full height of the insulation in every bay or a tabbed baffle in each bay with a soffit vent that prevents wind washing in adjacent bays). 12"},{"$f":"'1b. Rater Field Checklist'!$N$37","v":0},{"$f":"'1b. Rater Field Checklist'!$M$37","v":0}]
[{"$f":"'1b. Rater Field Checklist'!$C$39","v":"2.1 Dropped ceilings / soffits below unconditioned attics, chase / dead space, and all other ceilings."},{"$f":"'1b. Rater Field Checklist'!$N$39","v":0},{"$f":"'1b. Rater Field Checklist'!$M$39","v":0}]
[{"$f":"'1b. Rater Field Checklist'!$C$40","v":"Walls: At exterior vertical surface of wall insulation in all climate zones; also at interior vertical surface of wall insulation in Climate Zones 4-8. 13"},{"$f":"'1b. Rater Field Checklist'!$N$40","v":0},{"$f":"'1b. Rater Field Checklist'!$M$40","v":0}]
[{"$f":"'1b. Rater Field Checklist'!$C$42","v":"2.2 Walls behind showers, tubs, staircases, and fireplaces."},{"$f":"'1b. Rater Field Checklist'!$N$42","v":"Open Wall 2"},{"$f":"'1b. Rater Field Checklist'!$M$42","v":0}]
[{"$f":"'1b. Rater Field Checklist'!$C$43","v":"2.3 Architectural bump-outs, dead space, and all other exterior walls."},{"$f":"'1b. Rater Field Checklist'!$N$43","v":0},{"$f":"'1b. Rater Field Checklist'!$M$43","v":0}]
[{"$f":"'1b. Rater Field Checklist'!$C$44","v":"Floors: At exterior vertical surface of floor insulation in all climate zones and, if over unconditioned space, also at interior horizontal surface including supports to ensure alignment. Alternatives in Footnotes 15 & 16. 14, 15, 16"},{"$f":"'1b. Rater Field Checklist'!$N$44","v":0},{"$f":"'1b. Rater Field Checklist'!$M$44","v":0}]
[{"$f":"'1b. Rater Field Checklist'!$C$48","v":"2.4 Floors above garages, floors above unconditioned spaces, and cantilevered floors."},{"$f":"'1b. Rater Field Checklist'!$N$48","v":0},{"$f":"'1b. Rater Field Checklist'!$M$48","v":0}]
[{"$f":"'1b. Rater Field Checklist'!$C$49","v":"2.5 All other floors adjoining unconditioned space (e.g., rim / band joists at exterior wall or at porch roof)."},{"$f":"'1b. Rater Field Checklist'!$N$49","v":0},{"$f":"'1b. Rater Field Checklist'!$M$49","v":0}]
[{"$f":"'1b. Rater Field Checklist'!$C$50","v":"3. Reduced Thermal Bridging"},{"$f":"'1b. Rater Field Checklist'!$N$50","v":0},{"$f":"'1b. Rater Field Checklist'!$M$50","v":0}]
[{"$f":"'1b. Rater Field Checklist'!$C$51","v":"3.1 For insulated ceilings with attic space above (i.e., non-cathedralized), Grade I insulation extends to the inside face of the exterior wall below and is ≥ R-21 in CZ 1-5; ≥ R-30 in CZ 6-8. 17"},{"$f":"'1b. Rater Field Checklist'!$N$51","v":0},{"$f":"'1b. Rater Field Checklist'!$M$51","v":0}]
[{"$f":"'1b. Rater Field Checklist'!$C$53","v":"3.2 For insulated ceilings with attic space above, attic access panels and drop-down stairs insulated ≥ R-10 or equipped with durable ≥ R-10 cover. 18"},{"$f":"'1b. Rater Field Checklist'!$N$53","v":0},{"$f":"'1b. Rater Field Checklist'!$M$53","v":0}]
[{"$f":"'1b. Rater Field Checklist'!$C$55","v":"3.3 Insulation beneath attic platforms (e.g., HVAC platforms, walkways) ≥ R-21 in CZ 1-5; ≥ R-30 in CZ 6-8."},{"$f":"'1b. Rater Field Checklist'!$N$55","v":0},{"$f":"'1b. Rater Field Checklist'!$M$55","v":0}]
[{"$f":"'1b. Rater Field Checklist'!$C$56","v":"3.4 For slabs on grade in CZ 4-8, 100% of slab edge insulated to ≥ R-5 at the depth specified by Table 502.2(1) of the 2009 IECC and aligned with the thermal boundary of the walls. 19, 20"},{"$f":"'1b. Rater Field Checklist'!$N$56","v":0},{"$f":"'1b. Rater Field Checklist'!$M$56","v":0}]
[{"$f":"'1b. Rater Field Checklist'!$C$59","v":"3.5 For elevated concrete slabs in CZ 4-8 (i.e., podiums and projected balconies, but not intermediate slab floor edges) 100% of the slab edge insulated to ≥ R-5. For podiums, this insulation must extend for a minimum of 8ft below the bottom of the slab edge. For columns, the insulation must surround the column, at a depth of 4ft. Alternatives in Footnote 21. 21"},{"$f":"'1b. Rater Field Checklist'!$N$59","v":0},{"$f":"'1b. Rater Field Checklist'!$M$59","v":0}]
[{"$f":"'1b. Rater Field Checklist'!$C$61","v":"3.6 For elevated concrete slabs in CZ 4-8 (i.e., podiums, but not intermediate floor slabs), floor insulation meets the U-factor specified in Table 502.1.2 of the 2009 IECC for Group R when dwelling units are above the slab, and for ‘All Other’ when common space is above the slab. 22"},{"$f":"'1b. Rater Field Checklist'!$N$61","v":0},{"$f":"'1b. Rater Field Checklist'!$M$61","v":0}]
[{"$f":"'1b. Rater Field Checklist'!$C$63","v":"3.7 At above-grade walls and rim / band joists separating conditioned space from the exterior, one of the following options used: 23, 26"},{"$f":"'1b. Rater Field Checklist'!$N$63","v":0},{"$f":"'1b. Rater Field Checklist'!$M$63","v":0}]
[{"$f":"'1b. Rater Field Checklist'!$C$66","v":" 3.7.1 Continuous rigid insulation, insulated siding, or combination of the two is ≥ R-3 in CZ 1-4; ≥ R-5 in CZ 5-8 24, 25, 26, 27; OR;"},{"$f":"'1b. Rater Field Checklist'!$N$66","v":0},{"$f":"'1b. Rater Field Checklist'!$M$66","v":0}]
[{"$f":"'1b. Rater Field Checklist'!$C$71","v":" 3.7.2 Structural Insulated Panels OR; Insulated Concrete Forms OR; Double-wall framing OR; 24, 26, 28"},{"$f":"'1b. Rater Field Checklist'!$N$71","v":0},{"$f":"'1b. Rater Field Checklist'!$M$71","v":0}]
[{"$f":"'1b. Rater Field Checklist'!$C$75","v":" 3.7.3 Option only for wood-framed walls either in CZ 1-3 OR ≤ 3 stories: ‘advanced framing’ details including all of the Items below: 26, 29"},{"$f":"'1b. Rater Field Checklist'!$N$75","v":0},{"$f":"'1b. Rater Field Checklist'!$M$75","v":0}]
[{"$f":"'1b. Rater Field Checklist'!$C$78","v":"  3.7.3a Corners insulated ≥ R-6 to edge, 30 AND;"},{"$f":"'1b. Rater Field Checklist'!$N$78","v":0},{"$f":"'1b. Rater Field Checklist'!$M$78","v":0}]
[{"$f":"'1b. Rater Field Checklist'!$C$80","v":"  3.7.3b Headers above windows & doors insulated ≥ R-3 for 2x4 framing or equivalent cavity width, and ≥ R-5 for all other assemblies (e.g., with 2x6 framing), 31 AND;"},{"$f":"'1b. Rater Field Checklist'!$N$80","v":0},{"$f":"'1b. Rater Field Checklist'!$M$80","v":0}]
[{"$f":"'1b. Rater Field Checklist'!$C$82","v":"  3.7.3c Interior / exterior wall intersections insulated to same R-value as rest of exterior wall. 32"},{"$f":"'1b. Rater Field Checklist'!$N$82","v":0},{"$f":"'1b. Rater Field Checklist'!$M$82","v":0}]
[{"$f":"'1b. Rater Field Checklist'!$C$84","v":"4. Air Sealing (Unless otherwise noted below, “sealed” indicates the use of caulk, foam, or equivalent material.)"},{"$f":"'1b. Rater Field Checklist'!$N$84","v":0},{"$f":"'1b. Rater Field Checklist'!$M$84","v":0}]
[{"$f":"'1b. Rater Field Checklist'!$C$85","v":"4.1 Ducts, flues, shafts, plumbing, piping, wiring, exhaust fans, & other penetrations to unconditioned space sealed, with blocking / flashing as needed."},{"$f":"'1b. Rater Field Checklist'!$N$85","v":0},{"$f":"'1b. Rater Field Checklist'!$M$85","v":0}]
[{"$f":"'1b. Rater Field Checklist'!$C$86","v":"4.2 Recessed lighting fixtures adjacent to unconditioned space ICAT labeled and gasketed. Also, if in insulated ceiling without attic above, exterior surface of fixture insulated to ≥ R-10 in CZ 4-8."},{"$f":"'1b. Rater Field Checklist'!$N$86","v":0},{"$f":"'1b. Rater Field Checklist'!$M$86","v":0}]
[{"$f":"'1b. Rater Field Checklist'!$C$87","v":"4.3 Continuous top plate or blocking is at top of walls adjoining unconditioned space including at balloon-framed parapets, and sealed."},{"$f":"'1b. Rater Field Checklist'!$N$87","v":0},{"$f":"'1b. Rater Field Checklist'!$M$87","v":0}]
[{"$f":"'1b. Rater Field Checklist'!$C$88","v":"4.4 Drywall sealed to top plate at all unconditioned attic / wall interfaces using caulk, foam, drywall adhesive (but not other construction adhesives), or equivalent material. Either apply sealant directly between drywall and top plate or to the seam between the two from the attic above."},{"$f":"'1b. Rater Field Checklist'!$N$88","v":0},{"$f":"'1b. Rater Field Checklist'!$M$88","v":0}]
[{"$f":"'1b. Rater Field Checklist'!$C$89","v":"4.5 Rough opening around windows & exterior doors sealed. 33"},{"$f":"'1b. Rater Field Checklist'!$N$89","v":0},{"$f":"'1b. Rater Field Checklist'!$M$89","v":0}]
[{"$f":"'1b. Rater Field Checklist'!$C$91","v":"4.6 Assemblies that separate attached garages from occupiable space sealed and, also, an air barrier installed, sealed, and aligned with these assemblies. 34"},{"$f":"'1b. Rater Field Checklist'!$N$91","v":0},{"$f":"'1b. Rater Field Checklist'!$M$91","v":0}]
[{"$f":"'1b. Rater Field Checklist'!$C$93","v":"4.7 Doors adjacent to unconditioned space (e.g., attics, garages, basements) or ambient conditions made substantially air-tight with doorsweep and weatherstripping or equivalent gasket."},{"$f":"'1b. Rater Field Checklist'!$N$93","v":0},{"$f":"'1b. Rater Field Checklist'!$M$93","v":0}]
[{"$f":"'1b. Rater Field Checklist'!$C$94","v":"4.8 Attic access panels, roof hatches and drop-down stairs are gasketed (i.e., not caulked) or equipped with durable covers that are gasketed. 18"},{"$f":"'1b. Rater Field Checklist'!$N$94","v":0},{"$f":"'1b. Rater Field Checklist'!$M$94","v":0}]
[{"$f":"'1b. Rater Field Checklist'!$C$96","v":"The following items must be additionally verified in dwelling units, to reduce air leakage between conditioned spaces."},{"$f":"'1b. Rater Field Checklist'!$N$96","v":0},{"$f":"'1b. Rater Field Checklist'!$M$96","v":0}]
[{"$f":"'1b. Rater Field Checklist'!$C$97","v":"4.9 Doors serving as a unit entrance from a corridor / stairwell made substantially air-tight with doorsweep and weatherstripping or equivalent gasket."},{"$f":"'1b. Rater Field Checklist'!$N$97","v":0},{"$f":"'1b. Rater Field Checklist'!$M$97","v":0}]
[{"$f":"'1b. Rater Field Checklist'!$C$98","v":"4.10 Rater-measured compartmentalization is no greater than 0.30 CFM50 per square feet of dwelling unit enclosure area, following procedures in ANSI / RESNET / ICC Std. 380. 35"},{"$f":"'1b. Rater Field Checklist'!$N$98","v":0},{"$f":"'1b. Rater Field Checklist'!$M$98","v":0}]
[{"$f":"'1b. Rater Field Checklist'!$C$100","v":" 4.10.1 For dwelling units with forced air distribution systems without ducted returns and located in a closet adjacent to unconditioned space, the Rater-measured pressure difference between the space containing the air handler and the conditioned space during the compartmentalization test is no greater than 5 Pa. 36"},{"$f":"'1b. Rater Field Checklist'!$N$100","v":0},{"$f":"'1b. Rater Field Checklist'!$M$100","v":0}]
[{"$f":"'1b. Rater Field Checklist'!$C$102","v":"HVAC System 37 (HVAC Design Report Item # indicated in parenthesis) "},{"$f":"'1b. Rater Field Checklist'!$N$102","v":0},{"$f":"'1b. Rater Field Checklist'!$M$102","v":0}]
[{"$f":"'1b. Rater Field Checklist'!$C$104","v":"5. Heating & Cooling Equipment – Complete Track A – HVAC Grading by Rater OR Track B – HVAC Testing by FT Agent 38"},{"$f":"'1b. Rater Field Checklist'!$N$104","v":0},{"$f":"'1b. Rater Field Checklist'!$M$104","v":0}]
[{"$f":"'1b. Rater Field Checklist'!$C$106","v":"Track A 39"},{"$f":"'1b. Rater Field Checklist'!$N$106","v":0},{"$f":"'1b. Rater Field Checklist'!$M$106","v":0}]
[{"$f":"'1b. Rater Field Checklist'!$C$108","v":"5a.1 Blower fan volumetric airflow is Grade I or II per ANSI / RESNET / ACCA Std. 310"},{"$f":"'1b. Rater Field Checklist'!$N$108","v":0},{"$f":"'1b. Rater Field Checklist'!$M$108","v":0}]
[{"$f":"'1b. Rater Field Checklist'!$C$109","v":"5a.2 Blower fan watt draw is Grade I or II per ANSI / RESNET / ACCA Std. 310"},{"$f":"'1b. Rater Field Checklist'!$N$109","v":0},{"$f":"'1b. Rater Field Checklist'!$M$109","v":0}]
[{"$f":"'1b. Rater Field Checklist'!$C$110","v":"5a.3 Refrigerant charge is Grade I per ANSI / RESNET / ACCA Std. 310. See Footnote 40 for exemptions. 40"},{"$f":"'1b. Rater Field Checklist'!$N$110","v":0},{"$f":"'1b. Rater Field Checklist'!$M$110","v":0}]
[{"$f":"'1b. Rater Field Checklist'!$C$112","v":"Track B"},{"$f":"'1b. Rater Field Checklist'!$N$112","v":0},{"$f":"'1b. Rater Field Checklist'!$M$112","v":0}]
[{"$f":"'1b. Rater Field Checklist'!$C$113","v":"5b.1 HVAC manufacturer & model number on installed equipment matches either of the following (check box): 41\n \n National HVAC Design Report (4.6-4.9 & 4.25-4.26)      Written approval received from designer"},{"$f":"'1b. Rater Field Checklist'!$N$113","v":0},{"$f":"'1b. Rater Field Checklist'!$M$113","v":0}]
[{"$f":"'1b. Rater Field Checklist'!$C$115","v":"5b.2 External static pressure measured by Rater at contractor-provided test locations and documented below: 42\n\nReturn-Side External Static Pressure: ________IWC\nSupply-Side External Static Pressure: __________IWC"},{"$f":"'1b. Rater Field Checklist'!$N$115","v":0},{"$f":"'1b. Rater Field Checklist'!$M$115","v":0}]
[{"$f":"'1b. Rater Field Checklist'!$C$117","v":"5.4 Prescriptive Path: Heating and cooling equipment serving dwelling units and common spaces meet the efficiency levels specified in the Exhibit X. Electric resistance space heating is not installed in dwelling units."},{"$f":"'1b. Rater Field Checklist'!$N$117","v":0},{"$f":"'1b. Rater Field Checklist'!$M$117","v":0}]
[{"$f":"'1b. Rater Field Checklist'!$C$118","v":"5.5 ERI Path: Heating and cooling equipment serving common spaces, but not serving dwelling units, meet the efficiency levels specified in the Exhibit X. See Exhibit X for restrictions on electric resistance space heating."},{"$f":"'1b. Rater Field Checklist'!$N$118","v":0},{"$f":"'1b. Rater Field Checklist'!$M$118","v":0}]
[{"$f":"'1b. Rater Field Checklist'!$C$119","v":"5.6 National HVAC Functional Testing Checklist(s) collected prior to certification, with all HVAC systems in the building / project fully documented. Exception: Where credentialed HVAC Contractor(s) are completing the National HVAC Functional Testing Checklist, the checklist is not required to be collected for the systems they verify. 43"},{"$f":"'1b. Rater Field Checklist'!$N$119","v":0},{"$f":"'1b. Rater Field Checklist'!$M$119","v":0}]
[{"$f":"'1b. Rater Field Checklist'!$C$121","v":"5.7 Rater has verified and documented that Functional Testing Agent(s) (“FT Agent(s)”) completing the National HVAC Functional Testing Checklist(s) hold one of the required credentials and completed orientation, if applicable. 43\n\nCredential: ______________________ “FT Agent” Company Name(s): _______________________"},{"$f":"'1b. Rater Field Checklist'!$N$121","v":0},{"$f":"'1b. Rater Field Checklist'!$M$121","v":0}]
[{"$f":"'1b. Rater Field Checklist'!$C$123","v":"Equipment Controls "},{"$f":"'1b. Rater Field Checklist'!$N$123","v":0},{"$f":"'1b. Rater Field Checklist'!$M$123","v":0}]
[{"$f":"'1b. Rater Field Checklist'!$C$124","v":"5.8 All heating and cooling systems serving a dwelling unit have thermostatic controls within the dwelling unit which are not located on exterior walls."},{"$f":"'1b. Rater Field Checklist'!$N$124","v":0},{"$f":"'1b. Rater Field Checklist'!$M$124","v":0}]
[{"$f":"'1b. Rater Field Checklist'!$C$125","v":" 5.8.1 Prescriptive Path: Dwelling unit thermostats are programmable."},{"$f":"'1b. Rater Field Checklist'!$N$125","v":0},{"$f":"'1b. Rater Field Checklist'!$M$125","v":0}]
[{"$f":"'1b. Rater Field Checklist'!$C$126","v":"5.9 Stair and elevator shaft vents equipped with motorized dampers that are capable of being automatically closed during normal building operation and are interlocked to open as required by fire and smoke detection systems. Dampers are verified to be closed at the time of inspection."},{"$f":"'1b. Rater Field Checklist'!$N$126","v":0},{"$f":"'1b. Rater Field Checklist'!$M$126","v":0}]
[{"$f":"'1b. Rater Field Checklist'!$C$127","v":"5.10 Freeze protection systems, such as heat tracing of piping and heat exchangers, including self-regulating heat tracing, and garage / plenum heaters include automatic controls that are verified to shut off the systems when pipe wall or garage / plenum temperatures are above 40°F."},{"$f":"'1b. Rater Field Checklist'!$N$127","v":0},{"$f":"'1b. Rater Field Checklist'!$M$127","v":0}]
[{"$f":"'1b. Rater Field Checklist'!$C$128","v":" 5.10.1 Where heat tracing is installed for freeze-protection, controls must be based on pipe wall temperature and a minimum of R-3 pipe insulation is also required."},{"$f":"'1b. Rater Field Checklist'!$N$128","v":0},{"$f":"'1b. Rater Field Checklist'!$M$128","v":0}]
[{"$f":"'1b. Rater Field Checklist'!$C$129","v":"5.11 Snow- and ice-melting systems include automatic controls that are verified to shut off the systems when the pavement temperature is above 50°F and no precipitation is falling, and an automatic or manual control is installed that is verified to shut off system when the outdoor temperature is above 40°F, so that the potential for snow or ice accumulation is negligible."},{"$f":"'1b. Rater Field Checklist'!$N$129","v":0},{"$f":"'1b. Rater Field Checklist'!$M$129","v":0}]
[{"$f":"'1b. Rater Field Checklist'!$C$130","v":"Hydronic Distribution "},{"$f":"'1b. Rater Field Checklist'!$N$130","v":0},{"$f":"'1b. Rater Field Checklist'!$M$130","v":0}]
[{"$f":"'1b. Rater Field Checklist'!$C$131","v":"5.12 For hydronic distribution systems, all terminal heating and cooling distribution equipment are separated from the riser or distribution loop by a control valve or terminal distribution pump, so that heated or cooled fluid is not delivered to the dwelling unit distribution equipment when there is no call from the thermostat."},{"$f":"'1b. Rater Field Checklist'!$N$131","v":0},{"$f":"'1b. Rater Field Checklist'!$M$131","v":0}]
[{"$f":"'1b. Rater Field Checklist'!$C$132","v":"5.13 Terminal units in hydronic distribution systems are equipped with pressure independent balancing valves or pressure independent control valves."},{"$f":"'1b. Rater Field Checklist'!$N$132","v":0},{"$f":"'1b. Rater Field Checklist'!$M$132","v":0}]
[{"$f":"'1b. Rater Field Checklist'!$C$133","v":"5.14 Piping of a heating or cooling system is insulated in accordance with Item 4.41 on the National HVAC Design Report, including where passing through planks or any other penetrations."},{"$f":"'1b. Rater Field Checklist'!$N$133","v":0},{"$f":"'1b. Rater Field Checklist'!$M$133","v":0}]
[{"$f":"'1b. Rater Field Checklist'!$C$134","v":"5.15 For circulating pumps serving hydronic heating or cooling systems with three-phase motors, 1 horsepower or larger, motors meet or exceed efficiency standards for NEMA Premium™ motors. If 5 horsepower or larger, also installed with variable frequency drives."},{"$f":"'1b. Rater Field Checklist'!$N$134","v":0},{"$f":"'1b. Rater Field Checklist'!$M$134","v":0}]
[{"$f":"'1b. Rater Field Checklist'!$C$135","v":"6. Duct Quality Installation - Applies to Heating, Cooling, Ventilation, Exhaust, & Pressure Balancing Ducts, Unless Noted in Footnote."},{"$f":"'1b. Rater Field Checklist'!$N$135","v":0},{"$f":"'1b. Rater Field Checklist'!$M$135","v":0}]
[{"$f":"'1b. Rater Field Checklist'!$C$136","v":"6.1 Ductwork installed without kinks, sharp bends, compressions, or excessive coiled flexible ductwork. 45"},{"$f":"'1b. Rater Field Checklist'!$N$136","v":0},{"$f":"'1b. Rater Field Checklist'!$M$136","v":0}]
[{"$f":"'1b. Rater Field Checklist'!$C$138","v":"6.2 Bedrooms with a design supply airflow ≥ 150 CFM (per Item 5.2 on the National HVAC Design Report) pressure-balanced (e.g., using transfer grilles, jump ducts, dedicated return ducts, undercut doors) to achieve a Rater-measured pressure differential ≥ -5 Pa and ≤ +5 Pa with respect to the main body of the dwelling unit when all air handlers are operating. See Footnote 46 for test configuration. 46"},{"$f":"'1b. Rater Field Checklist'!$N$138","v":0},{"$f":"'1b. Rater Field Checklist'!$M$138","v":0}]
[{"$f":"'1b. Rater Field Checklist'!$C$140","v":"6.3 All supply and return ducts in unconditioned space, including connections to trunk ducts, are insulated to ≥ R-6. 47"},{"$f":"'1b. Rater Field Checklist'!$N$140","v":0},{"$f":"'1b. Rater Field Checklist'!$M$140","v":0}]
[{"$f":"'1b. Rater Field Checklist'!$C$142","v":" 6.3.1 Prescriptive Path: Dwelling unit ductwork meets the location and insulation requirements specified in the ENERGY STAR Multifamily Reference Design."},{"$f":"'1b. Rater Field Checklist'!$N$142","v":0},{"$f":"'1b. Rater Field Checklist'!$M$142","v":0}]
[{"$f":"'1b. Rater Field Checklist'!$C$143","v":"6.4 Rater-measured total duct leakage in dwelling units meets one of the following two options: 48, 49"},{"$f":"'1b. Rater Field Checklist'!$N$143","v":0},{"$f":"'1b. Rater Field Checklist'!$M$143","v":0}]
[{"$f":"'1b. Rater Field Checklist'!$C$146","v":" 6.4.1 Rough-in: Tested per allowances below, with air handler & all ducts, building cavities used as ducts, & duct boots installed. In addition, all duct boots sealed to finished surface, Rater-verified at final. 50\n\nNo ducted returns 36: The greater of ≤ 3 CFM25 per 100 sq. ft. of CFA or ≤ 30 CFM. Additionally, the Rater-measured pressure difference between the space containing the air handler and the conditioned space, with the air handler running at high speed, is ≤ 5 Pa. For systems > 1 ton, increase by 1 Pa per half ton.\n\nOne or two ducted returns 36: The greater of ≤ 4 CFM25 per 100 sq. ft. of CFA or ≤ 40 CFM.\n\nThree or more ducted returns 36 : The greater of ≤ 6 CFM25 per 100 sq. ft. of CFA or ≤ 60 CFM."},{"$f":"'1b. Rater Field Checklist'!$N$146","v":0},{"$f":"'1b. Rater Field Checklist'!$M$146","v":0}]
[{"$f":"'1b. Rater Field Checklist'!$C$149","v":" 6.4.2 Final: Tested per allowances below, with the air handler & all ducts, building cavities used as ducts, duct boots, & register grilles atop the finished surface (e.g., drywall, floor) installed. 51\n\nNo ducted returns 36: The greater of ≤ 6 CFM25 per 100 sq. ft. of CFA or ≤ 60 CFM. Additionally, the Rater-measured pressure difference between the space containing the air handler and the conditioned space, with the air handler running at high speed, is ≤ 5 Pa. For systems > 1 ton, increase by 1 Pa per half ton.\n\nOne or two ducted returns 36: The greater of ≤ 8 CFM25 per 100 sq. ft. of CFA or ≤ 80 CFM.\n\nThree or more ducted returns 36 : The greater of ≤ 12 CFM25 per 100 sq. ft. of CFA or ≤ 120 CFM."},{"$f":"'1b. Rater Field Checklist'!$N$149","v":0},{"$f":"'1b. Rater Field Checklist'!$M$149","v":0}]
[{"$f":"'1b. Rater Field Checklist'!$C$152","v":"6.5 Townhouses only: Rater-measured duct leakage to the outside the greater of ≤ 4 CFM25 per 100 sq. ft. of CFA or ≤ 40 CFM25. 48, 52"},{"$f":"'1b. Rater Field Checklist'!$N$152","v":0},{"$f":"'1b. Rater Field Checklist'!$M$152","v":0}]
[{"$f":"'1b. Rater Field Checklist'!$C$155","v":"6.6 Common Space: Supply, return, and exhaust ductwork and all plenums serving common spaces are sealed at all transverse joints, longitudinal seams, and duct wall penetrations with mastic, mastic tape, or internal aerosol-based sealant."},{"$f":"'1b. Rater Field Checklist'!$N$155","v":0},{"$f":"'1b. Rater Field Checklist'!$M$155","v":0}]
[{"$f":"'1b. Rater Field Checklist'!$C$156","v":"6.7 Duct leakage of central exhaust systems that serve four or more dwelling units, meets one of the following two options:"},{"$f":"'1b. Rater Field Checklist'!$N$156","v":0},{"$f":"'1b. Rater Field Checklist'!$M$156","v":0}]
[{"$f":"'1b. Rater Field Checklist'!$C$157","v":" 6.7.1 Rough-in: Tested including horizontal run outs, trunks, branches, and take-offs up to, but not including, the grilles, the leakage does not exceed 25% of exhaust fan flow. 53"},{"$f":"'1b. Rater Field Checklist'!$N$157","v":0},{"$f":"'1b. Rater Field Checklist'!$M$157","v":0}]
[{"$f":"'1b. Rater Field Checklist'!$C$159","v":" 6.7.2 Final: Tested inclusive of all ductwork between the fan and the grilles, the leakage does not exceed 30% of exhaust fan flow. 53"},{"$f":"'1b. Rater Field Checklist'!$N$159","v":0},{"$f":"'1b. Rater Field Checklist'!$M$159","v":0}]
[{"$f":"'1b. Rater Field Checklist'!$C$161","v":"7. Dwelling-Unit & Common Space Mechanical Vent. Systems (\"Vent Systems\") 54 & Inlets in Return Duct 55\n(National HVAC Design Report Item # indicated in parenthesis)"},{"$f":"'1b. Rater Field Checklist'!$N$161","v":0},{"$f":"'1b. Rater Field Checklist'!$M$161","v":0}]
[{"$f":"'1b. Rater Field Checklist'!$C$164","v":"7.1 Ventilation manufacturer & model number on installed equipment matches either of the following (check box): 41\n\n National HVAC Design Report           Written approval received from designer"},{"$f":"'1b. Rater Field Checklist'!$N$164","v":0},{"$f":"'1b. Rater Field Checklist'!$M$164","v":0}]
[{"$f":"'1b. Rater Field Checklist'!$C$166","v":"7.2 Rater-measured ventilation rate is within either ± 15 CFM or ± 15% of dwelling unit design values (2.7), and meets or exceeds rates required by ASHRAE 62.2-2010. 56"},{"$f":"'1b. Rater Field Checklist'!$N$166","v":0},{"$f":"'1b. Rater Field Checklist'!$M$166","v":0}]
[{"$f":"'1b. Rater Field Checklist'!$C$168","v":"7.3 Measured ventilation rate is within either ± 15 CFM or ± 15 % of common space design values (2.9), and meets or exceeds rates required by ASHRAE 62.1-2010 (2.8). 57"},{"$f":"'1b. Rater Field Checklist'!$N$168","v":0},{"$f":"'1b. Rater Field Checklist'!$M$168","v":0}]
[{"$f":"'1b. Rater Field Checklist'!$C$170","v":"7.4 A ventilation override control installed and also labeled if its function is not obvious (e.g., a label is required for a standalone wall switch, but not for a switch that’s on the ventilation equipment). Townhouses only: A readily-accessible ventilation override control installed and also labeled if its function is not obvious (e.g., a label is required for a toggle wall switch, but not for a switch that’s on the ventilation equipment)."},{"$f":"'1b. Rater Field Checklist'!$N$170","v":0},{"$f":"'1b. Rater Field Checklist'!$M$170","v":0}]
[{"$f":"'1b. Rater Field Checklist'!$C$171","v":"7.5 For any outdoor air inlet connected to a ducted return of the dwelling unit HVAC system (Complete if present; otherwise check “N/A”): 55"},{"$f":"'1b. Rater Field Checklist'!$N$171","v":0},{"$f":"'1b. Rater Field Checklist'!$M$171","v":0}]
[{"$f":"'1b. Rater Field Checklist'!$C$177","v":"7.6 If located in the dwelling unit, system fan rated ≤ 3 sones if intermittent and ≤ 2 sone if continuous, or exempted. 60"},{"$f":"'1b. Rater Field Checklist'!$N$177","v":0},{"$f":"'1b. Rater Field Checklist'!$M$177","v":0}]
[{"$f":"'1b. Rater Field Checklist'!$C$179","v":"7.7 If dwelling-unit Vent System controller operates the dwelling unit HVAC fan, then HVAC fan operation is intermittent and either the fan type is ECM / ICM (4.12), or the controls will reduce the run-time by accounting for HVAC system heating or cooling hours. 61"},{"$f":"'1b. Rater Field Checklist'!$N$179","v":0},{"$f":"'1b. Rater Field Checklist'!$M$179","v":0}]
[{"$f":"'1b. Rater Field Checklist'!$C$181","v":"7.8 In-unit bathroom fans or in-line fans are ENERGY STAR certified if used as part of the dwelling-unit mechanical ventilation system. 62"},{"$f":"'1b. Rater Field Checklist'!$N$181","v":0},{"$f":"'1b. Rater Field Checklist'!$M$181","v":0}]
[{"$f":"'1b. Rater Field Checklist'!$C$183","v":"7.9 If central exhaust fans, ≤ 1 HP, are installed as part of the dwelling-unit mechanical ventilation system, then they are direct-drive, ECM, with variable speed controllers. If > 1 HP, they are installed with NEMATM Premium Motors."},{"$f":"'1b. Rater Field Checklist'!$N$183","v":0},{"$f":"'1b. Rater Field Checklist'!$M$183","v":0}]
[{"$f":"'1b. Rater Field Checklist'!$C$184","v":"7.10 Air inlet locations (Complete if ventilation air inlet locations were installed (2.22, 2.23); otherwise check “N/A”): 63, 64"},{"$f":"'1b. Rater Field Checklist'!$N$184","v":0},{"$f":"'1b. Rater Field Checklist'!$M$184","v":0}]
[{"$f":"'1b. Rater Field Checklist'!$C$187","v":" 7.10.1 Inlet(s) pull ventilation air directly from outdoors and not from attic, crawlspace, garage, or adjacent dwelling unit."},{"$f":"'1b. Rater Field Checklist'!$N$187","v":0},{"$f":"'1b. Rater Field Checklist'!$M$187","v":0}]
[{"$f":"'1b. Rater Field Checklist'!$C$188","v":" 7.10.2 Inlet(s) are ≥ 2 ft. above grade or roof deck; ≥ 10 ft. of stretched-string distance from known contamination sources not exiting the roof, and ≥ 3 ft. distance from dryer exhausts and sources exiting the roof. 65"},{"$f":"'1b. Rater Field Checklist'!$N$188","v":0},{"$f":"'1b. Rater Field Checklist'!$M$188","v":0}]
[{"$f":"'1b. Rater Field Checklist'!$C$191","v":"8. Local Mechanical Exhaust (National HVAC Design Report Item # indicated in parenthesis)"},{"$f":"'1b. Rater Field Checklist'!$N$191","v":0},{"$f":"'1b. Rater Field Checklist'!$M$191","v":0}]
[{"$f":"'1b. Rater Field Checklist'!$C$192","v":"Dwelling Unit Mechanical exhaust - In each dwelling unit kitchen and bathroom, a system is installed that exhausts directly to the outdoors and meets one of the following Rater-measured airflow and manufacturer-rated sound level standards: 54, 66"},{"$f":"'1b. Rater Field Checklist'!$N$192","v":0},{"$f":"'1b. Rater Field Checklist'!$M$192","v":0}]
[{"$f":"'1b. Rater Field Checklist'!$C$195","v":"Location "},{"$f":"'1b. Rater Field Checklist'!$N$195","v":0},{"$f":"'1b. Rater Field Checklist'!$M$195","v":0}]
[{"$f":"'1b. Rater Field Checklist'!$C$196","v":"8.1 Kitchen\nAirflow\nContinuous Rate:  ≥ 5 ACH, based on kitchen volume 68, 69\nIntermittent Rate 67: ≥ 100 CFM and, if not integrated with range, also ≥ 5 ACH based on kitchen volume 68, 69, 70\n\nSound\nContinuous Rate: Recommended: ≤ 1 sone\nIntermittent Rate 67:  Recommended: ≤ 3 sones"},{"$f":"'1b. Rater Field Checklist'!$N$196","v":0},{"$f":"'1b. Rater Field Checklist'!$M$196","v":0}]
[{"$f":"'1b. Rater Field Checklist'!$C$201","v":"8.2 Bathroom\nAirflow\nContinuous Rate:  ≥ 20 CFM\nIntermittent Rate 67: ≥ 50 CFM\n\nSound\nContinuous Rate: Required: ≤ 2 sones\nIntermittent Rate 67:  Recommended: ≤ 3 sones"},{"$f":"'1b. Rater Field Checklist'!$N$201","v":0},{"$f":"'1b. Rater Field Checklist'!$M$201","v":0}]
[{"$f":"'1b. Rater Field Checklist'!$C$203","v":"Mechanical Exhaust for Common Spaces 2 and Shared Garages "},{"$f":"'1b. Rater Field Checklist'!$N$203","v":0},{"$f":"'1b. Rater Field Checklist'!$M$203","v":0}]
[{"$f":"'1b. Rater Field Checklist'!$C$205","v":"8.3 Measured exhaust rates are  ≥ ASHRAE 62.1 rates (2c). 57"},{"$f":"'1b. Rater Field Checklist'!$N$205","v":0},{"$f":"'1b. Rater Field Checklist'!$M$205","v":0}]
[{"$f":"'1b. Rater Field Checklist'!$C$207","v":"8.4 Where an exhaust system is installed in a shared garage, it is equipped with controls that sense CO and NO2."},{"$f":"'1b. Rater Field Checklist'!$N$207","v":0},{"$f":"'1b. Rater Field Checklist'!$M$207","v":0}]
[{"$f":"'1b. Rater Field Checklist'!$C$208","v":"9. Filtration "},{"$f":"'1b. Rater Field Checklist'!$N$208","v":0},{"$f":"'1b. Rater Field Checklist'!$M$208","v":0}]
[{"$f":"'1b. Rater Field Checklist'!$C$209","v":"9.1 MERV 6+ filter(s) installed in each ducted mechanical system serving an individual dwelling unit and located to facilitate access & regular service by the occupant or building owner. 71"},{"$f":"'1b. Rater Field Checklist'!$N$209","v":0},{"$f":"'1b. Rater Field Checklist'!$M$209","v":0}]
[{"$f":"'1b. Rater Field Checklist'!$C$211","v":" 9.1.1 Filter access panel includes gasket and fits snugly against the exposed edge of filter when closed to prevent bypass. 72"},{"$f":"'1b. Rater Field Checklist'!$N$211","v":0},{"$f":"'1b. Rater Field Checklist'!$M$211","v":0}]
[{"$f":"'1b. Rater Field Checklist'!$C$213","v":" 9.1.2 All return air and mechanically supplied outdoor air passes through filter prior to conditioning."},{"$f":"'1b. Rater Field Checklist'!$N$213","v":0},{"$f":"'1b. Rater Field Checklist'!$M$213","v":0}]
[{"$f":"'1b. Rater Field Checklist'!$C$214","v":"10. Combustion Appliances "},{"$f":"'1b. Rater Field Checklist'!$N$214","v":0},{"$f":"'1b. Rater Field Checklist'!$M$214","v":0}]
[{"$f":"'1b. Rater Field Checklist'!$C$215","v":"10.1 Furnaces, boilers, and water heaters located within the building’s pressure boundary are mechanically drafted or direct-vented. If mechanically drafted, the minimum volume of combustion air required for safe operation by the manufacturer and/or code shall be met or exceeded and make-up air sources must be mechanically closed when the combustion appliance is not in operation. Alternatives in Footnote 75. 73, 74, 75"},{"$f":"'1b. Rater Field Checklist'!$N$215","v":0},{"$f":"'1b. Rater Field Checklist'!$M$215","v":0}]
[{"$f":"'1b. Rater Field Checklist'!$C$219","v":"10.2 Fireplaces located within the building’s pressure boundary are direct-vented. 73, 74"},{"$f":"'1b. Rater Field Checklist'!$N$219","v":0},{"$f":"'1b. Rater Field Checklist'!$M$219","v":0}]
[{"$f":"'1b. Rater Field Checklist'!$C$222","v":"10.3 No unvented combustion appliances other than cooking ranges or ovens are located inside the building’s pressure boundary. For cooking ranges and ovens, local mechanical exhaust per Checklist Item 8.1 requirements must be met. 73"},{"$f":"'1b. Rater Field Checklist'!$N$222","v":0},{"$f":"'1b. Rater Field Checklist'!$M$222","v":0}]
[{"$f":"'1b. Rater Field Checklist'!$C$224","v":"Other "},{"$f":"'1b. Rater Field Checklist'!$N$224","v":0},{"$f":"'1b. Rater Field Checklist'!$M$224","v":0}]
[{"$f":"'1b. Rater Field Checklist'!$C$225","v":"11. Domestic Hot Water "},{"$f":"'1b. Rater Field Checklist'!$N$225","v":0},{"$f":"'1b. Rater Field Checklist'!$M$225","v":0}]
[{"$f":"'1b. Rater Field Checklist'!$C$226","v":"11.1 Prescriptive Path: Hot water equipment rated in EF or UEF meet the efficiency levels specified in the ENERGY STAR Multifamily Reference Design. Otherwise, meet or exceed ≥85% Et. 76"},{"$f":"'1b. Rater Field Checklist'!$N$226","v":0},{"$f":"'1b. Rater Field Checklist'!$M$226","v":0}]
[{"$f":"'1b. Rater Field Checklist'!$C$228","v":"11.2 ERI: For hot water equipment serving common spaces but not dwelling units nor shared laundry: where rated EF or UEF, meet the efficiency levels specified in the ENERGY STAR Multifamily Reference Design. Otherwise, meet or exceed 85% Et. 76"},{"$f":"'1b. Rater Field Checklist'!$N$228","v":0},{"$f":"'1b. Rater Field Checklist'!$M$228","v":0}]
[{"$f":"'1b. Rater Field Checklist'!$C$230","v":"11.3 For in-unit storage water heaters, AHRI Certificate confirms the presence of a heat trap."},{"$f":"'1b. Rater Field Checklist'!$N$230","v":0},{"$f":"'1b. Rater Field Checklist'!$M$230","v":0}]
[{"$f":"'1b. Rater Field Checklist'!$C$231","v":"11.4 DHW piping located in the dwelling unit is insulated with a minimum of R-3. 77"},{"$f":"'1b. Rater Field Checklist'!$N$231","v":0},{"$f":"'1b. Rater Field Checklist'!$M$231","v":0}]
[{"$f":"'1b. Rater Field Checklist'!$C$233","v":"11.5 Rater-measured delivery temperatures at faucets and showerheads do not exceed 125°F. 78"},{"$f":"'1b. Rater Field Checklist'!$N$233","v":0},{"$f":"'1b. Rater Field Checklist'!$M$233","v":0}]
[{"$f":"'1b. Rater Field Checklist'!$C$235","v":"12. Lighting "},{"$f":"'1b. Rater Field Checklist'!$N$235","v":0},{"$f":"'1b. Rater Field Checklist'!$M$235","v":0}]
[{"$f":"'1b. Rater Field Checklist'!$C$236","v":"12.1 Common Space 2 Lighting Controls:"},{"$f":"'1b. Rater Field Checklist'!$N$236","v":0},{"$f":"'1b. Rater Field Checklist'!$M$236","v":0}]
[{"$f":"'1b. Rater Field Checklist'!$C$238","v":" 12.1.1 ERI and Prescriptive Path: All common spaces 2 (including shared garages), except the building lobby and where automatic shutoff would endanger the safety of occupants, have occupancy sensors or automatic bi-level lighting controls installed and operation has been verified."},{"$f":"'1b. Rater Field Checklist'!$N$238","v":0},{"$f":"'1b. Rater Field Checklist'!$M$238","v":0}]
[{"$f":"'1b. Rater Field Checklist'!$C$240","v":" 12.1.2 ASHRAE Path only: All common spaces 2 (including shared garages), except the building lobby, corridors, and stairwells and where automatic shutoff would endanger the safety of occupants, have occupancy sensors or automatic bi-level lighting controls installed and operation has been verified."},{"$f":"'1b. Rater Field Checklist'!$N$240","v":0},{"$f":"'1b. Rater Field Checklist'!$M$240","v":0}]
[{"$f":"'1b. Rater Field Checklist'!$C$242","v":"12.2 Common Space 2 Lighting Power Density Maximum (except garages): 79"},{"$f":"'1b. Rater Field Checklist'!$N$242","v":0},{"$f":"'1b. Rater Field Checklist'!$M$242","v":0}]
[{"$f":"'1b. Rater Field Checklist'!$C$244","v":" 12.2.1 ERI and Prescriptive Path: Total installed lighting power for the combined common spaces 2 must not exceed ASHRAE 90.1-2007 allowances for those combined spaces, using the Space-by-Space or Building Area Method. See Footnote 80 for allowances. 80"},{"$f":"'1b. Rater Field Checklist'!$N$244","v":0},{"$f":"'1b. Rater Field Checklist'!$M$244","v":0}]
[{"$f":"'1b. Rater Field Checklist'!$C$247","v":" 12.2.2 ASHRAE Path only: Total installed lighting power for the combined common spaces 2 must not exceed ASHRAE 90.1-2007 allowances for those combined spaces, using the Space-by-Space or Building Area Method, by more than 20%. See Footnote 80 for allowances. 80"},{"$f":"'1b. Rater Field Checklist'!$N$247","v":0},{"$f":"'1b. Rater Field Checklist'!$M$247","v":0}]
[{"$f":"'1b. Rater Field Checklist'!$C$250","v":"12.3 Shared garages: Lighting power density does not exceed 0.24 W/ft2."},{"$f":"'1b. Rater Field Checklist'!$N$250","v":0},{"$f":"'1b. Rater Field Checklist'!$M$250","v":0}]
[{"$f":"'1b. Rater Field Checklist'!$C$251","v":"12.4 Exterior lighting controls: Fixtures, including parking lot fixtures, must include automatic switching on timers or photocell controls except fixtures intended for 24-hour operation, required for security, or located on dwelling unit balconies."},{"$f":"'1b. Rater Field Checklist'!$N$251","v":0},{"$f":"'1b. Rater Field Checklist'!$M$251","v":0}]
[{"$f":"'1b. Rater Field Checklist'!$C$252","v":"12.5 ERI Path: All exterior and common space lighting fixtures meet the efficiency requirements in the ENERGY STAR Multifamily Reference Design, except fixtures located on dwelling unit balconies. 81, 82"},{"$f":"'1b. Rater Field Checklist'!$N$252","v":0},{"$f":"'1b. Rater Field Checklist'!$M$252","v":0}]
[{"$f":"'1b. Rater Field Checklist'!$C$255","v":"12.6 Prescriptive Path: All lighting fixtures (i.e., dwelling units, common spaces, and exterior) meet the efficiency requirements in the ENERGY STAR Multifamily Reference Design. 81, 82"},{"$f":"'1b. Rater Field Checklist'!$N$255","v":0},{"$f":"'1b. Rater Field Checklist'!$M$255","v":0}]
[{"$f":"'1b. Rater Field Checklist'!$C$258","v":"12.7 Prescriptive Path: Dwelling unit overall in-unit lighting power density ≤ 0.75 W/ft2. When calculating overall lighting power density, use 1.1 W/ft2 where lighting is not installed. 79"},{"$f":"'1b. Rater Field Checklist'!$N$258","v":0},{"$f":"'1b. Rater Field Checklist'!$M$258","v":0}]
[{"$f":"'1b. Rater Field Checklist'!$C$260","v":"13. Appliances, Ceiling Fans, and Plumbing Fixtures "},{"$f":"'1b. Rater Field Checklist'!$N$260","v":0},{"$f":"'1b. Rater Field Checklist'!$M$260","v":0}]
[{"$f":"'1b. Rater Field Checklist'!$C$261","v":"13.1 Prescriptive Path: Installed appliances are ENERGY STAR certified. Installed bathroom faucets, bathroom aerators, and showerheads are WaterSense labeled. 83"},{"$f":"'1b. Rater Field Checklist'!$N$261","v":0},{"$f":"'1b. Rater Field Checklist'!$M$261","v":0}]
[{"$f":"'1b. Rater Field Checklist'!$C$263","v":"13.2 ERI Path: Where installed in common spaces, refrigerators and dishwashers are ENERGY STAR certified and showerheads are WaterSense labeled."},{"$f":"'1b. Rater Field Checklist'!$N$263","v":0},{"$f":"'1b. Rater Field Checklist'!$M$263","v":0}]
[{"$f":"'1b. Rater Field Checklist'!$C$264","v":"13.3 Prescriptive Path: Shower compartments with multiple fixtures cannot be operated simultaneously OR the total flow rate per shower compartment must not exceed 1.75 gallons per minute, as rated at 80 psi."},{"$f":"'1b. Rater Field Checklist'!$N$264","v":0},{"$f":"'1b. Rater Field Checklist'!$M$264","v":0}]
[{"$f":"'1b. Rater Field Checklist'!$C$265","v":"14. Whole Building Energy Consumption Data Acquisition "},{"$f":"'1b. Rater Field Checklist'!$N$265","v":0},{"$f":"'1b. Rater Field Checklist'!$M$265","v":0}]
[{"$f":"'1b. Rater Field Checklist'!$C$266","v":"14.1 For buildings 50,000 ft2 and larger, a strategy that enables the collection of monthly or annual building-level energy consumption data (electricity, natural gas, chilled water, steam, fuel oil, propane, etc.) has been confirmed. 84"},{"$f":"'1b. Rater Field Checklist'!$N$266","v":0},{"$f":"'1b. Rater Field Checklist'!$M$266","v":0}]
[]
[{"$f":"E8","v":"Intermediate 2"}]
["Rater Design Checklist","Verification Phase","Notes/Comments"]
[{"$f":"'1b. Rater Field Checklist'!$C$16","v":"Thermal Enclosure System "},{"$f":"'1b. Rater Field Checklist'!$N$16","v":0},{"$f":"'1b. Rater Field Checklist'!$M$16","v":0}]
[{"$f":"'1b. Rater Field Checklist'!$C$17","v":"1. High-Performance Fenestration & Insulation "},{"$f":"'1b. Rater Field Checklist'!$N$17","v":0},{"$f":"'1b. Rater Field Checklist'!$M$17","v":0}]
[{"$f":"'1b. Rater Field Checklist'!$C$18","v":"1.1 Fenestration meets or exceeds specification in Items 2.1 and 2.2 of the National Rater Design Review Checklist."},{"$f":"'1b. Rater Field Checklist'!$N$18","v":"Open Wall 3"},{"$f":"'1b. Rater Field Checklist'!$M$18","v":0}]
[{"$f":"'1b. Rater Field Checklist'!$C$19","v":"1.2 Insulation meets or exceeds levels specified in Items 3.1 and 3.2 of the National Rater Design Review Checklist."},{"$f":"'1b. Rater Field Checklist'!$N$19","v":"Open Wall 3"},{"$f":"'1b. Rater Field Checklist'!$M$19","v":0}]
[{"$f":"'1b. Rater Field Checklist'!$C$20","v":"1.3 All insulation achieves Grade I install per ANSI / RESNET / ICC Std. 301. Alternatives in footnote 6. 6,7"},{"$f":"'1b. Rater Field Checklist'!$N$20","v":"Open Wall 3"},{"$f":"'1b. Rater Field Checklist'!$M$20","v":0}]
[{"$f":"'1b. Rater Field Checklist'!$C$23","v":"1.4 Prescriptive Path: Window-to-wall ratio ≤ 30%. 8"},{"$f":"'1b. Rater Field Checklist'!$N$23","v":"Open Wall 1"},{"$f":"'1b. Rater Field Checklist'!$M$23","v":0}]
[{"$f":"'1b. Rater Field Checklist'!$C$25","v":"1.5 Heated plenums in unconditioned space or ambient conditions must meet the following requirements: 9"},{"$f":"'1b. Rater Field Checklist'!$N$25","v":0},{"$f":"'1b. Rater Field Checklist'!$M$25","v":0}]
[{"$f":"'1b. Rater Field Checklist'!$C$27","v":" 1.5.1 Sides of heated plenum are an air barrier and insulated to ≥ R-3ci in CZ 1-4; ≥ R-5ci in CZ 5-6; ≥ R-7.5ci in CZ 7; ≥ R-9.5ci in CZ 8, AND;"},{"$f":"'1b. Rater Field Checklist'!$N$27","v":"Open Wall 4"},{"$f":"'1b. Rater Field Checklist'!$M$27","v":0}]
[{"$f":"'1b. Rater Field Checklist'!$C$28","v":" 1.5.2 Insulation at top of heated plenum meets or exceeds the R-value for mass floors from the “All Other” column of Table 502.2(1) of 2009 IECC, AND;"},{"$f":"'1b. Rater Field Checklist'!$N$28","v":"Open Wall 4"},{"$f":"'1b. Rater Field Checklist'!$M$28","v":0}]
[{"$f":"'1b. Rater Field Checklist'!$C$29","v":" 1.5.3 Bottom of heated plenum must have at least R-13 insulation. 10"},{"$f":"'1b. Rater Field Checklist'!$N$29","v":"Open Wall 3"},{"$f":"'1b. Rater Field Checklist'!$M$29","v":0}]
[{"$f":"'1b. Rater Field Checklist'!$C$31","v":"1.6 Garages with space heating must meet the following requirements: 9"},{"$f":"'1b. Rater Field Checklist'!$N$31","v":0},{"$f":"'1b. Rater Field Checklist'!$M$31","v":0}]
[{"$f":"'1b. Rater Field Checklist'!$C$33","v":" 1.6.1 Insulation on above grade walls and walls on the first story below grade ≥ R-5ci in CZ 5-6; ≥ R-7.5ci in CZ 7; ≥ R-9.5ci in CZ 8, AND;"},{"$f":"'1b. Rater Field Checklist'!$N$33","v":0},{"$f":"'1b. Rater Field Checklist'!$M$33","v":0}]
[{"$f":"'1b. Rater Field Checklist'!$C$34","v":" 1.6.2 Ceiling insulation meets or exceeds the R-value for mass floors from the “All Other” column of Table 502.2(1) of 2009 IECC."},{"$f":"'1b. Rater Field Checklist'!$N$34","v":0},{"$f":"'1b. Rater Field Checklist'!$M$34","v":0}]
[{"$f":"'1b. Rater Field Checklist'!$C$35","v":"2. Fully-Aligned Air Barriers 11 At each insulated location below, a complete air barrier is provided that is fully aligned as follows:"},{"$f":"'1b. Rater Field Checklist'!$N$35","v":0},{"$f":"'1b. Rater Field Checklist'!$M$35","v":0}]
[{"$f":"'1b. Rater Field Checklist'!$C$37","v":"Ceilings: At interior or exterior horizontal surface of ceiling insulation in Climate Zones 1-3; at interior horizontal surface of ceiling insulation in Climate Zones 4-8. Also, at exterior vertical surface of ceiling insulation in all climate zones (e.g., using a wind baffle that extends to the full height of the insulation in every bay or a tabbed baffle in each bay with a soffit vent that prevents wind washing in adjacent bays). 12"},{"$f":"'1b. Rater Field Checklist'!$N$37","v":0},{"$f":"'1b. Rater Field Checklist'!$M$37","v":0}]
[{"$f":"'1b. Rater Field Checklist'!$C$39","v":"2.1 Dropped ceilings / soffits below unconditioned attics, chase / dead space, and all other ceilings."},{"$f":"'1b. Rater Field Checklist'!$N$39","v":0},{"$f":"'1b. Rater Field Checklist'!$M$39","v":0}]
[{"$f":"'1b. Rater Field Checklist'!$C$40","v":"Walls: At exterior vertical surface of wall insulation in all climate zones; also at interior vertical surface of wall insulation in Climate Zones 4-8. 13"},{"$f":"'1b. Rater Field Checklist'!$N$40","v":0},{"$f":"'1b. Rater Field Checklist'!$M$40","v":0}]
[{"$f":"'1b. Rater Field Checklist'!$C$42","v":"2.2 Walls behind showers, tubs, staircases, and fireplaces."},{"$f":"'1b. Rater Field Checklist'!$N$42","v":"Open Wall 2"},{"$f":"'1b. Rater Field Checklist'!$M$42","v":0}]
[{"$f":"'1b. Rater Field Checklist'!$C$43","v":"2.3 Architectural bump-outs, dead space, and all other exterior walls."},{"$f":"'1b. Rater Field Checklist'!$N$43","v":0},{"$f":"'1b. Rater Field Checklist'!$M$43","v":0}]
[{"$f":"'1b. Rater Field Checklist'!$C$44","v":"Floors: At exterior vertical surface of floor insulation in all climate zones and, if over unconditioned space, also at interior horizontal surface including supports to ensure alignment. Alternatives in Footnotes 15 & 16. 14, 15, 16"},{"$f":"'1b. Rater Field Checklist'!$N$44","v":0},{"$f":"'1b. Rater Field Checklist'!$M$44","v":0}]
[{"$f":"'1b. Rater Field Checklist'!$C$48","v":"2.4 Floors above garages, floors above unconditioned spaces, and cantilevered floors."},{"$f":"'1b. Rater Field Checklist'!$N$48","v":0},{"$f":"'1b. Rater Field Checklist'!$M$48","v":0}]
[{"$f":"'1b. Rater Field Checklist'!$C$49","v":"2.5 All other floors adjoining unconditioned space (e.g., rim / band joists at exterior wall or at porch roof)."},{"$f":"'1b. Rater Field Checklist'!$N$49","v":0},{"$f":"'1b. Rater Field Checklist'!$M$49","v":0}]
[{"$f":"'1b. Rater Field Checklist'!$C$50","v":"3. Reduced Thermal Bridging"},{"$f":"'1b. Rater Field Checklist'!$N$50","v":0},{"$f":"'1b. Rater Field Checklist'!$M$50","v":0}]
[{"$f":"'1b. Rater Field Checklist'!$C$51","v":"3.1 For insulated ceilings with attic space above (i.e., non-cathedralized), Grade I insulation extends to the inside face of the exterior wall below and is ≥ R-21 in CZ 1-5; ≥ R-30 in CZ 6-8. 17"},{"$f":"'1b. Rater Field Checklist'!$N$51","v":0},{"$f":"'1b. Rater Field Checklist'!$M$51","v":0}]
[{"$f":"'1b. Rater Field Checklist'!$C$53","v":"3.2 For insulated ceilings with attic space above, attic access panels and drop-down stairs insulated ≥ R-10 or equipped with durable ≥ R-10 cover. 18"},{"$f":"'1b. Rater Field Checklist'!$N$53","v":0},{"$f":"'1b. Rater Field Checklist'!$M$53","v":0}]
[{"$f":"'1b. Rater Field Checklist'!$C$55","v":"3.3 Insulation beneath attic platforms (e.g., HVAC platforms, walkways) ≥ R-21 in CZ 1-5; ≥ R-30 in CZ 6-8."},{"$f":"'1b. Rater Field Checklist'!$N$55","v":0},{"$f":"'1b. Rater Field Checklist'!$M$55","v":0}]
[{"$f":"'1b. Rater Field Checklist'!$C$56","v":"3.4 For slabs on grade in CZ 4-8, 100% of slab edge insulated to ≥ R-5 at the depth specified by Table 502.2(1) of the 2009 IECC and aligned with the thermal boundary of the walls. 19, 20"},{"$f":"'1b. Rater Field Checklist'!$N$56","v":0},{"$f":"'1b. Rater Field Checklist'!$M$56","v":0}]
[{"$f":"'1b. Rater Field Checklist'!$C$59","v":"3.5 For elevated concrete slabs in CZ 4-8 (i.e., podiums and projected balconies, but not intermediate slab floor edges) 100% of the slab edge insulated to ≥ R-5. For podiums, this insulation must extend for a minimum of 8ft below the bottom of the slab edge. For columns, the insulation must surround the column, at a depth of 4ft. Alternatives in Footnote 21. 21"},{"$f":"'1b. Rater Field Checklist'!$N$59","v":0},{"$f":"'1b. Rater Field Checklist'!$M$59","v":0}]
[{"$f":"'1b. Rater Field Checklist'!$C$61","v":"3.6 For elevated concrete slabs in CZ 4-8 (i.e., podiums, but not intermediate floor slabs), floor insulation meets the U-factor specified in Table 502.1.2 of the 2009 IECC for Group R when dwelling units are above the slab, and for ‘All Other’ when common space is above the slab. 22"},{"$f":"'1b. Rater Field Checklist'!$N$61","v":0},{"$f":"'1b. Rater Field Checklist'!$M$61","v":0}]
[{"$f":"'1b. Rater Field Checklist'!$C$63","v":"3.7 At above-grade walls and rim / band joists separating conditioned space from the exterior, one of the following options used: 23, 26"},{"$f":"'1b. Rater Field Checklist'!$N$63","v":0},{"$f":"'1b. Rater Field Checklist'!$M$63","v":0}]
[{"$f":"'1b. Rater Field Checklist'!$C$66","v":" 3.7.1 Continuous rigid insulation, insulated siding, or combination of the two is ≥ R-3 in CZ 1-4; ≥ R-5 in CZ 5-8 24, 25, 26, 27; OR;"},{"$f":"'1b. Rater Field Checklist'!$N$66","v":0},{"$f":"'1b. Rater Field Checklist'!$M$66","v":0}]
[{"$f":"'1b. Rater Field Checklist'!$C$71","v":" 3.7.2 Structural Insulated Panels OR; Insulated Concrete Forms OR; Double-wall framing OR; 24, 26, 28"},{"$f":"'1b. Rater Field Checklist'!$N$71","v":0},{"$f":"'1b. Rater Field Checklist'!$M$71","v":0}]
[{"$f":"'1b. Rater Field Checklist'!$C$75","v":" 3.7.3 Option only for wood-framed walls either in CZ 1-3 OR ≤ 3 stories: ‘advanced framing’ details including all of the Items below: 26, 29"},{"$f":"'1b. Rater Field Checklist'!$N$75","v":0},{"$f":"'1b. Rater Field Checklist'!$M$75","v":0}]
[{"$f":"'1b. Rater Field Checklist'!$C$78","v":"  3.7.3a Corners insulated ≥ R-6 to edge, 30 AND;"},{"$f":"'1b. Rater Field Checklist'!$N$78","v":0},{"$f":"'1b. Rater Field Checklist'!$M$78","v":0}]
[{"$f":"'1b. Rater Field Checklist'!$C$80","v":"  3.7.3b Headers above windows & doors insulated ≥ R-3 for 2x4 framing or equivalent cavity width, and ≥ R-5 for all other assemblies (e.g., with 2x6 framing), 31 AND;"},{"$f":"'1b. Rater Field Checklist'!$N$80","v":0},{"$f":"'1b. Rater Field Checklist'!$M$80","v":0}]
[{"$f":"'1b. Rater Field Checklist'!$C$82","v":"  3.7.3c Interior / exterior wall intersections insulated to same R-value as rest of exterior wall. 32"},{"$f":"'1b. Rater Field Checklist'!$N$82","v":0},{"$f":"'1b. Rater Field Checklist'!$M$82","v":0}]
[{"$f":"'1b. Rater Field Checklist'!$C$84","v":"4. Air Sealing (Unless otherwise noted below, “sealed” indicates the use of caulk, foam, or equivalent material.)"},{"$f":"'1b. Rater Field Checklist'!$N$84","v":0},{"$f":"'1b. Rater Field Checklist'!$M$84","v":0}]
[{"$f":"'1b. Rater Field Checklist'!$C$85","v":"4.1 Ducts, flues, shafts, plumbing, piping, wiring, exhaust fans, & other penetrations to unconditioned space sealed, with blocking / flashing as needed."},{"$f":"'1b. Rater Field Checklist'!$N$85","v":0},{"$f":"'1b. Rater Field Checklist'!$M$85","v":0}]
[{"$f":"'1b. Rater Field Checklist'!$C$86","v":"4.2 Recessed lighting fixtures adjacent to unconditioned space ICAT labeled and gasketed. Also, if in insulated ceiling without attic above, exterior surface of fixture insulated to ≥ R-10 in CZ 4-8."},{"$f":"'1b. Rater Field Checklist'!$N$86","v":0},{"$f":"'1b. Rater Field Checklist'!$M$86","v":0}]
[{"$f":"'1b. Rater Field Checklist'!$C$87","v":"4.3 Continuous top plate or blocking is at top of walls adjoining unconditioned space including at balloon-framed parapets, and sealed."},{"$f":"'1b. Rater Field Checklist'!$N$87","v":0},{"$f":"'1b. Rater Field Checklist'!$M$87","v":0}]
[{"$f":"'1b. Rater Field Checklist'!$C$88","v":"4.4 Drywall sealed to top plate at all unconditioned attic / wall interfaces using caulk, foam, drywall adhesive (but not other construction adhesives), or equivalent material. Either apply sealant directly between drywall and top plate or to the seam between the two from the attic above."},{"$f":"'1b. Rater Field Checklist'!$N$88","v":0},{"$f":"'1b. Rater Field Checklist'!$M$88","v":0}]
[{"$f":"'1b. Rater Field Checklist'!$C$89","v":"4.5 Rough opening around windows & exterior doors sealed. 33"},{"$f":"'1b. Rater Field Checklist'!$N$89","v":0},{"$f":"'1b. Rater Field Checklist'!$M$89","v":0}]
[{"$f":"'1b. Rater Field Checklist'!$C$91","v":"4.6 Assemblies that separate attached garages from occupiable space sealed and, also, an air barrier installed, sealed, and aligned with these assemblies. 34"},{"$f":"'1b. Rater Field Checklist'!$N$91","v":0},{"$f":"'1b. Rater Field Checklist'!$M$91","v":0}]
[{"$f":"'1b. Rater Field Checklist'!$C$93","v":"4.7 Doors adjacent to unconditioned space (e.g., attics, garages, basements) or ambient conditions made substantially air-tight with doorsweep and weatherstripping or equivalent gasket."},{"$f":"'1b. Rater Field Checklist'!$N$93","v":0},{"$f":"'1b. Rater Field Checklist'!$M$93","v":0}]
[{"$f":"'1b. Rater Field Checklist'!$C$94","v":"4.8 Attic access panels, roof hatches and drop-down stairs are gasketed (i.e., not caulked) or equipped with durable covers that are gasketed. 18"},{"$f":"'1b. Rater Field Checklist'!$N$94","v":0},{"$f":"'1b. Rater Field Checklist'!$M$94","v":0}]
[{"$f":"'1b. Rater Field Checklist'!$C$96","v":"The following items must be additionally verified in dwelling units, to reduce air leakage between conditioned spaces."},{"$f":"'1b. Rater Field Checklist'!$N$96","v":0},{"$f":"'1b. Rater Field Checklist'!$M$96","v":0}]
[{"$f":"'1b. Rater Field Checklist'!$C$97","v":"4.9 Doors serving as a unit entrance from a corridor / stairwell made substantially air-tight with doorsweep and weatherstripping or equivalent gasket."},{"$f":"'1b. Rater Field Checklist'!$N$97","v":0},{"$f":"'1b. Rater Field Checklist'!$M$97","v":0}]
[{"$f":"'1b. Rater Field Checklist'!$C$98","v":"4.10 Rater-measured compartmentalization is no greater than 0.30 CFM50 per square feet of dwelling unit enclosure area, following procedures in ANSI / RESNET / ICC Std. 380. 35"},{"$f":"'1b. Rater Field Checklist'!$N$98","v":0},{"$f":"'1b. Rater Field Checklist'!$M$98","v":0}]
[{"$f":"'1b. Rater Field Checklist'!$C$100","v":" 4.10.1 For dwelling units with forced air distribution systems without ducted returns and located in a closet adjacent to unconditioned space, the Rater-measured pressure difference between the space containing the air handler and the conditioned space during the compartmentalization test is no greater than 5 Pa. 36"},{"$f":"'1b. Rater Field Checklist'!$N$100","v":0},{"$f":"'1b. Rater Field Checklist'!$M$100","v":0}]
[{"$f":"'1b. Rater Field Checklist'!$C$102","v":"HVAC System 37 (HVAC Design Report Item # indicated in parenthesis) "},{"$f":"'1b. Rater Field Checklist'!$N$102","v":0},{"$f":"'1b. Rater Field Checklist'!$M$102","v":0}]
[{"$f":"'1b. Rater Field Checklist'!$C$104","v":"5. Heating & Cooling Equipment – Complete Track A – HVAC Grading by Rater OR Track B – HVAC Testing by FT Agent 38"},{"$f":"'1b. Rater Field Checklist'!$N$104","v":0},{"$f":"'1b. Rater Field Checklist'!$M$104","v":0}]
[{"$f":"'1b. Rater Field Checklist'!$C$106","v":"Track A 39"},{"$f":"'1b. Rater Field Checklist'!$N$106","v":0},{"$f":"'1b. Rater Field Checklist'!$M$106","v":0}]
[{"$f":"'1b. Rater Field Checklist'!$C$108","v":"5a.1 Blower fan volumetric airflow is Grade I or II per ANSI / RESNET / ACCA Std. 310"},{"$f":"'1b. Rater Field Checklist'!$N$108","v":0},{"$f":"'1b. Rater Field Checklist'!$M$108","v":0}]
[{"$f":"'1b. Rater Field Checklist'!$C$109","v":"5a.2 Blower fan watt draw is Grade I or II per ANSI / RESNET / ACCA Std. 310"},{"$f":"'1b. Rater Field Checklist'!$N$109","v":0},{"$f":"'1b. Rater Field Checklist'!$M$109","v":0}]
[{"$f":"'1b. Rater Field Checklist'!$C$110","v":"5a.3 Refrigerant charge is Grade I per ANSI / RESNET / ACCA Std. 310. See Footnote 40 for exemptions. 40"},{"$f":"'1b. Rater Field Checklist'!$N$110","v":0},{"$f":"'1b. Rater Field Checklist'!$M$110","v":0}]
[{"$f":"'1b. Rater Field Checklist'!$C$112","v":"Track B"},{"$f":"'1b. Rater Field Checklist'!$N$112","v":0},{"$f":"'1b. Rater Field Checklist'!$M$112","v":0}]
[{"$f":"'1b. Rater Field Checklist'!$C$113","v":"5b.1 HVAC manufacturer & model number on installed equipment matches either of the following (check box): 41\n \n National HVAC Design Report (4.6-4.9 & 4.25-4.26)      Written approval received from designer"},{"$f":"'1b. Rater Field Checklist'!$N$113","v":0},{"$f":"'1b. Rater Field Checklist'!$M$113","v":0}]
[{"$f":"'1b. Rater Field Checklist'!$C$115","v":"5b.2 External static pressure measured by Rater at contractor-provided test locations and documented below: 42\n\nReturn-Side External Static Pressure: ________IWC\nSupply-Side External Static Pressure: __________IWC"},{"$f":"'1b. Rater Field Checklist'!$N$115","v":0},{"$f":"'1b. Rater Field Checklist'!$M$115","v":0}]
[{"$f":"'1b. Rater Field Checklist'!$C$117","v":"5.4 Prescriptive Path: Heating and cooling equipment serving dwelling units and common spaces meet the efficiency levels specified in the Exhibit X. Electric resistance space heating is not installed in dwelling units."},{"$f":"'1b. Rater Field Checklist'!$N$117","v":0},{"$f":"'1b. Rater Field Checklist'!$M$117","v":0}]
[{"$f":"'1b. Rater Field Checklist'!$C$118","v":"5.5 ERI Path: Heating and cooling equipment serving common spaces, but not serving dwelling units, meet the efficiency levels specified in the Exhibit X. See Exhibit X for restrictions on electric resistance space heating."},{"$f":"'1b. Rater Field Checklist'!$N$118","v":0},{"$f":"'1b. Rater Field Checklist'!$M$118","v":0}]
[{"$f":"'1b. Rater Field Checklist'!$C$119","v":"5.6 National HVAC Functional Testing Checklist(s) collected prior to certification, with all HVAC systems in the building / project fully documented. Exception: Where credentialed HVAC Contractor(s) are completing the National HVAC Functional Testing Checklist, the checklist is not required to be collected for the systems they verify. 43"},{"$f":"'1b. Rater Field Checklist'!$N$119","v":0},{"$f":"'1b. Rater Field Checklist'!$M$119","v":0}]
[{"$f":"'1b. Rater Field Checklist'!$C$121","v":"5.7 Rater has verified and documented that Functional Testing Agent(s) (“FT Agent(s)”) completing the National HVAC Functional Testing Checklist(s) hold one of the required credentials and completed orientation, if applicable. 43\n\nCredential: ______________________ “FT Agent” Company Name(s): _______________________"},{"$f":"'1b. Rater Field Checklist'!$N$121","v":0},{"$f":"'1b. Rater Field Checklist'!$M$121","v":0}]
[{"$f":"'1b. Rater Field Checklist'!$C$123","v":"Equipment Controls "},{"$f":"'1b. Rater Field Checklist'!$N$123","v":0},{"$f":"'1b. Rater Field Checklist'!$M$123","v":0}]
[{"$f":"'1b. Rater Field Checklist'!$C$124","v":"5.8 All heating and cooling systems serving a dwelling unit have thermostatic controls within the dwelling unit which are not located on exterior walls."},{"$f":"'1b. Rater Field Checklist'!$N$124","v":0},{"$f":"'1b. Rater Field Checklist'!$M$124","v":0}]
[{"$f":"'1b. Rater Field Checklist'!$C$125","v":" 5.8.1 Prescriptive Path: Dwelling unit thermostats are programmable."},{"$f":"'1b. Rater Field Checklist'!$N$125","v":0},{"$f":"'1b. Rater Field Checklist'!$M$125","v":0}]
[{"$f":"'1b. Rater Field Checklist'!$C$126","v":"5.9 Stair and elevator shaft vents equipped with motorized dampers that are capable of being automatically closed during normal building operation and are interlocked to open as required by fire and smoke detection systems. Dampers are verified to be closed at the time of inspection."},{"$f":"'1b. Rater Field Checklist'!$N$126","v":0},{"$f":"'1b. Rater Field Checklist'!$M$126","v":0}]
[{"$f":"'1b. Rater Field Checklist'!$C$127","v":"5.10 Freeze protection systems, such as heat tracing of piping and heat exchangers, including self-regulating heat tracing, and garage / plenum heaters include automatic controls that are verified to shut off the systems when pipe wall or garage / plenum temperatures are above 40°F."},{"$f":"'1b. Rater Field Checklist'!$N$127","v":0},{"$f":"'1b. Rater Field Checklist'!$M$127","v":0}]
[{"$f":"'1b. Rater Field Checklist'!$C$128","v":" 5.10.1 Where heat tracing is installed for freeze-protection, controls must be based on pipe wall temperature and a minimum of R-3 pipe insulation is also required."},{"$f":"'1b. Rater Field Checklist'!$N$128","v":0},{"$f":"'1b. Rater Field Checklist'!$M$128","v":0}]
[{"$f":"'1b. Rater Field Checklist'!$C$129","v":"5.11 Snow- and ice-melting systems include automatic controls that are verified to shut off the systems when the pavement temperature is above 50°F and no precipitation is falling, and an automatic or manual control is installed that is verified to shut off system when the outdoor temperature is above 40°F, so that the potential for snow or ice accumulation is negligible."},{"$f":"'1b. Rater Field Checklist'!$N$129","v":0},{"$f":"'1b. Rater Field Checklist'!$M$129","v":0}]
[{"$f":"'1b. Rater Field Checklist'!$C$130","v":"Hydronic Distribution "},{"$f":"'1b. Rater Field Checklist'!$N$130","v":0},{"$f":"'1b. Rater Field Checklist'!$M$130","v":0}]
[{"$f":"'1b. Rater Field Checklist'!$C$131","v":"5.12 For hydronic distribution systems, all terminal heating and cooling distribution equipment are separated from the riser or distribution loop by a control valve or terminal distribution pump, so that heated or cooled fluid is not delivered to the dwelling unit distribution equipment when there is no call from the thermostat."},{"$f":"'1b. Rater Field Checklist'!$N$131","v":0},{"$f":"'1b. Rater Field Checklist'!$M$131","v":0}]
[{"$f":"'1b. Rater Field Checklist'!$C$132","v":"5.13 Terminal units in hydronic distribution systems are equipped with pressure independent balancing valves or pressure independent control valves."},{"$f":"'1b. Rater Field Checklist'!$N$132","v":0},{"$f":"'1b. Rater Field Checklist'!$M$132","v":0}]
[{"$f":"'1b. Rater Field Checklist'!$C$133","v":"5.14 Piping of a heating or cooling system is insulated in accordance with Item 4.41 on the National HVAC Design Report, including where passing through planks or any other penetrations."},{"$f":"'1b. Rater Field Checklist'!$N$133","v":0},{"$f":"'1b. Rater Field Checklist'!$M$133","v":0}]
[{"$f":"'1b. Rater Field Checklist'!$C$134","v":"5.15 For circulating pumps serving hydronic heating or cooling systems with three-phase motors, 1 horsepower or larger, motors meet or exceed efficiency standards for NEMA Premium™ motors. If 5 horsepower or larger, also installed with variable frequency drives."},{"$f":"'1b. Rater Field Checklist'!$N$134","v":0},{"$f":"'1b. Rater Field Checklist'!$M$134","v":0}]
[{"$f":"'1b. Rater Field Checklist'!$C$135","v":"6. Duct Quality Installation - Applies to Heating, Cooling, Ventilation, Exhaust, & Pressure Balancing Ducts, Unless Noted in Footnote."},{"$f":"'1b. Rater Field Checklist'!$N$135","v":0},{"$f":"'1b. Rater Field Checklist'!$M$135","v":0}]
[{"$f":"'1b. Rater Field Checklist'!$C$136","v":"6.1 Ductwork installed without kinks, sharp bends, compressions, or excessive coiled flexible ductwork. 45"},{"$f":"'1b. Rater Field Checklist'!$N$136","v":0},{"$f":"'1b. Rater Field Checklist'!$M$136","v":0}]
[{"$f":"'1b. Rater Field Checklist'!$C$138","v":"6.2 Bedrooms with a design supply airflow ≥ 150 CFM (per Item 5.2 on the National HVAC Design Report) pressure-balanced (e.g., using transfer grilles, jump ducts, dedicated return ducts, undercut doors) to achieve a Rater-measured pressure differential ≥ -5 Pa and ≤ +5 Pa with respect to the main body of the dwelling unit when all air handlers are operating. See Footnote 46 for test configuration. 46"},{"$f":"'1b. Rater Field Checklist'!$N$138","v":0},{"$f":"'1b. Rater Field Checklist'!$M$138","v":0}]
[{"$f":"'1b. Rater Field Checklist'!$C$140","v":"6.3 All supply and return ducts in unconditioned space, including connections to trunk ducts, are insulated to ≥ R-6. 47"},{"$f":"'1b. Rater Field Checklist'!$N$140","v":0},{"$f":"'1b. Rater Field Checklist'!$M$140","v":0}]
[{"$f":"'1b. Rater Field Checklist'!$C$142","v":" 6.3.1 Prescriptive Path: Dwelling unit ductwork meets the location and insulation requirements specified in the ENERGY STAR Multifamily Reference Design."},{"$f":"'1b. Rater Field Checklist'!$N$142","v":0},{"$f":"'1b. Rater Field Checklist'!$M$142","v":0}]
[{"$f":"'1b. Rater Field Checklist'!$C$143","v":"6.4 Rater-measured total duct leakage in dwelling units meets one of the following two options: 48, 49"},{"$f":"'1b. Rater Field Checklist'!$N$143","v":0},{"$f":"'1b. Rater Field Checklist'!$M$143","v":0}]
[{"$f":"'1b. Rater Field Checklist'!$C$146","v":" 6.4.1 Rough-in: Tested per allowances below, with air handler & all ducts, building cavities used as ducts, & duct boots installed. In addition, all duct boots sealed to finished surface, Rater-verified at final. 50\n\nNo ducted returns 36: The greater of ≤ 3 CFM25 per 100 sq. ft. of CFA or ≤ 30 CFM. Additionally, the Rater-measured pressure difference between the space containing the air handler and the conditioned space, with the air handler running at high speed, is ≤ 5 Pa. For systems > 1 ton, increase by 1 Pa per half ton.\n\nOne or two ducted returns 36: The greater of ≤ 4 CFM25 per 100 sq. ft. of CFA or ≤ 40 CFM.\n\nThree or more ducted returns 36 : The greater of ≤ 6 CFM25 per 100 sq. ft. of CFA or ≤ 60 CFM."},{"$f":"'1b. Rater Field Checklist'!$N$146","v":0},{"$f":"'1b. Rater Field Checklist'!$M$146","v":0}]
[{"$f":"'1b. Rater Field Checklist'!$C$149","v":" 6.4.2 Final: Tested per allowances below, with the air handler & all ducts, building cavities used as ducts, duct boots, & register grilles atop the finished surface (e.g., drywall, floor) installed. 51\n\nNo ducted returns 36: The greater of ≤ 6 CFM25 per 100 sq. ft. of CFA or ≤ 60 CFM. Additionally, the Rater-measured pressure difference between the space containing the air handler and the conditioned space, with the air handler running at high speed, is ≤ 5 Pa. For systems > 1 ton, increase by 1 Pa per half ton.\n\nOne or two ducted returns 36: The greater of ≤ 8 CFM25 per 100 sq. ft. of CFA or ≤ 80 CFM.\n\nThree or more ducted returns 36 : The greater of ≤ 12 CFM25 per 100 sq. ft. of CFA or ≤ 120 CFM."},{"$f":"'1b. Rater Field Checklist'!$N$149","v":0},{"$f":"'1b. Rater Field Checklist'!$M$149","v":0}]
[{"$f":"'1b. Rater Field Checklist'!$C$152","v":"6.5 Townhouses only: Rater-measured duct leakage to the outside the greater of ≤ 4 CFM25 per 100 sq. ft. of CFA or ≤ 40 CFM25. 48, 52"},{"$f":"'1b. Rater Field Checklist'!$N$152","v":0},{"$f":"'1b. Rater Field Checklist'!$M$152","v":0}]
[{"$f":"'1b. Rater Field Checklist'!$C$155","v":"6.6 Common Space: Supply, return, and exhaust ductwork and all plenums serving common spaces are sealed at all transverse joints, longitudinal seams, and duct wall penetrations with mastic, mastic tape, or internal aerosol-based sealant."},{"$f":"'1b. Rater Field Checklist'!$N$155","v":0},{"$f":"'1b. Rater Field Checklist'!$M$155","v":0}]
[{"$f":"'1b. Rater Field Checklist'!$C$156","v":"6.7 Duct leakage of central exhaust systems that serve four or more dwelling units, meets one of the following two options:"},{"$f":"'1b. Rater Field Checklist'!$N$156","v":0},{"$f":"'1b. Rater Field Checklist'!$M$156","v":0}]
[{"$f":"'1b. Rater Field Checklist'!$C$157","v":" 6.7.1 Rough-in: Tested including horizontal run outs, trunks, branches, and take-offs up to, but not including, the grilles, the leakage does not exceed 25% of exhaust fan flow. 53"},{"$f":"'1b. Rater Field Checklist'!$N$157","v":0},{"$f":"'1b. Rater Field Checklist'!$M$157","v":0}]
[{"$f":"'1b. Rater Field Checklist'!$C$159","v":" 6.7.2 Final: Tested inclusive of all ductwork between the fan and the grilles, the leakage does not exceed 30% of exhaust fan flow. 53"},{"$f":"'1b. Rater Field Checklist'!$N$159","v":0},{"$f":"'1b. Rater Field Checklist'!$M$159","v":0}]
[{"$f":"'1b. Rater Field Checklist'!$C$161","v":"7. Dwelling-Unit & Common Space Mechanical Vent. Systems (\"Vent Systems\") 54 & Inlets in Return Duct 55\n(National HVAC Design Report Item # indicated in parenthesis)"},{"$f":"'1b. Rater Field Checklist'!$N$161","v":0},{"$f":"'1b. Rater Field Checklist'!$M$161","v":0}]
[{"$f":"'1b. Rater Field Checklist'!$C$164","v":"7.1 Ventilation manufacturer & model number on installed equipment matches either of the following (check box): 41\n\n National HVAC Design Report           Written approval received from designer"},{"$f":"'1b. Rater Field Checklist'!$N$164","v":0},{"$f":"'1b. Rater Field Checklist'!$M$164","v":0}]
[{"$f":"'1b. Rater Field Checklist'!$C$166","v":"7.2 Rater-measured ventilation rate is within either ± 15 CFM or ± 15% of dwelling unit design values (2.7), and meets or exceeds rates required by ASHRAE 62.2-2010. 56"},{"$f":"'1b. Rater Field Checklist'!$N$166","v":0},{"$f":"'1b. Rater Field Checklist'!$M$166","v":0}]
[{"$f":"'1b. Rater Field Checklist'!$C$168","v":"7.3 Measured ventilation rate is within either ± 15 CFM or ± 15 % of common space design values (2.9), and meets or exceeds rates required by ASHRAE 62.1-2010 (2.8). 57"},{"$f":"'1b. Rater Field Checklist'!$N$168","v":0},{"$f":"'1b. Rater Field Checklist'!$M$168","v":0}]
[{"$f":"'1b. Rater Field Checklist'!$C$170","v":"7.4 A ventilation override control installed and also labeled if its function is not obvious (e.g., a label is required for a standalone wall switch, but not for a switch that’s on the ventilation equipment). Townhouses only: A readily-accessible ventilation override control installed and also labeled if its function is not obvious (e.g., a label is required for a toggle wall switch, but not for a switch that’s on the ventilation equipment)."},{"$f":"'1b. Rater Field Checklist'!$N$170","v":0},{"$f":"'1b. Rater Field Checklist'!$M$170","v":0}]
[{"$f":"'1b. Rater Field Checklist'!$C$171","v":"7.5 For any outdoor air inlet connected to a ducted return of the dwelling unit HVAC system (Complete if present; otherwise check “N/A”): 55"},{"$f":"'1b. Rater Field Checklist'!$N$171","v":0},{"$f":"'1b. Rater Field Checklist'!$M$171","v":0}]
[{"$f":"'1b. Rater Field Checklist'!$C$177","v":"7.6 If located in the dwelling unit, system fan rated ≤ 3 sones if intermittent and ≤ 2 sone if continuous, or exempted. 60"},{"$f":"'1b. Rater Field Checklist'!$N$177","v":0},{"$f":"'1b. Rater Field Checklist'!$M$177","v":0}]
[{"$f":"'1b. Rater Field Checklist'!$C$179","v":"7.7 If dwelling-unit Vent System controller operates the dwelling unit HVAC fan, then HVAC fan operation is intermittent and either the fan type is ECM / ICM (4.12), or the controls will reduce the run-time by accounting for HVAC system heating or cooling hours. 61"},{"$f":"'1b. Rater Field Checklist'!$N$179","v":0},{"$f":"'1b. Rater Field Checklist'!$M$179","v":0}]
[{"$f":"'1b. Rater Field Checklist'!$C$181","v":"7.8 In-unit bathroom fans or in-line fans are ENERGY STAR certified if used as part of the dwelling-unit mechanical ventilation system. 62"},{"$f":"'1b. Rater Field Checklist'!$N$181","v":0},{"$f":"'1b. Rater Field Checklist'!$M$181","v":0}]
[{"$f":"'1b. Rater Field Checklist'!$C$183","v":"7.9 If central exhaust fans, ≤ 1 HP, are installed as part of the dwelling-unit mechanical ventilation system, then they are direct-drive, ECM, with variable speed controllers. If > 1 HP, they are installed with NEMATM Premium Motors."},{"$f":"'1b. Rater Field Checklist'!$N$183","v":0},{"$f":"'1b. Rater Field Checklist'!$M$183","v":0}]
[{"$f":"'1b. Rater Field Checklist'!$C$184","v":"7.10 Air inlet locations (Complete if ventilation air inlet locations were installed (2.22, 2.23); otherwise check “N/A”): 63, 64"},{"$f":"'1b. Rater Field Checklist'!$N$184","v":0},{"$f":"'1b. Rater Field Checklist'!$M$184","v":0}]
[{"$f":"'1b. Rater Field Checklist'!$C$187","v":" 7.10.1 Inlet(s) pull ventilation air directly from outdoors and not from attic, crawlspace, garage, or adjacent dwelling unit."},{"$f":"'1b. Rater Field Checklist'!$N$187","v":0},{"$f":"'1b. Rater Field Checklist'!$M$187","v":0}]
[{"$f":"'1b. Rater Field Checklist'!$C$188","v":" 7.10.2 Inlet(s) are ≥ 2 ft. above grade or roof deck; ≥ 10 ft. of stretched-string distance from known contamination sources not exiting the roof, and ≥ 3 ft. distance from dryer exhausts and sources exiting the roof. 65"},{"$f":"'1b. Rater Field Checklist'!$N$188","v":0},{"$f":"'1b. Rater Field Checklist'!$M$188","v":0}]
[{"$f":"'1b. Rater Field Checklist'!$C$191","v":"8. Local Mechanical Exhaust (National HVAC Design Report Item # indicated in parenthesis)"},{"$f":"'1b. Rater Field Checklist'!$N$191","v":0},{"$f":"'1b. Rater Field Checklist'!$M$191","v":0}]
[{"$f":"'1b. Rater Field Checklist'!$C$192","v":"Dwelling Unit Mechanical exhaust - In each dwelling unit kitchen and bathroom, a system is installed that exhausts directly to the outdoors and meets one of the following Rater-measured airflow and manufacturer-rated sound level standards: 54, 66"},{"$f":"'1b. Rater Field Checklist'!$N$192","v":0},{"$f":"'1b. Rater Field Checklist'!$M$192","v":0}]
[{"$f":"'1b. Rater Field Checklist'!$C$195","v":"Location "},{"$f":"'1b. Rater Field Checklist'!$N$195","v":0},{"$f":"'1b. Rater Field Checklist'!$M$195","v":0}]
[{"$f":"'1b. Rater Field Checklist'!$C$196","v":"8.1 Kitchen\nAirflow\nContinuous Rate:  ≥ 5 ACH, based on kitchen volume 68, 69\nIntermittent Rate 67: ≥ 100 CFM and, if not integrated with range, also ≥ 5 ACH based on kitchen volume 68, 69, 70\n\nSound\nContinuous Rate: Recommended: ≤ 1 sone\nIntermittent Rate 67:  Recommended: ≤ 3 sones"},{"$f":"'1b. Rater Field Checklist'!$N$196","v":0},{"$f":"'1b. Rater Field Checklist'!$M$196","v":0}]
[{"$f":"'1b. Rater Field Checklist'!$C$201","v":"8.2 Bathroom\nAirflow\nContinuous Rate:  ≥ 20 CFM\nIntermittent Rate 67: ≥ 50 CFM\n\nSound\nContinuous Rate: Required: ≤ 2 sones\nIntermittent Rate 67:  Recommended: ≤ 3 sones"},{"$f":"'1b. Rater Field Checklist'!$N$201","v":0},{"$f":"'1b. Rater Field Checklist'!$M$201","v":0}]
[{"$f":"'1b. Rater Field Checklist'!$C$203","v":"Mechanical Exhaust for Common Spaces 2 and Shared Garages "},{"$f":"'1b. Rater Field Checklist'!$N$203","v":0},{"$f":"'1b. Rater Field Checklist'!$M$203","v":0}]
[{"$f":"'1b. Rater Field Checklist'!$C$205","v":"8.3 Measured exhaust rates are  ≥ ASHRAE 62.1 rates (2c). 57"},{"$f":"'1b. Rater Field Checklist'!$N$205","v":0},{"$f":"'1b. Rater Field Checklist'!$M$205","v":0}]
[{"$f":"'1b. Rater Field Checklist'!$C$207","v":"8.4 Where an exhaust system is installed in a shared garage, it is equipped with controls that sense CO and NO2."},{"$f":"'1b. Rater Field Checklist'!$N$207","v":0},{"$f":"'1b. Rater Field Checklist'!$M$207","v":0}]
[{"$f":"'1b. Rater Field Checklist'!$C$208","v":"9. Filtration "},{"$f":"'1b. Rater Field Checklist'!$N$208","v":0},{"$f":"'1b. Rater Field Checklist'!$M$208","v":0}]
[{"$f":"'1b. Rater Field Checklist'!$C$209","v":"9.1 MERV 6+ filter(s) installed in each ducted mechanical system serving an individual dwelling unit and located to facilitate access & regular service by the occupant or building owner. 71"},{"$f":"'1b. Rater Field Checklist'!$N$209","v":0},{"$f":"'1b. Rater Field Checklist'!$M$209","v":0}]
[{"$f":"'1b. Rater Field Checklist'!$C$211","v":" 9.1.1 Filter access panel includes gasket and fits snugly against the exposed edge of filter when closed to prevent bypass. 72"},{"$f":"'1b. Rater Field Checklist'!$N$211","v":0},{"$f":"'1b. Rater Field Checklist'!$M$211","v":0}]
[{"$f":"'1b. Rater Field Checklist'!$C$213","v":" 9.1.2 All return air and mechanically supplied outdoor air passes through filter prior to conditioning."},{"$f":"'1b. Rater Field Checklist'!$N$213","v":0},{"$f":"'1b. Rater Field Checklist'!$M$213","v":0}]
[{"$f":"'1b. Rater Field Checklist'!$C$214","v":"10. Combustion Appliances "},{"$f":"'1b. Rater Field Checklist'!$N$214","v":0},{"$f":"'1b. Rater Field Checklist'!$M$214","v":0}]
[{"$f":"'1b. Rater Field Checklist'!$C$215","v":"10.1 Furnaces, boilers, and water heaters located within the building’s pressure boundary are mechanically drafted or direct-vented. If mechanically drafted, the minimum volume of combustion air required for safe operation by the manufacturer and/or code shall be met or exceeded and make-up air sources must be mechanically closed when the combustion appliance is not in operation. Alternatives in Footnote 75. 73, 74, 75"},{"$f":"'1b. Rater Field Checklist'!$N$215","v":0},{"$f":"'1b. Rater Field Checklist'!$M$215","v":0}]
[{"$f":"'1b. Rater Field Checklist'!$C$219","v":"10.2 Fireplaces located within the building’s pressure boundary are direct-vented. 73, 74"},{"$f":"'1b. Rater Field Checklist'!$N$219","v":0},{"$f":"'1b. Rater Field Checklist'!$M$219","v":0}]
[{"$f":"'1b. Rater Field Checklist'!$C$222","v":"10.3 No unvented combustion appliances other than cooking ranges or ovens are located inside the building’s pressure boundary. For cooking ranges and ovens, local mechanical exhaust per Checklist Item 8.1 requirements must be met. 73"},{"$f":"'1b. Rater Field Checklist'!$N$222","v":0},{"$f":"'1b. Rater Field Checklist'!$M$222","v":0}]
[{"$f":"'1b. Rater Field Checklist'!$C$224","v":"Other "},{"$f":"'1b. Rater Field Checklist'!$N$224","v":0},{"$f":"'1b. Rater Field Checklist'!$M$224","v":0}]
[{"$f":"'1b. Rater Field Checklist'!$C$225","v":"11. Domestic Hot Water "},{"$f":"'1b. Rater Field Checklist'!$N$225","v":0},{"$f":"'1b. Rater Field Checklist'!$M$225","v":0}]
[{"$f":"'1b. Rater Field Checklist'!$C$226","v":"11.1 Prescriptive Path: Hot water equipment rated in EF or UEF meet the efficiency levels specified in the ENERGY STAR Multifamily Reference Design. Otherwise, meet or exceed ≥85% Et. 76"},{"$f":"'1b. Rater Field Checklist'!$N$226","v":0},{"$f":"'1b. Rater Field Checklist'!$M$226","v":0}]
[{"$f":"'1b. Rater Field Checklist'!$C$228","v":"11.2 ERI: For hot water equipment serving common spaces but not dwelling units nor shared laundry: where rated EF or UEF, meet the efficiency levels specified in the ENERGY STAR Multifamily Reference Design. Otherwise, meet or exceed 85% Et. 76"},{"$f":"'1b. Rater Field Checklist'!$N$228","v":0},{"$f":"'1b. Rater Field Checklist'!$M$228","v":0}]
[{"$f":"'1b. Rater Field Checklist'!$C$230","v":"11.3 For in-unit storage water heaters, AHRI Certificate confirms the presence of a heat trap."},{"$f":"'1b. Rater Field Checklist'!$N$230","v":0},{"$f":"'1b. Rater Field Checklist'!$M$230","v":0}]
[{"$f":"'1b. Rater Field Checklist'!$C$231","v":"11.4 DHW piping located in the dwelling unit is insulated with a minimum of R-3. 77"},{"$f":"'1b. Rater Field Checklist'!$N$231","v":0},{"$f":"'1b. Rater Field Checklist'!$M$231","v":0}]
[{"$f":"'1b. Rater Field Checklist'!$C$233","v":"11.5 Rater-measured delivery temperatures at faucets and showerheads do not exceed 125°F. 78"},{"$f":"'1b. Rater Field Checklist'!$N$233","v":0},{"$f":"'1b. Rater Field Checklist'!$M$233","v":0}]
[{"$f":"'1b. Rater Field Checklist'!$C$235","v":"12. Lighting "},{"$f":"'1b. Rater Field Checklist'!$N$235","v":0},{"$f":"'1b. Rater Field Checklist'!$M$235","v":0}]
[{"$f":"'1b. Rater Field Checklist'!$C$236","v":"12.1 Common Space 2 Lighting Controls:"},{"$f":"'1b. Rater Field Checklist'!$N$236","v":0},{"$f":"'1b. Rater Field Checklist'!$M$236","v":0}]
[{"$f":"'1b. Rater Field Checklist'!$C$238","v":" 12.1.1 ERI and Prescriptive Path: All common spaces 2 (including shared garages), except the building lobby and where automatic shutoff would endanger the safety of occupants, have occupancy sensors or automatic bi-level lighting controls installed and operation has been verified."},{"$f":"'1b. Rater Field Checklist'!$N$238","v":0},{"$f":"'1b. Rater Field Checklist'!$M$238","v":0}]
[{"$f":"'1b. Rater Field Checklist'!$C$240","v":" 12.1.2 ASHRAE Path only: All common spaces 2 (including shared garages), except the building lobby, corridors, and stairwells and where automatic shutoff would endanger the safety of occupants, have occupancy sensors or automatic bi-level lighting controls installed and operation has been verified."},{"$f":"'1b. Rater Field Checklist'!$N$240","v":0},{"$f":"'1b. Rater Field Checklist'!$M$240","v":0}]
[{"$f":"'1b. Rater Field Checklist'!$C$242","v":"12.2 Common Space 2 Lighting Power Density Maximum (except garages): 79"},{"$f":"'1b. Rater Field Checklist'!$N$242","v":0},{"$f":"'1b. Rater Field Checklist'!$M$242","v":0}]
[{"$f":"'1b. Rater Field Checklist'!$C$244","v":" 12.2.1 ERI and Prescriptive Path: Total installed lighting power for the combined common spaces 2 must not exceed ASHRAE 90.1-2007 allowances for those combined spaces, using the Space-by-Space or Building Area Method. See Footnote 80 for allowances. 80"},{"$f":"'1b. Rater Field Checklist'!$N$244","v":0},{"$f":"'1b. Rater Field Checklist'!$M$244","v":0}]
[{"$f":"'1b. Rater Field Checklist'!$C$247","v":" 12.2.2 ASHRAE Path only: Total installed lighting power for the combined common spaces 2 must not exceed ASHRAE 90.1-2007 allowances for those combined spaces, using the Space-by-Space or Building Area Method, by more than 20%. See Footnote 80 for allowances. 80"},{"$f":"'1b. Rater Field Checklist'!$N$247","v":0},{"$f":"'1b. Rater Field Checklist'!$M$247","v":0}]
[{"$f":"'1b. Rater Field Checklist'!$C$250","v":"12.3 Shared garages: Lighting power density does not exceed 0.24 W/ft2."},{"$f":"'1b. Rater Field Checklist'!$N$250","v":0},{"$f":"'1b. Rater Field Checklist'!$M$250","v":0}]
[{"$f":"'1b. Rater Field Checklist'!$C$251","v":"12.4 Exterior lighting controls: Fixtures, including parking lot fixtures, must include automatic switching on timers or photocell controls except fixtures intended for 24-hour operation, required for security, or located on dwelling unit balconies."},{"$f":"'1b. Rater Field Checklist'!$N$251","v":0},{"$f":"'1b. Rater Field Checklist'!$M$251","v":0}]
[{"$f":"'1b. Rater Field Checklist'!$C$252","v":"12.5 ERI Path: All exterior and common space lighting fixtures meet the efficiency requirements in the ENERGY STAR Multifamily Reference Design, except fixtures located on dwelling unit balconies. 81, 82"},{"$f":"'1b. Rater Field Checklist'!$N$252","v":0},{"$f":"'1b. Rater Field Checklist'!$M$252","v":0}]
[{"$f":"'1b. Rater Field Checklist'!$C$255","v":"12.6 Prescriptive Path: All lighting fixtures (i.e., dwelling units, common spaces, and exterior) meet the efficiency requirements in the ENERGY STAR Multifamily Reference Design. 81, 82"},{"$f":"'1b. Rater Field Checklist'!$N$255","v":0},{"$f":"'1b. Rater Field Checklist'!$M$255","v":0}]
[{"$f":"'1b. Rater Field Checklist'!$C$258","v":"12.7 Prescriptive Path: Dwelling unit overall in-unit lighting power density ≤ 0.75 W/ft2. When calculating overall lighting power density, use 1.1 W/ft2 where lighting is not installed. 79"},{"$f":"'1b. Rater Field Checklist'!$N$258","v":0},{"$f":"'1b. Rater Field Checklist'!$M$258","v":0}]
[{"$f":"'1b. Rater Field Checklist'!$C$260","v":"13. Appliances, Ceiling Fans, and Plumbing Fixtures "},{"$f":"'1b. Rater Field Checklist'!$N$260","v":0},{"$f":"'1b. Rater Field Checklist'!$M$260","v":0}]
[{"$f":"'1b. Rater Field Checklist'!$C$261","v":"13.1 Prescriptive Path: Installed appliances are ENERGY STAR certified. Installed bathroom faucets, bathroom aerators, and showerheads are WaterSense labeled. 83"},{"$f":"'1b. Rater Field Checklist'!$N$261","v":0},{"$f":"'1b. Rater Field Checklist'!$M$261","v":0}]
[{"$f":"'1b. Rater Field Checklist'!$C$263","v":"13.2 ERI Path: Where installed in common spaces, refrigerators and dishwashers are ENERGY STAR certified and showerheads are WaterSense labeled."},{"$f":"'1b. Rater Field Checklist'!$N$263","v":0},{"$f":"'1b. Rater Field Checklist'!$M$263","v":0}]
[{"$f":"'1b. Rater Field Checklist'!$C$264","v":"13.3 Prescriptive Path: Shower compartments with multiple fixtures cannot be operated simultaneously OR the total flow rate per shower compartment must not exceed 1.75 gallons per minute, as rated at 80 psi."},{"$f":"'1b. Rater Field Checklist'!$N$264","v":0},{"$f":"'1b. Rater Field Checklist'!$M$264","v":0}]
[{"$f":"'1b. Rater Field Checklist'!$C$265","v":"14. Whole Building Energy Consumption Data Acquisition "},{"$f":"'1b. Rater Field Checklist'!$N$265","v":0},{"$f":"'1b. Rater Field Checklist'!$M$265","v":0}]
[{"$f":"'1b. Rater Field Checklist'!$C$266","v":"14.1 For buildings 50,000 ft2 and larger, a strategy that enables the collection of monthly or annual building-level energy consumption data (electricity, natural gas, chilled water, steam, fuel oil, propane, etc.) has been confirmed. 84"},{"$f":"'1b. Rater Field Checklist'!$N$266","v":0},{"$f":"'1b. Rater Field Checklist'!$M$266","v":0}]
[]
[{"$f":"E9","v":"Intermediate 3"}]
["Rater Design Checklist","Verification Phase","Notes/Comments"]
[{"$f":"'1b. Rater Field Checklist'!$C$16","v":"Thermal Enclosure System "},{"$f":"'1b. Rater Field Checklist'!$N$16","v":0},{"$f":"'1b. Rater Field Checklist'!$M$16","v":0}]
[{"$f":"'1b. Rater Field Checklist'!$C$17","v":"1. High-Performance Fenestration & Insulation "},{"$f":"'1b. Rater Field Checklist'!$N$17","v":0},{"$f":"'1b. Rater Field Checklist'!$M$17","v":0}]
[{"$f":"'1b. Rater Field Checklist'!$C$18","v":"1.1 Fenestration meets or exceeds specification in Items 2.1 and 2.2 of the National Rater Design Review Checklist."},{"$f":"'1b. Rater Field Checklist'!$N$18","v":"Open Wall 3"},{"$f":"'1b. Rater Field Checklist'!$M$18","v":0}]
[{"$f":"'1b. Rater Field Checklist'!$C$19","v":"1.2 Insulation meets or exceeds levels specified in Items 3.1 and 3.2 of the National Rater Design Review Checklist."},{"$f":"'1b. Rater Field Checklist'!$N$19","v":"Open Wall 3"},{"$f":"'1b. Rater Field Checklist'!$M$19","v":0}]
[{"$f":"'1b. Rater Field Checklist'!$C$20","v":"1.3 All insulation achieves Grade I install per ANSI / RESNET / ICC Std. 301. Alternatives in footnote 6. 6,7"},{"$f":"'1b. Rater Field Checklist'!$N$20","v":"Open Wall 3"},{"$f":"'1b. Rater Field Checklist'!$M$20","v":0}]
[{"$f":"'1b. Rater Field Checklist'!$C$23","v":"1.4 Prescriptive Path: Window-to-wall ratio ≤ 30%. 8"},{"$f":"'1b. Rater Field Checklist'!$N$23","v":"Open Wall 1"},{"$f":"'1b. Rater Field Checklist'!$M$23","v":0}]
[{"$f":"'1b. Rater Field Checklist'!$C$25","v":"1.5 Heated plenums in unconditioned space or ambient conditions must meet the following requirements: 9"},{"$f":"'1b. Rater Field Checklist'!$N$25","v":0},{"$f":"'1b. Rater Field Checklist'!$M$25","v":0}]
[{"$f":"'1b. Rater Field Checklist'!$C$27","v":" 1.5.1 Sides of heated plenum are an air barrier and insulated to ≥ R-3ci in CZ 1-4; ≥ R-5ci in CZ 5-6; ≥ R-7.5ci in CZ 7; ≥ R-9.5ci in CZ 8, AND;"},{"$f":"'1b. Rater Field Checklist'!$N$27","v":"Open Wall 4"},{"$f":"'1b. Rater Field Checklist'!$M$27","v":0}]
[{"$f":"'1b. Rater Field Checklist'!$C$28","v":" 1.5.2 Insulation at top of heated plenum meets or exceeds the R-value for mass floors from the “All Other” column of Table 502.2(1) of 2009 IECC, AND;"},{"$f":"'1b. Rater Field Checklist'!$N$28","v":"Open Wall 4"},{"$f":"'1b. Rater Field Checklist'!$M$28","v":0}]
[{"$f":"'1b. Rater Field Checklist'!$C$29","v":" 1.5.3 Bottom of heated plenum must have at least R-13 insulation. 10"},{"$f":"'1b. Rater Field Checklist'!$N$29","v":"Open Wall 3"},{"$f":"'1b. Rater Field Checklist'!$M$29","v":0}]
[{"$f":"'1b. Rater Field Checklist'!$C$31","v":"1.6 Garages with space heating must meet the following requirements: 9"},{"$f":"'1b. Rater Field Checklist'!$N$31","v":0},{"$f":"'1b. Rater Field Checklist'!$M$31","v":0}]
[{"$f":"'1b. Rater Field Checklist'!$C$33","v":" 1.6.1 Insulation on above grade walls and walls on the first story below grade ≥ R-5ci in CZ 5-6; ≥ R-7.5ci in CZ 7; ≥ R-9.5ci in CZ 8, AND;"},{"$f":"'1b. Rater Field Checklist'!$N$33","v":0},{"$f":"'1b. Rater Field Checklist'!$M$33","v":0}]
[{"$f":"'1b. Rater Field Checklist'!$C$34","v":" 1.6.2 Ceiling insulation meets or exceeds the R-value for mass floors from the “All Other” column of Table 502.2(1) of 2009 IECC."},{"$f":"'1b. Rater Field Checklist'!$N$34","v":0},{"$f":"'1b. Rater Field Checklist'!$M$34","v":0}]
[{"$f":"'1b. Rater Field Checklist'!$C$35","v":"2. Fully-Aligned Air Barriers 11 At each insulated location below, a complete air barrier is provided that is fully aligned as follows:"},{"$f":"'1b. Rater Field Checklist'!$N$35","v":0},{"$f":"'1b. Rater Field Checklist'!$M$35","v":0}]
[{"$f":"'1b. Rater Field Checklist'!$C$37","v":"Ceilings: At interior or exterior horizontal surface of ceiling insulation in Climate Zones 1-3; at interior horizontal surface of ceiling insulation in Climate Zones 4-8. Also, at exterior vertical surface of ceiling insulation in all climate zones (e.g., using a wind baffle that extends to the full height of the insulation in every bay or a tabbed baffle in each bay with a soffit vent that prevents wind washing in adjacent bays). 12"},{"$f":"'1b. Rater Field Checklist'!$N$37","v":0},{"$f":"'1b. Rater Field Checklist'!$M$37","v":0}]
[{"$f":"'1b. Rater Field Checklist'!$C$39","v":"2.1 Dropped ceilings / soffits below unconditioned attics, chase / dead space, and all other ceilings."},{"$f":"'1b. Rater Field Checklist'!$N$39","v":0},{"$f":"'1b. Rater Field Checklist'!$M$39","v":0}]
[{"$f":"'1b. Rater Field Checklist'!$C$40","v":"Walls: At exterior vertical surface of wall insulation in all climate zones; also at interior vertical surface of wall insulation in Climate Zones 4-8. 13"},{"$f":"'1b. Rater Field Checklist'!$N$40","v":0},{"$f":"'1b. Rater Field Checklist'!$M$40","v":0}]
[{"$f":"'1b. Rater Field Checklist'!$C$42","v":"2.2 Walls behind showers, tubs, staircases, and fireplaces."},{"$f":"'1b. Rater Field Checklist'!$N$42","v":"Open Wall 2"},{"$f":"'1b. Rater Field Checklist'!$M$42","v":0}]
[{"$f":"'1b. Rater Field Checklist'!$C$43","v":"2.3 Architectural bump-outs, dead space, and all other exterior walls."},{"$f":"'1b. Rater Field Checklist'!$N$43","v":0},{"$f":"'1b. Rater Field Checklist'!$M$43","v":0}]
[{"$f":"'1b. Rater Field Checklist'!$C$44","v":"Floors: At exterior vertical surface of floor insulation in all climate zones and, if over unconditioned space, also at interior horizontal surface including supports to ensure alignment. Alternatives in Footnotes 15 & 16. 14, 15, 16"},{"$f":"'1b. Rater Field Checklist'!$N$44","v":0},{"$f":"'1b. Rater Field Checklist'!$M$44","v":0}]
[{"$f":"'1b. Rater Field Checklist'!$C$48","v":"2.4 Floors above garages, floors above unconditioned spaces, and cantilevered floors."},{"$f":"'1b. Rater Field Checklist'!$N$48","v":0},{"$f":"'1b. Rater Field Checklist'!$M$48","v":0}]
[{"$f":"'1b. Rater Field Checklist'!$C$49","v":"2.5 All other floors adjoining unconditioned space (e.g., rim / band joists at exterior wall or at porch roof)."},{"$f":"'1b. Rater Field Checklist'!$N$49","v":0},{"$f":"'1b. Rater Field Checklist'!$M$49","v":0}]
[{"$f":"'1b. Rater Field Checklist'!$C$50","v":"3. Reduced Thermal Bridging"},{"$f":"'1b. Rater Field Checklist'!$N$50","v":0},{"$f":"'1b. Rater Field Checklist'!$M$50","v":0}]
[{"$f":"'1b. Rater Field Checklist'!$C$51","v":"3.1 For insulated ceilings with attic space above (i.e., non-cathedralized), Grade I insulation extends to the inside face of the exterior wall below and is ≥ R-21 in CZ 1-5; ≥ R-30 in CZ 6-8. 17"},{"$f":"'1b. Rater Field Checklist'!$N$51","v":0},{"$f":"'1b. Rater Field Checklist'!$M$51","v":0}]
[{"$f":"'1b. Rater Field Checklist'!$C$53","v":"3.2 For insulated ceilings with attic space above, attic access panels and drop-down stairs insulated ≥ R-10 or equipped with durable ≥ R-10 cover. 18"},{"$f":"'1b. Rater Field Checklist'!$N$53","v":0},{"$f":"'1b. Rater Field Checklist'!$M$53","v":0}]
[{"$f":"'1b. Rater Field Checklist'!$C$55","v":"3.3 Insulation beneath attic platforms (e.g., HVAC platforms, walkways) ≥ R-21 in CZ 1-5; ≥ R-30 in CZ 6-8."},{"$f":"'1b. Rater Field Checklist'!$N$55","v":0},{"$f":"'1b. Rater Field Checklist'!$M$55","v":0}]
[{"$f":"'1b. Rater Field Checklist'!$C$56","v":"3.4 For slabs on grade in CZ 4-8, 100% of slab edge insulated to ≥ R-5 at the depth specified by Table 502.2(1) of the 2009 IECC and aligned with the thermal boundary of the walls. 19, 20"},{"$f":"'1b. Rater Field Checklist'!$N$56","v":0},{"$f":"'1b. Rater Field Checklist'!$M$56","v":0}]
[{"$f":"'1b. Rater Field Checklist'!$C$59","v":"3.5 For elevated concrete slabs in CZ 4-8 (i.e., podiums and projected balconies, but not intermediate slab floor edges) 100% of the slab edge insulated to ≥ R-5. For podiums, this insulation must extend for a minimum of 8ft below the bottom of the slab edge. For columns, the insulation must surround the column, at a depth of 4ft. Alternatives in Footnote 21. 21"},{"$f":"'1b. Rater Field Checklist'!$N$59","v":0},{"$f":"'1b. Rater Field Checklist'!$M$59","v":0}]
[{"$f":"'1b. Rater Field Checklist'!$C$61","v":"3.6 For elevated concrete slabs in CZ 4-8 (i.e., podiums, but not intermediate floor slabs), floor insulation meets the U-factor specified in Table 502.1.2 of the 2009 IECC for Group R when dwelling units are above the slab, and for ‘All Other’ when common space is above the slab. 22"},{"$f":"'1b. Rater Field Checklist'!$N$61","v":0},{"$f":"'1b. Rater Field Checklist'!$M$61","v":0}]
[{"$f":"'1b. Rater Field Checklist'!$C$63","v":"3.7 At above-grade walls and rim / band joists separating conditioned space from the exterior, one of the following options used: 23, 26"},{"$f":"'1b. Rater Field Checklist'!$N$63","v":0},{"$f":"'1b. Rater Field Checklist'!$M$63","v":0}]
[{"$f":"'1b. Rater Field Checklist'!$C$66","v":" 3.7.1 Continuous rigid insulation, insulated siding, or combination of the two is ≥ R-3 in CZ 1-4; ≥ R-5 in CZ 5-8 24, 25, 26, 27; OR;"},{"$f":"'1b. Rater Field Checklist'!$N$66","v":0},{"$f":"'1b. Rater Field Checklist'!$M$66","v":0}]
[{"$f":"'1b. Rater Field Checklist'!$C$71","v":" 3.7.2 Structural Insulated Panels OR; Insulated Concrete Forms OR; Double-wall framing OR; 24, 26, 28"},{"$f":"'1b. Rater Field Checklist'!$N$71","v":0},{"$f":"'1b. Rater Field Checklist'!$M$71","v":0}]
[{"$f":"'1b. Rater Field Checklist'!$C$75","v":" 3.7.3 Option only for wood-framed walls either in CZ 1-3 OR ≤ 3 stories: ‘advanced framing’ details including all of the Items below: 26, 29"},{"$f":"'1b. Rater Field Checklist'!$N$75","v":0},{"$f":"'1b. Rater Field Checklist'!$M$75","v":0}]
[{"$f":"'1b. Rater Field Checklist'!$C$78","v":"  3.7.3a Corners insulated ≥ R-6 to edge, 30 AND;"},{"$f":"'1b. Rater Field Checklist'!$N$78","v":0},{"$f":"'1b. Rater Field Checklist'!$M$78","v":0}]
[{"$f":"'1b. Rater Field Checklist'!$C$80","v":"  3.7.3b Headers above windows & doors insulated ≥ R-3 for 2x4 framing or equivalent cavity width, and ≥ R-5 for all other assemblies (e.g., with 2x6 framing), 31 AND;"},{"$f":"'1b. Rater Field Checklist'!$N$80","v":0},{"$f":"'1b. Rater Field Checklist'!$M$80","v":0}]
[{"$f":"'1b. Rater Field Checklist'!$C$82","v":"  3.7.3c Interior / exterior wall intersections insulated to same R-value as rest of exterior wall. 32"},{"$f":"'1b. Rater Field Checklist'!$N$82","v":0},{"$f":"'1b. Rater Field Checklist'!$M$82","v":0}]
[{"$f":"'1b. Rater Field Checklist'!$C$84","v":"4. Air Sealing (Unless otherwise noted below, “sealed” indicates the use of caulk, foam, or equivalent material.)"},{"$f":"'1b. Rater Field Checklist'!$N$84","v":0},{"$f":"'1b. Rater Field Checklist'!$M$84","v":0}]
[{"$f":"'1b. Rater Field Checklist'!$C$85","v":"4.1 Ducts, flues, shafts, plumbing, piping, wiring, exhaust fans, & other penetrations to unconditioned space sealed, with blocking / flashing as needed."},{"$f":"'1b. Rater Field Checklist'!$N$85","v":0},{"$f":"'1b. Rater Field Checklist'!$M$85","v":0}]
[{"$f":"'1b. Rater Field Checklist'!$C$86","v":"4.2 Recessed lighting fixtures adjacent to unconditioned space ICAT labeled and gasketed. Also, if in insulated ceiling without attic above, exterior surface of fixture insulated to ≥ R-10 in CZ 4-8."},{"$f":"'1b. Rater Field Checklist'!$N$86","v":0},{"$f":"'1b. Rater Field Checklist'!$M$86","v":0}]
[{"$f":"'1b. Rater Field Checklist'!$C$87","v":"4.3 Continuous top plate or blocking is at top of walls adjoining unconditioned space including at balloon-framed parapets, and sealed."},{"$f":"'1b. Rater Field Checklist'!$N$87","v":0},{"$f":"'1b. Rater Field Checklist'!$M$87","v":0}]
[{"$f":"'1b. Rater Field Checklist'!$C$88","v":"4.4 Drywall sealed to top plate at all unconditioned attic / wall interfaces using caulk, foam, drywall adhesive (but not other construction adhesives), or equivalent material. Either apply sealant directly between drywall and top plate or to the seam between the two from the attic above."},{"$f":"'1b. Rater Field Checklist'!$N$88","v":0},{"$f":"'1b. Rater Field Checklist'!$M$88","v":0}]
[{"$f":"'1b. Rater Field Checklist'!$C$89","v":"4.5 Rough opening around windows & exterior doors sealed. 33"},{"$f":"'1b. Rater Field Checklist'!$N$89","v":0},{"$f":"'1b. Rater Field Checklist'!$M$89","v":0}]
[{"$f":"'1b. Rater Field Checklist'!$C$91","v":"4.6 Assemblies that separate attached garages from occupiable space sealed and, also, an air barrier installed, sealed, and aligned with these assemblies. 34"},{"$f":"'1b. Rater Field Checklist'!$N$91","v":0},{"$f":"'1b. Rater Field Checklist'!$M$91","v":0}]
[{"$f":"'1b. Rater Field Checklist'!$C$93","v":"4.7 Doors adjacent to unconditioned space (e.g., attics, garages, basements) or ambient conditions made substantially air-tight with doorsweep and weatherstripping or equivalent gasket."},{"$f":"'1b. Rater Field Checklist'!$N$93","v":0},{"$f":"'1b. Rater Field Checklist'!$M$93","v":0}]
[{"$f":"'1b. Rater Field Checklist'!$C$94","v":"4.8 Attic access panels, roof hatches and drop-down stairs are gasketed (i.e., not caulked) or equipped with durable covers that are gasketed. 18"},{"$f":"'1b. Rater Field Checklist'!$N$94","v":0},{"$f":"'1b. Rater Field Checklist'!$M$94","v":0}]
[{"$f":"'1b. Rater Field Checklist'!$C$96","v":"The following items must be additionally verified in dwelling units, to reduce air leakage between conditioned spaces."},{"$f":"'1b. Rater Field Checklist'!$N$96","v":0},{"$f":"'1b. Rater Field Checklist'!$M$96","v":0}]
[{"$f":"'1b. Rater Field Checklist'!$C$97","v":"4.9 Doors serving as a unit entrance from a corridor / stairwell made substantially air-tight with doorsweep and weatherstripping or equivalent gasket."},{"$f":"'1b. Rater Field Checklist'!$N$97","v":0},{"$f":"'1b. Rater Field Checklist'!$M$97","v":0}]
[{"$f":"'1b. Rater Field Checklist'!$C$98","v":"4.10 Rater-measured compartmentalization is no greater than 0.30 CFM50 per square feet of dwelling unit enclosure area, following procedures in ANSI / RESNET / ICC Std. 380. 35"},{"$f":"'1b. Rater Field Checklist'!$N$98","v":0},{"$f":"'1b. Rater Field Checklist'!$M$98","v":0}]
[{"$f":"'1b. Rater Field Checklist'!$C$100","v":" 4.10.1 For dwelling units with forced air distribution systems without ducted returns and located in a closet adjacent to unconditioned space, the Rater-measured pressure difference between the space containing the air handler and the conditioned space during the compartmentalization test is no greater than 5 Pa. 36"},{"$f":"'1b. Rater Field Checklist'!$N$100","v":0},{"$f":"'1b. Rater Field Checklist'!$M$100","v":0}]
[{"$f":"'1b. Rater Field Checklist'!$C$102","v":"HVAC System 37 (HVAC Design Report Item # indicated in parenthesis) "},{"$f":"'1b. Rater Field Checklist'!$N$102","v":0},{"$f":"'1b. Rater Field Checklist'!$M$102","v":0}]
[{"$f":"'1b. Rater Field Checklist'!$C$104","v":"5. Heating & Cooling Equipment – Complete Track A – HVAC Grading by Rater OR Track B – HVAC Testing by FT Agent 38"},{"$f":"'1b. Rater Field Checklist'!$N$104","v":0},{"$f":"'1b. Rater Field Checklist'!$M$104","v":0}]
[{"$f":"'1b. Rater Field Checklist'!$C$106","v":"Track A 39"},{"$f":"'1b. Rater Field Checklist'!$N$106","v":0},{"$f":"'1b. Rater Field Checklist'!$M$106","v":0}]
[{"$f":"'1b. Rater Field Checklist'!$C$108","v":"5a.1 Blower fan volumetric airflow is Grade I or II per ANSI / RESNET / ACCA Std. 310"},{"$f":"'1b. Rater Field Checklist'!$N$108","v":0},{"$f":"'1b. Rater Field Checklist'!$M$108","v":0}]
[{"$f":"'1b. Rater Field Checklist'!$C$109","v":"5a.2 Blower fan watt draw is Grade I or II per ANSI / RESNET / ACCA Std. 310"},{"$f":"'1b. Rater Field Checklist'!$N$109","v":0},{"$f":"'1b. Rater Field Checklist'!$M$109","v":0}]
[{"$f":"'1b. Rater Field Checklist'!$C$110","v":"5a.3 Refrigerant charge is Grade I per ANSI / RESNET / ACCA Std. 310. See Footnote 40 for exemptions. 40"},{"$f":"'1b. Rater Field Checklist'!$N$110","v":0},{"$f":"'1b. Rater Field Checklist'!$M$110","v":0}]
[{"$f":"'1b. Rater Field Checklist'!$C$112","v":"Track B"},{"$f":"'1b. Rater Field Checklist'!$N$112","v":0},{"$f":"'1b. Rater Field Checklist'!$M$112","v":0}]
[{"$f":"'1b. Rater Field Checklist'!$C$113","v":"5b.1 HVAC manufacturer & model number on installed equipment matches either of the following (check box): 41\n \n National HVAC Design Report (4.6-4.9 & 4.25-4.26)      Written approval received from designer"},{"$f":"'1b. Rater Field Checklist'!$N$113","v":0},{"$f":"'1b. Rater Field Checklist'!$M$113","v":0}]
[{"$f":"'1b. Rater Field Checklist'!$C$115","v":"5b.2 External static pressure measured by Rater at contractor-provided test locations and documented below: 42\n\nReturn-Side External Static Pressure: ________IWC\nSupply-Side External Static Pressure: __________IWC"},{"$f":"'1b. Rater Field Checklist'!$N$115","v":0},{"$f":"'1b. Rater Field Checklist'!$M$115","v":0}]
[{"$f":"'1b. Rater Field Checklist'!$C$117","v":"5.4 Prescriptive Path: Heating and cooling equipment serving dwelling units and common spaces meet the efficiency levels specified in the Exhibit X. Electric resistance space heating is not installed in dwelling units."},{"$f":"'1b. Rater Field Checklist'!$N$117","v":0},{"$f":"'1b. Rater Field Checklist'!$M$117","v":0}]
[{"$f":"'1b. Rater Field Checklist'!$C$118","v":"5.5 ERI Path: Heating and cooling equipment serving common spaces, but not serving dwelling units, meet the efficiency levels specified in the Exhibit X. See Exhibit X for restrictions on electric resistance space heating."},{"$f":"'1b. Rater Field Checklist'!$N$118","v":0},{"$f":"'1b. Rater Field Checklist'!$M$118","v":0}]
[{"$f":"'1b. Rater Field Checklist'!$C$119","v":"5.6 National HVAC Functional Testing Checklist(s) collected prior to certification, with all HVAC systems in the building / project fully documented. Exception: Where credentialed HVAC Contractor(s) are completing the National HVAC Functional Testing Checklist, the checklist is not required to be collected for the systems they verify. 43"},{"$f":"'1b. Rater Field Checklist'!$N$119","v":0},{"$f":"'1b. Rater Field Checklist'!$M$119","v":0}]
[{"$f":"'1b. Rater Field Checklist'!$C$121","v":"5.7 Rater has verified and documented that Functional Testing Agent(s) (“FT Agent(s)”) completing the National HVAC Functional Testing Checklist(s) hold one of the required credentials and completed orientation, if applicable. 43\n\nCredential: ______________________ “FT Agent” Company Name(s): _______________________"},{"$f":"'1b. Rater Field Checklist'!$N$121","v":0},{"$f":"'1b. Rater Field Checklist'!$M$121","v":0}]
[{"$f":"'1b. Rater Field Checklist'!$C$123","v":"Equipment Controls "},{"$f":"'1b. Rater Field Checklist'!$N$123","v":0},{"$f":"'1b. Rater Field Checklist'!$M$123","v":0}]
[{"$f":"'1b. Rater Field Checklist'!$C$124","v":"5.8 All heating and cooling systems serving a dwelling unit have thermostatic controls within the dwelling unit which are not located on exterior walls."},{"$f":"'1b. Rater Field Checklist'!$N$124","v":0},{"$f":"'1b. Rater Field Checklist'!$M$124","v":0}]
[{"$f":"'1b. Rater Field Checklist'!$C$125","v":" 5.8.1 Prescriptive Path: Dwelling unit thermostats are programmable."},{"$f":"'1b. Rater Field Checklist'!$N$125","v":0},{"$f":"'1b. Rater Field Checklist'!$M$125","v":0}]
[{"$f":"'1b. Rater Field Checklist'!$C$126","v":"5.9 Stair and elevator shaft vents equipped with motorized dampers that are capable of being automatically closed during normal building operation and are interlocked to open as required by fire and smoke detection systems. Dampers are verified to be closed at the time of inspection."},{"$f":"'1b. Rater Field Checklist'!$N$126","v":0},{"$f":"'1b. Rater Field Checklist'!$M$126","v":0}]
[{"$f":"'1b. Rater Field Checklist'!$C$127","v":"5.10 Freeze protection systems, such as heat tracing of piping and heat exchangers, including self-regulating heat tracing, and garage / plenum heaters include automatic controls that are verified to shut off the systems when pipe wall or garage / plenum temperatures are above 40°F."},{"$f":"'1b. Rater Field Checklist'!$N$127","v":0},{"$f":"'1b. Rater Field Checklist'!$M$127","v":0}]
[{"$f":"'1b. Rater Field Checklist'!$C$128","v":" 5.10.1 Where heat tracing is installed for freeze-protection, controls must be based on pipe wall temperature and a minimum of R-3 pipe insulation is also required."},{"$f":"'1b. Rater Field Checklist'!$N$128","v":0},{"$f":"'1b. Rater Field Checklist'!$M$128","v":0}]
[{"$f":"'1b. Rater Field Checklist'!$C$129","v":"5.11 Snow- and ice-melting systems include automatic controls that are verified to shut off the systems when the pavement temperature is above 50°F and no precipitation is falling, and an automatic or manual control is installed that is verified to shut off system when the outdoor temperature is above 40°F, so that the potential for snow or ice accumulation is negligible."},{"$f":"'1b. Rater Field Checklist'!$N$129","v":0},{"$f":"'1b. Rater Field Checklist'!$M$129","v":0}]
[{"$f":"'1b. Rater Field Checklist'!$C$130","v":"Hydronic Distribution "},{"$f":"'1b. Rater Field Checklist'!$N$130","v":0},{"$f":"'1b. Rater Field Checklist'!$M$130","v":0}]
[{"$f":"'1b. Rater Field Checklist'!$C$131","v":"5.12 For hydronic distribution systems, all terminal heating and cooling distribution equipment are separated from the riser or distribution loop by a control valve or terminal distribution pump, so that heated or cooled fluid is not delivered to the dwelling unit distribution equipment when there is no call from the thermostat."},{"$f":"'1b. Rater Field Checklist'!$N$131","v":0},{"$f":"'1b. Rater Field Checklist'!$M$131","v":0}]
[{"$f":"'1b. Rater Field Checklist'!$C$132","v":"5.13 Terminal units in hydronic distribution systems are equipped with pressure independent balancing valves or pressure independent control valves."},{"$f":"'1b. Rater Field Checklist'!$N$132","v":0},{"$f":"'1b. Rater Field Checklist'!$M$132","v":0}]
[{"$f":"'1b. Rater Field Checklist'!$C$133","v":"5.14 Piping of a heating or cooling system is insulated in accordance with Item 4.41 on the National HVAC Design Report, including where passing through planks or any other penetrations."},{"$f":"'1b. Rater Field Checklist'!$N$133","v":0},{"$f":"'1b. Rater Field Checklist'!$M$133","v":0}]
[{"$f":"'1b. Rater Field Checklist'!$C$134","v":"5.15 For circulating pumps serving hydronic heating or cooling systems with three-phase motors, 1 horsepower or larger, motors meet or exceed efficiency standards for NEMA Premium™ motors. If 5 horsepower or larger, also installed with variable frequency drives."},{"$f":"'1b. Rater Field Checklist'!$N$134","v":0},{"$f":"'1b. Rater Field Checklist'!$M$134","v":0}]
[{"$f":"'1b. Rater Field Checklist'!$C$135","v":"6. Duct Quality Installation - Applies to Heating, Cooling, Ventilation, Exhaust, & Pressure Balancing Ducts, Unless Noted in Footnote."},{"$f":"'1b. Rater Field Checklist'!$N$135","v":0},{"$f":"'1b. Rater Field Checklist'!$M$135","v":0}]
[{"$f":"'1b. Rater Field Checklist'!$C$136","v":"6.1 Ductwork installed without kinks, sharp bends, compressions, or excessive coiled flexible ductwork. 45"},{"$f":"'1b. Rater Field Checklist'!$N$136","v":0},{"$f":"'1b. Rater Field Checklist'!$M$136","v":0}]
[{"$f":"'1b. Rater Field Checklist'!$C$138","v":"6.2 Bedrooms with a design supply airflow ≥ 150 CFM (per Item 5.2 on the National HVAC Design Report) pressure-balanced (e.g., using transfer grilles, jump ducts, dedicated return ducts, undercut doors) to achieve a Rater-measured pressure differential ≥ -5 Pa and ≤ +5 Pa with respect to the main body of the dwelling unit when all air handlers are operating. See Footnote 46 for test configuration. 46"},{"$f":"'1b. Rater Field Checklist'!$N$138","v":0},{"$f":"'1b. Rater Field Checklist'!$M$138","v":0}]
[{"$f":"'1b. Rater Field Checklist'!$C$140","v":"6.3 All supply and return ducts in unconditioned space, including connections to trunk ducts, are insulated to ≥ R-6. 47"},{"$f":"'1b. Rater Field Checklist'!$N$140","v":0},{"$f":"'1b. Rater Field Checklist'!$M$140","v":0}]
[{"$f":"'1b. Rater Field Checklist'!$C$142","v":" 6.3.1 Prescriptive Path: Dwelling unit ductwork meets the location and insulation requirements specified in the ENERGY STAR Multifamily Reference Design."},{"$f":"'1b. Rater Field Checklist'!$N$142","v":0},{"$f":"'1b. Rater Field Checklist'!$M$142","v":0}]
[{"$f":"'1b. Rater Field Checklist'!$C$143","v":"6.4 Rater-measured total duct leakage in dwelling units meets one of the following two options: 48, 49"},{"$f":"'1b. Rater Field Checklist'!$N$143","v":0},{"$f":"'1b. Rater Field Checklist'!$M$143","v":0}]
[{"$f":"'1b. Rater Field Checklist'!$C$146","v":" 6.4.1 Rough-in: Tested per allowances below, with air handler & all ducts, building cavities used as ducts, & duct boots installed. In addition, all duct boots sealed to finished surface, Rater-verified at final. 50\n\nNo ducted returns 36: The greater of ≤ 3 CFM25 per 100 sq. ft. of CFA or ≤ 30 CFM. Additionally, the Rater-measured pressure difference between the space containing the air handler and the conditioned space, with the air handler running at high speed, is ≤ 5 Pa. For systems > 1 ton, increase by 1 Pa per half ton.\n\nOne or two ducted returns 36: The greater of ≤ 4 CFM25 per 100 sq. ft. of CFA or ≤ 40 CFM.\n\nThree or more ducted returns 36 : The greater of ≤ 6 CFM25 per 100 sq. ft. of CFA or ≤ 60 CFM."},{"$f":"'1b. Rater Field Checklist'!$N$146","v":0},{"$f":"'1b. Rater Field Checklist'!$M$146","v":0}]
[{"$f":"'1b. Rater Field Checklist'!$C$149","v":" 6.4.2 Final: Tested per allowances below, with the air handler & all ducts, building cavities used as ducts, duct boots, & register grilles atop the finished surface (e.g., drywall, floor) installed. 51\n\nNo ducted returns 36: The greater of ≤ 6 CFM25 per 100 sq. ft. of CFA or ≤ 60 CFM. Additionally, the Rater-measured pressure difference between the space containing the air handler and the conditioned space, with the air handler running at high speed, is ≤ 5 Pa. For systems > 1 ton, increase by 1 Pa per half ton.\n\nOne or two ducted returns 36: The greater of ≤ 8 CFM25 per 100 sq. ft. of CFA or ≤ 80 CFM.\n\nThree or more ducted returns 36 : The greater of ≤ 12 CFM25 per 100 sq. ft. of CFA or ≤ 120 CFM."},{"$f":"'1b. Rater Field Checklist'!$N$149","v":0},{"$f":"'1b. Rater Field Checklist'!$M$149","v":0}]
[{"$f":"'1b. Rater Field Checklist'!$C$152","v":"6.5 Townhouses only: Rater-measured duct leakage to the outside the greater of ≤ 4 CFM25 per 100 sq. ft. of CFA or ≤ 40 CFM25. 48, 52"},{"$f":"'1b. Rater Field Checklist'!$N$152","v":0},{"$f":"'1b. Rater Field Checklist'!$M$152","v":0}]
[{"$f":"'1b. Rater Field Checklist'!$C$155","v":"6.6 Common Space: Supply, return, and exhaust ductwork and all plenums serving common spaces are sealed at all transverse joints, longitudinal seams, and duct wall penetrations with mastic, mastic tape, or internal aerosol-based sealant."},{"$f":"'1b. Rater Field Checklist'!$N$155","v":0},{"$f":"'1b. Rater Field Checklist'!$M$155","v":0}]
[{"$f":"'1b. Rater Field Checklist'!$C$156","v":"6.7 Duct leakage of central exhaust systems that serve four or more dwelling units, meets one of the following two options:"},{"$f":"'1b. Rater Field Checklist'!$N$156","v":0},{"$f":"'1b. Rater Field Checklist'!$M$156","v":0}]
[{"$f":"'1b. Rater Field Checklist'!$C$157","v":" 6.7.1 Rough-in: Tested including horizontal run outs, trunks, branches, and take-offs up to, but not including, the grilles, the leakage does not exceed 25% of exhaust fan flow. 53"},{"$f":"'1b. Rater Field Checklist'!$N$157","v":0},{"$f":"'1b. Rater Field Checklist'!$M$157","v":0}]
[{"$f":"'1b. Rater Field Checklist'!$C$159","v":" 6.7.2 Final: Tested inclusive of all ductwork between the fan and the grilles, the leakage does not exceed 30% of exhaust fan flow. 53"},{"$f":"'1b. Rater Field Checklist'!$N$159","v":0},{"$f":"'1b. Rater Field Checklist'!$M$159","v":0}]
[{"$f":"'1b. Rater Field Checklist'!$C$161","v":"7. Dwelling-Unit & Common Space Mechanical Vent. Systems (\"Vent Systems\") 54 & Inlets in Return Duct 55\n(National HVAC Design Report Item # indicated in parenthesis)"},{"$f":"'1b. Rater Field Checklist'!$N$161","v":0},{"$f":"'1b. Rater Field Checklist'!$M$161","v":0}]
[{"$f":"'1b. Rater Field Checklist'!$C$164","v":"7.1 Ventilation manufacturer & model number on installed equipment matches either of the following (check box): 41\n\n National HVAC Design Report           Written approval received from designer"},{"$f":"'1b. Rater Field Checklist'!$N$164","v":0},{"$f":"'1b. Rater Field Checklist'!$M$164","v":0}]
[{"$f":"'1b. Rater Field Checklist'!$C$166","v":"7.2 Rater-measured ventilation rate is within either ± 15 CFM or ± 15% of dwelling unit design values (2.7), and meets or exceeds rates required by ASHRAE 62.2-2010. 56"},{"$f":"'1b. Rater Field Checklist'!$N$166","v":0},{"$f":"'1b. Rater Field Checklist'!$M$166","v":0}]
[{"$f":"'1b. Rater Field Checklist'!$C$168","v":"7.3 Measured ventilation rate is within either ± 15 CFM or ± 15 % of common space design values (2.9), and meets or exceeds rates required by ASHRAE 62.1-2010 (2.8). 57"},{"$f":"'1b. Rater Field Checklist'!$N$168","v":0},{"$f":"'1b. Rater Field Checklist'!$M$168","v":0}]
[{"$f":"'1b. Rater Field Checklist'!$C$170","v":"7.4 A ventilation override control installed and also labeled if its function is not obvious (e.g., a label is required for a standalone wall switch, but not for a switch that’s on the ventilation equipment). Townhouses only: A readily-accessible ventilation override control installed and also labeled if its function is not obvious (e.g., a label is required for a toggle wall switch, but not for a switch that’s on the ventilation equipment)."},{"$f":"'1b. Rater Field Checklist'!$N$170","v":0},{"$f":"'1b. Rater Field Checklist'!$M$170","v":0}]
[{"$f":"'1b. Rater Field Checklist'!$C$171","v":"7.5 For any outdoor air inlet connected to a ducted return of the dwelling unit HVAC system (Complete if present; otherwise check “N/A”): 55"},{"$f":"'1b. Rater Field Checklist'!$N$171","v":0},{"$f":"'1b. Rater Field Checklist'!$M$171","v":0}]
[{"$f":"'1b. Rater Field Checklist'!$C$177","v":"7.6 If located in the dwelling unit, system fan rated ≤ 3 sones if intermittent and ≤ 2 sone if continuous, or exempted. 60"},{"$f":"'1b. Rater Field Checklist'!$N$177","v":0},{"$f":"'1b. Rater Field Checklist'!$M$177","v":0}]
[{"$f":"'1b. Rater Field Checklist'!$C$179","v":"7.7 If dwelling-unit Vent System controller operates the dwelling unit HVAC fan, then HVAC fan operation is intermittent and either the fan type is ECM / ICM (4.12), or the controls will reduce the run-time by accounting for HVAC system heating or cooling hours. 61"},{"$f":"'1b. Rater Field Checklist'!$N$179","v":0},{"$f":"'1b. Rater Field Checklist'!$M$179","v":0}]
[{"$f":"'1b. Rater Field Checklist'!$C$181","v":"7.8 In-unit bathroom fans or in-line fans are ENERGY STAR certified if used as part of the dwelling-unit mechanical ventilation system. 62"},{"$f":"'1b. Rater Field Checklist'!$N$181","v":0},{"$f":"'1b. Rater Field Checklist'!$M$181","v":0}]
[{"$f":"'1b. Rater Field Checklist'!$C$183","v":"7.9 If central exhaust fans, ≤ 1 HP, are installed as part of the dwelling-unit mechanical ventilation system, then they are direct-drive, ECM, with variable speed controllers. If > 1 HP, they are installed with NEMATM Premium Motors."},{"$f":"'1b. Rater Field Checklist'!$N$183","v":0},{"$f":"'1b. Rater Field Checklist'!$M$183","v":0}]
[{"$f":"'1b. Rater Field Checklist'!$C$184","v":"7.10 Air inlet locations (Complete if ventilation air inlet locations were installed (2.22, 2.23); otherwise check “N/A”): 63, 64"},{"$f":"'1b. Rater Field Checklist'!$N$184","v":0},{"$f":"'1b. Rater Field Checklist'!$M$184","v":0}]
[{"$f":"'1b. Rater Field Checklist'!$C$187","v":" 7.10.1 Inlet(s) pull ventilation air directly from outdoors and not from attic, crawlspace, garage, or adjacent dwelling unit."},{"$f":"'1b. Rater Field Checklist'!$N$187","v":0},{"$f":"'1b. Rater Field Checklist'!$M$187","v":0}]
[{"$f":"'1b. Rater Field Checklist'!$C$188","v":" 7.10.2 Inlet(s) are ≥ 2 ft. above grade or roof deck; ≥ 10 ft. of stretched-string distance from known contamination sources not exiting the roof, and ≥ 3 ft. distance from dryer exhausts and sources exiting the roof. 65"},{"$f":"'1b. Rater Field Checklist'!$N$188","v":0},{"$f":"'1b. Rater Field Checklist'!$M$188","v":0}]
[{"$f":"'1b. Rater Field Checklist'!$C$191","v":"8. Local Mechanical Exhaust (National HVAC Design Report Item # indicated in parenthesis)"},{"$f":"'1b. Rater Field Checklist'!$N$191","v":0},{"$f":"'1b. Rater Field Checklist'!$M$191","v":0}]
[{"$f":"'1b. Rater Field Checklist'!$C$192","v":"Dwelling Unit Mechanical exhaust - In each dwelling unit kitchen and bathroom, a system is installed that exhausts directly to the outdoors and meets one of the following Rater-measured airflow and manufacturer-rated sound level standards: 54, 66"},{"$f":"'1b. Rater Field Checklist'!$N$192","v":0},{"$f":"'1b. Rater Field Checklist'!$M$192","v":0}]
[{"$f":"'1b. Rater Field Checklist'!$C$195","v":"Location "},{"$f":"'1b. Rater Field Checklist'!$N$195","v":0},{"$f":"'1b. Rater Field Checklist'!$M$195","v":0}]
[{"$f":"'1b. Rater Field Checklist'!$C$196","v":"8.1 Kitchen\nAirflow\nContinuous Rate:  ≥ 5 ACH, based on kitchen volume 68, 69\nIntermittent Rate 67: ≥ 100 CFM and, if not integrated with range, also ≥ 5 ACH based on kitchen volume 68, 69, 70\n\nSound\nContinuous Rate: Recommended: ≤ 1 sone\nIntermittent Rate 67:  Recommended: ≤ 3 sones"},{"$f":"'1b. Rater Field Checklist'!$N$196","v":0},{"$f":"'1b. Rater Field Checklist'!$M$196","v":0}]
[{"$f":"'1b. Rater Field Checklist'!$C$201","v":"8.2 Bathroom\nAirflow\nContinuous Rate:  ≥ 20 CFM\nIntermittent Rate 67: ≥ 50 CFM\n\nSound\nContinuous Rate: Required: ≤ 2 sones\nIntermittent Rate 67:  Recommended: ≤ 3 sones"},{"$f":"'1b. Rater Field Checklist'!$N$201","v":0},{"$f":"'1b. Rater Field Checklist'!$M$201","v":0}]
[{"$f":"'1b. Rater Field Checklist'!$C$203","v":"Mechanical Exhaust for Common Spaces 2 and Shared Garages "},{"$f":"'1b. Rater Field Checklist'!$N$203","v":0},{"$f":"'1b. Rater Field Checklist'!$M$203","v":0}]
[{"$f":"'1b. Rater Field Checklist'!$C$205","v":"8.3 Measured exhaust rates are  ≥ ASHRAE 62.1 rates (2c). 57"},{"$f":"'1b. Rater Field Checklist'!$N$205","v":0},{"$f":"'1b. Rater Field Checklist'!$M$205","v":0}]
[{"$f":"'1b. Rater Field Checklist'!$C$207","v":"8.4 Where an exhaust system is installed in a shared garage, it is equipped with controls that sense CO and NO2."},{"$f":"'1b. Rater Field Checklist'!$N$207","v":0},{"$f":"'1b. Rater Field Checklist'!$M$207","v":0}]
[{"$f":"'1b. Rater Field Checklist'!$C$208","v":"9. Filtration "},{"$f":"'1b. Rater Field Checklist'!$N$208","v":0},{"$f":"'1b. Rater Field Checklist'!$M$208","v":0}]
[{"$f":"'1b. Rater Field Checklist'!$C$209","v":"9.1 MERV 6+ filter(s) installed in each ducted mechanical system serving an individual dwelling unit and located to facilitate access & regular service by the occupant or building owner. 71"},{"$f":"'1b. Rater Field Checklist'!$N$209","v":0},{"$f":"'1b. Rater Field Checklist'!$M$209","v":0}]
[{"$f":"'1b. Rater Field Checklist'!$C$211","v":" 9.1.1 Filter access panel includes gasket and fits snugly against the exposed edge of filter when closed to prevent bypass. 72"},{"$f":"'1b. Rater Field Checklist'!$N$211","v":0},{"$f":"'1b. Rater Field Checklist'!$M$211","v":0}]
[{"$f":"'1b. Rater Field Checklist'!$C$213","v":" 9.1.2 All return air and mechanically supplied outdoor air passes through filter prior to conditioning."},{"$f":"'1b. Rater Field Checklist'!$N$213","v":0},{"$f":"'1b. Rater Field Checklist'!$M$213","v":0}]
[{"$f":"'1b. Rater Field Checklist'!$C$214","v":"10. Combustion Appliances "},{"$f":"'1b. Rater Field Checklist'!$N$214","v":0},{"$f":"'1b. Rater Field Checklist'!$M$214","v":0}]
[{"$f":"'1b. Rater Field Checklist'!$C$215","v":"10.1 Furnaces, boilers, and water heaters located within the building’s pressure boundary are mechanically drafted or direct-vented. If mechanically drafted, the minimum volume of combustion air required for safe operation by the manufacturer and/or code shall be met or exceeded and make-up air sources must be mechanically closed when the combustion appliance is not in operation. Alternatives in Footnote 75. 73, 74, 75"},{"$f":"'1b. Rater Field Checklist'!$N$215","v":0},{"$f":"'1b. Rater Field Checklist'!$M$215","v":0}]
[{"$f":"'1b. Rater Field Checklist'!$C$219","v":"10.2 Fireplaces located within the building’s pressure boundary are direct-vented. 73, 74"},{"$f":"'1b. Rater Field Checklist'!$N$219","v":0},{"$f":"'1b. Rater Field Checklist'!$M$219","v":0}]
[{"$f":"'1b. Rater Field Checklist'!$C$222","v":"10.3 No unvented combustion appliances other than cooking ranges or ovens are located inside the building’s pressure boundary. For cooking ranges and ovens, local mechanical exhaust per Checklist Item 8.1 requirements must be met. 73"},{"$f":"'1b. Rater Field Checklist'!$N$222","v":0},{"$f":"'1b. Rater Field Checklist'!$M$222","v":0}]
[{"$f":"'1b. Rater Field Checklist'!$C$224","v":"Other "},{"$f":"'1b. Rater Field Checklist'!$N$224","v":0},{"$f":"'1b. Rater Field Checklist'!$M$224","v":0}]
[{"$f":"'1b. Rater Field Checklist'!$C$225","v":"11. Domestic Hot Water "},{"$f":"'1b. Rater Field Checklist'!$N$225","v":0},{"$f":"'1b. Rater Field Checklist'!$M$225","v":0}]
[{"$f":"'1b. Rater Field Checklist'!$C$226","v":"11.1 Prescriptive Path: Hot water equipment rated in EF or UEF meet the efficiency levels specified in the ENERGY STAR Multifamily Reference Design. Otherwise, meet or exceed ≥85% Et. 76"},{"$f":"'1b. Rater Field Checklist'!$N$226","v":0},{"$f":"'1b. Rater Field Checklist'!$M$226","v":0}]
[{"$f":"'1b. Rater Field Checklist'!$C$228","v":"11.2 ERI: For hot water equipment serving common spaces but not dwelling units nor shared laundry: where rated EF or UEF, meet the efficiency levels specified in the ENERGY STAR Multifamily Reference Design. Otherwise, meet or exceed 85% Et. 76"},{"$f":"'1b. Rater Field Checklist'!$N$228","v":0},{"$f":"'1b. Rater Field Checklist'!$M$228","v":0}]
[{"$f":"'1b. Rater Field Checklist'!$C$230","v":"11.3 For in-unit storage water heaters, AHRI Certificate confirms the presence of a heat trap."},{"$f":"'1b. Rater Field Checklist'!$N$230","v":0},{"$f":"'1b. Rater Field Checklist'!$M$230","v":0}]
[{"$f":"'1b. Rater Field Checklist'!$C$231","v":"11.4 DHW piping located in the dwelling unit is insulated with a minimum of R-3. 77"},{"$f":"'1b. Rater Field Checklist'!$N$231","v":0},{"$f":"'1b. Rater Field Checklist'!$M$231","v":0}]
[{"$f":"'1b. Rater Field Checklist'!$C$233","v":"11.5 Rater-measured delivery temperatures at faucets and showerheads do not exceed 125°F. 78"},{"$f":"'1b. Rater Field Checklist'!$N$233","v":0},{"$f":"'1b. Rater Field Checklist'!$M$233","v":0}]
[{"$f":"'1b. Rater Field Checklist'!$C$235","v":"12. Lighting "},{"$f":"'1b. Rater Field Checklist'!$N$235","v":0},{"$f":"'1b. Rater Field Checklist'!$M$235","v":0}]
[{"$f":"'1b. Rater Field Checklist'!$C$236","v":"12.1 Common Space 2 Lighting Controls:"},{"$f":"'1b. Rater Field Checklist'!$N$236","v":0},{"$f":"'1b. Rater Field Checklist'!$M$236","v":0}]
[{"$f":"'1b. Rater Field Checklist'!$C$238","v":" 12.1.1 ERI and Prescriptive Path: All common spaces 2 (including shared garages), except the building lobby and where automatic shutoff would endanger the safety of occupants, have occupancy sensors or automatic bi-level lighting controls installed and operation has been verified."},{"$f":"'1b. Rater Field Checklist'!$N$238","v":0},{"$f":"'1b. Rater Field Checklist'!$M$238","v":0}]
[{"$f":"'1b. Rater Field Checklist'!$C$240","v":" 12.1.2 ASHRAE Path only: All common spaces 2 (including shared garages), except the building lobby, corridors, and stairwells and where automatic shutoff would endanger the safety of occupants, have occupancy sensors or automatic bi-level lighting controls installed and operation has been verified."},{"$f":"'1b. Rater Field Checklist'!$N$240","v":0},{"$f":"'1b. Rater Field Checklist'!$M$240","v":0}]
[{"$f":"'1b. Rater Field Checklist'!$C$242","v":"12.2 Common Space 2 Lighting Power Density Maximum (except garages): 79"},{"$f":"'1b. Rater Field Checklist'!$N$242","v":0},{"$f":"'1b. Rater Field Checklist'!$M$242","v":0}]
[{"$f":"'1b. Rater Field Checklist'!$C$244","v":" 12.2.1 ERI and Prescriptive Path: Total installed lighting power for the combined common spaces 2 must not exceed ASHRAE 90.1-2007 allowances for those combined spaces, using the Space-by-Space or Building Area Method. See Footnote 80 for allowances. 80"},{"$f":"'1b. Rater Field Checklist'!$N$244","v":0},{"$f":"'1b. Rater Field Checklist'!$M$244","v":0}]
[{"$f":"'1b. Rater Field Checklist'!$C$247","v":" 12.2.2 ASHRAE Path only: Total installed lighting power for the combined common spaces 2 must not exceed ASHRAE 90.1-2007 allowances for those combined spaces, using the Space-by-Space or Building Area Method, by more than 20%. See Footnote 80 for allowances. 80"},{"$f":"'1b. Rater Field Checklist'!$N$247","v":0},{"$f":"'1b. Rater Field Checklist'!$M$247","v":0}]
[{"$f":"'1b. Rater Field Checklist'!$C$250","v":"12.3 Shared garages: Lighting power density does not exceed 0.24 W/ft2."},{"$f":"'1b. Rater Field Checklist'!$N$250","v":0},{"$f":"'1b. Rater Field Checklist'!$M$250","v":0}]
[{"$f":"'1b. Rater Field Checklist'!$C$251","v":"12.4 Exterior lighting controls: Fixtures, including parking lot fixtures, must include automatic switching on timers or photocell controls except fixtures intended for 24-hour operation, required for security, or located on dwelling unit balconies."},{"$f":"'1b. Rater Field Checklist'!$N$251","v":0},{"$f":"'1b. Rater Field Checklist'!$M$251","v":0}]
[{"$f":"'1b. Rater Field Checklist'!$C$252","v":"12.5 ERI Path: All exterior and common space lighting fixtures meet the efficiency requirements in the ENERGY STAR Multifamily Reference Design, except fixtures located on dwelling unit balconies. 81, 82"},{"$f":"'1b. Rater Field Checklist'!$N$252","v":0},{"$f":"'1b. Rater Field Checklist'!$M$252","v":0}]
[{"$f":"'1b. Rater Field Checklist'!$C$255","v":"12.6 Prescriptive Path: All lighting fixtures (i.e., dwelling units, common spaces, and exterior) meet the efficiency requirements in the ENERGY STAR Multifamily Reference Design. 81, 82"},{"$f":"'1b. Rater Field Checklist'!$N$255","v":0},{"$f":"'1b. Rater Field Checklist'!$M$255","v":0}]
[{"$f":"'1b. Rater Field Checklist'!$C$258","v":"12.7 Prescriptive Path: Dwelling unit overall in-unit lighting power density ≤ 0.75 W/ft2. When calculating overall lighting power density, use 1.1 W/ft2 where lighting is not installed. 79"},{"$f":"'1b. Rater Field Checklist'!$N$258","v":0},{"$f":"'1b. Rater Field Checklist'!$M$258","v":0}]
[{"$f":"'1b. Rater Field Checklist'!$C$260","v":"13. Appliances, Ceiling Fans, and Plumbing Fixtures "},{"$f":"'1b. Rater Field Checklist'!$N$260","v":0},{"$f":"'1b. Rater Field Checklist'!$M$260","v":0}]
[{"$f":"'1b. Rater Field Checklist'!$C$261","v":"13.1 Prescriptive Path: Installed appliances are ENERGY STAR certified. Installed bathroom faucets, bathroom aerators, and showerheads are WaterSense labeled. 83"},{"$f":"'1b. Rater Field Checklist'!$N$261","v":0},{"$f":"'1b. Rater Field Checklist'!$M$261","v":0}]
[{"$f":"'1b. Rater Field Checklist'!$C$263","v":"13.2 ERI Path: Where installed in common spaces, refrigerators and dishwashers are ENERGY STAR certified and showerheads are WaterSense labeled."},{"$f":"'1b. Rater Field Checklist'!$N$263","v":0},{"$f":"'1b. Rater Field Checklist'!$M$263","v":0}]
[{"$f":"'1b. Rater Field Checklist'!$C$264","v":"13.3 Prescriptive Path: Shower compartments with multiple fixtures cannot be operated simultaneously OR the total flow rate per shower compartment must not exceed 1.75 gallons per minute, as rated at 80 psi."},{"$f":"'1b. Rater Field Checklist'!$N$264","v":0},{"$f":"'1b. Rater Field Checklist'!$M$264","v":0}]
[{"$f":"'1b. Rater Field Checklist'!$C$265","v":"14. Whole Building Energy Consumption Data Acquisition "},{"$f":"'1b. Rater Field Checklist'!$N$265","v":0},{"$f":"'1b. Rater Field Checklist'!$M$265","v":0}]
[{"$f":"'1b. Rater Field Checklist'!$C$266","v":"14.1 For buildings 50,000 ft2 and larger, a strategy that enables the collection of monthly or annual building-level energy consumption data (electricity, natural gas, chilled water, steam, fuel oil, propane, etc.) has been confirmed. 84"},{"$f":"'1b. Rater Field Checklist'!$N$266","v":0},{"$f":"'1b. Rater Field Checklist'!$M$266","v":0}]
[]
[{"$f":"E10","v":"Intermediate 4"}]
["Rater Design Checklist","Verification Phase","Notes/Comments"]
[{"$f":"'1b. Rater Field Checklist'!$C$16","v":"Thermal Enclosure System "},{"$f":"'1b. Rater Field Checklist'!$N$16","v":0},{"$f":"'1b. Rater Field Checklist'!$M$16","v":0}]
[{"$f":"'1b. Rater Field Checklist'!$C$17","v":"1. High-Performance Fenestration & Insulation "},{"$f":"'1b. Rater Field Checklist'!$N$17","v":0},{"$f":"'1b. Rater Field Checklist'!$M$17","v":0}]
[{"$f":"'1b. Rater Field Checklist'!$C$18","v":"1.1 Fenestration meets or exceeds specification in Items 2.1 and 2.2 of the National Rater Design Review Checklist."},{"$f":"'1b. Rater Field Checklist'!$N$18","v":"Open Wall 3"},{"$f":"'1b. Rater Field Checklist'!$M$18","v":0}]
[{"$f":"'1b. Rater Field Checklist'!$C$19","v":"1.2 Insulation meets or exceeds levels specified in Items 3.1 and 3.2 of the National Rater Design Review Checklist."},{"$f":"'1b. Rater Field Checklist'!$N$19","v":"Open Wall 3"},{"$f":"'1b. Rater Field Checklist'!$M$19","v":0}]
[{"$f":"'1b. Rater Field Checklist'!$C$20","v":"1.3 All insulation achieves Grade I install per ANSI / RESNET / ICC Std. 301. Alternatives in footnote 6. 6,7"},{"$f":"'1b. Rater Field Checklist'!$N$20","v":"Open Wall 3"},{"$f":"'1b. Rater Field Checklist'!$M$20","v":0}]
[{"$f":"'1b. Rater Field Checklist'!$C$23","v":"1.4 Prescriptive Path: Window-to-wall ratio ≤ 30%. 8"},{"$f":"'1b. Rater Field Checklist'!$N$23","v":"Open Wall 1"},{"$f":"'1b. Rater Field Checklist'!$M$23","v":0}]
[{"$f":"'1b. Rater Field Checklist'!$C$25","v":"1.5 Heated plenums in unconditioned space or ambient conditions must meet the following requirements: 9"},{"$f":"'1b. Rater Field Checklist'!$N$25","v":0},{"$f":"'1b. Rater Field Checklist'!$M$25","v":0}]
[{"$f":"'1b. Rater Field Checklist'!$C$27","v":" 1.5.1 Sides of heated plenum are an air barrier and insulated to ≥ R-3ci in CZ 1-4; ≥ R-5ci in CZ 5-6; ≥ R-7.5ci in CZ 7; ≥ R-9.5ci in CZ 8, AND;"},{"$f":"'1b. Rater Field Checklist'!$N$27","v":"Open Wall 4"},{"$f":"'1b. Rater Field Checklist'!$M$27","v":0}]
[{"$f":"'1b. Rater Field Checklist'!$C$28","v":" 1.5.2 Insulation at top of heated plenum meets or exceeds the R-value for mass floors from the “All Other” column of Table 502.2(1) of 2009 IECC, AND;"},{"$f":"'1b. Rater Field Checklist'!$N$28","v":"Open Wall 4"},{"$f":"'1b. Rater Field Checklist'!$M$28","v":0}]
[{"$f":"'1b. Rater Field Checklist'!$C$29","v":" 1.5.3 Bottom of heated plenum must have at least R-13 insulation. 10"},{"$f":"'1b. Rater Field Checklist'!$N$29","v":"Open Wall 3"},{"$f":"'1b. Rater Field Checklist'!$M$29","v":0}]
[{"$f":"'1b. Rater Field Checklist'!$C$31","v":"1.6 Garages with space heating must meet the following requirements: 9"},{"$f":"'1b. Rater Field Checklist'!$N$31","v":0},{"$f":"'1b. Rater Field Checklist'!$M$31","v":0}]
[{"$f":"'1b. Rater Field Checklist'!$C$33","v":" 1.6.1 Insulation on above grade walls and walls on the first story below grade ≥ R-5ci in CZ 5-6; ≥ R-7.5ci in CZ 7; ≥ R-9.5ci in CZ 8, AND;"},{"$f":"'1b. Rater Field Checklist'!$N$33","v":0},{"$f":"'1b. Rater Field Checklist'!$M$33","v":0}]
[{"$f":"'1b. Rater Field Checklist'!$C$34","v":" 1.6.2 Ceiling insulation meets or exceeds the R-value for mass floors from the “All Other” column of Table 502.2(1) of 2009 IECC."},{"$f":"'1b. Rater Field Checklist'!$N$34","v":0},{"$f":"'1b. Rater Field Checklist'!$M$34","v":0}]
[{"$f":"'1b. Rater Field Checklist'!$C$35","v":"2. Fully-Aligned Air Barriers 11 At each insulated location below, a complete air barrier is provided that is fully aligned as follows:"},{"$f":"'1b. Rater Field Checklist'!$N$35","v":0},{"$f":"'1b. Rater Field Checklist'!$M$35","v":0}]
[{"$f":"'1b. Rater Field Checklist'!$C$37","v":"Ceilings: At interior or exterior horizontal surface of ceiling insulation in Climate Zones 1-3; at interior horizontal surface of ceiling insulation in Climate Zones 4-8. Also, at exterior vertical surface of ceiling insulation in all climate zones (e.g., using a wind baffle that extends to the full height of the insulation in every bay or a tabbed baffle in each bay with a soffit vent that prevents wind washing in adjacent bays). 12"},{"$f":"'1b. Rater Field Checklist'!$N$37","v":0},{"$f":"'1b. Rater Field Checklist'!$M$37","v":0}]
[{"$f":"'1b. Rater Field Checklist'!$C$39","v":"2.1 Dropped ceilings / soffits below unconditioned attics, chase / dead space, and all other ceilings."},{"$f":"'1b. Rater Field Checklist'!$N$39","v":0},{"$f":"'1b. Rater Field Checklist'!$M$39","v":0}]
[{"$f":"'1b. Rater Field Checklist'!$C$40","v":"Walls: At exterior vertical surface of wall insulation in all climate zones; also at interior vertical surface of wall insulation in Climate Zones 4-8. 13"},{"$f":"'1b. Rater Field Checklist'!$N$40","v":0},{"$f":"'1b. Rater Field Checklist'!$M$40","v":0}]
[{"$f":"'1b. Rater Field Checklist'!$C$42","v":"2.2 Walls behind showers, tubs, staircases, and fireplaces."},{"$f":"'1b. Rater Field Checklist'!$N$42","v":"Open Wall 2"},{"$f":"'1b. Rater Field Checklist'!$M$42","v":0}]
[{"$f":"'1b. Rater Field Checklist'!$C$43","v":"2.3 Architectural bump-outs, dead space, and all other exterior walls."},{"$f":"'1b. Rater Field Checklist'!$N$43","v":0},{"$f":"'1b. Rater Field Checklist'!$M$43","v":0}]
[{"$f":"'1b. Rater Field Checklist'!$C$44","v":"Floors: At exterior vertical surface of floor insulation in all climate zones and, if over unconditioned space, also at interior horizontal surface including supports to ensure alignment. Alternatives in Footnotes 15 & 16. 14, 15, 16"},{"$f":"'1b. Rater Field Checklist'!$N$44","v":0},{"$f":"'1b. Rater Field Checklist'!$M$44","v":0}]
[{"$f":"'1b. Rater Field Checklist'!$C$48","v":"2.4 Floors above garages, floors above unconditioned spaces, and cantilevered floors."},{"$f":"'1b. Rater Field Checklist'!$N$48","v":0},{"$f":"'1b. Rater Field Checklist'!$M$48","v":0}]
[{"$f":"'1b. Rater Field Checklist'!$C$49","v":"2.5 All other floors adjoining unconditioned space (e.g., rim / band joists at exterior wall or at porch roof)."},{"$f":"'1b. Rater Field Checklist'!$N$49","v":0},{"$f":"'1b. Rater Field Checklist'!$M$49","v":0}]
[{"$f":"'1b. Rater Field Checklist'!$C$50","v":"3. Reduced Thermal Bridging"},{"$f":"'1b. Rater Field Checklist'!$N$50","v":0},{"$f":"'1b. Rater Field Checklist'!$M$50","v":0}]
[{"$f":"'1b. Rater Field Checklist'!$C$51","v":"3.1 For insulated ceilings with attic space above (i.e., non-cathedralized), Grade I insulation extends to the inside face of the exterior wall below and is ≥ R-21 in CZ 1-5; ≥ R-30 in CZ 6-8. 17"},{"$f":"'1b. Rater Field Checklist'!$N$51","v":0},{"$f":"'1b. Rater Field Checklist'!$M$51","v":0}]
[{"$f":"'1b. Rater Field Checklist'!$C$53","v":"3.2 For insulated ceilings with attic space above, attic access panels and drop-down stairs insulated ≥ R-10 or equipped with durable ≥ R-10 cover. 18"},{"$f":"'1b. Rater Field Checklist'!$N$53","v":0},{"$f":"'1b. Rater Field Checklist'!$M$53","v":0}]
[{"$f":"'1b. Rater Field Checklist'!$C$55","v":"3.3 Insulation beneath attic platforms (e.g., HVAC platforms, walkways) ≥ R-21 in CZ 1-5; ≥ R-30 in CZ 6-8."},{"$f":"'1b. Rater Field Checklist'!$N$55","v":0},{"$f":"'1b. Rater Field Checklist'!$M$55","v":0}]
[{"$f":"'1b. Rater Field Checklist'!$C$56","v":"3.4 For slabs on grade in CZ 4-8, 100% of slab edge insulated to ≥ R-5 at the depth specified by Table 502.2(1) of the 2009 IECC and aligned with the thermal boundary of the walls. 19, 20"},{"$f":"'1b. Rater Field Checklist'!$N$56","v":0},{"$f":"'1b. Rater Field Checklist'!$M$56","v":0}]
[{"$f":"'1b. Rater Field Checklist'!$C$59","v":"3.5 For elevated concrete slabs in CZ 4-8 (i.e., podiums and projected balconies, but not intermediate slab floor edges) 100% of the slab edge insulated to ≥ R-5. For podiums, this insulation must extend for a minimum of 8ft below the bottom of the slab edge. For columns, the insulation must surround the column, at a depth of 4ft. Alternatives in Footnote 21. 21"},{"$f":"'1b. Rater Field Checklist'!$N$59","v":0},{"$f":"'1b. Rater Field Checklist'!$M$59","v":0}]
[{"$f":"'1b. Rater Field Checklist'!$C$61","v":"3.6 For elevated concrete slabs in CZ 4-8 (i.e., podiums, but not intermediate floor slabs), floor insulation meets the U-factor specified in Table 502.1.2 of the 2009 IECC for Group R when dwelling units are above the slab, and for ‘All Other’ when common space is above the slab. 22"},{"$f":"'1b. Rater Field Checklist'!$N$61","v":0},{"$f":"'1b. Rater Field Checklist'!$M$61","v":0}]
[{"$f":"'1b. Rater Field Checklist'!$C$63","v":"3.7 At above-grade walls and rim / band joists separating conditioned space from the exterior, one of the following options used: 23, 26"},{"$f":"'1b. Rater Field Checklist'!$N$63","v":0},{"$f":"'1b. Rater Field Checklist'!$M$63","v":0}]
[{"$f":"'1b. Rater Field Checklist'!$C$66","v":" 3.7.1 Continuous rigid insulation, insulated siding, or combination of the two is ≥ R-3 in CZ 1-4; ≥ R-5 in CZ 5-8 24, 25, 26, 27; OR;"},{"$f":"'1b. Rater Field Checklist'!$N$66","v":0},{"$f":"'1b. Rater Field Checklist'!$M$66","v":0}]
[{"$f":"'1b. Rater Field Checklist'!$C$71","v":" 3.7.2 Structural Insulated Panels OR; Insulated Concrete Forms OR; Double-wall framing OR; 24, 26, 28"},{"$f":"'1b. Rater Field Checklist'!$N$71","v":0},{"$f":"'1b. Rater Field Checklist'!$M$71","v":0}]
[{"$f":"'1b. Rater Field Checklist'!$C$75","v":" 3.7.3 Option only for wood-framed walls either in CZ 1-3 OR ≤ 3 stories: ‘advanced framing’ details including all of the Items below: 26, 29"},{"$f":"'1b. Rater Field Checklist'!$N$75","v":0},{"$f":"'1b. Rater Field Checklist'!$M$75","v":0}]
[{"$f":"'1b. Rater Field Checklist'!$C$78","v":"  3.7.3a Corners insulated ≥ R-6 to edge, 30 AND;"},{"$f":"'1b. Rater Field Checklist'!$N$78","v":0},{"$f":"'1b. Rater Field Checklist'!$M$78","v":0}]
[{"$f":"'1b. Rater Field Checklist'!$C$80","v":"  3.7.3b Headers above windows & doors insulated ≥ R-3 for 2x4 framing or equivalent cavity width, and ≥ R-5 for all other assemblies (e.g., with 2x6 framing), 31 AND;"},{"$f":"'1b. Rater Field Checklist'!$N$80","v":0},{"$f":"'1b. Rater Field Checklist'!$M$80","v":0}]
[{"$f":"'1b. Rater Field Checklist'!$C$82","v":"  3.7.3c Interior / exterior wall intersections insulated to same R-value as rest of exterior wall. 32"},{"$f":"'1b. Rater Field Checklist'!$N$82","v":0},{"$f":"'1b. Rater Field Checklist'!$M$82","v":0}]
[{"$f":"'1b. Rater Field Checklist'!$C$84","v":"4. Air Sealing (Unless otherwise noted below, “sealed” indicates the use of caulk, foam, or equivalent material.)"},{"$f":"'1b. Rater Field Checklist'!$N$84","v":0},{"$f":"'1b. Rater Field Checklist'!$M$84","v":0}]
[{"$f":"'1b. Rater Field Checklist'!$C$85","v":"4.1 Ducts, flues, shafts, plumbing, piping, wiring, exhaust fans, & other penetrations to unconditioned space sealed, with blocking / flashing as needed."},{"$f":"'1b. Rater Field Checklist'!$N$85","v":0},{"$f":"'1b. Rater Field Checklist'!$M$85","v":0}]
[{"$f":"'1b. Rater Field Checklist'!$C$86","v":"4.2 Recessed lighting fixtures adjacent to unconditioned space ICAT labeled and gasketed. Also, if in insulated ceiling without attic above, exterior surface of fixture insulated to ≥ R-10 in CZ 4-8."},{"$f":"'1b. Rater Field Checklist'!$N$86","v":0},{"$f":"'1b. Rater Field Checklist'!$M$86","v":0}]
[{"$f":"'1b. Rater Field Checklist'!$C$87","v":"4.3 Continuous top plate or blocking is at top of walls adjoining unconditioned space including at balloon-framed parapets, and sealed."},{"$f":"'1b. Rater Field Checklist'!$N$87","v":0},{"$f":"'1b. Rater Field Checklist'!$M$87","v":0}]
[{"$f":"'1b. Rater Field Checklist'!$C$88","v":"4.4 Drywall sealed to top plate at all unconditioned attic / wall interfaces using caulk, foam, drywall adhesive (but not other construction adhesives), or equivalent material. Either apply sealant directly between drywall and top plate or to the seam between the two from the attic above."},{"$f":"'1b. Rater Field Checklist'!$N$88","v":0},{"$f":"'1b. Rater Field Checklist'!$M$88","v":0}]
[{"$f":"'1b. Rater Field Checklist'!$C$89","v":"4.5 Rough opening around windows & exterior doors sealed. 33"},{"$f":"'1b. Rater Field Checklist'!$N$89","v":0},{"$f":"'1b. Rater Field Checklist'!$M$89","v":0}]
[{"$f":"'1b. Rater Field Checklist'!$C$91","v":"4.6 Assemblies that separate attached garages from occupiable space sealed and, also, an air barrier installed, sealed, and aligned with these assemblies. 34"},{"$f":"'1b. Rater Field Checklist'!$N$91","v":0},{"$f":"'1b. Rater Field Checklist'!$M$91","v":0}]
[{"$f":"'1b. Rater Field Checklist'!$C$93","v":"4.7 Doors adjacent to unconditioned space (e.g., attics, garages, basements) or ambient conditions made substantially air-tight with doorsweep and weatherstripping or equivalent gasket."},{"$f":"'1b. Rater Field Checklist'!$N$93","v":0},{"$f":"'1b. Rater Field Checklist'!$M$93","v":0}]
[{"$f":"'1b. Rater Field Checklist'!$C$94","v":"4.8 Attic access panels, roof hatches and drop-down stairs are gasketed (i.e., not caulked) or equipped with durable covers that are gasketed. 18"},{"$f":"'1b. Rater Field Checklist'!$N$94","v":0},{"$f":"'1b. Rater Field Checklist'!$M$94","v":0}]
[{"$f":"'1b. Rater Field Checklist'!$C$96","v":"The following items must be additionally verified in dwelling units, to reduce air leakage between conditioned spaces."},{"$f":"'1b. Rater Field Checklist'!$N$96","v":0},{"$f":"'1b. Rater Field Checklist'!$M$96","v":0}]
[{"$f":"'1b. Rater Field Checklist'!$C$97","v":"4.9 Doors serving as a unit entrance from a corridor / stairwell made substantially air-tight with doorsweep and weatherstripping or equivalent gasket."},{"$f":"'1b. Rater Field Checklist'!$N$97","v":0},{"$f":"'1b. Rater Field Checklist'!$M$97","v":0}]
[{"$f":"'1b. Rater Field Checklist'!$C$98","v":"4.10 Rater-measured compartmentalization is no greater than 0.30 CFM50 per square feet of dwelling unit enclosure area, following procedures in ANSI / RESNET / ICC Std. 380. 35"},{"$f":"'1b. Rater Field Checklist'!$N$98","v":0},{"$f":"'1b. Rater Field Checklist'!$M$98","v":0}]
[{"$f":"'1b. Rater Field Checklist'!$C$100","v":" 4.10.1 For dwelling units with forced air distribution systems without ducted returns and located in a closet adjacent to unconditioned space, the Rater-measured pressure difference between the space containing the air handler and the conditioned space during the compartmentalization test is no greater than 5 Pa. 36"},{"$f":"'1b. Rater Field Checklist'!$N$100","v":0},{"$f":"'1b. Rater Field Checklist'!$M$100","v":0}]
[{"$f":"'1b. Rater Field Checklist'!$C$102","v":"HVAC System 37 (HVAC Design Report Item # indicated in parenthesis) "},{"$f":"'1b. Rater Field Checklist'!$N$102","v":0},{"$f":"'1b. Rater Field Checklist'!$M$102","v":0}]
[{"$f":"'1b. Rater Field Checklist'!$C$104","v":"5. Heating & Cooling Equipment – Complete Track A – HVAC Grading by Rater OR Track B – HVAC Testing by FT Agent 38"},{"$f":"'1b. Rater Field Checklist'!$N$104","v":0},{"$f":"'1b. Rater Field Checklist'!$M$104","v":0}]
[{"$f":"'1b. Rater Field Checklist'!$C$106","v":"Track A 39"},{"$f":"'1b. Rater Field Checklist'!$N$106","v":0},{"$f":"'1b. Rater Field Checklist'!$M$106","v":0}]
[{"$f":"'1b. Rater Field Checklist'!$C$108","v":"5a.1 Blower fan volumetric airflow is Grade I or II per ANSI / RESNET / ACCA Std. 310"},{"$f":"'1b. Rater Field Checklist'!$N$108","v":0},{"$f":"'1b. Rater Field Checklist'!$M$108","v":0}]
[{"$f":"'1b. Rater Field Checklist'!$C$109","v":"5a.2 Blower fan watt draw is Grade I or II per ANSI / RESNET / ACCA Std. 310"},{"$f":"'1b. Rater Field Checklist'!$N$109","v":0},{"$f":"'1b. Rater Field Checklist'!$M$109","v":0}]
[{"$f":"'1b. Rater Field Checklist'!$C$110","v":"5a.3 Refrigerant charge is Grade I per ANSI / RESNET / ACCA Std. 310. See Footnote 40 for exemptions. 40"},{"$f":"'1b. Rater Field Checklist'!$N$110","v":0},{"$f":"'1b. Rater Field Checklist'!$M$110","v":0}]
[{"$f":"'1b. Rater Field Checklist'!$C$112","v":"Track B"},{"$f":"'1b. Rater Field Checklist'!$N$112","v":0},{"$f":"'1b. Rater Field Checklist'!$M$112","v":0}]
[{"$f":"'1b. Rater Field Checklist'!$C$113","v":"5b.1 HVAC manufacturer & model number on installed equipment matches either of the following (check box): 41\n \n National HVAC Design Report (4.6-4.9 & 4.25-4.26)      Written approval received from designer"},{"$f":"'1b. Rater Field Checklist'!$N$113","v":0},{"$f":"'1b. Rater Field Checklist'!$M$113","v":0}]
[{"$f":"'1b. Rater Field Checklist'!$C$115","v":"5b.2 External static pressure measured by Rater at contractor-provided test locations and documented below: 42\n\nReturn-Side External Static Pressure: ________IWC\nSupply-Side External Static Pressure: __________IWC"},{"$f":"'1b. Rater Field Checklist'!$N$115","v":0},{"$f":"'1b. Rater Field Checklist'!$M$115","v":0}]
[{"$f":"'1b. Rater Field Checklist'!$C$117","v":"5.4 Prescriptive Path: Heating and cooling equipment serving dwelling units and common spaces meet the efficiency levels specified in the Exhibit X. Electric resistance space heating is not installed in dwelling units."},{"$f":"'1b. Rater Field Checklist'!$N$117","v":0},{"$f":"'1b. Rater Field Checklist'!$M$117","v":0}]
[{"$f":"'1b. Rater Field Checklist'!$C$118","v":"5.5 ERI Path: Heating and cooling equipment serving common spaces, but not serving dwelling units, meet the efficiency levels specified in the Exhibit X. See Exhibit X for restrictions on electric resistance space heating."},{"$f":"'1b. Rater Field Checklist'!$N$118","v":0},{"$f":"'1b. Rater Field Checklist'!$M$118","v":0}]
[{"$f":"'1b. Rater Field Checklist'!$C$119","v":"5.6 National HVAC Functional Testing Checklist(s) collected prior to certification, with all HVAC systems in the building / project fully documented. Exception: Where credentialed HVAC Contractor(s) are completing the National HVAC Functional Testing Checklist, the checklist is not required to be collected for the systems they verify. 43"},{"$f":"'1b. Rater Field Checklist'!$N$119","v":0},{"$f":"'1b. Rater Field Checklist'!$M$119","v":0}]
[{"$f":"'1b. Rater Field Checklist'!$C$121","v":"5.7 Rater has verified and documented that Functional Testing Agent(s) (“FT Agent(s)”) completing the National HVAC Functional Testing Checklist(s) hold one of the required credentials and completed orientation, if applicable. 43\n\nCredential: ______________________ “FT Agent” Company Name(s): _______________________"},{"$f":"'1b. Rater Field Checklist'!$N$121","v":0},{"$f":"'1b. Rater Field Checklist'!$M$121","v":0}]
[{"$f":"'1b. Rater Field Checklist'!$C$123","v":"Equipment Controls "},{"$f":"'1b. Rater Field Checklist'!$N$123","v":0},{"$f":"'1b. Rater Field Checklist'!$M$123","v":0}]
[{"$f":"'1b. Rater Field Checklist'!$C$124","v":"5.8 All heating and cooling systems serving a dwelling unit have thermostatic controls within the dwelling unit which are not located on exterior walls."},{"$f":"'1b. Rater Field Checklist'!$N$124","v":0},{"$f":"'1b. Rater Field Checklist'!$M$124","v":0}]
[{"$f":"'1b. Rater Field Checklist'!$C$125","v":" 5.8.1 Prescriptive Path: Dwelling unit thermostats are programmable."},{"$f":"'1b. Rater Field Checklist'!$N$125","v":0},{"$f":"'1b. Rater Field Checklist'!$M$125","v":0}]
[{"$f":"'1b. Rater Field Checklist'!$C$126","v":"5.9 Stair and elevator shaft vents equipped with motorized dampers that are capable of being automatically closed during normal building operation and are interlocked to open as required by fire and smoke detection systems. Dampers are verified to be closed at the time of inspection."},{"$f":"'1b. Rater Field Checklist'!$N$126","v":0},{"$f":"'1b. Rater Field Checklist'!$M$126","v":0}]
[{"$f":"'1b. Rater Field Checklist'!$C$127","v":"5.10 Freeze protection systems, such as heat tracing of piping and heat exchangers, including self-regulating heat tracing, and garage / plenum heaters include automatic controls that are verified to shut off the systems when pipe wall or garage / plenum temperatures are above 40°F."},{"$f":"'1b. Rater Field Checklist'!$N$127","v":0},{"$f":"'1b. Rater Field Checklist'!$M$127","v":0}]
[{"$f":"'1b. Rater Field Checklist'!$C$128","v":" 5.10.1 Where heat tracing is installed for freeze-protection, controls must be based on pipe wall temperature and a minimum of R-3 pipe insulation is also required."},{"$f":"'1b. Rater Field Checklist'!$N$128","v":0},{"$f":"'1b. Rater Field Checklist'!$M$128","v":0}]
[{"$f":"'1b. Rater Field Checklist'!$C$129","v":"5.11 Snow- and ice-melting systems include automatic controls that are verified to shut off the systems when the pavement temperature is above 50°F and no precipitation is falling, and an automatic or manual control is installed that is verified to shut off system when the outdoor temperature is above 40°F, so that the potential for snow or ice accumulation is negligible."},{"$f":"'1b. Rater Field Checklist'!$N$129","v":0},{"$f":"'1b. Rater Field Checklist'!$M$129","v":0}]
[{"$f":"'1b. Rater Field Checklist'!$C$130","v":"Hydronic Distribution "},{"$f":"'1b. Rater Field Checklist'!$N$130","v":0},{"$f":"'1b. Rater Field Checklist'!$M$130","v":0}]
[{"$f":"'1b. Rater Field Checklist'!$C$131","v":"5.12 For hydronic distribution systems, all terminal heating and cooling distribution equipment are separated from the riser or distribution loop by a control valve or terminal distribution pump, so that heated or cooled fluid is not delivered to the dwelling unit distribution equipment when there is no call from the thermostat."},{"$f":"'1b. Rater Field Checklist'!$N$131","v":0},{"$f":"'1b. Rater Field Checklist'!$M$131","v":0}]
[{"$f":"'1b. Rater Field Checklist'!$C$132","v":"5.13 Terminal units in hydronic distribution systems are equipped with pressure independent balancing valves or pressure independent control valves."},{"$f":"'1b. Rater Field Checklist'!$N$132","v":0},{"$f":"'1b. Rater Field Checklist'!$M$132","v":0}]
[{"$f":"'1b. Rater Field Checklist'!$C$133","v":"5.14 Piping of a heating or cooling system is insulated in accordance with Item 4.41 on the National HVAC Design Report, including where passing through planks or any other penetrations."},{"$f":"'1b. Rater Field Checklist'!$N$133","v":0},{"$f":"'1b. Rater Field Checklist'!$M$133","v":0}]
[{"$f":"'1b. Rater Field Checklist'!$C$134","v":"5.15 For circulating pumps serving hydronic heating or cooling systems with three-phase motors, 1 horsepower or larger, motors meet or exceed efficiency standards for NEMA Premium™ motors. If 5 horsepower or larger, also installed with variable frequency drives."},{"$f":"'1b. Rater Field Checklist'!$N$134","v":0},{"$f":"'1b. Rater Field Checklist'!$M$134","v":0}]
[{"$f":"'1b. Rater Field Checklist'!$C$135","v":"6. Duct Quality Installation - Applies to Heating, Cooling, Ventilation, Exhaust, & Pressure Balancing Ducts, Unless Noted in Footnote."},{"$f":"'1b. Rater Field Checklist'!$N$135","v":0},{"$f":"'1b. Rater Field Checklist'!$M$135","v":0}]
[{"$f":"'1b. Rater Field Checklist'!$C$136","v":"6.1 Ductwork installed without kinks, sharp bends, compressions, or excessive coiled flexible ductwork. 45"},{"$f":"'1b. Rater Field Checklist'!$N$136","v":0},{"$f":"'1b. Rater Field Checklist'!$M$136","v":0}]
[{"$f":"'1b. Rater Field Checklist'!$C$138","v":"6.2 Bedrooms with a design supply airflow ≥ 150 CFM (per Item 5.2 on the National HVAC Design Report) pressure-balanced (e.g., using transfer grilles, jump ducts, dedicated return ducts, undercut doors) to achieve a Rater-measured pressure differential ≥ -5 Pa and ≤ +5 Pa with respect to the main body of the dwelling unit when all air handlers are operating. See Footnote 46 for test configuration. 46"},{"$f":"'1b. Rater Field Checklist'!$N$138","v":0},{"$f":"'1b. Rater Field Checklist'!$M$138","v":0}]
[{"$f":"'1b. Rater Field Checklist'!$C$140","v":"6.3 All supply and return ducts in unconditioned space, including connections to trunk ducts, are insulated to ≥ R-6. 47"},{"$f":"'1b. Rater Field Checklist'!$N$140","v":0},{"$f":"'1b. Rater Field Checklist'!$M$140","v":0}]
[{"$f":"'1b. Rater Field Checklist'!$C$142","v":" 6.3.1 Prescriptive Path: Dwelling unit ductwork meets the location and insulation requirements specified in the ENERGY STAR Multifamily Reference Design."},{"$f":"'1b. Rater Field Checklist'!$N$142","v":0},{"$f":"'1b. Rater Field Checklist'!$M$142","v":0}]
[{"$f":"'1b. Rater Field Checklist'!$C$143","v":"6.4 Rater-measured total duct leakage in dwelling units meets one of the following two options: 48, 49"},{"$f":"'1b. Rater Field Checklist'!$N$143","v":0},{"$f":"'1b. Rater Field Checklist'!$M$143","v":0}]
[{"$f":"'1b. Rater Field Checklist'!$C$146","v":" 6.4.1 Rough-in: Tested per allowances below, with air handler & all ducts, building cavities used as ducts, & duct boots installed. In addition, all duct boots sealed to finished surface, Rater-verified at final. 50\n\nNo ducted returns 36: The greater of ≤ 3 CFM25 per 100 sq. ft. of CFA or ≤ 30 CFM. Additionally, the Rater-measured pressure difference between the space containing the air handler and the conditioned space, with the air handler running at high speed, is ≤ 5 Pa. For systems > 1 ton, increase by 1 Pa per half ton.\n\nOne or two ducted returns 36: The greater of ≤ 4 CFM25 per 100 sq. ft. of CFA or ≤ 40 CFM.\n\nThree or more ducted returns 36 : The greater of ≤ 6 CFM25 per 100 sq. ft. of CFA or ≤ 60 CFM."},{"$f":"'1b. Rater Field Checklist'!$N$146","v":0},{"$f":"'1b. Rater Field Checklist'!$M$146","v":0}]
[{"$f":"'1b. Rater Field Checklist'!$C$149","v":" 6.4.2 Final: Tested per allowances below, with the air handler & all ducts, building cavities used as ducts, duct boots, & register grilles atop the finished surface (e.g., drywall, floor) installed. 51\n\nNo ducted returns 36: The greater of ≤ 6 CFM25 per 100 sq. ft. of CFA or ≤ 60 CFM. Additionally, the Rater-measured pressure difference between the space containing the air handler and the conditioned space, with the air handler running at high speed, is ≤ 5 Pa. For systems > 1 ton, increase by 1 Pa per half ton.\n\nOne or two ducted returns 36: The greater of ≤ 8 CFM25 per 100 sq. ft. of CFA or ≤ 80 CFM.\n\nThree or more ducted returns 36 : The greater of ≤ 12 CFM25 per 100 sq. ft. of CFA or ≤ 120 CFM."},{"$f":"'1b. Rater Field Checklist'!$N$149","v":0},{"$f":"'1b. Rater Field Checklist'!$M$149","v":0}]
[{"$f":"'1b. Rater Field Checklist'!$C$152","v":"6.5 Townhouses only: Rater-measured duct leakage to the outside the greater of ≤ 4 CFM25 per 100 sq. ft. of CFA or ≤ 40 CFM25. 48, 52"},{"$f":"'1b. Rater Field Checklist'!$N$152","v":0},{"$f":"'1b. Rater Field Checklist'!$M$152","v":0}]
[{"$f":"'1b. Rater Field Checklist'!$C$155","v":"6.6 Common Space: Supply, return, and exhaust ductwork and all plenums serving common spaces are sealed at all transverse joints, longitudinal seams, and duct wall penetrations with mastic, mastic tape, or internal aerosol-based sealant."},{"$f":"'1b. Rater Field Checklist'!$N$155","v":0},{"$f":"'1b. Rater Field Checklist'!$M$155","v":0}]
[{"$f":"'1b. Rater Field Checklist'!$C$156","v":"6.7 Duct leakage of central exhaust systems that serve four or more dwelling units, meets one of the following two options:"},{"$f":"'1b. Rater Field Checklist'!$N$156","v":0},{"$f":"'1b. Rater Field Checklist'!$M$156","v":0}]
[{"$f":"'1b. Rater Field Checklist'!$C$157","v":" 6.7.1 Rough-in: Tested including horizontal run outs, trunks, branches, and take-offs up to, but not including, the grilles, the leakage does not exceed 25% of exhaust fan flow. 53"},{"$f":"'1b. Rater Field Checklist'!$N$157","v":0},{"$f":"'1b. Rater Field Checklist'!$M$157","v":0}]
[{"$f":"'1b. Rater Field Checklist'!$C$159","v":" 6.7.2 Final: Tested inclusive of all ductwork between the fan and the grilles, the leakage does not exceed 30% of exhaust fan flow. 53"},{"$f":"'1b. Rater Field Checklist'!$N$159","v":0},{"$f":"'1b. Rater Field Checklist'!$M$159","v":0}]
[{"$f":"'1b. Rater Field Checklist'!$C$161","v":"7. Dwelling-Unit & Common Space Mechanical Vent. Systems (\"Vent Systems\") 54 & Inlets in Return Duct 55\n(National HVAC Design Report Item # indicated in parenthesis)"},{"$f":"'1b. Rater Field Checklist'!$N$161","v":0},{"$f":"'1b. Rater Field Checklist'!$M$161","v":0}]
[{"$f":"'1b. Rater Field Checklist'!$C$164","v":"7.1 Ventilation manufacturer & model number on installed equipment matches either of the following (check box): 41\n\n National HVAC Design Report           Written approval received from designer"},{"$f":"'1b. Rater Field Checklist'!$N$164","v":0},{"$f":"'1b. Rater Field Checklist'!$M$164","v":0}]
[{"$f":"'1b. Rater Field Checklist'!$C$166","v":"7.2 Rater-measured ventilation rate is within either ± 15 CFM or ± 15% of dwelling unit design values (2.7), and meets or exceeds rates required by ASHRAE 62.2-2010. 56"},{"$f":"'1b. Rater Field Checklist'!$N$166","v":0},{"$f":"'1b. Rater Field Checklist'!$M$166","v":0}]
[{"$f":"'1b. Rater Field Checklist'!$C$168","v":"7.3 Measured ventilation rate is within either ± 15 CFM or ± 15 % of common space design values (2.9), and meets or exceeds rates required by ASHRAE 62.1-2010 (2.8). 57"},{"$f":"'1b. Rater Field Checklist'!$N$168","v":0},{"$f":"'1b. Rater Field Checklist'!$M$168","v":0}]
[{"$f":"'1b. Rater Field Checklist'!$C$170","v":"7.4 A ventilation override control installed and also labeled if its function is not obvious (e.g., a label is required for a standalone wall switch, but not for a switch that’s on the ventilation equipment). Townhouses only: A readily-accessible ventilation override control installed and also labeled if its function is not obvious (e.g., a label is required for a toggle wall switch, but not for a switch that’s on the ventilation equipment)."},{"$f":"'1b. Rater Field Checklist'!$N$170","v":0},{"$f":"'1b. Rater Field Checklist'!$M$170","v":0}]
[{"$f":"'1b. Rater Field Checklist'!$C$171","v":"7.5 For any outdoor air inlet connected to a ducted return of the dwelling unit HVAC system (Complete if present; otherwise check “N/A”): 55"},{"$f":"'1b. Rater Field Checklist'!$N$171","v":0},{"$f":"'1b. Rater Field Checklist'!$M$171","v":0}]
[{"$f":"'1b. Rater Field Checklist'!$C$177","v":"7.6 If located in the dwelling unit, system fan rated ≤ 3 sones if intermittent and ≤ 2 sone if continuous, or exempted. 60"},{"$f":"'1b. Rater Field Checklist'!$N$177","v":0},{"$f":"'1b. Rater Field Checklist'!$M$177","v":0}]
[{"$f":"'1b. Rater Field Checklist'!$C$179","v":"7.7 If dwelling-unit Vent System controller operates the dwelling unit HVAC fan, then HVAC fan operation is intermittent and either the fan type is ECM / ICM (4.12), or the controls will reduce the run-time by accounting for HVAC system heating or cooling hours. 61"},{"$f":"'1b. Rater Field Checklist'!$N$179","v":0},{"$f":"'1b. Rater Field Checklist'!$M$179","v":0}]
[{"$f":"'1b. Rater Field Checklist'!$C$181","v":"7.8 In-unit bathroom fans or in-line fans are ENERGY STAR certified if used as part of the dwelling-unit mechanical ventilation system. 62"},{"$f":"'1b. Rater Field Checklist'!$N$181","v":0},{"$f":"'1b. Rater Field Checklist'!$M$181","v":0}]
[{"$f":"'1b. Rater Field Checklist'!$C$183","v":"7.9 If central exhaust fans, ≤ 1 HP, are installed as part of the dwelling-unit mechanical ventilation system, then they are direct-drive, ECM, with variable speed controllers. If > 1 HP, they are installed with NEMATM Premium Motors."},{"$f":"'1b. Rater Field Checklist'!$N$183","v":0},{"$f":"'1b. Rater Field Checklist'!$M$183","v":0}]
[{"$f":"'1b. Rater Field Checklist'!$C$184","v":"7.10 Air inlet locations (Complete if ventilation air inlet locations were installed (2.22, 2.23); otherwise check “N/A”): 63, 64"},{"$f":"'1b. Rater Field Checklist'!$N$184","v":0},{"$f":"'1b. Rater Field Checklist'!$M$184","v":0}]
[{"$f":"'1b. Rater Field Checklist'!$C$187","v":" 7.10.1 Inlet(s) pull ventilation air directly from outdoors and not from attic, crawlspace, garage, or adjacent dwelling unit."},{"$f":"'1b. Rater Field Checklist'!$N$187","v":0},{"$f":"'1b. Rater Field Checklist'!$M$187","v":0}]
[{"$f":"'1b. Rater Field Checklist'!$C$188","v":" 7.10.2 Inlet(s) are ≥ 2 ft. above grade or roof deck; ≥ 10 ft. of stretched-string distance from known contamination sources not exiting the roof, and ≥ 3 ft. distance from dryer exhausts and sources exiting the roof. 65"},{"$f":"'1b. Rater Field Checklist'!$N$188","v":0},{"$f":"'1b. Rater Field Checklist'!$M$188","v":0}]
[{"$f":"'1b. Rater Field Checklist'!$C$191","v":"8. Local Mechanical Exhaust (National HVAC Design Report Item # indicated in parenthesis)"},{"$f":"'1b. Rater Field Checklist'!$N$191","v":0},{"$f":"'1b. Rater Field Checklist'!$M$191","v":0}]
[{"$f":"'1b. Rater Field Checklist'!$C$192","v":"Dwelling Unit Mechanical exhaust - In each dwelling unit kitchen and bathroom, a system is installed that exhausts directly to the outdoors and meets one of the following Rater-measured airflow and manufacturer-rated sound level standards: 54, 66"},{"$f":"'1b. Rater Field Checklist'!$N$192","v":0},{"$f":"'1b. Rater Field Checklist'!$M$192","v":0}]
[{"$f":"'1b. Rater Field Checklist'!$C$195","v":"Location "},{"$f":"'1b. Rater Field Checklist'!$N$195","v":0},{"$f":"'1b. Rater Field Checklist'!$M$195","v":0}]
[{"$f":"'1b. Rater Field Checklist'!$C$196","v":"8.1 Kitchen\nAirflow\nContinuous Rate:  ≥ 5 ACH, based on kitchen volume 68, 69\nIntermittent Rate 67: ≥ 100 CFM and, if not integrated with range, also ≥ 5 ACH based on kitchen volume 68, 69, 70\n\nSound\nContinuous Rate: Recommended: ≤ 1 sone\nIntermittent Rate 67:  Recommended: ≤ 3 sones"},{"$f":"'1b. Rater Field Checklist'!$N$196","v":0},{"$f":"'1b. Rater Field Checklist'!$M$196","v":0}]
[{"$f":"'1b. Rater Field Checklist'!$C$201","v":"8.2 Bathroom\nAirflow\nContinuous Rate:  ≥ 20 CFM\nIntermittent Rate 67: ≥ 50 CFM\n\nSound\nContinuous Rate: Required: ≤ 2 sones\nIntermittent Rate 67:  Recommended: ≤ 3 sones"},{"$f":"'1b. Rater Field Checklist'!$N$201","v":0},{"$f":"'1b. Rater Field Checklist'!$M$201","v":0}]
[{"$f":"'1b. Rater Field Checklist'!$C$203","v":"Mechanical Exhaust for Common Spaces 2 and Shared Garages "},{"$f":"'1b. Rater Field Checklist'!$N$203","v":0},{"$f":"'1b. Rater Field Checklist'!$M$203","v":0}]
[{"$f":"'1b. Rater Field Checklist'!$C$205","v":"8.3 Measured exhaust rates are  ≥ ASHRAE 62.1 rates (2c). 57"},{"$f":"'1b. Rater Field Checklist'!$N$205","v":0},{"$f":"'1b. Rater Field Checklist'!$M$205","v":0}]
[{"$f":"'1b. Rater Field Checklist'!$C$207","v":"8.4 Where an exhaust system is installed in a shared garage, it is equipped with controls that sense CO and NO2."},{"$f":"'1b. Rater Field Checklist'!$N$207","v":0},{"$f":"'1b. Rater Field Checklist'!$M$207","v":0}]
[{"$f":"'1b. Rater Field Checklist'!$C$208","v":"9. Filtration "},{"$f":"'1b. Rater Field Checklist'!$N$208","v":0},{"$f":"'1b. Rater Field Checklist'!$M$208","v":0}]
[{"$f":"'1b. Rater Field Checklist'!$C$209","v":"9.1 MERV 6+ filter(s) installed in each ducted mechanical system serving an individual dwelling unit and located to facilitate access & regular service by the occupant or building owner. 71"},{"$f":"'1b. Rater Field Checklist'!$N$209","v":0},{"$f":"'1b. Rater Field Checklist'!$M$209","v":0}]
[{"$f":"'1b. Rater Field Checklist'!$C$211","v":" 9.1.1 Filter access panel includes gasket and fits snugly against the exposed edge of filter when closed to prevent bypass. 72"},{"$f":"'1b. Rater Field Checklist'!$N$211","v":0},{"$f":"'1b. Rater Field Checklist'!$M$211","v":0}]
[{"$f":"'1b. Rater Field Checklist'!$C$213","v":" 9.1.2 All return air and mechanically supplied outdoor air passes through filter prior to conditioning."},{"$f":"'1b. Rater Field Checklist'!$N$213","v":0},{"$f":"'1b. Rater Field Checklist'!$M$213","v":0}]
[{"$f":"'1b. Rater Field Checklist'!$C$214","v":"10. Combustion Appliances "},{"$f":"'1b. Rater Field Checklist'!$N$214","v":0},{"$f":"'1b. Rater Field Checklist'!$M$214","v":0}]
[{"$f":"'1b. Rater Field Checklist'!$C$215","v":"10.1 Furnaces, boilers, and water heaters located within the building’s pressure boundary are mechanically drafted or direct-vented. If mechanically drafted, the minimum volume of combustion air required for safe operation by the manufacturer and/or code shall be met or exceeded and make-up air sources must be mechanically closed when the combustion appliance is not in operation. Alternatives in Footnote 75. 73, 74, 75"},{"$f":"'1b. Rater Field Checklist'!$N$215","v":0},{"$f":"'1b. Rater Field Checklist'!$M$215","v":0}]
[{"$f":"'1b. Rater Field Checklist'!$C$219","v":"10.2 Fireplaces located within the building’s pressure boundary are direct-vented. 73, 74"},{"$f":"'1b. Rater Field Checklist'!$N$219","v":0},{"$f":"'1b. Rater Field Checklist'!$M$219","v":0}]
[{"$f":"'1b. Rater Field Checklist'!$C$222","v":"10.3 No unvented combustion appliances other than cooking ranges or ovens are located inside the building’s pressure boundary. For cooking ranges and ovens, local mechanical exhaust per Checklist Item 8.1 requirements must be met. 73"},{"$f":"'1b. Rater Field Checklist'!$N$222","v":0},{"$f":"'1b. Rater Field Checklist'!$M$222","v":0}]
[{"$f":"'1b. Rater Field Checklist'!$C$224","v":"Other "},{"$f":"'1b. Rater Field Checklist'!$N$224","v":0},{"$f":"'1b. Rater Field Checklist'!$M$224","v":0}]
[{"$f":"'1b. Rater Field Checklist'!$C$225","v":"11. Domestic Hot Water "},{"$f":"'1b. Rater Field Checklist'!$N$225","v":0},{"$f":"'1b. Rater Field Checklist'!$M$225","v":0}]
[{"$f":"'1b. Rater Field Checklist'!$C$226","v":"11.1 Prescriptive Path: Hot water equipment rated in EF or UEF meet the efficiency levels specified in the ENERGY STAR Multifamily Reference Design. Otherwise, meet or exceed ≥85% Et. 76"},{"$f":"'1b. Rater Field Checklist'!$N$226","v":0},{"$f":"'1b. Rater Field Checklist'!$M$226","v":0}]
[{"$f":"'1b. Rater Field Checklist'!$C$228","v":"11.2 ERI: For hot water equipment serving common spaces but not dwelling units nor shared laundry: where rated EF or UEF, meet the efficiency levels specified in the ENERGY STAR Multifamily Reference Design. Otherwise, meet or exceed 85% Et. 76"},{"$f":"'1b. Rater Field Checklist'!$N$228","v":0},{"$f":"'1b. Rater Field Checklist'!$M$228","v":0}]
[{"$f":"'1b. Rater Field Checklist'!$C$230","v":"11.3 For in-unit storage water heaters, AHRI Certificate confirms the presence of a heat trap."},{"$f":"'1b. Rater Field Checklist'!$N$230","v":0},{"$f":"'1b. Rater Field Checklist'!$M$230","v":0}]
[{"$f":"'1b. Rater Field Checklist'!$C$231","v":"11.4 DHW piping located in the dwelling unit is insulated with a minimum of R-3. 77"},{"$f":"'1b. Rater Field Checklist'!$N$231","v":0},{"$f":"'1b. Rater Field Checklist'!$M$231","v":0}]
[{"$f":"'1b. Rater Field Checklist'!$C$233","v":"11.5 Rater-measured delivery temperatures at faucets and showerheads do not exceed 125°F. 78"},{"$f":"'1b. Rater Field Checklist'!$N$233","v":0},{"$f":"'1b. Rater Field Checklist'!$M$233","v":0}]
[{"$f":"'1b. Rater Field Checklist'!$C$235","v":"12. Lighting "},{"$f":"'1b. Rater Field Checklist'!$N$235","v":0},{"$f":"'1b. Rater Field Checklist'!$M$235","v":0}]
[{"$f":"'1b. Rater Field Checklist'!$C$236","v":"12.1 Common Space 2 Lighting Controls:"},{"$f":"'1b. Rater Field Checklist'!$N$236","v":0},{"$f":"'1b. Rater Field Checklist'!$M$236","v":0}]
[{"$f":"'1b. Rater Field Checklist'!$C$238","v":" 12.1.1 ERI and Prescriptive Path: All common spaces 2 (including shared garages), except the building lobby and where automatic shutoff would endanger the safety of occupants, have occupancy sensors or automatic bi-level lighting controls installed and operation has been verified."},{"$f":"'1b. Rater Field Checklist'!$N$238","v":0},{"$f":"'1b. Rater Field Checklist'!$M$238","v":0}]
[{"$f":"'1b. Rater Field Checklist'!$C$240","v":" 12.1.2 ASHRAE Path only: All common spaces 2 (including shared garages), except the building lobby, corridors, and stairwells and where automatic shutoff would endanger the safety of occupants, have occupancy sensors or automatic bi-level lighting controls installed and operation has been verified."},{"$f":"'1b. Rater Field Checklist'!$N$240","v":0},{"$f":"'1b. Rater Field Checklist'!$M$240","v":0}]
[{"$f":"'1b. Rater Field Checklist'!$C$242","v":"12.2 Common Space 2 Lighting Power Density Maximum (except garages): 79"},{"$f":"'1b. Rater Field Checklist'!$N$242","v":0},{"$f":"'1b. Rater Field Checklist'!$M$242","v":0}]
[{"$f":"'1b. Rater Field Checklist'!$C$244","v":" 12.2.1 ERI and Prescriptive Path: Total installed lighting power for the combined common spaces 2 must not exceed ASHRAE 90.1-2007 allowances for those combined spaces, using the Space-by-Space or Building Area Method. See Footnote 80 for allowances. 80"},{"$f":"'1b. Rater Field Checklist'!$N$244","v":0},{"$f":"'1b. Rater Field Checklist'!$M$244","v":0}]
[{"$f":"'1b. Rater Field Checklist'!$C$247","v":" 12.2.2 ASHRAE Path only: Total installed lighting power for the combined common spaces 2 must not exceed ASHRAE 90.1-2007 allowances for those combined spaces, using the Space-by-Space or Building Area Method, by more than 20%. See Footnote 80 for allowances. 80"},{"$f":"'1b. Rater Field Checklist'!$N$247","v":0},{"$f":"'1b. Rater Field Checklist'!$M$247","v":0}]
[{"$f":"'1b. Rater Field Checklist'!$C$250","v":"12.3 Shared garages: Lighting power density does not exceed 0.24 W/ft2."},{"$f":"'1b. Rater Field Checklist'!$N$250","v":0},{"$f":"'1b. Rater Field Checklist'!$M$250","v":0}]
[{"$f":"'1b. Rater Field Checklist'!$C$251","v":"12.4 Exterior lighting controls: Fixtures, including parking lot fixtures, must include automatic switching on timers or photocell controls except fixtures intended for 24-hour operation, required for security, or located on dwelling unit balconies."},{"$f":"'1b. Rater Field Checklist'!$N$251","v":0},{"$f":"'1b. Rater Field Checklist'!$M$251","v":0}]
[{"$f":"'1b. Rater Field Checklist'!$C$252","v":"12.5 ERI Path: All exterior and common space lighting fixtures meet the efficiency requirements in the ENERGY STAR Multifamily Reference Design, except fixtures located on dwelling unit balconies. 81, 82"},{"$f":"'1b. Rater Field Checklist'!$N$252","v":0},{"$f":"'1b. Rater Field Checklist'!$M$252","v":0}]
[{"$f":"'1b. Rater Field Checklist'!$C$255","v":"12.6 Prescriptive Path: All lighting fixtures (i.e., dwelling units, common spaces, and exterior) meet the efficiency requirements in the ENERGY STAR Multifamily Reference Design. 81, 82"},{"$f":"'1b. Rater Field Checklist'!$N$255","v":0},{"$f":"'1b. Rater Field Checklist'!$M$255","v":0}]
[{"$f":"'1b. Rater Field Checklist'!$C$258","v":"12.7 Prescriptive Path: Dwelling unit overall in-unit lighting power density ≤ 0.75 W/ft2. When calculating overall lighting power density, use 1.1 W/ft2 where lighting is not installed. 79"},{"$f":"'1b. Rater Field Checklist'!$N$258","v":0},{"$f":"'1b. Rater Field Checklist'!$M$258","v":0}]
[{"$f":"'1b. Rater Field Checklist'!$C$260","v":"13. Appliances, Ceiling Fans, and Plumbing Fixtures "},{"$f":"'1b. Rater Field Checklist'!$N$260","v":0},{"$f":"'1b. Rater Field Checklist'!$M$260","v":0}]
[{"$f":"'1b. Rater Field Checklist'!$C$261","v":"13.1 Prescriptive Path: Installed appliances are ENERGY STAR certified. Installed bathroom faucets, bathroom aerators, and showerheads are WaterSense labeled. 83"},{"$f":"'1b. Rater Field Checklist'!$N$261","v":0},{"$f":"'1b. Rater Field Checklist'!$M$261","v":0}]
[{"$f":"'1b. Rater Field Checklist'!$C$263","v":"13.2 ERI Path: Where installed in common spaces, refrigerators and dishwashers are ENERGY STAR certified and showerheads are WaterSense labeled."},{"$f":"'1b. Rater Field Checklist'!$N$263","v":0},{"$f":"'1b. Rater Field Checklist'!$M$263","v":0}]
[{"$f":"'1b. Rater Field Checklist'!$C$264","v":"13.3 Prescriptive Path: Shower compartments with multiple fixtures cannot be operated simultaneously OR the total flow rate per shower compartment must not exceed 1.75 gallons per minute, as rated at 80 psi."},{"$f":"'1b. Rater Field Checklist'!$N$264","v":0},{"$f":"'1b. Rater Field Checklist'!$M$264","v":0}]
[{"$f":"'1b. Rater Field Checklist'!$C$265","v":"14. Whole Building Energy Consumption Data Acquisition "},{"$f":"'1b. Rater Field Checklist'!$N$265","v":0},{"$f":"'1b. Rater Field Checklist'!$M$265","v":0}]
[{"$f":"'1b. Rater Field Checklist'!$C$266","v":"14.1 For buildings 50,000 ft2 and larger, a strategy that enables the collection of monthly or annual building-level energy consumption data (electricity, natural gas, chilled water, steam, fuel oil, propane, etc.) has been confirmed. 84"},{"$f":"'1b. Rater Field Checklist'!$N$266","v":0},{"$f":"'1b. Rater Field Checklist'!$M$266","v":0}]
[]
[{"$f":"E11","v":"Final 1"}]
["Rater Design Checklist","Verification Phase","Notes/Comments"]
[{"$f":"'1b. Rater Field Checklist'!$C$16","v":"Thermal Enclosure System "},{"$f":"'1b. Rater Field Checklist'!$N$16","v":0},{"$f":"'1b. Rater Field Checklist'!$M$16","v":0}]
[{"$f":"'1b. Rater Field Checklist'!$C$17","v":"1. High-Performance Fenestration & Insulation "},{"$f":"'1b. Rater Field Checklist'!$N$17","v":0},{"$f":"'1b. Rater Field Checklist'!$M$17","v":0}]
[{"$f":"'1b. Rater Field Checklist'!$C$18","v":"1.1 Fenestration meets or exceeds specification in Items 2.1 and 2.2 of the National Rater Design Review Checklist."},{"$f":"'1b. Rater Field Checklist'!$N$18","v":"Open Wall 3"},{"$f":"'1b. Rater Field Checklist'!$M$18","v":0}]
[{"$f":"'1b. Rater Field Checklist'!$C$19","v":"1.2 Insulation meets or exceeds levels specified in Items 3.1 and 3.2 of the National Rater Design Review Checklist."},{"$f":"'1b. Rater Field Checklist'!$N$19","v":"Open Wall 3"},{"$f":"'1b. Rater Field Checklist'!$M$19","v":0}]
[{"$f":"'1b. Rater Field Checklist'!$C$20","v":"1.3 All insulation achieves Grade I install per ANSI / RESNET / ICC Std. 301. Alternatives in footnote 6. 6,7"},{"$f":"'1b. Rater Field Checklist'!$N$20","v":"Open Wall 3"},{"$f":"'1b. Rater Field Checklist'!$M$20","v":0}]
[{"$f":"'1b. Rater Field Checklist'!$C$23","v":"1.4 Prescriptive Path: Window-to-wall ratio ≤ 30%. 8"},{"$f":"'1b. Rater Field Checklist'!$N$23","v":"Open Wall 1"},{"$f":"'1b. Rater Field Checklist'!$M$23","v":0}]
[{"$f":"'1b. Rater Field Checklist'!$C$25","v":"1.5 Heated plenums in unconditioned space or ambient conditions must meet the following requirements: 9"},{"$f":"'1b. Rater Field Checklist'!$N$25","v":0},{"$f":"'1b. Rater Field Checklist'!$M$25","v":0}]
[{"$f":"'1b. Rater Field Checklist'!$C$27","v":" 1.5.1 Sides of heated plenum are an air barrier and insulated to ≥ R-3ci in CZ 1-4; ≥ R-5ci in CZ 5-6; ≥ R-7.5ci in CZ 7; ≥ R-9.5ci in CZ 8, AND;"},{"$f":"'1b. Rater Field Checklist'!$N$27","v":"Open Wall 4"},{"$f":"'1b. Rater Field Checklist'!$M$27","v":0}]
[{"$f":"'1b. Rater Field Checklist'!$C$28","v":" 1.5.2 Insulation at top of heated plenum meets or exceeds the R-value for mass floors from the “All Other” column of Table 502.2(1) of 2009 IECC, AND;"},{"$f":"'1b. Rater Field Checklist'!$N$28","v":"Open Wall 4"},{"$f":"'1b. Rater Field Checklist'!$M$28","v":0}]
[{"$f":"'1b. Rater Field Checklist'!$C$29","v":" 1.5.3 Bottom of heated plenum must have at least R-13 insulation. 10"},{"$f":"'1b. Rater Field Checklist'!$N$29","v":"Open Wall 3"},{"$f":"'1b. Rater Field Checklist'!$M$29","v":0}]
[{"$f":"'1b. Rater Field Checklist'!$C$31","v":"1.6 Garages with space heating must meet the following requirements: 9"},{"$f":"'1b. Rater Field Checklist'!$N$31","v":0},{"$f":"'1b. Rater Field Checklist'!$M$31","v":0}]
[{"$f":"'1b. Rater Field Checklist'!$C$33","v":" 1.6.1 Insulation on above grade walls and walls on the first story below grade ≥ R-5ci in CZ 5-6; ≥ R-7.5ci in CZ 7; ≥ R-9.5ci in CZ 8, AND;"},{"$f":"'1b. Rater Field Checklist'!$N$33","v":0},{"$f":"'1b. Rater Field Checklist'!$M$33","v":0}]
[{"$f":"'1b. Rater Field Checklist'!$C$34","v":" 1.6.2 Ceiling insulation meets or exceeds the R-value for mass floors from the “All Other” column of Table 502.2(1) of 2009 IECC."},{"$f":"'1b. Rater Field Checklist'!$N$34","v":0},{"$f":"'1b. Rater Field Checklist'!$M$34","v":0}]
[{"$f":"'1b. Rater Field Checklist'!$C$35","v":"2. Fully-Aligned Air Barriers 11 At each insulated location below, a complete air barrier is provided that is fully aligned as follows:"},{"$f":"'1b. Rater Field Checklist'!$N$35","v":0},{"$f":"'1b. Rater Field Checklist'!$M$35","v":0}]
[{"$f":"'1b. Rater Field Checklist'!$C$37","v":"Ceilings: At interior or exterior horizontal surface of ceiling insulation in Climate Zones 1-3; at interior horizontal surface of ceiling insulation in Climate Zones 4-8. Also, at exterior vertical surface of ceiling insulation in all climate zones (e.g., using a wind baffle that extends to the full height of the insulation in every bay or a tabbed baffle in each bay with a soffit vent that prevents wind washing in adjacent bays). 12"},{"$f":"'1b. Rater Field Checklist'!$N$37","v":0},{"$f":"'1b. Rater Field Checklist'!$M$37","v":0}]
[{"$f":"'1b. Rater Field Checklist'!$C$39","v":"2.1 Dropped ceilings / soffits below unconditioned attics, chase / dead space, and all other ceilings."},{"$f":"'1b. Rater Field Checklist'!$N$39","v":0},{"$f":"'1b. Rater Field Checklist'!$M$39","v":0}]
[{"$f":"'1b. Rater Field Checklist'!$C$40","v":"Walls: At exterior vertical surface of wall insulation in all climate zones; also at interior vertical surface of wall insulation in Climate Zones 4-8. 13"},{"$f":"'1b. Rater Field Checklist'!$N$40","v":0},{"$f":"'1b. Rater Field Checklist'!$M$40","v":0}]
[{"$f":"'1b. Rater Field Checklist'!$C$42","v":"2.2 Walls behind showers, tubs, staircases, and fireplaces."},{"$f":"'1b. Rater Field Checklist'!$N$42","v":"Open Wall 2"},{"$f":"'1b. Rater Field Checklist'!$M$42","v":0}]
[{"$f":"'1b. Rater Field Checklist'!$C$43","v":"2.3 Architectural bump-outs, dead space, and all other exterior walls."},{"$f":"'1b. Rater Field Checklist'!$N$43","v":0},{"$f":"'1b. Rater Field Checklist'!$M$43","v":0}]
[{"$f":"'1b. Rater Field Checklist'!$C$44","v":"Floors: At exterior vertical surface of floor insulation in all climate zones and, if over unconditioned space, also at interior horizontal surface including supports to ensure alignment. Alternatives in Footnotes 15 & 16. 14, 15, 16"},{"$f":"'1b. Rater Field Checklist'!$N$44","v":0},{"$f":"'1b. Rater Field Checklist'!$M$44","v":0}]
[{"$f":"'1b. Rater Field Checklist'!$C$48","v":"2.4 Floors above garages, floors above unconditioned spaces, and cantilevered floors."},{"$f":"'1b. Rater Field Checklist'!$N$48","v":0},{"$f":"'1b. Rater Field Checklist'!$M$48","v":0}]
[{"$f":"'1b. Rater Field Checklist'!$C$49","v":"2.5 All other floors adjoining unconditioned space (e.g., rim / band joists at exterior wall or at porch roof)."},{"$f":"'1b. Rater Field Checklist'!$N$49","v":0},{"$f":"'1b. Rater Field Checklist'!$M$49","v":0}]
[{"$f":"'1b. Rater Field Checklist'!$C$50","v":"3. Reduced Thermal Bridging"},{"$f":"'1b. Rater Field Checklist'!$N$50","v":0},{"$f":"'1b. Rater Field Checklist'!$M$50","v":0}]
[{"$f":"'1b. Rater Field Checklist'!$C$51","v":"3.1 For insulated ceilings with attic space above (i.e., non-cathedralized), Grade I insulation extends to the inside face of the exterior wall below and is ≥ R-21 in CZ 1-5; ≥ R-30 in CZ 6-8. 17"},{"$f":"'1b. Rater Field Checklist'!$N$51","v":0},{"$f":"'1b. Rater Field Checklist'!$M$51","v":0}]
[{"$f":"'1b. Rater Field Checklist'!$C$53","v":"3.2 For insulated ceilings with attic space above, attic access panels and drop-down stairs insulated ≥ R-10 or equipped with durable ≥ R-10 cover. 18"},{"$f":"'1b. Rater Field Checklist'!$N$53","v":0},{"$f":"'1b. Rater Field Checklist'!$M$53","v":0}]
[{"$f":"'1b. Rater Field Checklist'!$C$55","v":"3.3 Insulation beneath attic platforms (e.g., HVAC platforms, walkways) ≥ R-21 in CZ 1-5; ≥ R-30 in CZ 6-8."},{"$f":"'1b. Rater Field Checklist'!$N$55","v":0},{"$f":"'1b. Rater Field Checklist'!$M$55","v":0}]
[{"$f":"'1b. Rater Field Checklist'!$C$56","v":"3.4 For slabs on grade in CZ 4-8, 100% of slab edge insulated to ≥ R-5 at the depth specified by Table 502.2(1) of the 2009 IECC and aligned with the thermal boundary of the walls. 19, 20"},{"$f":"'1b. Rater Field Checklist'!$N$56","v":0},{"$f":"'1b. Rater Field Checklist'!$M$56","v":0}]
[{"$f":"'1b. Rater Field Checklist'!$C$59","v":"3.5 For elevated concrete slabs in CZ 4-8 (i.e., podiums and projected balconies, but not intermediate slab floor edges) 100% of the slab edge insulated to ≥ R-5. For podiums, this insulation must extend for a minimum of 8ft below the bottom of the slab edge. For columns, the insulation must surround the column, at a depth of 4ft. Alternatives in Footnote 21. 21"},{"$f":"'1b. Rater Field Checklist'!$N$59","v":0},{"$f":"'1b. Rater Field Checklist'!$M$59","v":0}]
[{"$f":"'1b. Rater Field Checklist'!$C$61","v":"3.6 For elevated concrete slabs in CZ 4-8 (i.e., podiums, but not intermediate floor slabs), floor insulation meets the U-factor specified in Table 502.1.2 of the 2009 IECC for Group R when dwelling units are above the slab, and for ‘All Other’ when common space is above the slab. 22"},{"$f":"'1b. Rater Field Checklist'!$N$61","v":0},{"$f":"'1b. Rater Field Checklist'!$M$61","v":0}]
[{"$f":"'1b. Rater Field Checklist'!$C$63","v":"3.7 At above-grade walls and rim / band joists separating conditioned space from the exterior, one of the following options used: 23, 26"},{"$f":"'1b. Rater Field Checklist'!$N$63","v":0},{"$f":"'1b. Rater Field Checklist'!$M$63","v":0}]
[{"$f":"'1b. Rater Field Checklist'!$C$66","v":" 3.7.1 Continuous rigid insulation, insulated siding, or combination of the two is ≥ R-3 in CZ 1-4; ≥ R-5 in CZ 5-8 24, 25, 26, 27; OR;"},{"$f":"'1b. Rater Field Checklist'!$N$66","v":0},{"$f":"'1b. Rater Field Checklist'!$M$66","v":0}]
[{"$f":"'1b. Rater Field Checklist'!$C$71","v":" 3.7.2 Structural Insulated Panels OR; Insulated Concrete Forms OR; Double-wall framing OR; 24, 26, 28"},{"$f":"'1b. Rater Field Checklist'!$N$71","v":0},{"$f":"'1b. Rater Field Checklist'!$M$71","v":0}]
[{"$f":"'1b. Rater Field Checklist'!$C$75","v":" 3.7.3 Option only for wood-framed walls either in CZ 1-3 OR ≤ 3 stories: ‘advanced framing’ details including all of the Items below: 26, 29"},{"$f":"'1b. Rater Field Checklist'!$N$75","v":0},{"$f":"'1b. Rater Field Checklist'!$M$75","v":0}]
[{"$f":"'1b. Rater Field Checklist'!$C$78","v":"  3.7.3a Corners insulated ≥ R-6 to edge, 30 AND;"},{"$f":"'1b. Rater Field Checklist'!$N$78","v":0},{"$f":"'1b. Rater Field Checklist'!$M$78","v":0}]
[{"$f":"'1b. Rater Field Checklist'!$C$80","v":"  3.7.3b Headers above windows & doors insulated ≥ R-3 for 2x4 framing or equivalent cavity width, and ≥ R-5 for all other assemblies (e.g., with 2x6 framing), 31 AND;"},{"$f":"'1b. Rater Field Checklist'!$N$80","v":0},{"$f":"'1b. Rater Field Checklist'!$M$80","v":0}]
[{"$f":"'1b. Rater Field Checklist'!$C$82","v":"  3.7.3c Interior / exterior wall intersections insulated to same R-value as rest of exterior wall. 32"},{"$f":"'1b. Rater Field Checklist'!$N$82","v":0},{"$f":"'1b. Rater Field Checklist'!$M$82","v":0}]
[{"$f":"'1b. Rater Field Checklist'!$C$84","v":"4. Air Sealing (Unless otherwise noted below, “sealed” indicates the use of caulk, foam, or equivalent material.)"},{"$f":"'1b. Rater Field Checklist'!$N$84","v":0},{"$f":"'1b. Rater Field Checklist'!$M$84","v":0}]
[{"$f":"'1b. Rater Field Checklist'!$C$85","v":"4.1 Ducts, flues, shafts, plumbing, piping, wiring, exhaust fans, & other penetrations to unconditioned space sealed, with blocking / flashing as needed."},{"$f":"'1b. Rater Field Checklist'!$N$85","v":0},{"$f":"'1b. Rater Field Checklist'!$M$85","v":0}]
[{"$f":"'1b. Rater Field Checklist'!$C$86","v":"4.2 Recessed lighting fixtures adjacent to unconditioned space ICAT labeled and gasketed. Also, if in insulated ceiling without attic above, exterior surface of fixture insulated to ≥ R-10 in CZ 4-8."},{"$f":"'1b. Rater Field Checklist'!$N$86","v":0},{"$f":"'1b. Rater Field Checklist'!$M$86","v":0}]
[{"$f":"'1b. Rater Field Checklist'!$C$87","v":"4.3 Continuous top plate or blocking is at top of walls adjoining unconditioned space including at balloon-framed parapets, and sealed."},{"$f":"'1b. Rater Field Checklist'!$N$87","v":0},{"$f":"'1b. Rater Field Checklist'!$M$87","v":0}]
[{"$f":"'1b. Rater Field Checklist'!$C$88","v":"4.4 Drywall sealed to top plate at all unconditioned attic / wall interfaces using caulk, foam, drywall adhesive (but not other construction adhesives), or equivalent material. Either apply sealant directly between drywall and top plate or to the seam between the two from the attic above."},{"$f":"'1b. Rater Field Checklist'!$N$88","v":0},{"$f":"'1b. Rater Field Checklist'!$M$88","v":0}]
[{"$f":"'1b. Rater Field Checklist'!$C$89","v":"4.5 Rough opening around windows & exterior doors sealed. 33"},{"$f":"'1b. Rater Field Checklist'!$N$89","v":0},{"$f":"'1b. Rater Field Checklist'!$M$89","v":0}]
[{"$f":"'1b. Rater Field Checklist'!$C$91","v":"4.6 Assemblies that separate attached garages from occupiable space sealed and, also, an air barrier installed, sealed, and aligned with these assemblies. 34"},{"$f":"'1b. Rater Field Checklist'!$N$91","v":0},{"$f":"'1b. Rater Field Checklist'!$M$91","v":0}]
[{"$f":"'1b. Rater Field Checklist'!$C$93","v":"4.7 Doors adjacent to unconditioned space (e.g., attics, garages, basements) or ambient conditions made substantially air-tight with doorsweep and weatherstripping or equivalent gasket."},{"$f":"'1b. Rater Field Checklist'!$N$93","v":0},{"$f":"'1b. Rater Field Checklist'!$M$93","v":0}]
[{"$f":"'1b. Rater Field Checklist'!$C$94","v":"4.8 Attic access panels, roof hatches and drop-down stairs are gasketed (i.e., not caulked) or equipped with durable covers that are gasketed. 18"},{"$f":"'1b. Rater Field Checklist'!$N$94","v":0},{"$f":"'1b. Rater Field Checklist'!$M$94","v":0}]
[{"$f":"'1b. Rater Field Checklist'!$C$96","v":"The following items must be additionally verified in dwelling units, to reduce air leakage between conditioned spaces."},{"$f":"'1b. Rater Field Checklist'!$N$96","v":0},{"$f":"'1b. Rater Field Checklist'!$M$96","v":0}]
[{"$f":"'1b. Rater Field Checklist'!$C$97","v":"4.9 Doors serving as a unit entrance from a corridor / stairwell made substantially air-tight with doorsweep and weatherstripping or equivalent gasket."},{"$f":"'1b. Rater Field Checklist'!$N$97","v":0},{"$f":"'1b. Rater Field Checklist'!$M$97","v":0}]
[{"$f":"'1b. Rater Field Checklist'!$C$98","v":"4.10 Rater-measured compartmentalization is no greater than 0.30 CFM50 per square feet of dwelling unit enclosure area, following procedures in ANSI / RESNET / ICC Std. 380. 35"},{"$f":"'1b. Rater Field Checklist'!$N$98","v":0},{"$f":"'1b. Rater Field Checklist'!$M$98","v":0}]
[{"$f":"'1b. Rater Field Checklist'!$C$100","v":" 4.10.1 For dwelling units with forced air distribution systems without ducted returns and located in a closet adjacent to unconditioned space, the Rater-measured pressure difference between the space containing the air handler and the conditioned space during the compartmentalization test is no greater than 5 Pa. 36"},{"$f":"'1b. Rater Field Checklist'!$N$100","v":0},{"$f":"'1b. Rater Field Checklist'!$M$100","v":0}]
[{"$f":"'1b. Rater Field Checklist'!$C$102","v":"HVAC System 37 (HVAC Design Report Item # indicated in parenthesis) "},{"$f":"'1b. Rater Field Checklist'!$N$102","v":0},{"$f":"'1b. Rater Field Checklist'!$M$102","v":0}]
[{"$f":"'1b. Rater Field Checklist'!$C$104","v":"5. Heating & Cooling Equipment – Complete Track A – HVAC Grading by Rater OR Track B – HVAC Testing by FT Agent 38"},{"$f":"'1b. Rater Field Checklist'!$N$104","v":0},{"$f":"'1b. Rater Field Checklist'!$M$104","v":0}]
[{"$f":"'1b. Rater Field Checklist'!$C$106","v":"Track A 39"},{"$f":"'1b. Rater Field Checklist'!$N$106","v":0},{"$f":"'1b. Rater Field Checklist'!$M$106","v":0}]
[{"$f":"'1b. Rater Field Checklist'!$C$108","v":"5a.1 Blower fan volumetric airflow is Grade I or II per ANSI / RESNET / ACCA Std. 310"},{"$f":"'1b. Rater Field Checklist'!$N$108","v":0},{"$f":"'1b. Rater Field Checklist'!$M$108","v":0}]
[{"$f":"'1b. Rater Field Checklist'!$C$109","v":"5a.2 Blower fan watt draw is Grade I or II per ANSI / RESNET / ACCA Std. 310"},{"$f":"'1b. Rater Field Checklist'!$N$109","v":0},{"$f":"'1b. Rater Field Checklist'!$M$109","v":0}]
[{"$f":"'1b. Rater Field Checklist'!$C$110","v":"5a.3 Refrigerant charge is Grade I per ANSI / RESNET / ACCA Std. 310. See Footnote 40 for exemptions. 40"},{"$f":"'1b. Rater Field Checklist'!$N$110","v":0},{"$f":"'1b. Rater Field Checklist'!$M$110","v":0}]
[{"$f":"'1b. Rater Field Checklist'!$C$112","v":"Track B"},{"$f":"'1b. Rater Field Checklist'!$N$112","v":0},{"$f":"'1b. Rater Field Checklist'!$M$112","v":0}]
[{"$f":"'1b. Rater Field Checklist'!$C$113","v":"5b.1 HVAC manufacturer & model number on installed equipment matches either of the following (check box): 41\n \n National HVAC Design Report (4.6-4.9 & 4.25-4.26)      Written approval received from designer"},{"$f":"'1b. Rater Field Checklist'!$N$113","v":0},{"$f":"'1b. Rater Field Checklist'!$M$113","v":0}]
[{"$f":"'1b. Rater Field Checklist'!$C$115","v":"5b.2 External static pressure measured by Rater at contractor-provided test locations and documented below: 42\n\nReturn-Side External Static Pressure: ________IWC\nSupply-Side External Static Pressure: __________IWC"},{"$f":"'1b. Rater Field Checklist'!$N$115","v":0},{"$f":"'1b. Rater Field Checklist'!$M$115","v":0}]
[{"$f":"'1b. Rater Field Checklist'!$C$117","v":"5.4 Prescriptive Path: Heating and cooling equipment serving dwelling units and common spaces meet the efficiency levels specified in the Exhibit X. Electric resistance space heating is not installed in dwelling units."},{"$f":"'1b. Rater Field Checklist'!$N$117","v":0},{"$f":"'1b. Rater Field Checklist'!$M$117","v":0}]
[{"$f":"'1b. Rater Field Checklist'!$C$118","v":"5.5 ERI Path: Heating and cooling equipment serving common spaces, but not serving dwelling units, meet the efficiency levels specified in the Exhibit X. See Exhibit X for restrictions on electric resistance space heating."},{"$f":"'1b. Rater Field Checklist'!$N$118","v":0},{"$f":"'1b. Rater Field Checklist'!$M$118","v":0}]
[{"$f":"'1b. Rater Field Checklist'!$C$119","v":"5.6 National HVAC Functional Testing Checklist(s) collected prior to certification, with all HVAC systems in the building / project fully documented. Exception: Where credentialed HVAC Contractor(s) are completing the National HVAC Functional Testing Checklist, the checklist is not required to be collected for the systems they verify. 43"},{"$f":"'1b. Rater Field Checklist'!$N$119","v":0},{"$f":"'1b. Rater Field Checklist'!$M$119","v":0}]
[{"$f":"'1b. Rater Field Checklist'!$C$121","v":"5.7 Rater has verified and documented that Functional Testing Agent(s) (“FT Agent(s)”) completing the National HVAC Functional Testing Checklist(s) hold one of the required credentials and completed orientation, if applicable. 43\n\nCredential: ______________________ “FT Agent” Company Name(s): _______________________"},{"$f":"'1b. Rater Field Checklist'!$N$121","v":0},{"$f":"'1b. Rater Field Checklist'!$M$121","v":0}]
[{"$f":"'1b. Rater Field Checklist'!$C$123","v":"Equipment Controls "},{"$f":"'1b. Rater Field Checklist'!$N$123","v":0},{"$f":"'1b. Rater Field Checklist'!$M$123","v":0}]
[{"$f":"'1b. Rater Field Checklist'!$C$124","v":"5.8 All heating and cooling systems serving a dwelling unit have thermostatic controls within the dwelling unit which are not located on exterior walls."},{"$f":"'1b. Rater Field Checklist'!$N$124","v":0},{"$f":"'1b. Rater Field Checklist'!$M$124","v":0}]
[{"$f":"'1b. Rater Field Checklist'!$C$125","v":" 5.8.1 Prescriptive Path: Dwelling unit thermostats are programmable."},{"$f":"'1b. Rater Field Checklist'!$N$125","v":0},{"$f":"'1b. Rater Field Checklist'!$M$125","v":0}]
[{"$f":"'1b. Rater Field Checklist'!$C$126","v":"5.9 Stair and elevator shaft vents equipped with motorized dampers that are capable of being automatically closed during normal building operation and are interlocked to open as required by fire and smoke detection systems. Dampers are verified to be closed at the time of inspection."},{"$f":"'1b. Rater Field Checklist'!$N$126","v":0},{"$f":"'1b. Rater Field Checklist'!$M$126","v":0}]
[{"$f":"'1b. Rater Field Checklist'!$C$127","v":"5.10 Freeze protection systems, such as heat tracing of piping and heat exchangers, including self-regulating heat tracing, and garage / plenum heaters include automatic controls that are verified to shut off the systems when pipe wall or garage / plenum temperatures are above 40°F."},{"$f":"'1b. Rater Field Checklist'!$N$127","v":0},{"$f":"'1b. Rater Field Checklist'!$M$127","v":0}]
[{"$f":"'1b. Rater Field Checklist'!$C$128","v":" 5.10.1 Where heat tracing is installed for freeze-protection, controls must be based on pipe wall temperature and a minimum of R-3 pipe insulation is also required."},{"$f":"'1b. Rater Field Checklist'!$N$128","v":0},{"$f":"'1b. Rater Field Checklist'!$M$128","v":0}]
[{"$f":"'1b. Rater Field Checklist'!$C$129","v":"5.11 Snow- and ice-melting systems include automatic controls that are verified to shut off the systems when the pavement temperature is above 50°F and no precipitation is falling, and an automatic or manual control is installed that is verified to shut off system when the outdoor temperature is above 40°F, so that the potential for snow or ice accumulation is negligible."},{"$f":"'1b. Rater Field Checklist'!$N$129","v":0},{"$f":"'1b. Rater Field Checklist'!$M$129","v":0}]
[{"$f":"'1b. Rater Field Checklist'!$C$130","v":"Hydronic Distribution "},{"$f":"'1b. Rater Field Checklist'!$N$130","v":0},{"$f":"'1b. Rater Field Checklist'!$M$130","v":0}]
[{"$f":"'1b. Rater Field Checklist'!$C$131","v":"5.12 For hydronic distribution systems, all terminal heating and cooling distribution equipment are separated from the riser or distribution loop by a control valve or terminal distribution pump, so that heated or cooled fluid is not delivered to the dwelling unit distribution equipment when there is no call from the thermostat."},{"$f":"'1b. Rater Field Checklist'!$N$131","v":0},{"$f":"'1b. Rater Field Checklist'!$M$131","v":0}]
[{"$f":"'1b. Rater Field Checklist'!$C$132","v":"5.13 Terminal units in hydronic distribution systems are equipped with pressure independent balancing valves or pressure independent control valves."},{"$f":"'1b. Rater Field Checklist'!$N$132","v":0},{"$f":"'1b. Rater Field Checklist'!$M$132","v":0}]
[{"$f":"'1b. Rater Field Checklist'!$C$133","v":"5.14 Piping of a heating or cooling system is insulated in accordance with Item 4.41 on the National HVAC Design Report, including where passing through planks or any other penetrations."},{"$f":"'1b. Rater Field Checklist'!$N$133","v":0},{"$f":"'1b. Rater Field Checklist'!$M$133","v":0}]
[{"$f":"'1b. Rater Field Checklist'!$C$134","v":"5.15 For circulating pumps serving hydronic heating or cooling systems with three-phase motors, 1 horsepower or larger, motors meet or exceed efficiency standards for NEMA Premium™ motors. If 5 horsepower or larger, also installed with variable frequency drives."},{"$f":"'1b. Rater Field Checklist'!$N$134","v":0},{"$f":"'1b. Rater Field Checklist'!$M$134","v":0}]
[{"$f":"'1b. Rater Field Checklist'!$C$135","v":"6. Duct Quality Installation - Applies to Heating, Cooling, Ventilation, Exhaust, & Pressure Balancing Ducts, Unless Noted in Footnote."},{"$f":"'1b. Rater Field Checklist'!$N$135","v":0},{"$f":"'1b. Rater Field Checklist'!$M$135","v":0}]
[{"$f":"'1b. Rater Field Checklist'!$C$136","v":"6.1 Ductwork installed without kinks, sharp bends, compressions, or excessive coiled flexible ductwork. 45"},{"$f":"'1b. Rater Field Checklist'!$N$136","v":0},{"$f":"'1b. Rater Field Checklist'!$M$136","v":0}]
[{"$f":"'1b. Rater Field Checklist'!$C$138","v":"6.2 Bedrooms with a design supply airflow ≥ 150 CFM (per Item 5.2 on the National HVAC Design Report) pressure-balanced (e.g., using transfer grilles, jump ducts, dedicated return ducts, undercut doors) to achieve a Rater-measured pressure differential ≥ -5 Pa and ≤ +5 Pa with respect to the main body of the dwelling unit when all air handlers are operating. See Footnote 46 for test configuration. 46"},{"$f":"'1b. Rater Field Checklist'!$N$138","v":0},{"$f":"'1b. Rater Field Checklist'!$M$138","v":0}]
[{"$f":"'1b. Rater Field Checklist'!$C$140","v":"6.3 All supply and return ducts in unconditioned space, including connections to trunk ducts, are insulated to ≥ R-6. 47"},{"$f":"'1b. Rater Field Checklist'!$N$140","v":0},{"$f":"'1b. Rater Field Checklist'!$M$140","v":0}]
[{"$f":"'1b. Rater Field Checklist'!$C$142","v":" 6.3.1 Prescriptive Path: Dwelling unit ductwork meets the location and insulation requirements specified in the ENERGY STAR Multifamily Reference Design."},{"$f":"'1b. Rater Field Checklist'!$N$142","v":0},{"$f":"'1b. Rater Field Checklist'!$M$142","v":0}]
[{"$f":"'1b. Rater Field Checklist'!$C$143","v":"6.4 Rater-measured total duct leakage in dwelling units meets one of the following two options: 48, 49"},{"$f":"'1b. Rater Field Checklist'!$N$143","v":0},{"$f":"'1b. Rater Field Checklist'!$M$143","v":0}]
[{"$f":"'1b. Rater Field Checklist'!$C$146","v":" 6.4.1 Rough-in: Tested per allowances below, with air handler & all ducts, building cavities used as ducts, & duct boots installed. In addition, all duct boots sealed to finished surface, Rater-verified at final. 50\n\nNo ducted returns 36: The greater of ≤ 3 CFM25 per 100 sq. ft. of CFA or ≤ 30 CFM. Additionally, the Rater-measured pressure difference between the space containing the air handler and the conditioned space, with the air handler running at high speed, is ≤ 5 Pa. For systems > 1 ton, increase by 1 Pa per half ton.\n\nOne or two ducted returns 36: The greater of ≤ 4 CFM25 per 100 sq. ft. of CFA or ≤ 40 CFM.\n\nThree or more ducted returns 36 : The greater of ≤ 6 CFM25 per 100 sq. ft. of CFA or ≤ 60 CFM."},{"$f":"'1b. Rater Field Checklist'!$N$146","v":0},{"$f":"'1b. Rater Field Checklist'!$M$146","v":0}]
[{"$f":"'1b. Rater Field Checklist'!$C$149","v":" 6.4.2 Final: Tested per allowances below, with the air handler & all ducts, building cavities used as ducts, duct boots, & register grilles atop the finished surface (e.g., drywall, floor) installed. 51\n\nNo ducted returns 36: The greater of ≤ 6 CFM25 per 100 sq. ft. of CFA or ≤ 60 CFM. Additionally, the Rater-measured pressure difference between the space containing the air handler and the conditioned space, with the air handler running at high speed, is ≤ 5 Pa. For systems > 1 ton, increase by 1 Pa per half ton.\n\nOne or two ducted returns 36: The greater of ≤ 8 CFM25 per 100 sq. ft. of CFA or ≤ 80 CFM.\n\nThree or more ducted returns 36 : The greater of ≤ 12 CFM25 per 100 sq. ft. of CFA or ≤ 120 CFM."},{"$f":"'1b. Rater Field Checklist'!$N$149","v":0},{"$f":"'1b. Rater Field Checklist'!$M$149","v":0}]
[{"$f":"'1b. Rater Field Checklist'!$C$152","v":"6.5 Townhouses only: Rater-measured duct leakage to the outside the greater of ≤ 4 CFM25 per 100 sq. ft. of CFA or ≤ 40 CFM25. 48, 52"},{"$f":"'1b. Rater Field Checklist'!$N$152","v":0},{"$f":"'1b. Rater Field Checklist'!$M$152","v":0}]
[{"$f":"'1b. Rater Field Checklist'!$C$155","v":"6.6 Common Space: Supply, return, and exhaust ductwork and all plenums serving common spaces are sealed at all transverse joints, longitudinal seams, and duct wall penetrations with mastic, mastic tape, or internal aerosol-based sealant."},{"$f":"'1b. Rater Field Checklist'!$N$155","v":0},{"$f":"'1b. Rater Field Checklist'!$M$155","v":0}]
[{"$f":"'1b. Rater Field Checklist'!$C$156","v":"6.7 Duct leakage of central exhaust systems that serve four or more dwelling units, meets one of the following two options:"},{"$f":"'1b. Rater Field Checklist'!$N$156","v":0},{"$f":"'1b. Rater Field Checklist'!$M$156","v":0}]
[{"$f":"'1b. Rater Field Checklist'!$C$157","v":" 6.7.1 Rough-in: Tested including horizontal run outs, trunks, branches, and take-offs up to, but not including, the grilles, the leakage does not exceed 25% of exhaust fan flow. 53"},{"$f":"'1b. Rater Field Checklist'!$N$157","v":0},{"$f":"'1b. Rater Field Checklist'!$M$157","v":0}]
[{"$f":"'1b. Rater Field Checklist'!$C$159","v":" 6.7.2 Final: Tested inclusive of all ductwork between the fan and the grilles, the leakage does not exceed 30% of exhaust fan flow. 53"},{"$f":"'1b. Rater Field Checklist'!$N$159","v":0},{"$f":"'1b. Rater Field Checklist'!$M$159","v":0}]
[{"$f":"'1b. Rater Field Checklist'!$C$161","v":"7. Dwelling-Unit & Common Space Mechanical Vent. Systems (\"Vent Systems\") 54 & Inlets in Return Duct 55\n(National HVAC Design Report Item # indicated in parenthesis)"},{"$f":"'1b. Rater Field Checklist'!$N$161","v":0},{"$f":"'1b. Rater Field Checklist'!$M$161","v":0}]
[{"$f":"'1b. Rater Field Checklist'!$C$164","v":"7.1 Ventilation manufacturer & model number on installed equipment matches either of the following (check box): 41\n\n National HVAC Design Report           Written approval received from designer"},{"$f":"'1b. Rater Field Checklist'!$N$164","v":0},{"$f":"'1b. Rater Field Checklist'!$M$164","v":0}]
[{"$f":"'1b. Rater Field Checklist'!$C$166","v":"7.2 Rater-measured ventilation rate is within either ± 15 CFM or ± 15% of dwelling unit design values (2.7), and meets or exceeds rates required by ASHRAE 62.2-2010. 56"},{"$f":"'1b. Rater Field Checklist'!$N$166","v":0},{"$f":"'1b. Rater Field Checklist'!$M$166","v":0}]
[{"$f":"'1b. Rater Field Checklist'!$C$168","v":"7.3 Measured ventilation rate is within either ± 15 CFM or ± 15 % of common space design values (2.9), and meets or exceeds rates required by ASHRAE 62.1-2010 (2.8). 57"},{"$f":"'1b. Rater Field Checklist'!$N$168","v":0},{"$f":"'1b. Rater Field Checklist'!$M$168","v":0}]
[{"$f":"'1b. Rater Field Checklist'!$C$170","v":"7.4 A ventilation override control installed and also labeled if its function is not obvious (e.g., a label is required for a standalone wall switch, but not for a switch that’s on the ventilation equipment). Townhouses only: A readily-accessible ventilation override control installed and also labeled if its function is not obvious (e.g., a label is required for a toggle wall switch, but not for a switch that’s on the ventilation equipment)."},{"$f":"'1b. Rater Field Checklist'!$N$170","v":0},{"$f":"'1b. Rater Field Checklist'!$M$170","v":0}]
[{"$f":"'1b. Rater Field Checklist'!$C$171","v":"7.5 For any outdoor air inlet connected to a ducted return of the dwelling unit HVAC system (Complete if present; otherwise check “N/A”): 55"},{"$f":"'1b. Rater Field Checklist'!$N$171","v":0},{"$f":"'1b. Rater Field Checklist'!$M$171","v":0}]
[{"$f":"'1b. Rater Field Checklist'!$C$177","v":"7.6 If located in the dwelling unit, system fan rated ≤ 3 sones if intermittent and ≤ 2 sone if continuous, or exempted. 60"},{"$f":"'1b. Rater Field Checklist'!$N$177","v":0},{"$f":"'1b. Rater Field Checklist'!$M$177","v":0}]
[{"$f":"'1b. Rater Field Checklist'!$C$179","v":"7.7 If dwelling-unit Vent System controller operates the dwelling unit HVAC fan, then HVAC fan operation is intermittent and either the fan type is ECM / ICM (4.12), or the controls will reduce the run-time by accounting for HVAC system heating or cooling hours. 61"},{"$f":"'1b. Rater Field Checklist'!$N$179","v":0},{"$f":"'1b. Rater Field Checklist'!$M$179","v":0}]
[{"$f":"'1b. Rater Field Checklist'!$C$181","v":"7.8 In-unit bathroom fans or in-line fans are ENERGY STAR certified if used as part of the dwelling-unit mechanical ventilation system. 62"},{"$f":"'1b. Rater Field Checklist'!$N$181","v":0},{"$f":"'1b. Rater Field Checklist'!$M$181","v":0}]
[{"$f":"'1b. Rater Field Checklist'!$C$183","v":"7.9 If central exhaust fans, ≤ 1 HP, are installed as part of the dwelling-unit mechanical ventilation system, then they are direct-drive, ECM, with variable speed controllers. If > 1 HP, they are installed with NEMATM Premium Motors."},{"$f":"'1b. Rater Field Checklist'!$N$183","v":0},{"$f":"'1b. Rater Field Checklist'!$M$183","v":0}]
[{"$f":"'1b. Rater Field Checklist'!$C$184","v":"7.10 Air inlet locations (Complete if ventilation air inlet locations were installed (2.22, 2.23); otherwise check “N/A”): 63, 64"},{"$f":"'1b. Rater Field Checklist'!$N$184","v":0},{"$f":"'1b. Rater Field Checklist'!$M$184","v":0}]
[{"$f":"'1b. Rater Field Checklist'!$C$187","v":" 7.10.1 Inlet(s) pull ventilation air directly from outdoors and not from attic, crawlspace, garage, or adjacent dwelling unit."},{"$f":"'1b. Rater Field Checklist'!$N$187","v":0},{"$f":"'1b. Rater Field Checklist'!$M$187","v":0}]
[{"$f":"'1b. Rater Field Checklist'!$C$188","v":" 7.10.2 Inlet(s) are ≥ 2 ft. above grade or roof deck; ≥ 10 ft. of stretched-string distance from known contamination sources not exiting the roof, and ≥ 3 ft. distance from dryer exhausts and sources exiting the roof. 65"},{"$f":"'1b. Rater Field Checklist'!$N$188","v":0},{"$f":"'1b. Rater Field Checklist'!$M$188","v":0}]
[{"$f":"'1b. Rater Field Checklist'!$C$191","v":"8. Local Mechanical Exhaust (National HVAC Design Report Item # indicated in parenthesis)"},{"$f":"'1b. Rater Field Checklist'!$N$191","v":0},{"$f":"'1b. Rater Field Checklist'!$M$191","v":0}]
[{"$f":"'1b. Rater Field Checklist'!$C$192","v":"Dwelling Unit Mechanical exhaust - In each dwelling unit kitchen and bathroom, a system is installed that exhausts directly to the outdoors and meets one of the following Rater-measured airflow and manufacturer-rated sound level standards: 54, 66"},{"$f":"'1b. Rater Field Checklist'!$N$192","v":0},{"$f":"'1b. Rater Field Checklist'!$M$192","v":0}]
[{"$f":"'1b. Rater Field Checklist'!$C$195","v":"Location "},{"$f":"'1b. Rater Field Checklist'!$N$195","v":0},{"$f":"'1b. Rater Field Checklist'!$M$195","v":0}]
[{"$f":"'1b. Rater Field Checklist'!$C$196","v":"8.1 Kitchen\nAirflow\nContinuous Rate:  ≥ 5 ACH, based on kitchen volume 68, 69\nIntermittent Rate 67: ≥ 100 CFM and, if not integrated with range, also ≥ 5 ACH based on kitchen volume 68, 69, 70\n\nSound\nContinuous Rate: Recommended: ≤ 1 sone\nIntermittent Rate 67:  Recommended: ≤ 3 sones"},{"$f":"'1b. Rater Field Checklist'!$N$196","v":0},{"$f":"'1b. Rater Field Checklist'!$M$196","v":0}]
[{"$f":"'1b. Rater Field Checklist'!$C$201","v":"8.2 Bathroom\nAirflow\nContinuous Rate:  ≥ 20 CFM\nIntermittent Rate 67: ≥ 50 CFM\n\nSound\nContinuous Rate: Required: ≤ 2 sones\nIntermittent Rate 67:  Recommended: ≤ 3 sones"},{"$f":"'1b. Rater Field Checklist'!$N$201","v":0},{"$f":"'1b. Rater Field Checklist'!$M$201","v":0}]
[{"$f":"'1b. Rater Field Checklist'!$C$203","v":"Mechanical Exhaust for Common Spaces 2 and Shared Garages "},{"$f":"'1b. Rater Field Checklist'!$N$203","v":0},{"$f":"'1b. Rater Field Checklist'!$M$203","v":0}]
[{"$f":"'1b. Rater Field Checklist'!$C$205","v":"8.3 Measured exhaust rates are  ≥ ASHRAE 62.1 rates (2c). 57"},{"$f":"'1b. Rater Field Checklist'!$N$205","v":0},{"$f":"'1b. Rater Field Checklist'!$M$205","v":0}]
[{"$f":"'1b. Rater Field Checklist'!$C$207","v":"8.4 Where an exhaust system is installed in a shared garage, it is equipped with controls that sense CO and NO2."},{"$f":"'1b. Rater Field Checklist'!$N$207","v":0},{"$f":"'1b. Rater Field Checklist'!$M$207","v":0}]
[{"$f":"'1b. Rater Field Checklist'!$C$208","v":"9. Filtration "},{"$f":"'1b. Rater Field Checklist'!$N$208","v":0},{"$f":"'1b. Rater Field Checklist'!$M$208","v":0}]
[{"$f":"'1b. Rater Field Checklist'!$C$209","v":"9.1 MERV 6+ filter(s) installed in each ducted mechanical system serving an individual dwelling unit and located to facilitate access & regular service by the occupant or building owner. 71"},{"$f":"'1b. Rater Field Checklist'!$N$209","v":0},{"$f":"'1b. Rater Field Checklist'!$M$209","v":0}]
[{"$f":"'1b. Rater Field Checklist'!$C$211","v":" 9.1.1 Filter access panel includes gasket and fits snugly against the exposed edge of filter when closed to prevent bypass. 72"},{"$f":"'1b. Rater Field Checklist'!$N$211","v":0},{"$f":"'1b. Rater Field Checklist'!$M$211","v":0}]
[{"$f":"'1b. Rater Field Checklist'!$C$213","v":" 9.1.2 All return air and mechanically supplied outdoor air passes through filter prior to conditioning."},{"$f":"'1b. Rater Field Checklist'!$N$213","v":0},{"$f":"'1b. Rater Field Checklist'!$M$213","v":0}]
[{"$f":"'1b. Rater Field Checklist'!$C$214","v":"10. Combustion Appliances "},{"$f":"'1b. Rater Field Checklist'!$N$214","v":0},{"$f":"'1b. Rater Field Checklist'!$M$214","v":0}]
[{"$f":"'1b. Rater Field Checklist'!$C$215","v":"10.1 Furnaces, boilers, and water heaters located within the building’s pressure boundary are mechanically drafted or direct-vented. If mechanically drafted, the minimum volume of combustion air required for safe operation by the manufacturer and/or code shall be met or exceeded and make-up air sources must be mechanically closed when the combustion appliance is not in operation. Alternatives in Footnote 75. 73, 74, 75"},{"$f":"'1b. Rater Field Checklist'!$N$215","v":0},{"$f":"'1b. Rater Field Checklist'!$M$215","v":0}]
[{"$f":"'1b. Rater Field Checklist'!$C$219","v":"10.2 Fireplaces located within the building’s pressure boundary are direct-vented. 73, 74"},{"$f":"'1b. Rater Field Checklist'!$N$219","v":0},{"$f":"'1b. Rater Field Checklist'!$M$219","v":0}]
[{"$f":"'1b. Rater Field Checklist'!$C$222","v":"10.3 No unvented combustion appliances other than cooking ranges or ovens are located inside the building’s pressure boundary. For cooking ranges and ovens, local mechanical exhaust per Checklist Item 8.1 requirements must be met. 73"},{"$f":"'1b. Rater Field Checklist'!$N$222","v":0},{"$f":"'1b. Rater Field Checklist'!$M$222","v":0}]
[{"$f":"'1b. Rater Field Checklist'!$C$224","v":"Other "},{"$f":"'1b. Rater Field Checklist'!$N$224","v":0},{"$f":"'1b. Rater Field Checklist'!$M$224","v":0}]
[{"$f":"'1b. Rater Field Checklist'!$C$225","v":"11. Domestic Hot Water "},{"$f":"'1b. Rater Field Checklist'!$N$225","v":0},{"$f":"'1b. Rater Field Checklist'!$M$225","v":0}]
[{"$f":"'1b. Rater Field Checklist'!$C$226","v":"11.1 Prescriptive Path: Hot water equipment rated in EF or UEF meet the efficiency levels specified in the ENERGY STAR Multifamily Reference Design. Otherwise, meet or exceed ≥85% Et. 76"},{"$f":"'1b. Rater Field Checklist'!$N$226","v":0},{"$f":"'1b. Rater Field Checklist'!$M$226","v":0}]
[{"$f":"'1b. Rater Field Checklist'!$C$228","v":"11.2 ERI: For hot water equipment serving common spaces but not dwelling units nor shared laundry: where rated EF or UEF, meet the efficiency levels specified in the ENERGY STAR Multifamily Reference Design. Otherwise, meet or exceed 85% Et. 76"},{"$f":"'1b. Rater Field Checklist'!$N$228","v":0},{"$f":"'1b. Rater Field Checklist'!$M$228","v":0}]
[{"$f":"'1b. Rater Field Checklist'!$C$230","v":"11.3 For in-unit storage water heaters, AHRI Certificate confirms the presence of a heat trap."},{"$f":"'1b. Rater Field Checklist'!$N$230","v":0},{"$f":"'1b. Rater Field Checklist'!$M$230","v":0}]
[{"$f":"'1b. Rater Field Checklist'!$C$231","v":"11.4 DHW piping located in the dwelling unit is insulated with a minimum of R-3. 77"},{"$f":"'1b. Rater Field Checklist'!$N$231","v":0},{"$f":"'1b. Rater Field Checklist'!$M$231","v":0}]
[{"$f":"'1b. Rater Field Checklist'!$C$233","v":"11.5 Rater-measured delivery temperatures at faucets and showerheads do not exceed 125°F. 78"},{"$f":"'1b. Rater Field Checklist'!$N$233","v":0},{"$f":"'1b. Rater Field Checklist'!$M$233","v":0}]
[{"$f":"'1b. Rater Field Checklist'!$C$235","v":"12. Lighting "},{"$f":"'1b. Rater Field Checklist'!$N$235","v":0},{"$f":"'1b. Rater Field Checklist'!$M$235","v":0}]
[{"$f":"'1b. Rater Field Checklist'!$C$236","v":"12.1 Common Space 2 Lighting Controls:"},{"$f":"'1b. Rater Field Checklist'!$N$236","v":0},{"$f":"'1b. Rater Field Checklist'!$M$236","v":0}]
[{"$f":"'1b. Rater Field Checklist'!$C$238","v":" 12.1.1 ERI and Prescriptive Path: All common spaces 2 (including shared garages), except the building lobby and where automatic shutoff would endanger the safety of occupants, have occupancy sensors or automatic bi-level lighting controls installed and operation has been verified."},{"$f":"'1b. Rater Field Checklist'!$N$238","v":0},{"$f":"'1b. Rater Field Checklist'!$M$238","v":0}]
[{"$f":"'1b. Rater Field Checklist'!$C$240","v":" 12.1.2 ASHRAE Path only: All common spaces 2 (including shared garages), except the building lobby, corridors, and stairwells and where automatic shutoff would endanger the safety of occupants, have occupancy sensors or automatic bi-level lighting controls installed and operation has been verified."},{"$f":"'1b. Rater Field Checklist'!$N$240","v":0},{"$f":"'1b. Rater Field Checklist'!$M$240","v":0}]
[{"$f":"'1b. Rater Field Checklist'!$C$242","v":"12.2 Common Space 2 Lighting Power Density Maximum (except garages): 79"},{"$f":"'1b. Rater Field Checklist'!$N$242","v":0},{"$f":"'1b. Rater Field Checklist'!$M$242","v":0}]
[{"$f":"'1b. Rater Field Checklist'!$C$244","v":" 12.2.1 ERI and Prescriptive Path: Total installed lighting power for the combined common spaces 2 must not exceed ASHRAE 90.1-2007 allowances for those combined spaces, using the Space-by-Space or Building Area Method. See Footnote 80 for allowances. 80"},{"$f":"'1b. Rater Field Checklist'!$N$244","v":0},{"$f":"'1b. Rater Field Checklist'!$M$244","v":0}]
[{"$f":"'1b. Rater Field Checklist'!$C$247","v":" 12.2.2 ASHRAE Path only: Total installed lighting power for the combined common spaces 2 must not exceed ASHRAE 90.1-2007 allowances for those combined spaces, using the Space-by-Space or Building Area Method, by more than 20%. See Footnote 80 for allowances. 80"},{"$f":"'1b. Rater Field Checklist'!$N$247","v":0},{"$f":"'1b. Rater Field Checklist'!$M$247","v":0}]
[{"$f":"'1b. Rater Field Checklist'!$C$250","v":"12.3 Shared garages: Lighting power density does not exceed 0.24 W/ft2."},{"$f":"'1b. Rater Field Checklist'!$N$250","v":0},{"$f":"'1b. Rater Field Checklist'!$M$250","v":0}]
[{"$f":"'1b. Rater Field Checklist'!$C$251","v":"12.4 Exterior lighting controls: Fixtures, including parking lot fixtures, must include automatic switching on timers or photocell controls except fixtures intended for 24-hour operation, required for security, or located on dwelling unit balconies."},{"$f":"'1b. Rater Field Checklist'!$N$251","v":0},{"$f":"'1b. Rater Field Checklist'!$M$251","v":0}]
[{"$f":"'1b. Rater Field Checklist'!$C$252","v":"12.5 ERI Path: All exterior and common space lighting fixtures meet the efficiency requirements in the ENERGY STAR Multifamily Reference Design, except fixtures located on dwelling unit balconies. 81, 82"},{"$f":"'1b. Rater Field Checklist'!$N$252","v":0},{"$f":"'1b. Rater Field Checklist'!$M$252","v":0}]
[{"$f":"'1b. Rater Field Checklist'!$C$255","v":"12.6 Prescriptive Path: All lighting fixtures (i.e., dwelling units, common spaces, and exterior) meet the efficiency requirements in the ENERGY STAR Multifamily Reference Design. 81, 82"},{"$f":"'1b. Rater Field Checklist'!$N$255","v":0},{"$f":"'1b. Rater Field Checklist'!$M$255","v":0}]
[{"$f":"'1b. Rater Field Checklist'!$C$258","v":"12.7 Prescriptive Path: Dwelling unit overall in-unit lighting power density ≤ 0.75 W/ft2. When calculating overall lighting power density, use 1.1 W/ft2 where lighting is not installed. 79"},{"$f":"'1b. Rater Field Checklist'!$N$258","v":0},{"$f":"'1b. Rater Field Checklist'!$M$258","v":0}]
[{"$f":"'1b. Rater Field Checklist'!$C$260","v":"13. Appliances, Ceiling Fans, and Plumbing Fixtures "},{"$f":"'1b. Rater Field Checklist'!$N$260","v":0},{"$f":"'1b. Rater Field Checklist'!$M$260","v":0}]
[{"$f":"'1b. Rater Field Checklist'!$C$261","v":"13.1 Prescriptive Path: Installed appliances are ENERGY STAR certified. Installed bathroom faucets, bathroom aerators, and showerheads are WaterSense labeled. 83"},{"$f":"'1b. Rater Field Checklist'!$N$261","v":0},{"$f":"'1b. Rater Field Checklist'!$M$261","v":0}]
[{"$f":"'1b. Rater Field Checklist'!$C$263","v":"13.2 ERI Path: Where installed in common spaces, refrigerators and dishwashers are ENERGY STAR certified and showerheads are WaterSense labeled."},{"$f":"'1b. Rater Field Checklist'!$N$263","v":0},{"$f":"'1b. Rater Field Checklist'!$M$263","v":0}]
[{"$f":"'1b. Rater Field Checklist'!$C$264","v":"13.3 Prescriptive Path: Shower compartments with multiple fixtures cannot be operated simultaneously OR the total flow rate per shower compartment must not exceed 1.75 gallons per minute, as rated at 80 psi."},{"$f":"'1b. Rater Field Checklist'!$N$264","v":0},{"$f":"'1b. Rater Field Checklist'!$M$264","v":0}]
[{"$f":"'1b. Rater Field Checklist'!$C$265","v":"14. Whole Building Energy Consumption Data Acquisition "},{"$f":"'1b. Rater Field Checklist'!$N$265","v":0},{"$f":"'1b. Rater Field Checklist'!$M$265","v":0}]
[{"$f":"'1b. Rater Field Checklist'!$C$266","v":"14.1 For buildings 50,000 ft2 and larger, a strategy that enables the collection of monthly or annual building-level energy consumption data (electricity, natural gas, chilled water, steam, fuel oil, propane, etc.) has been confirmed. 84"},{"$f":"'1b. Rater Field Checklist'!$N$266","v":0},{"$f":"'1b. Rater Field Checklist'!$M$266","v":0}]
[]
[{"$f":"E12","v":"Final 2"}]
["Rater Design Checklist","Verification Phase","Notes/Comments"]
[{"$f":"'1b. Rater Field Checklist'!$C$16","v":"Thermal Enclosure System "},{"$f":"'1b. Rater Field Checklist'!$N$16","v":0},{"$f":"'1b. Rater Field Checklist'!$M$16","v":0}]
[{"$f":"'1b. Rater Field Checklist'!$C$17","v":"1. High-Performance Fenestration & Insulation "},{"$f":"'1b. Rater Field Checklist'!$N$17","v":0},{"$f":"'1b. Rater Field Checklist'!$M$17","v":0}]
[{"$f":"'1b. Rater Field Checklist'!$C$18","v":"1.1 Fenestration meets or exceeds specification in Items 2.1 and 2.2 of the National Rater Design Review Checklist."},{"$f":"'1b. Rater Field Checklist'!$N$18","v":"Open Wall 3"},{"$f":"'1b. Rater Field Checklist'!$M$18","v":0}]
[{"$f":"'1b. Rater Field Checklist'!$C$19","v":"1.2 Insulation meets or exceeds levels specified in Items 3.1 and 3.2 of the National Rater Design Review Checklist."},{"$f":"'1b. Rater Field Checklist'!$N$19","v":"Open Wall 3"},{"$f":"'1b. Rater Field Checklist'!$M$19","v":0}]
[{"$f":"'1b. Rater Field Checklist'!$C$20","v":"1.3 All insulation achieves Grade I install per ANSI / RESNET / ICC Std. 301. Alternatives in footnote 6. 6,7"},{"$f":"'1b. Rater Field Checklist'!$N$20","v":"Open Wall 3"},{"$f":"'1b. Rater Field Checklist'!$M$20","v":0}]
[{"$f":"'1b. Rater Field Checklist'!$C$23","v":"1.4 Prescriptive Path: Window-to-wall ratio ≤ 30%. 8"},{"$f":"'1b. Rater Field Checklist'!$N$23","v":"Open Wall 1"},{"$f":"'1b. Rater Field Checklist'!$M$23","v":0}]
[{"$f":"'1b. Rater Field Checklist'!$C$25","v":"1.5 Heated plenums in unconditioned space or ambient conditions must meet the following requirements: 9"},{"$f":"'1b. Rater Field Checklist'!$N$25","v":0},{"$f":"'1b. Rater Field Checklist'!$M$25","v":0}]
[{"$f":"'1b. Rater Field Checklist'!$C$27","v":" 1.5.1 Sides of heated plenum are an air barrier and insulated to ≥ R-3ci in CZ 1-4; ≥ R-5ci in CZ 5-6; ≥ R-7.5ci in CZ 7; ≥ R-9.5ci in CZ 8, AND;"},{"$f":"'1b. Rater Field Checklist'!$N$27","v":"Open Wall 4"},{"$f":"'1b. Rater Field Checklist'!$M$27","v":0}]
[{"$f":"'1b. Rater Field Checklist'!$C$28","v":" 1.5.2 Insulation at top of heated plenum meets or exceeds the R-value for mass floors from the “All Other” column of Table 502.2(1) of 2009 IECC, AND;"},{"$f":"'1b. Rater Field Checklist'!$N$28","v":"Open Wall 4"},{"$f":"'1b. Rater Field Checklist'!$M$28","v":0}]
[{"$f":"'1b. Rater Field Checklist'!$C$29","v":" 1.5.3 Bottom of heated plenum must have at least R-13 insulation. 10"},{"$f":"'1b. Rater Field Checklist'!$N$29","v":"Open Wall 3"},{"$f":"'1b. Rater Field Checklist'!$M$29","v":0}]
[{"$f":"'1b. Rater Field Checklist'!$C$31","v":"1.6 Garages with space heating must meet the following requirements: 9"},{"$f":"'1b. Rater Field Checklist'!$N$31","v":0},{"$f":"'1b. Rater Field Checklist'!$M$31","v":0}]
[{"$f":"'1b. Rater Field Checklist'!$C$33","v":" 1.6.1 Insulation on above grade walls and walls on the first story below grade ≥ R-5ci in CZ 5-6; ≥ R-7.5ci in CZ 7; ≥ R-9.5ci in CZ 8, AND;"},{"$f":"'1b. Rater Field Checklist'!$N$33","v":0},{"$f":"'1b. Rater Field Checklist'!$M$33","v":0}]
[{"$f":"'1b. Rater Field Checklist'!$C$34","v":" 1.6.2 Ceiling insulation meets or exceeds the R-value for mass floors from the “All Other” column of Table 502.2(1) of 2009 IECC."},{"$f":"'1b. Rater Field Checklist'!$N$34","v":0},{"$f":"'1b. Rater Field Checklist'!$M$34","v":0}]
[{"$f":"'1b. Rater Field Checklist'!$C$35","v":"2. Fully-Aligned Air Barriers 11 At each insulated location below, a complete air barrier is provided that is fully aligned as follows:"},{"$f":"'1b. Rater Field Checklist'!$N$35","v":0},{"$f":"'1b. Rater Field Checklist'!$M$35","v":0}]
[{"$f":"'1b. Rater Field Checklist'!$C$37","v":"Ceilings: At interior or exterior horizontal surface of ceiling insulation in Climate Zones 1-3; at interior horizontal surface of ceiling insulation in Climate Zones 4-8. Also, at exterior vertical surface of ceiling insulation in all climate zones (e.g., using a wind baffle that extends to the full height of the insulation in every bay or a tabbed baffle in each bay with a soffit vent that prevents wind washing in adjacent bays). 12"},{"$f":"'1b. Rater Field Checklist'!$N$37","v":0},{"$f":"'1b. Rater Field Checklist'!$M$37","v":0}]
[{"$f":"'1b. Rater Field Checklist'!$C$39","v":"2.1 Dropped ceilings / soffits below unconditioned attics, chase / dead space, and all other ceilings."},{"$f":"'1b. Rater Field Checklist'!$N$39","v":0},{"$f":"'1b. Rater Field Checklist'!$M$39","v":0}]
[{"$f":"'1b. Rater Field Checklist'!$C$40","v":"Walls: At exterior vertical surface of wall insulation in all climate zones; also at interior vertical surface of wall insulation in Climate Zones 4-8. 13"},{"$f":"'1b. Rater Field Checklist'!$N$40","v":0},{"$f":"'1b. Rater Field Checklist'!$M$40","v":0}]
[{"$f":"'1b. Rater Field Checklist'!$C$42","v":"2.2 Walls behind showers, tubs, staircases, and fireplaces."},{"$f":"'1b. Rater Field Checklist'!$N$42","v":"Open Wall 2"},{"$f":"'1b. Rater Field Checklist'!$M$42","v":0}]
[{"$f":"'1b. Rater Field Checklist'!$C$43","v":"2.3 Architectural bump-outs, dead space, and all other exterior walls."},{"$f":"'1b. Rater Field Checklist'!$N$43","v":0},{"$f":"'1b. Rater Field Checklist'!$M$43","v":0}]
[{"$f":"'1b. Rater Field Checklist'!$C$44","v":"Floors: At exterior vertical surface of floor insulation in all climate zones and, if over unconditioned space, also at interior horizontal surface including supports to ensure alignment. Alternatives in Footnotes 15 & 16. 14, 15, 16"},{"$f":"'1b. Rater Field Checklist'!$N$44","v":0},{"$f":"'1b. Rater Field Checklist'!$M$44","v":0}]
[{"$f":"'1b. Rater Field Checklist'!$C$48","v":"2.4 Floors above garages, floors above unconditioned spaces, and cantilevered floors."},{"$f":"'1b. Rater Field Checklist'!$N$48","v":0},{"$f":"'1b. Rater Field Checklist'!$M$48","v":0}]
[{"$f":"'1b. Rater Field Checklist'!$C$49","v":"2.5 All other floors adjoining unconditioned space (e.g., rim / band joists at exterior wall or at porch roof)."},{"$f":"'1b. Rater Field Checklist'!$N$49","v":0},{"$f":"'1b. Rater Field Checklist'!$M$49","v":0}]
[{"$f":"'1b. Rater Field Checklist'!$C$50","v":"3. Reduced Thermal Bridging"},{"$f":"'1b. Rater Field Checklist'!$N$50","v":0},{"$f":"'1b. Rater Field Checklist'!$M$50","v":0}]
[{"$f":"'1b. Rater Field Checklist'!$C$51","v":"3.1 For insulated ceilings with attic space above (i.e., non-cathedralized), Grade I insulation extends to the inside face of the exterior wall below and is ≥ R-21 in CZ 1-5; ≥ R-30 in CZ 6-8. 17"},{"$f":"'1b. Rater Field Checklist'!$N$51","v":0},{"$f":"'1b. Rater Field Checklist'!$M$51","v":0}]
[{"$f":"'1b. Rater Field Checklist'!$C$53","v":"3.2 For insulated ceilings with attic space above, attic access panels and drop-down stairs insulated ≥ R-10 or equipped with durable ≥ R-10 cover. 18"},{"$f":"'1b. Rater Field Checklist'!$N$53","v":0},{"$f":"'1b. Rater Field Checklist'!$M$53","v":0}]
[{"$f":"'1b. Rater Field Checklist'!$C$55","v":"3.3 Insulation beneath attic platforms (e.g., HVAC platforms, walkways) ≥ R-21 in CZ 1-5; ≥ R-30 in CZ 6-8."},{"$f":"'1b. Rater Field Checklist'!$N$55","v":0},{"$f":"'1b. Rater Field Checklist'!$M$55","v":0}]
[{"$f":"'1b. Rater Field Checklist'!$C$56","v":"3.4 For slabs on grade in CZ 4-8, 100% of slab edge insulated to ≥ R-5 at the depth specified by Table 502.2(1) of the 2009 IECC and aligned with the thermal boundary of the walls. 19, 20"},{"$f":"'1b. Rater Field Checklist'!$N$56","v":0},{"$f":"'1b. Rater Field Checklist'!$M$56","v":0}]
[{"$f":"'1b. Rater Field Checklist'!$C$59","v":"3.5 For elevated concrete slabs in CZ 4-8 (i.e., podiums and projected balconies, but not intermediate slab floor edges) 100% of the slab edge insulated to ≥ R-5. For podiums, this insulation must extend for a minimum of 8ft below the bottom of the slab edge. For columns, the insulation must surround the column, at a depth of 4ft. Alternatives in Footnote 21. 21"},{"$f":"'1b. Rater Field Checklist'!$N$59","v":0},{"$f":"'1b. Rater Field Checklist'!$M$59","v":0}]
[{"$f":"'1b. Rater Field Checklist'!$C$61","v":"3.6 For elevated concrete slabs in CZ 4-8 (i.e., podiums, but not intermediate floor slabs), floor insulation meets the U-factor specified in Table 502.1.2 of the 2009 IECC for Group R when dwelling units are above the slab, and for ‘All Other’ when common space is above the slab. 22"},{"$f":"'1b. Rater Field Checklist'!$N$61","v":0},{"$f":"'1b. Rater Field Checklist'!$M$61","v":0}]
[{"$f":"'1b. Rater Field Checklist'!$C$63","v":"3.7 At above-grade walls and rim / band joists separating conditioned space from the exterior, one of the following options used: 23, 26"},{"$f":"'1b. Rater Field Checklist'!$N$63","v":0},{"$f":"'1b. Rater Field Checklist'!$M$63","v":0}]
[{"$f":"'1b. Rater Field Checklist'!$C$66","v":" 3.7.1 Continuous rigid insulation, insulated siding, or combination of the two is ≥ R-3 in CZ 1-4; ≥ R-5 in CZ 5-8 24, 25, 26, 27; OR;"},{"$f":"'1b. Rater Field Checklist'!$N$66","v":0},{"$f":"'1b. Rater Field Checklist'!$M$66","v":0}]
[{"$f":"'1b. Rater Field Checklist'!$C$71","v":" 3.7.2 Structural Insulated Panels OR; Insulated Concrete Forms OR; Double-wall framing OR; 24, 26, 28"},{"$f":"'1b. Rater Field Checklist'!$N$71","v":0},{"$f":"'1b. Rater Field Checklist'!$M$71","v":0}]
[{"$f":"'1b. Rater Field Checklist'!$C$75","v":" 3.7.3 Option only for wood-framed walls either in CZ 1-3 OR ≤ 3 stories: ‘advanced framing’ details including all of the Items below: 26, 29"},{"$f":"'1b. Rater Field Checklist'!$N$75","v":0},{"$f":"'1b. Rater Field Checklist'!$M$75","v":0}]
[{"$f":"'1b. Rater Field Checklist'!$C$78","v":"  3.7.3a Corners insulated ≥ R-6 to edge, 30 AND;"},{"$f":"'1b. Rater Field Checklist'!$N$78","v":0},{"$f":"'1b. Rater Field Checklist'!$M$78","v":0}]
[{"$f":"'1b. Rater Field Checklist'!$C$80","v":"  3.7.3b Headers above windows & doors insulated ≥ R-3 for 2x4 framing or equivalent cavity width, and ≥ R-5 for all other assemblies (e.g., with 2x6 framing), 31 AND;"},{"$f":"'1b. Rater Field Checklist'!$N$80","v":0},{"$f":"'1b. Rater Field Checklist'!$M$80","v":0}]
[{"$f":"'1b. Rater Field Checklist'!$C$82","v":"  3.7.3c Interior / exterior wall intersections insulated to same R-value as rest of exterior wall. 32"},{"$f":"'1b. Rater Field Checklist'!$N$82","v":0},{"$f":"'1b. Rater Field Checklist'!$M$82","v":0}]
[{"$f":"'1b. Rater Field Checklist'!$C$84","v":"4. Air Sealing (Unless otherwise noted below, “sealed” indicates the use of caulk, foam, or equivalent material.)"},{"$f":"'1b. Rater Field Checklist'!$N$84","v":0},{"$f":"'1b. Rater Field Checklist'!$M$84","v":0}]
[{"$f":"'1b. Rater Field Checklist'!$C$85","v":"4.1 Ducts, flues, shafts, plumbing, piping, wiring, exhaust fans, & other penetrations to unconditioned space sealed, with blocking / flashing as needed."},{"$f":"'1b. Rater Field Checklist'!$N$85","v":0},{"$f":"'1b. Rater Field Checklist'!$M$85","v":0}]
[{"$f":"'1b. Rater Field Checklist'!$C$86","v":"4.2 Recessed lighting fixtures adjacent to unconditioned space ICAT labeled and gasketed. Also, if in insulated ceiling without attic above, exterior surface of fixture insulated to ≥ R-10 in CZ 4-8."},{"$f":"'1b. Rater Field Checklist'!$N$86","v":0},{"$f":"'1b. Rater Field Checklist'!$M$86","v":0}]
[{"$f":"'1b. Rater Field Checklist'!$C$87","v":"4.3 Continuous top plate or blocking is at top of walls adjoining unconditioned space including at balloon-framed parapets, and sealed."},{"$f":"'1b. Rater Field Checklist'!$N$87","v":0},{"$f":"'1b. Rater Field Checklist'!$M$87","v":0}]
[{"$f":"'1b. Rater Field Checklist'!$C$88","v":"4.4 Drywall sealed to top plate at all unconditioned attic / wall interfaces using caulk, foam, drywall adhesive (but not other construction adhesives), or equivalent material. Either apply sealant directly between drywall and top plate or to the seam between the two from the attic above."},{"$f":"'1b. Rater Field Checklist'!$N$88","v":0},{"$f":"'1b. Rater Field Checklist'!$M$88","v":0}]
[{"$f":"'1b. Rater Field Checklist'!$C$89","v":"4.5 Rough opening around windows & exterior doors sealed. 33"},{"$f":"'1b. Rater Field Checklist'!$N$89","v":0},{"$f":"'1b. Rater Field Checklist'!$M$89","v":0}]
[{"$f":"'1b. Rater Field Checklist'!$C$91","v":"4.6 Assemblies that separate attached garages from occupiable space sealed and, also, an air barrier installed, sealed, and aligned with these assemblies. 34"},{"$f":"'1b. Rater Field Checklist'!$N$91","v":0},{"$f":"'1b. Rater Field Checklist'!$M$91","v":0}]
[{"$f":"'1b. Rater Field Checklist'!$C$93","v":"4.7 Doors adjacent to unconditioned space (e.g., attics, garages, basements) or ambient conditions made substantially air-tight with doorsweep and weatherstripping or equivalent gasket."},{"$f":"'1b. Rater Field Checklist'!$N$93","v":0},{"$f":"'1b. Rater Field Checklist'!$M$93","v":0}]
[{"$f":"'1b. Rater Field Checklist'!$C$94","v":"4.8 Attic access panels, roof hatches and drop-down stairs are gasketed (i.e., not caulked) or equipped with durable covers that are gasketed. 18"},{"$f":"'1b. Rater Field Checklist'!$N$94","v":0},{"$f":"'1b. Rater Field Checklist'!$M$94","v":0}]
[{"$f":"'1b. Rater Field Checklist'!$C$96","v":"The following items must be additionally verified in dwelling units, to reduce air leakage between conditioned spaces."},{"$f":"'1b. Rater Field Checklist'!$N$96","v":0},{"$f":"'1b. Rater Field Checklist'!$M$96","v":0}]
[{"$f":"'1b. Rater Field Checklist'!$C$97","v":"4.9 Doors serving as a unit entrance from a corridor / stairwell made substantially air-tight with doorsweep and weatherstripping or equivalent gasket."},{"$f":"'1b. Rater Field Checklist'!$N$97","v":0},{"$f":"'1b. Rater Field Checklist'!$M$97","v":0}]
[{"$f":"'1b. Rater Field Checklist'!$C$98","v":"4.10 Rater-measured compartmentalization is no greater than 0.30 CFM50 per square feet of dwelling unit enclosure area, following procedures in ANSI / RESNET / ICC Std. 380. 35"},{"$f":"'1b. Rater Field Checklist'!$N$98","v":0},{"$f":"'1b. Rater Field Checklist'!$M$98","v":0}]
[{"$f":"'1b. Rater Field Checklist'!$C$100","v":" 4.10.1 For dwelling units with forced air distribution systems without ducted returns and located in a closet adjacent to unconditioned space, the Rater-measured pressure difference between the space containing the air handler and the conditioned space during the compartmentalization test is no greater than 5 Pa. 36"},{"$f":"'1b. Rater Field Checklist'!$N$100","v":0},{"$f":"'1b. Rater Field Checklist'!$M$100","v":0}]
[{"$f":"'1b. Rater Field Checklist'!$C$102","v":"HVAC System 37 (HVAC Design Report Item # indicated in parenthesis) "},{"$f":"'1b. Rater Field Checklist'!$N$102","v":0},{"$f":"'1b. Rater Field Checklist'!$M$102","v":0}]
[{"$f":"'1b. Rater Field Checklist'!$C$104","v":"5. Heating & Cooling Equipment – Complete Track A – HVAC Grading by Rater OR Track B – HVAC Testing by FT Agent 38"},{"$f":"'1b. Rater Field Checklist'!$N$104","v":0},{"$f":"'1b. Rater Field Checklist'!$M$104","v":0}]
[{"$f":"'1b. Rater Field Checklist'!$C$106","v":"Track A 39"},{"$f":"'1b. Rater Field Checklist'!$N$106","v":0},{"$f":"'1b. Rater Field Checklist'!$M$106","v":0}]
[{"$f":"'1b. Rater Field Checklist'!$C$108","v":"5a.1 Blower fan volumetric airflow is Grade I or II per ANSI / RESNET / ACCA Std. 310"},{"$f":"'1b. Rater Field Checklist'!$N$108","v":0},{"$f":"'1b. Rater Field Checklist'!$M$108","v":0}]
[{"$f":"'1b. Rater Field Checklist'!$C$109","v":"5a.2 Blower fan watt draw is Grade I or II per ANSI / RESNET / ACCA Std. 310"},{"$f":"'1b. Rater Field Checklist'!$N$109","v":0},{"$f":"'1b. Rater Field Checklist'!$M$109","v":0}]
[{"$f":"'1b. Rater Field Checklist'!$C$110","v":"5a.3 Refrigerant charge is Grade I per ANSI / RESNET / ACCA Std. 310. See Footnote 40 for exemptions. 40"},{"$f":"'1b. Rater Field Checklist'!$N$110","v":0},{"$f":"'1b. Rater Field Checklist'!$M$110","v":0}]
[{"$f":"'1b. Rater Field Checklist'!$C$112","v":"Track B"},{"$f":"'1b. Rater Field Checklist'!$N$112","v":0},{"$f":"'1b. Rater Field Checklist'!$M$112","v":0}]
[{"$f":"'1b. Rater Field Checklist'!$C$113","v":"5b.1 HVAC manufacturer & model number on installed equipment matches either of the following (check box): 41\n \n National HVAC Design Report (4.6-4.9 & 4.25-4.26)      Written approval received from designer"},{"$f":"'1b. Rater Field Checklist'!$N$113","v":0},{"$f":"'1b. Rater Field Checklist'!$M$113","v":0}]
[{"$f":"'1b. Rater Field Checklist'!$C$115","v":"5b.2 External static pressure measured by Rater at contractor-provided test locations and documented below: 42\n\nReturn-Side External Static Pressure: ________IWC\nSupply-Side External Static Pressure: __________IWC"},{"$f":"'1b. Rater Field Checklist'!$N$115","v":0},{"$f":"'1b. Rater Field Checklist'!$M$115","v":0}]
[{"$f":"'1b. Rater Field Checklist'!$C$117","v":"5.4 Prescriptive Path: Heating and cooling equipment serving dwelling units and common spaces meet the efficiency levels specified in the Exhibit X. Electric resistance space heating is not installed in dwelling units."},{"$f":"'1b. Rater Field Checklist'!$N$117","v":0},{"$f":"'1b. Rater Field Checklist'!$M$117","v":0}]
[{"$f":"'1b. Rater Field Checklist'!$C$118","v":"5.5 ERI Path: Heating and cooling equipment serving common spaces, but not serving dwelling units, meet the efficiency levels specified in the Exhibit X. See Exhibit X for restrictions on electric resistance space heating."},{"$f":"'1b. Rater Field Checklist'!$N$118","v":0},{"$f":"'1b. Rater Field Checklist'!$M$118","v":0}]
[{"$f":"'1b. Rater Field Checklist'!$C$119","v":"5.6 National HVAC Functional Testing Checklist(s) collected prior to certification, with all HVAC systems in the building / project fully documented. Exception: Where credentialed HVAC Contractor(s) are completing the National HVAC Functional Testing Checklist, the checklist is not required to be collected for the systems they verify. 43"},{"$f":"'1b. Rater Field Checklist'!$N$119","v":0},{"$f":"'1b. Rater Field Checklist'!$M$119","v":0}]
[{"$f":"'1b. Rater Field Checklist'!$C$121","v":"5.7 Rater has verified and documented that Functional Testing Agent(s) (“FT Agent(s)”) completing the National HVAC Functional Testing Checklist(s) hold one of the required credentials and completed orientation, if applicable. 43\n\nCredential: ______________________ “FT Agent” Company Name(s): _______________________"},{"$f":"'1b. Rater Field Checklist'!$N$121","v":0},{"$f":"'1b. Rater Field Checklist'!$M$121","v":0}]
[{"$f":"'1b. Rater Field Checklist'!$C$123","v":"Equipment Controls "},{"$f":"'1b. Rater Field Checklist'!$N$123","v":0},{"$f":"'1b. Rater Field Checklist'!$M$123","v":0}]
[{"$f":"'1b. Rater Field Checklist'!$C$124","v":"5.8 All heating and cooling systems serving a dwelling unit have thermostatic controls within the dwelling unit which are not located on exterior walls."},{"$f":"'1b. Rater Field Checklist'!$N$124","v":0},{"$f":"'1b. Rater Field Checklist'!$M$124","v":0}]
[{"$f":"'1b. Rater Field Checklist'!$C$125","v":" 5.8.1 Prescriptive Path: Dwelling unit thermostats are programmable."},{"$f":"'1b. Rater Field Checklist'!$N$125","v":0},{"$f":"'1b. Rater Field Checklist'!$M$125","v":0}]
[{"$f":"'1b. Rater Field Checklist'!$C$126","v":"5.9 Stair and elevator shaft vents equipped with motorized dampers that are capable of being automatically closed during normal building operation and are interlocked to open as required by fire and smoke detection systems. Dampers are verified to be closed at the time of inspection."},{"$f":"'1b. Rater Field Checklist'!$N$126","v":0},{"$f":"'1b. Rater Field Checklist'!$M$126","v":0}]
[{"$f":"'1b. Rater Field Checklist'!$C$127","v":"5.10 Freeze protection systems, such as heat tracing of piping and heat exchangers, including self-regulating heat tracing, and garage / plenum heaters include automatic controls that are verified to shut off the systems when pipe wall or garage / plenum temperatures are above 40°F."},{"$f":"'1b. Rater Field Checklist'!$N$127","v":0},{"$f":"'1b. Rater Field Checklist'!$M$127","v":0}]
[{"$f":"'1b. Rater Field Checklist'!$C$128","v":" 5.10.1 Where heat tracing is installed for freeze-protection, controls must be based on pipe wall temperature and a minimum of R-3 pipe insulation is also required."},{"$f":"'1b. Rater Field Checklist'!$N$128","v":0},{"$f":"'1b. Rater Field Checklist'!$M$128","v":0}]
[{"$f":"'1b. Rater Field Checklist'!$C$129","v":"5.11 Snow- and ice-melting systems include automatic controls that are verified to shut off the systems when the pavement temperature is above 50°F and no precipitation is falling, and an automatic or manual control is installed that is verified to shut off system when the outdoor temperature is above 40°F, so that the potential for snow or ice accumulation is negligible."},{"$f":"'1b. Rater Field Checklist'!$N$129","v":0},{"$f":"'1b. Rater Field Checklist'!$M$129","v":0}]
[{"$f":"'1b. Rater Field Checklist'!$C$130","v":"Hydronic Distribution "},{"$f":"'1b. Rater Field Checklist'!$N$130","v":0},{"$f":"'1b. Rater Field Checklist'!$M$130","v":0}]
[{"$f":"'1b. Rater Field Checklist'!$C$131","v":"5.12 For hydronic distribution systems, all terminal heating and cooling distribution equipment are separated from the riser or distribution loop by a control valve or terminal distribution pump, so that heated or cooled fluid is not delivered to the dwelling unit distribution equipment when there is no call from the thermostat."},{"$f":"'1b. Rater Field Checklist'!$N$131","v":0},{"$f":"'1b. Rater Field Checklist'!$M$131","v":0}]
[{"$f":"'1b. Rater Field Checklist'!$C$132","v":"5.13 Terminal units in hydronic distribution systems are equipped with pressure independent balancing valves or pressure independent control valves."},{"$f":"'1b. Rater Field Checklist'!$N$132","v":0},{"$f":"'1b. Rater Field Checklist'!$M$132","v":0}]
[{"$f":"'1b. Rater Field Checklist'!$C$133","v":"5.14 Piping of a heating or cooling system is insulated in accordance with Item 4.41 on the National HVAC Design Report, including where passing through planks or any other penetrations."},{"$f":"'1b. Rater Field Checklist'!$N$133","v":0},{"$f":"'1b. Rater Field Checklist'!$M$133","v":0}]
[{"$f":"'1b. Rater Field Checklist'!$C$134","v":"5.15 For circulating pumps serving hydronic heating or cooling systems with three-phase motors, 1 horsepower or larger, motors meet or exceed efficiency standards for NEMA Premium™ motors. If 5 horsepower or larger, also installed with variable frequency drives."},{"$f":"'1b. Rater Field Checklist'!$N$134","v":0},{"$f":"'1b. Rater Field Checklist'!$M$134","v":0}]
[{"$f":"'1b. Rater Field Checklist'!$C$135","v":"6. Duct Quality Installation - Applies to Heating, Cooling, Ventilation, Exhaust, & Pressure Balancing Ducts, Unless Noted in Footnote."},{"$f":"'1b. Rater Field Checklist'!$N$135","v":0},{"$f":"'1b. Rater Field Checklist'!$M$135","v":0}]
[{"$f":"'1b. Rater Field Checklist'!$C$136","v":"6.1 Ductwork installed without kinks, sharp bends, compressions, or excessive coiled flexible ductwork. 45"},{"$f":"'1b. Rater Field Checklist'!$N$136","v":0},{"$f":"'1b. Rater Field Checklist'!$M$136","v":0}]
[{"$f":"'1b. Rater Field Checklist'!$C$138","v":"6.2 Bedrooms with a design supply airflow ≥ 150 CFM (per Item 5.2 on the National HVAC Design Report) pressure-balanced (e.g., using transfer grilles, jump ducts, dedicated return ducts, undercut doors) to achieve a Rater-measured pressure differential ≥ -5 Pa and ≤ +5 Pa with respect to the main body of the dwelling unit when all air handlers are operating. See Footnote 46 for test configuration. 46"},{"$f":"'1b. Rater Field Checklist'!$N$138","v":0},{"$f":"'1b. Rater Field Checklist'!$M$138","v":0}]
[{"$f":"'1b. Rater Field Checklist'!$C$140","v":"6.3 All supply and return ducts in unconditioned space, including connections to trunk ducts, are insulated to ≥ R-6. 47"},{"$f":"'1b. Rater Field Checklist'!$N$140","v":0},{"$f":"'1b. Rater Field Checklist'!$M$140","v":0}]
[{"$f":"'1b. Rater Field Checklist'!$C$142","v":" 6.3.1 Prescriptive Path: Dwelling unit ductwork meets the location and insulation requirements specified in the ENERGY STAR Multifamily Reference Design."},{"$f":"'1b. Rater Field Checklist'!$N$142","v":0},{"$f":"'1b. Rater Field Checklist'!$M$142","v":0}]
[{"$f":"'1b. Rater Field Checklist'!$C$143","v":"6.4 Rater-measured total duct leakage in dwelling units meets one of the following two options: 48, 49"},{"$f":"'1b. Rater Field Checklist'!$N$143","v":0},{"$f":"'1b. Rater Field Checklist'!$M$143","v":0}]
[{"$f":"'1b. Rater Field Checklist'!$C$146","v":" 6.4.1 Rough-in: Tested per allowances below, with air handler & all ducts, building cavities used as ducts, & duct boots installed. In addition, all duct boots sealed to finished surface, Rater-verified at final. 50\n\nNo ducted returns 36: The greater of ≤ 3 CFM25 per 100 sq. ft. of CFA or ≤ 30 CFM. Additionally, the Rater-measured pressure difference between the space containing the air handler and the conditioned space, with the air handler running at high speed, is ≤ 5 Pa. For systems > 1 ton, increase by 1 Pa per half ton.\n\nOne or two ducted returns 36: The greater of ≤ 4 CFM25 per 100 sq. ft. of CFA or ≤ 40 CFM.\n\nThree or more ducted returns 36 : The greater of ≤ 6 CFM25 per 100 sq. ft. of CFA or ≤ 60 CFM."},{"$f":"'1b. Rater Field Checklist'!$N$146","v":0},{"$f":"'1b. Rater Field Checklist'!$M$146","v":0}]
[{"$f":"'1b. Rater Field Checklist'!$C$149","v":" 6.4.2 Final: Tested per allowances below, with the air handler & all ducts, building cavities used as ducts, duct boots, & register grilles atop the finished surface (e.g., drywall, floor) installed. 51\n\nNo ducted returns 36: The greater of ≤ 6 CFM25 per 100 sq. ft. of CFA or ≤ 60 CFM. Additionally, the Rater-measured pressure difference between the space containing the air handler and the conditioned space, with the air handler running at high speed, is ≤ 5 Pa. For systems > 1 ton, increase by 1 Pa per half ton.\n\nOne or two ducted returns 36: The greater of ≤ 8 CFM25 per 100 sq. ft. of CFA or ≤ 80 CFM.\n\nThree or more ducted returns 36 : The greater of ≤ 12 CFM25 per 100 sq. ft. of CFA or ≤ 120 CFM."},{"$f":"'1b. Rater Field Checklist'!$N$149","v":0},{"$f":"'1b. Rater Field Checklist'!$M$149","v":0}]
[{"$f":"'1b. Rater Field Checklist'!$C$152","v":"6.5 Townhouses only: Rater-measured duct leakage to the outside the greater of ≤ 4 CFM25 per 100 sq. ft. of CFA or ≤ 40 CFM25. 48, 52"},{"$f":"'1b. Rater Field Checklist'!$N$152","v":0},{"$f":"'1b. Rater Field Checklist'!$M$152","v":0}]
[{"$f":"'1b. Rater Field Checklist'!$C$155","v":"6.6 Common Space: Supply, return, and exhaust ductwork and all plenums serving common spaces are sealed at all transverse joints, longitudinal seams, and duct wall penetrations with mastic, mastic tape, or internal aerosol-based sealant."},{"$f":"'1b. Rater Field Checklist'!$N$155","v":0},{"$f":"'1b. Rater Field Checklist'!$M$155","v":0}]
[{"$f":"'1b. Rater Field Checklist'!$C$156","v":"6.7 Duct leakage of central exhaust systems that serve four or more dwelling units, meets one of the following two options:"},{"$f":"'1b. Rater Field Checklist'!$N$156","v":0},{"$f":"'1b. Rater Field Checklist'!$M$156","v":0}]
[{"$f":"'1b. Rater Field Checklist'!$C$157","v":" 6.7.1 Rough-in: Tested including horizontal run outs, trunks, branches, and take-offs up to, but not including, the grilles, the leakage does not exceed 25% of exhaust fan flow. 53"},{"$f":"'1b. Rater Field Checklist'!$N$157","v":0},{"$f":"'1b. Rater Field Checklist'!$M$157","v":0}]
[{"$f":"'1b. Rater Field Checklist'!$C$159","v":" 6.7.2 Final: Tested inclusive of all ductwork between the fan and the grilles, the leakage does not exceed 30% of exhaust fan flow. 53"},{"$f":"'1b. Rater Field Checklist'!$N$159","v":0},{"$f":"'1b. Rater Field Checklist'!$M$159","v":0}]
[{"$f":"'1b. Rater Field Checklist'!$C$161","v":"7. Dwelling-Unit & Common Space Mechanical Vent. Systems (\"Vent Systems\") 54 & Inlets in Return Duct 55\n(National HVAC Design Report Item # indicated in parenthesis)"},{"$f":"'1b. Rater Field Checklist'!$N$161","v":0},{"$f":"'1b. Rater Field Checklist'!$M$161","v":0}]
[{"$f":"'1b. Rater Field Checklist'!$C$164","v":"7.1 Ventilation manufacturer & model number on installed equipment matches either of the following (check box): 41\n\n National HVAC Design Report           Written approval received from designer"},{"$f":"'1b. Rater Field Checklist'!$N$164","v":0},{"$f":"'1b. Rater Field Checklist'!$M$164","v":0}]
[{"$f":"'1b. Rater Field Checklist'!$C$166","v":"7.2 Rater-measured ventilation rate is within either ± 15 CFM or ± 15% of dwelling unit design values (2.7), and meets or exceeds rates required by ASHRAE 62.2-2010. 56"},{"$f":"'1b. Rater Field Checklist'!$N$166","v":0},{"$f":"'1b. Rater Field Checklist'!$M$166","v":0}]
[{"$f":"'1b. Rater Field Checklist'!$C$168","v":"7.3 Measured ventilation rate is within either ± 15 CFM or ± 15 % of common space design values (2.9), and meets or exceeds rates required by ASHRAE 62.1-2010 (2.8). 57"},{"$f":"'1b. Rater Field Checklist'!$N$168","v":0},{"$f":"'1b. Rater Field Checklist'!$M$168","v":0}]
[{"$f":"'1b. Rater Field Checklist'!$C$170","v":"7.4 A ventilation override control installed and also labeled if its function is not obvious (e.g., a label is required for a standalone wall switch, but not for a switch that’s on the ventilation equipment). Townhouses only: A readily-accessible ventilation override control installed and also labeled if its function is not obvious (e.g., a label is required for a toggle wall switch, but not for a switch that’s on the ventilation equipment)."},{"$f":"'1b. Rater Field Checklist'!$N$170","v":0},{"$f":"'1b. Rater Field Checklist'!$M$170","v":0}]
[{"$f":"'1b. Rater Field Checklist'!$C$171","v":"7.5 For any outdoor air inlet connected to a ducted return of the dwelling unit HVAC system (Complete if present; otherwise check “N/A”): 55"},{"$f":"'1b. Rater Field Checklist'!$N$171","v":0},{"$f":"'1b. Rater Field Checklist'!$M$171","v":0}]
[{"$f":"'1b. Rater Field Checklist'!$C$177","v":"7.6 If located in the dwelling unit, system fan rated ≤ 3 sones if intermittent and ≤ 2 sone if continuous, or exempted. 60"},{"$f":"'1b. Rater Field Checklist'!$N$177","v":0},{"$f":"'1b. Rater Field Checklist'!$M$177","v":0}]
[{"$f":"'1b. Rater Field Checklist'!$C$179","v":"7.7 If dwelling-unit Vent System controller operates the dwelling unit HVAC fan, then HVAC fan operation is intermittent and either the fan type is ECM / ICM (4.12), or the controls will reduce the run-time by accounting for HVAC system heating or cooling hours. 61"},{"$f":"'1b. Rater Field Checklist'!$N$179","v":0},{"$f":"'1b. Rater Field Checklist'!$M$179","v":0}]
[{"$f":"'1b. Rater Field Checklist'!$C$181","v":"7.8 In-unit bathroom fans or in-line fans are ENERGY STAR certified if used as part of the dwelling-unit mechanical ventilation system. 62"},{"$f":"'1b. Rater Field Checklist'!$N$181","v":0},{"$f":"'1b. Rater Field Checklist'!$M$181","v":0}]
[{"$f":"'1b. Rater Field Checklist'!$C$183","v":"7.9 If central exhaust fans, ≤ 1 HP, are installed as part of the dwelling-unit mechanical ventilation system, then they are direct-drive, ECM, with variable speed controllers. If > 1 HP, they are installed with NEMATM Premium Motors."},{"$f":"'1b. Rater Field Checklist'!$N$183","v":0},{"$f":"'1b. Rater Field Checklist'!$M$183","v":0}]
[{"$f":"'1b. Rater Field Checklist'!$C$184","v":"7.10 Air inlet locations (Complete if ventilation air inlet locations were installed (2.22, 2.23); otherwise check “N/A”): 63, 64"},{"$f":"'1b. Rater Field Checklist'!$N$184","v":0},{"$f":"'1b. Rater Field Checklist'!$M$184","v":0}]
[{"$f":"'1b. Rater Field Checklist'!$C$187","v":" 7.10.1 Inlet(s) pull ventilation air directly from outdoors and not from attic, crawlspace, garage, or adjacent dwelling unit."},{"$f":"'1b. Rater Field Checklist'!$N$187","v":0},{"$f":"'1b. Rater Field Checklist'!$M$187","v":0}]
[{"$f":"'1b. Rater Field Checklist'!$C$188","v":" 7.10.2 Inlet(s) are ≥ 2 ft. above grade or roof deck; ≥ 10 ft. of stretched-string distance from known contamination sources not exiting the roof, and ≥ 3 ft. distance from dryer exhausts and sources exiting the roof. 65"},{"$f":"'1b. Rater Field Checklist'!$N$188","v":0},{"$f":"'1b. Rater Field Checklist'!$M$188","v":0}]
[{"$f":"'1b. Rater Field Checklist'!$C$191","v":"8. Local Mechanical Exhaust (National HVAC Design Report Item # indicated in parenthesis)"},{"$f":"'1b. Rater Field Checklist'!$N$191","v":0},{"$f":"'1b. Rater Field Checklist'!$M$191","v":0}]
[{"$f":"'1b. Rater Field Checklist'!$C$192","v":"Dwelling Unit Mechanical exhaust - In each dwelling unit kitchen and bathroom, a system is installed that exhausts directly to the outdoors and meets one of the following Rater-measured airflow and manufacturer-rated sound level standards: 54, 66"},{"$f":"'1b. Rater Field Checklist'!$N$192","v":0},{"$f":"'1b. Rater Field Checklist'!$M$192","v":0}]
[{"$f":"'1b. Rater Field Checklist'!$C$195","v":"Location "},{"$f":"'1b. Rater Field Checklist'!$N$195","v":0},{"$f":"'1b. Rater Field Checklist'!$M$195","v":0}]
[{"$f":"'1b. Rater Field Checklist'!$C$196","v":"8.1 Kitchen\nAirflow\nContinuous Rate:  ≥ 5 ACH, based on kitchen volume 68, 69\nIntermittent Rate 67: ≥ 100 CFM and, if not integrated with range, also ≥ 5 ACH based on kitchen volume 68, 69, 70\n\nSound\nContinuous Rate: Recommended: ≤ 1 sone\nIntermittent Rate 67:  Recommended: ≤ 3 sones"},{"$f":"'1b. Rater Field Checklist'!$N$196","v":0},{"$f":"'1b. Rater Field Checklist'!$M$196","v":0}]
[{"$f":"'1b. Rater Field Checklist'!$C$201","v":"8.2 Bathroom\nAirflow\nContinuous Rate:  ≥ 20 CFM\nIntermittent Rate 67: ≥ 50 CFM\n\nSound\nContinuous Rate: Required: ≤ 2 sones\nIntermittent Rate 67:  Recommended: ≤ 3 sones"},{"$f":"'1b. Rater Field Checklist'!$N$201","v":0},{"$f":"'1b. Rater Field Checklist'!$M$201","v":0}]
[{"$f":"'1b. Rater Field Checklist'!$C$203","v":"Mechanical Exhaust for Common Spaces 2 and Shared Garages "},{"$f":"'1b. Rater Field Checklist'!$N$203","v":0},{"$f":"'1b. Rater Field Checklist'!$M$203","v":0}]
[{"$f":"'1b. Rater Field Checklist'!$C$205","v":"8.3 Measured exhaust rates are  ≥ ASHRAE 62.1 rates (2c). 57"},{"$f":"'1b. Rater Field Checklist'!$N$205","v":0},{"$f":"'1b. Rater Field Checklist'!$M$205","v":0}]
[{"$f":"'1b. Rater Field Checklist'!$C$207","v":"8.4 Where an exhaust system is installed in a shared garage, it is equipped with controls that sense CO and NO2."},{"$f":"'1b. Rater Field Checklist'!$N$207","v":0},{"$f":"'1b. Rater Field Checklist'!$M$207","v":0}]
[{"$f":"'1b. Rater Field Checklist'!$C$208","v":"9. Filtration "},{"$f":"'1b. Rater Field Checklist'!$N$208","v":0},{"$f":"'1b. Rater Field Checklist'!$M$208","v":0}]
[{"$f":"'1b. Rater Field Checklist'!$C$209","v":"9.1 MERV 6+ filter(s) installed in each ducted mechanical system serving an individual dwelling unit and located to facilitate access & regular service by the occupant or building owner. 71"},{"$f":"'1b. Rater Field Checklist'!$N$209","v":0},{"$f":"'1b. Rater Field Checklist'!$M$209","v":0}]
[{"$f":"'1b. Rater Field Checklist'!$C$211","v":" 9.1.1 Filter access panel includes gasket and fits snugly against the exposed edge of filter when closed to prevent bypass. 72"},{"$f":"'1b. Rater Field Checklist'!$N$211","v":0},{"$f":"'1b. Rater Field Checklist'!$M$211","v":0}]
[{"$f":"'1b. Rater Field Checklist'!$C$213","v":" 9.1.2 All return air and mechanically supplied outdoor air passes through filter prior to conditioning."},{"$f":"'1b. Rater Field Checklist'!$N$213","v":0},{"$f":"'1b. Rater Field Checklist'!$M$213","v":0}]
[{"$f":"'1b. Rater Field Checklist'!$C$214","v":"10. Combustion Appliances "},{"$f":"'1b. Rater Field Checklist'!$N$214","v":0},{"$f":"'1b. Rater Field Checklist'!$M$214","v":0}]
[{"$f":"'1b. Rater Field Checklist'!$C$215","v":"10.1 Furnaces, boilers, and water heaters located within the building’s pressure boundary are mechanically drafted or direct-vented. If mechanically drafted, the minimum volume of combustion air required for safe operation by the manufacturer and/or code shall be met or exceeded and make-up air sources must be mechanically closed when the combustion appliance is not in operation. Alternatives in Footnote 75. 73, 74, 75"},{"$f":"'1b. Rater Field Checklist'!$N$215","v":0},{"$f":"'1b. Rater Field Checklist'!$M$215","v":0}]
[{"$f":"'1b. Rater Field Checklist'!$C$219","v":"10.2 Fireplaces located within the building’s pressure boundary are direct-vented. 73, 74"},{"$f":"'1b. Rater Field Checklist'!$N$219","v":0},{"$f":"'1b. Rater Field Checklist'!$M$219","v":0}]
[{"$f":"'1b. Rater Field Checklist'!$C$222","v":"10.3 No unvented combustion appliances other than cooking ranges or ovens are located inside the building’s pressure boundary. For cooking ranges and ovens, local mechanical exhaust per Checklist Item 8.1 requirements must be met. 73"},{"$f":"'1b. Rater Field Checklist'!$N$222","v":0},{"$f":"'1b. Rater Field Checklist'!$M$222","v":0}]
[{"$f":"'1b. Rater Field Checklist'!$C$224","v":"Other "},{"$f":"'1b. Rater Field Checklist'!$N$224","v":0},{"$f":"'1b. Rater Field Checklist'!$M$224","v":0}]
[{"$f":"'1b. Rater Field Checklist'!$C$225","v":"11. Domestic Hot Water "},{"$f":"'1b. Rater Field Checklist'!$N$225","v":0},{"$f":"'1b. Rater Field Checklist'!$M$225","v":0}]
[{"$f":"'1b. Rater Field Checklist'!$C$226","v":"11.1 Prescriptive Path: Hot water equipment rated in EF or UEF meet the efficiency levels specified in the ENERGY STAR Multifamily Reference Design. Otherwise, meet or exceed ≥85% Et. 76"},{"$f":"'1b. Rater Field Checklist'!$N$226","v":0},{"$f":"'1b. Rater Field Checklist'!$M$226","v":0}]
[{"$f":"'1b. Rater Field Checklist'!$C$228","v":"11.2 ERI: For hot water equipment serving common spaces but not dwelling units nor shared laundry: where rated EF or UEF, meet the efficiency levels specified in the ENERGY STAR Multifamily Reference Design. Otherwise, meet or exceed 85% Et. 76"},{"$f":"'1b. Rater Field Checklist'!$N$228","v":0},{"$f":"'1b. Rater Field Checklist'!$M$228","v":0}]
[{"$f":"'1b. Rater Field Checklist'!$C$230","v":"11.3 For in-unit storage water heaters, AHRI Certificate confirms the presence of a heat trap."},{"$f":"'1b. Rater Field Checklist'!$N$230","v":0},{"$f":"'1b. Rater Field Checklist'!$M$230","v":0}]
[{"$f":"'1b. Rater Field Checklist'!$C$231","v":"11.4 DHW piping located in the dwelling unit is insulated with a minimum of R-3. 77"},{"$f":"'1b. Rater Field Checklist'!$N$231","v":0},{"$f":"'1b. Rater Field Checklist'!$M$231","v":0}]
[{"$f":"'1b. Rater Field Checklist'!$C$233","v":"11.5 Rater-measured delivery temperatures at faucets and showerheads do not exceed 125°F. 78"},{"$f":"'1b. Rater Field Checklist'!$N$233","v":0},{"$f":"'1b. Rater Field Checklist'!$M$233","v":0}]
[{"$f":"'1b. Rater Field Checklist'!$C$235","v":"12. Lighting "},{"$f":"'1b. Rater Field Checklist'!$N$235","v":0},{"$f":"'1b. Rater Field Checklist'!$M$235","v":0}]
[{"$f":"'1b. Rater Field Checklist'!$C$236","v":"12.1 Common Space 2 Lighting Controls:"},{"$f":"'1b. Rater Field Checklist'!$N$236","v":0},{"$f":"'1b. Rater Field Checklist'!$M$236","v":0}]
[{"$f":"'1b. Rater Field Checklist'!$C$238","v":" 12.1.1 ERI and Prescriptive Path: All common spaces 2 (including shared garages), except the building lobby and where automatic shutoff would endanger the safety of occupants, have occupancy sensors or automatic bi-level lighting controls installed and operation has been verified."},{"$f":"'1b. Rater Field Checklist'!$N$238","v":0},{"$f":"'1b. Rater Field Checklist'!$M$238","v":0}]
[{"$f":"'1b. Rater Field Checklist'!$C$240","v":" 12.1.2 ASHRAE Path only: All common spaces 2 (including shared garages), except the building lobby, corridors, and stairwells and where automatic shutoff would endanger the safety of occupants, have occupancy sensors or automatic bi-level lighting controls installed and operation has been verified."},{"$f":"'1b. Rater Field Checklist'!$N$240","v":0},{"$f":"'1b. Rater Field Checklist'!$M$240","v":0}]
[{"$f":"'1b. Rater Field Checklist'!$C$242","v":"12.2 Common Space 2 Lighting Power Density Maximum (except garages): 79"},{"$f":"'1b. Rater Field Checklist'!$N$242","v":0},{"$f":"'1b. Rater Field Checklist'!$M$242","v":0}]
[{"$f":"'1b. Rater Field Checklist'!$C$244","v":" 12.2.1 ERI and Prescriptive Path: Total installed lighting power for the combined common spaces 2 must not exceed ASHRAE 90.1-2007 allowances for those combined spaces, using the Space-by-Space or Building Area Method. See Footnote 80 for allowances. 80"},{"$f":"'1b. Rater Field Checklist'!$N$244","v":0},{"$f":"'1b. Rater Field Checklist'!$M$244","v":0}]
[{"$f":"'1b. Rater Field Checklist'!$C$247","v":" 12.2.2 ASHRAE Path only: Total installed lighting power for the combined common spaces 2 must not exceed ASHRAE 90.1-2007 allowances for those combined spaces, using the Space-by-Space or Building Area Method, by more than 20%. See Footnote 80 for allowances. 80"},{"$f":"'1b. Rater Field Checklist'!$N$247","v":0},{"$f":"'1b. Rater Field Checklist'!$M$247","v":0}]
[{"$f":"'1b. Rater Field Checklist'!$C$250","v":"12.3 Shared garages: Lighting power density does not exceed 0.24 W/ft2."},{"$f":"'1b. Rater Field Checklist'!$N$250","v":0},{"$f":"'1b. Rater Field Checklist'!$M$250","v":0}]
[{"$f":"'1b. Rater Field Checklist'!$C$251","v":"12.4 Exterior lighting controls: Fixtures, including parking lot fixtures, must include automatic switching on timers or photocell controls except fixtures intended for 24-hour operation, required for security, or located on dwelling unit balconies."},{"$f":"'1b. Rater Field Checklist'!$N$251","v":0},{"$f":"'1b. Rater Field Checklist'!$M$251","v":0}]
[{"$f":"'1b. Rater Field Checklist'!$C$252","v":"12.5 ERI Path: All exterior and common space lighting fixtures meet the efficiency requirements in the ENERGY STAR Multifamily Reference Design, except fixtures located on dwelling unit balconies. 81, 82"},{"$f":"'1b. Rater Field Checklist'!$N$252","v":0},{"$f":"'1b. Rater Field Checklist'!$M$252","v":0}]
[{"$f":"'1b. Rater Field Checklist'!$C$255","v":"12.6 Prescriptive Path: All lighting fixtures (i.e., dwelling units, common spaces, and exterior) meet the efficiency requirements in the ENERGY STAR Multifamily Reference Design. 81, 82"},{"$f":"'1b. Rater Field Checklist'!$N$255","v":0},{"$f":"'1b. Rater Field Checklist'!$M$255","v":0}]
[{"$f":"'1b. Rater Field Checklist'!$C$258","v":"12.7 Prescriptive Path: Dwelling unit overall in-unit lighting power density ≤ 0.75 W/ft2. When calculating overall lighting power density, use 1.1 W/ft2 where lighting is not installed. 79"},{"$f":"'1b. Rater Field Checklist'!$N$258","v":0},{"$f":"'1b. Rater Field Checklist'!$M$258","v":0}]
[{"$f":"'1b. Rater Field Checklist'!$C$260","v":"13. Appliances, Ceiling Fans, and Plumbing Fixtures "},{"$f":"'1b. Rater Field Checklist'!$N$260","v":0},{"$f":"'1b. Rater Field Checklist'!$M$260","v":0}]
[{"$f":"'1b. Rater Field Checklist'!$C$261","v":"13.1 Prescriptive Path: Installed appliances are ENERGY STAR certified. Installed bathroom faucets, bathroom aerators, and showerheads are WaterSense labeled. 83"},{"$f":"'1b. Rater Field Checklist'!$N$261","v":0},{"$f":"'1b. Rater Field Checklist'!$M$261","v":0}]
[{"$f":"'1b. Rater Field Checklist'!$C$263","v":"13.2 ERI Path: Where installed in common spaces, refrigerators and dishwashers are ENERGY STAR certified and showerheads are WaterSense labeled."},{"$f":"'1b. Rater Field Checklist'!$N$263","v":0},{"$f":"'1b. Rater Field Checklist'!$M$263","v":0}]
[{"$f":"'1b. Rater Field Checklist'!$C$264","v":"13.3 Prescriptive Path: Shower compartments with multiple fixtures cannot be operated simultaneously OR the total flow rate per shower compartment must not exceed 1.75 gallons per minute, as rated at 80 psi."},{"$f":"'1b. Rater Field Checklist'!$N$264","v":0},{"$f":"'1b. Rater Field Checklist'!$M$264","v":0}]
[{"$f":"'1b. Rater Field Checklist'!$C$265","v":"14. Whole Building Energy Consumption Data Acquisition "},{"$f":"'1b. Rater Field Checklist'!$N$265","v":0},{"$f":"'1b. Rater Field Checklist'!$M$265","v":0}]
[{"$f":"'1b. Rater Field Checklist'!$C$266","v":"14.1 For buildings 50,000 ft2 and larger, a strategy that enables the collection of monthly or annual building-level energy consumption data (electricity, natural gas, chilled water, steam, fuel oil, propane, etc.) has been confirmed. 84"},{"$f":"'1b. Rater Field Checklist'!$N$266","v":0},{"$f":"'1b. Rater Field Checklist'!$M$266","v":0}]
[]
[{"$f":"E13","v":"Final 3"}]
["Rater Design Checklist","Verification Phase","Notes/Comments"]
[{"$f":"'1b. Rater Field Checklist'!$C$16","v":"Thermal Enclosure System "},{"$f":"'1b. Rater Field Checklist'!$N$16","v":0},{"$f":"'1b. Rater Field Checklist'!$M$16","v":0}]
[{"$f":"'1b. Rater Field Checklist'!$C$17","v":"1. High-Performance Fenestration & Insulation "},{"$f":"'1b. Rater Field Checklist'!$N$17","v":0},{"$f":"'1b. Rater Field Checklist'!$M$17","v":0}]
[{"$f":"'1b. Rater Field Checklist'!$C$18","v":"1.1 Fenestration meets or exceeds specification in Items 2.1 and 2.2 of the National Rater Design Review Checklist."},{"$f":"'1b. Rater Field Checklist'!$N$18","v":"Open Wall 3"},{"$f":"'1b. Rater Field Checklist'!$M$18","v":0}]
[{"$f":"'1b. Rater Field Checklist'!$C$19","v":"1.2 Insulation meets or exceeds levels specified in Items 3.1 and 3.2 of the National Rater Design Review Checklist."},{"$f":"'1b. Rater Field Checklist'!$N$19","v":"Open Wall 3"},{"$f":"'1b. Rater Field Checklist'!$M$19","v":0}]
[{"$f":"'1b. Rater Field Checklist'!$C$20","v":"1.3 All insulation achieves Grade I install per ANSI / RESNET / ICC Std. 301. Alternatives in footnote 6. 6,7"},{"$f":"'1b. Rater Field Checklist'!$N$20","v":"Open Wall 3"},{"$f":"'1b. Rater Field Checklist'!$M$20","v":0}]
[{"$f":"'1b. Rater Field Checklist'!$C$23","v":"1.4 Prescriptive Path: Window-to-wall ratio ≤ 30%. 8"},{"$f":"'1b. Rater Field Checklist'!$N$23","v":"Open Wall 1"},{"$f":"'1b. Rater Field Checklist'!$M$23","v":0}]
[{"$f":"'1b. Rater Field Checklist'!$C$25","v":"1.5 Heated plenums in unconditioned space or ambient conditions must meet the following requirements: 9"},{"$f":"'1b. Rater Field Checklist'!$N$25","v":0},{"$f":"'1b. Rater Field Checklist'!$M$25","v":0}]
[{"$f":"'1b. Rater Field Checklist'!$C$27","v":" 1.5.1 Sides of heated plenum are an air barrier and insulated to ≥ R-3ci in CZ 1-4; ≥ R-5ci in CZ 5-6; ≥ R-7.5ci in CZ 7; ≥ R-9.5ci in CZ 8, AND;"},{"$f":"'1b. Rater Field Checklist'!$N$27","v":"Open Wall 4"},{"$f":"'1b. Rater Field Checklist'!$M$27","v":0}]
[{"$f":"'1b. Rater Field Checklist'!$C$28","v":" 1.5.2 Insulation at top of heated plenum meets or exceeds the R-value for mass floors from the “All Other” column of Table 502.2(1) of 2009 IECC, AND;"},{"$f":"'1b. Rater Field Checklist'!$N$28","v":"Open Wall 4"},{"$f":"'1b. Rater Field Checklist'!$M$28","v":0}]
[{"$f":"'1b. Rater Field Checklist'!$C$29","v":" 1.5.3 Bottom of heated plenum must have at least R-13 insulation. 10"},{"$f":"'1b. Rater Field Checklist'!$N$29","v":"Open Wall 3"},{"$f":"'1b. Rater Field Checklist'!$M$29","v":0}]
[{"$f":"'1b. Rater Field Checklist'!$C$31","v":"1.6 Garages with space heating must meet the following requirements: 9"},{"$f":"'1b. Rater Field Checklist'!$N$31","v":0},{"$f":"'1b. Rater Field Checklist'!$M$31","v":0}]
[{"$f":"'1b. Rater Field Checklist'!$C$33","v":" 1.6.1 Insulation on above grade walls and walls on the first story below grade ≥ R-5ci in CZ 5-6; ≥ R-7.5ci in CZ 7; ≥ R-9.5ci in CZ 8, AND;"},{"$f":"'1b. Rater Field Checklist'!$N$33","v":0},{"$f":"'1b. Rater Field Checklist'!$M$33","v":0}]
[{"$f":"'1b. Rater Field Checklist'!$C$34","v":" 1.6.2 Ceiling insulation meets or exceeds the R-value for mass floors from the “All Other” column of Table 502.2(1) of 2009 IECC."},{"$f":"'1b. Rater Field Checklist'!$N$34","v":0},{"$f":"'1b. Rater Field Checklist'!$M$34","v":0}]
[{"$f":"'1b. Rater Field Checklist'!$C$35","v":"2. Fully-Aligned Air Barriers 11 At each insulated location below, a complete air barrier is provided that is fully aligned as follows:"},{"$f":"'1b. Rater Field Checklist'!$N$35","v":0},{"$f":"'1b. Rater Field Checklist'!$M$35","v":0}]
[{"$f":"'1b. Rater Field Checklist'!$C$37","v":"Ceilings: At interior or exterior horizontal surface of ceiling insulation in Climate Zones 1-3; at interior horizontal surface of ceiling insulation in Climate Zones 4-8. Also, at exterior vertical surface of ceiling insulation in all climate zones (e.g., using a wind baffle that extends to the full height of the insulation in every bay or a tabbed baffle in each bay with a soffit vent that prevents wind washing in adjacent bays). 12"},{"$f":"'1b. Rater Field Checklist'!$N$37","v":0},{"$f":"'1b. Rater Field Checklist'!$M$37","v":0}]
[{"$f":"'1b. Rater Field Checklist'!$C$39","v":"2.1 Dropped ceilings / soffits below unconditioned attics, chase / dead space, and all other ceilings."},{"$f":"'1b. Rater Field Checklist'!$N$39","v":0},{"$f":"'1b. Rater Field Checklist'!$M$39","v":0}]
[{"$f":"'1b. Rater Field Checklist'!$C$40","v":"Walls: At exterior vertical surface of wall insulation in all climate zones; also at interior vertical surface of wall insulation in Climate Zones 4-8. 13"},{"$f":"'1b. Rater Field Checklist'!$N$40","v":0},{"$f":"'1b. Rater Field Checklist'!$M$40","v":0}]
[{"$f":"'1b. Rater Field Checklist'!$C$42","v":"2.2 Walls behind showers, tubs, staircases, and fireplaces."},{"$f":"'1b. Rater Field Checklist'!$N$42","v":"Open Wall 2"},{"$f":"'1b. Rater Field Checklist'!$M$42","v":0}]
[{"$f":"'1b. Rater Field Checklist'!$C$43","v":"2.3 Architectural bump-outs, dead space, and all other exterior walls."},{"$f":"'1b. Rater Field Checklist'!$N$43","v":0},{"$f":"'1b. Rater Field Checklist'!$M$43","v":0}]
[{"$f":"'1b. Rater Field Checklist'!$C$44","v":"Floors: At exterior vertical surface of floor insulation in all climate zones and, if over unconditioned space, also at interior horizontal surface including supports to ensure alignment. Alternatives in Footnotes 15 & 16. 14, 15, 16"},{"$f":"'1b. Rater Field Checklist'!$N$44","v":0},{"$f":"'1b. Rater Field Checklist'!$M$44","v":0}]
[{"$f":"'1b. Rater Field Checklist'!$C$48","v":"2.4 Floors above garages, floors above unconditioned spaces, and cantilevered floors."},{"$f":"'1b. Rater Field Checklist'!$N$48","v":0},{"$f":"'1b. Rater Field Checklist'!$M$48","v":0}]
[{"$f":"'1b. Rater Field Checklist'!$C$49","v":"2.5 All other floors adjoining unconditioned space (e.g., rim / band joists at exterior wall or at porch roof)."},{"$f":"'1b. Rater Field Checklist'!$N$49","v":0},{"$f":"'1b. Rater Field Checklist'!$M$49","v":0}]
[{"$f":"'1b. Rater Field Checklist'!$C$50","v":"3. Reduced Thermal Bridging"},{"$f":"'1b. Rater Field Checklist'!$N$50","v":0},{"$f":"'1b. Rater Field Checklist'!$M$50","v":0}]
[{"$f":"'1b. Rater Field Checklist'!$C$51","v":"3.1 For insulated ceilings with attic space above (i.e., non-cathedralized), Grade I insulation extends to the inside face of the exterior wall below and is ≥ R-21 in CZ 1-5; ≥ R-30 in CZ 6-8. 17"},{"$f":"'1b. Rater Field Checklist'!$N$51","v":0},{"$f":"'1b. Rater Field Checklist'!$M$51","v":0}]
[{"$f":"'1b. Rater Field Checklist'!$C$53","v":"3.2 For insulated ceilings with attic space above, attic access panels and drop-down stairs insulated ≥ R-10 or equipped with durable ≥ R-10 cover. 18"},{"$f":"'1b. Rater Field Checklist'!$N$53","v":0},{"$f":"'1b. Rater Field Checklist'!$M$53","v":0}]
[{"$f":"'1b. Rater Field Checklist'!$C$55","v":"3.3 Insulation beneath attic platforms (e.g., HVAC platforms, walkways) ≥ R-21 in CZ 1-5; ≥ R-30 in CZ 6-8."},{"$f":"'1b. Rater Field Checklist'!$N$55","v":0},{"$f":"'1b. Rater Field Checklist'!$M$55","v":0}]
[{"$f":"'1b. Rater Field Checklist'!$C$56","v":"3.4 For slabs on grade in CZ 4-8, 100% of slab edge insulated to ≥ R-5 at the depth specified by Table 502.2(1) of the 2009 IECC and aligned with the thermal boundary of the walls. 19, 20"},{"$f":"'1b. Rater Field Checklist'!$N$56","v":0},{"$f":"'1b. Rater Field Checklist'!$M$56","v":0}]
[{"$f":"'1b. Rater Field Checklist'!$C$59","v":"3.5 For elevated concrete slabs in CZ 4-8 (i.e., podiums and projected balconies, but not intermediate slab floor edges) 100% of the slab edge insulated to ≥ R-5. For podiums, this insulation must extend for a minimum of 8ft below the bottom of the slab edge. For columns, the insulation must surround the column, at a depth of 4ft. Alternatives in Footnote 21. 21"},{"$f":"'1b. Rater Field Checklist'!$N$59","v":0},{"$f":"'1b. Rater Field Checklist'!$M$59","v":0}]
[{"$f":"'1b. Rater Field Checklist'!$C$61","v":"3.6 For elevated concrete slabs in CZ 4-8 (i.e., podiums, but not intermediate floor slabs), floor insulation meets the U-factor specified in Table 502.1.2 of the 2009 IECC for Group R when dwelling units are above the slab, and for ‘All Other’ when common space is above the slab. 22"},{"$f":"'1b. Rater Field Checklist'!$N$61","v":0},{"$f":"'1b. Rater Field Checklist'!$M$61","v":0}]
[{"$f":"'1b. Rater Field Checklist'!$C$63","v":"3.7 At above-grade walls and rim / band joists separating conditioned space from the exterior, one of the following options used: 23, 26"},{"$f":"'1b. Rater Field Checklist'!$N$63","v":0},{"$f":"'1b. Rater Field Checklist'!$M$63","v":0}]
[{"$f":"'1b. Rater Field Checklist'!$C$66","v":" 3.7.1 Continuous rigid insulation, insulated siding, or combination of the two is ≥ R-3 in CZ 1-4; ≥ R-5 in CZ 5-8 24, 25, 26, 27; OR;"},{"$f":"'1b. Rater Field Checklist'!$N$66","v":0},{"$f":"'1b. Rater Field Checklist'!$M$66","v":0}]
[{"$f":"'1b. Rater Field Checklist'!$C$71","v":" 3.7.2 Structural Insulated Panels OR; Insulated Concrete Forms OR; Double-wall framing OR; 24, 26, 28"},{"$f":"'1b. Rater Field Checklist'!$N$71","v":0},{"$f":"'1b. Rater Field Checklist'!$M$71","v":0}]
[{"$f":"'1b. Rater Field Checklist'!$C$75","v":" 3.7.3 Option only for wood-framed walls either in CZ 1-3 OR ≤ 3 stories: ‘advanced framing’ details including all of the Items below: 26, 29"},{"$f":"'1b. Rater Field Checklist'!$N$75","v":0},{"$f":"'1b. Rater Field Checklist'!$M$75","v":0}]
[{"$f":"'1b. Rater Field Checklist'!$C$78","v":"  3.7.3a Corners insulated ≥ R-6 to edge, 30 AND;"},{"$f":"'1b. Rater Field Checklist'!$N$78","v":0},{"$f":"'1b. Rater Field Checklist'!$M$78","v":0}]
[{"$f":"'1b. Rater Field Checklist'!$C$80","v":"  3.7.3b Headers above windows & doors insulated ≥ R-3 for 2x4 framing or equivalent cavity width, and ≥ R-5 for all other assemblies (e.g., with 2x6 framing), 31 AND;"},{"$f":"'1b. Rater Field Checklist'!$N$80","v":0},{"$f":"'1b. Rater Field Checklist'!$M$80","v":0}]
[{"$f":"'1b. Rater Field Checklist'!$C$82","v":"  3.7.3c Interior / exterior wall intersections insulated to same R-value as rest of exterior wall. 32"},{"$f":"'1b. Rater Field Checklist'!$N$82","v":0},{"$f":"'1b. Rater Field Checklist'!$M$82","v":0}]
[{"$f":"'1b. Rater Field Checklist'!$C$84","v":"4. Air Sealing (Unless otherwise noted below, “sealed” indicates the use of caulk, foam, or equivalent material.)"},{"$f":"'1b. Rater Field Checklist'!$N$84","v":0},{"$f":"'1b. Rater Field Checklist'!$M$84","v":0}]
[{"$f":"'1b. Rater Field Checklist'!$C$85","v":"4.1 Ducts, flues, shafts, plumbing, piping, wiring, exhaust fans, & other penetrations to unconditioned space sealed, with blocking / flashing as needed."},{"$f":"'1b. Rater Field Checklist'!$N$85","v":0},{"$f":"'1b. Rater Field Checklist'!$M$85","v":0}]
[{"$f":"'1b. Rater Field Checklist'!$C$86","v":"4.2 Recessed lighting fixtures adjacent to unconditioned space ICAT labeled and gasketed. Also, if in insulated ceiling without attic above, exterior surface of fixture insulated to ≥ R-10 in CZ 4-8."},{"$f":"'1b. Rater Field Checklist'!$N$86","v":0},{"$f":"'1b. Rater Field Checklist'!$M$86","v":0}]
[{"$f":"'1b. Rater Field Checklist'!$C$87","v":"4.3 Continuous top plate or blocking is at top of walls adjoining unconditioned space including at balloon-framed parapets, and sealed."},{"$f":"'1b. Rater Field Checklist'!$N$87","v":0},{"$f":"'1b. Rater Field Checklist'!$M$87","v":0}]
[{"$f":"'1b. Rater Field Checklist'!$C$88","v":"4.4 Drywall sealed to top plate at all unconditioned attic / wall interfaces using caulk, foam, drywall adhesive (but not other construction adhesives), or equivalent material. Either apply sealant directly between drywall and top plate or to the seam between the two from the attic above."},{"$f":"'1b. Rater Field Checklist'!$N$88","v":0},{"$f":"'1b. Rater Field Checklist'!$M$88","v":0}]
[{"$f":"'1b. Rater Field Checklist'!$C$89","v":"4.5 Rough opening around windows & exterior doors sealed. 33"},{"$f":"'1b. Rater Field Checklist'!$N$89","v":0},{"$f":"'1b. Rater Field Checklist'!$M$89","v":0}]
[{"$f":"'1b. Rater Field Checklist'!$C$91","v":"4.6 Assemblies that separate attached garages from occupiable space sealed and, also, an air barrier installed, sealed, and aligned with these assemblies. 34"},{"$f":"'1b. Rater Field Checklist'!$N$91","v":0},{"$f":"'1b. Rater Field Checklist'!$M$91","v":0}]
[{"$f":"'1b. Rater Field Checklist'!$C$93","v":"4.7 Doors adjacent to unconditioned space (e.g., attics, garages, basements) or ambient conditions made substantially air-tight with doorsweep and weatherstripping or equivalent gasket."},{"$f":"'1b. Rater Field Checklist'!$N$93","v":0},{"$f":"'1b. Rater Field Checklist'!$M$93","v":0}]
[{"$f":"'1b. Rater Field Checklist'!$C$94","v":"4.8 Attic access panels, roof hatches and drop-down stairs are gasketed (i.e., not caulked) or equipped with durable covers that are gasketed. 18"},{"$f":"'1b. Rater Field Checklist'!$N$94","v":0},{"$f":"'1b. Rater Field Checklist'!$M$94","v":0}]
[{"$f":"'1b. Rater Field Checklist'!$C$96","v":"The following items must be additionally verified in dwelling units, to reduce air leakage between conditioned spaces."},{"$f":"'1b. Rater Field Checklist'!$N$96","v":0},{"$f":"'1b. Rater Field Checklist'!$M$96","v":0}]
[{"$f":"'1b. Rater Field Checklist'!$C$97","v":"4.9 Doors serving as a unit entrance from a corridor / stairwell made substantially air-tight with doorsweep and weatherstripping or equivalent gasket."},{"$f":"'1b. Rater Field Checklist'!$N$97","v":0},{"$f":"'1b. Rater Field Checklist'!$M$97","v":0}]
[{"$f":"'1b. Rater Field Checklist'!$C$98","v":"4.10 Rater-measured compartmentalization is no greater than 0.30 CFM50 per square feet of dwelling unit enclosure area, following procedures in ANSI / RESNET / ICC Std. 380. 35"},{"$f":"'1b. Rater Field Checklist'!$N$98","v":0},{"$f":"'1b. Rater Field Checklist'!$M$98","v":0}]
[{"$f":"'1b. Rater Field Checklist'!$C$100","v":" 4.10.1 For dwelling units with forced air distribution systems without ducted returns and located in a closet adjacent to unconditioned space, the Rater-measured pressure difference between the space containing the air handler and the conditioned space during the compartmentalization test is no greater than 5 Pa. 36"},{"$f":"'1b. Rater Field Checklist'!$N$100","v":0},{"$f":"'1b. Rater Field Checklist'!$M$100","v":0}]
[{"$f":"'1b. Rater Field Checklist'!$C$102","v":"HVAC System 37 (HVAC Design Report Item # indicated in parenthesis) "},{"$f":"'1b. Rater Field Checklist'!$N$102","v":0},{"$f":"'1b. Rater Field Checklist'!$M$102","v":0}]
[{"$f":"'1b. Rater Field Checklist'!$C$104","v":"5. Heating & Cooling Equipment – Complete Track A – HVAC Grading by Rater OR Track B – HVAC Testing by FT Agent 38"},{"$f":"'1b. Rater Field Checklist'!$N$104","v":0},{"$f":"'1b. Rater Field Checklist'!$M$104","v":0}]
[{"$f":"'1b. Rater Field Checklist'!$C$106","v":"Track A 39"},{"$f":"'1b. Rater Field Checklist'!$N$106","v":0},{"$f":"'1b. Rater Field Checklist'!$M$106","v":0}]
[{"$f":"'1b. Rater Field Checklist'!$C$108","v":"5a.1 Blower fan volumetric airflow is Grade I or II per ANSI / RESNET / ACCA Std. 310"},{"$f":"'1b. Rater Field Checklist'!$N$108","v":0},{"$f":"'1b. Rater Field Checklist'!$M$108","v":0}]
[{"$f":"'1b. Rater Field Checklist'!$C$109","v":"5a.2 Blower fan watt draw is Grade I or II per ANSI / RESNET / ACCA Std. 310"},{"$f":"'1b. Rater Field Checklist'!$N$109","v":0},{"$f":"'1b. Rater Field Checklist'!$M$109","v":0}]
[{"$f":"'1b. Rater Field Checklist'!$C$110","v":"5a.3 Refrigerant charge is Grade I per ANSI / RESNET / ACCA Std. 310. See Footnote 40 for exemptions. 40"},{"$f":"'1b. Rater Field Checklist'!$N$110","v":0},{"$f":"'1b. Rater Field Checklist'!$M$110","v":0}]
[{"$f":"'1b. Rater Field Checklist'!$C$112","v":"Track B"},{"$f":"'1b. Rater Field Checklist'!$N$112","v":0},{"$f":"'1b. Rater Field Checklist'!$M$112","v":0}]
[{"$f":"'1b. Rater Field Checklist'!$C$113","v":"5b.1 HVAC manufacturer & model number on installed equipment matches either of the following (check box): 41\n \n National HVAC Design Report (4.6-4.9 & 4.25-4.26)      Written approval received from designer"},{"$f":"'1b. Rater Field Checklist'!$N$113","v":0},{"$f":"'1b. Rater Field Checklist'!$M$113","v":0}]
[{"$f":"'1b. Rater Field Checklist'!$C$115","v":"5b.2 External static pressure measured by Rater at contractor-provided test locations and documented below: 42\n\nReturn-Side External Static Pressure: ________IWC\nSupply-Side External Static Pressure: __________IWC"},{"$f":"'1b. Rater Field Checklist'!$N$115","v":0},{"$f":"'1b. Rater Field Checklist'!$M$115","v":0}]
[{"$f":"'1b. Rater Field Checklist'!$C$117","v":"5.4 Prescriptive Path: Heating and cooling equipment serving dwelling units and common spaces meet the efficiency levels specified in the Exhibit X. Electric resistance space heating is not installed in dwelling units."},{"$f":"'1b. Rater Field Checklist'!$N$117","v":0},{"$f":"'1b. Rater Field Checklist'!$M$117","v":0}]
[{"$f":"'1b. Rater Field Checklist'!$C$118","v":"5.5 ERI Path: Heating and cooling equipment serving common spaces, but not serving dwelling units, meet the efficiency levels specified in the Exhibit X. See Exhibit X for restrictions on electric resistance space heating."},{"$f":"'1b. Rater Field Checklist'!$N$118","v":0},{"$f":"'1b. Rater Field Checklist'!$M$118","v":0}]
[{"$f":"'1b. Rater Field Checklist'!$C$119","v":"5.6 National HVAC Functional Testing Checklist(s) collected prior to certification, with all HVAC systems in the building / project fully documented. Exception: Where credentialed HVAC Contractor(s) are completing the National HVAC Functional Testing Checklist, the checklist is not required to be collected for the systems they verify. 43"},{"$f":"'1b. Rater Field Checklist'!$N$119","v":0},{"$f":"'1b. Rater Field Checklist'!$M$119","v":0}]
[{"$f":"'1b. Rater Field Checklist'!$C$121","v":"5.7 Rater has verified and documented that Functional Testing Agent(s) (“FT Agent(s)”) completing the National HVAC Functional Testing Checklist(s) hold one of the required credentials and completed orientation, if applicable. 43\n\nCredential: ______________________ “FT Agent” Company Name(s): _______________________"},{"$f":"'1b. Rater Field Checklist'!$N$121","v":0},{"$f":"'1b. Rater Field Checklist'!$M$121","v":0}]
[{"$f":"'1b. Rater Field Checklist'!$C$123","v":"Equipment Controls "},{"$f":"'1b. Rater Field Checklist'!$N$123","v":0},{"$f":"'1b. Rater Field Checklist'!$M$123","v":0}]
[{"$f":"'1b. Rater Field Checklist'!$C$124","v":"5.8 All heating and cooling systems serving a dwelling unit have thermostatic controls within the dwelling unit which are not located on exterior walls."},{"$f":"'1b. Rater Field Checklist'!$N$124","v":0},{"$f":"'1b. Rater Field Checklist'!$M$124","v":0}]
[{"$f":"'1b. Rater Field Checklist'!$C$125","v":" 5.8.1 Prescriptive Path: Dwelling unit thermostats are programmable."},{"$f":"'1b. Rater Field Checklist'!$N$125","v":0},{"$f":"'1b. Rater Field Checklist'!$M$125","v":0}]
[{"$f":"'1b. Rater Field Checklist'!$C$126","v":"5.9 Stair and elevator shaft vents equipped with motorized dampers that are capable of being automatically closed during normal building operation and are interlocked to open as required by fire and smoke detection systems. Dampers are verified to be closed at the time of inspection."},{"$f":"'1b. Rater Field Checklist'!$N$126","v":0},{"$f":"'1b. Rater Field Checklist'!$M$126","v":0}]
[{"$f":"'1b. Rater Field Checklist'!$C$127","v":"5.10 Freeze protection systems, such as heat tracing of piping and heat exchangers, including self-regulating heat tracing, and garage / plenum heaters include automatic controls that are verified to shut off the systems when pipe wall or garage / plenum temperatures are above 40°F."},{"$f":"'1b. Rater Field Checklist'!$N$127","v":0},{"$f":"'1b. Rater Field Checklist'!$M$127","v":0}]
[{"$f":"'1b. Rater Field Checklist'!$C$128","v":" 5.10.1 Where heat tracing is installed for freeze-protection, controls must be based on pipe wall temperature and a minimum of R-3 pipe insulation is also required."},{"$f":"'1b. Rater Field Checklist'!$N$128","v":0},{"$f":"'1b. Rater Field Checklist'!$M$128","v":0}]
[{"$f":"'1b. Rater Field Checklist'!$C$129","v":"5.11 Snow- and ice-melting systems include automatic controls that are verified to shut off the systems when the pavement temperature is above 50°F and no precipitation is falling, and an automatic or manual control is installed that is verified to shut off system when the outdoor temperature is above 40°F, so that the potential for snow or ice accumulation is negligible."},{"$f":"'1b. Rater Field Checklist'!$N$129","v":0},{"$f":"'1b. Rater Field Checklist'!$M$129","v":0}]
[{"$f":"'1b. Rater Field Checklist'!$C$130","v":"Hydronic Distribution "},{"$f":"'1b. Rater Field Checklist'!$N$130","v":0},{"$f":"'1b. Rater Field Checklist'!$M$130","v":0}]
[{"$f":"'1b. Rater Field Checklist'!$C$131","v":"5.12 For hydronic distribution systems, all terminal heating and cooling distribution equipment are separated from the riser or distribution loop by a control valve or terminal distribution pump, so that heated or cooled fluid is not delivered to the dwelling unit distribution equipment when there is no call from the thermostat."},{"$f":"'1b. Rater Field Checklist'!$N$131","v":0},{"$f":"'1b. Rater Field Checklist'!$M$131","v":0}]
[{"$f":"'1b. Rater Field Checklist'!$C$132","v":"5.13 Terminal units in hydronic distribution systems are equipped with pressure independent balancing valves or pressure independent control valves."},{"$f":"'1b. Rater Field Checklist'!$N$132","v":0},{"$f":"'1b. Rater Field Checklist'!$M$132","v":0}]
[{"$f":"'1b. Rater Field Checklist'!$C$133","v":"5.14 Piping of a heating or cooling system is insulated in accordance with Item 4.41 on the National HVAC Design Report, including where passing through planks or any other penetrations."},{"$f":"'1b. Rater Field Checklist'!$N$133","v":0},{"$f":"'1b. Rater Field Checklist'!$M$133","v":0}]
[{"$f":"'1b. Rater Field Checklist'!$C$134","v":"5.15 For circulating pumps serving hydronic heating or cooling systems with three-phase motors, 1 horsepower or larger, motors meet or exceed efficiency standards for NEMA Premium™ motors. If 5 horsepower or larger, also installed with variable frequency drives."},{"$f":"'1b. Rater Field Checklist'!$N$134","v":0},{"$f":"'1b. Rater Field Checklist'!$M$134","v":0}]
[{"$f":"'1b. Rater Field Checklist'!$C$135","v":"6. Duct Quality Installation - Applies to Heating, Cooling, Ventilation, Exhaust, & Pressure Balancing Ducts, Unless Noted in Footnote."},{"$f":"'1b. Rater Field Checklist'!$N$135","v":0},{"$f":"'1b. Rater Field Checklist'!$M$135","v":0}]
[{"$f":"'1b. Rater Field Checklist'!$C$136","v":"6.1 Ductwork installed without kinks, sharp bends, compressions, or excessive coiled flexible ductwork. 45"},{"$f":"'1b. Rater Field Checklist'!$N$136","v":0},{"$f":"'1b. Rater Field Checklist'!$M$136","v":0}]
[{"$f":"'1b. Rater Field Checklist'!$C$138","v":"6.2 Bedrooms with a design supply airflow ≥ 150 CFM (per Item 5.2 on the National HVAC Design Report) pressure-balanced (e.g., using transfer grilles, jump ducts, dedicated return ducts, undercut doors) to achieve a Rater-measured pressure differential ≥ -5 Pa and ≤ +5 Pa with respect to the main body of the dwelling unit when all air handlers are operating. See Footnote 46 for test configuration. 46"},{"$f":"'1b. Rater Field Checklist'!$N$138","v":0},{"$f":"'1b. Rater Field Checklist'!$M$138","v":0}]
[{"$f":"'1b. Rater Field Checklist'!$C$140","v":"6.3 All supply and return ducts in unconditioned space, including connections to trunk ducts, are insulated to ≥ R-6. 47"},{"$f":"'1b. Rater Field Checklist'!$N$140","v":0},{"$f":"'1b. Rater Field Checklist'!$M$140","v":0}]
[{"$f":"'1b. Rater Field Checklist'!$C$142","v":" 6.3.1 Prescriptive Path: Dwelling unit ductwork meets the location and insulation requirements specified in the ENERGY STAR Multifamily Reference Design."},{"$f":"'1b. Rater Field Checklist'!$N$142","v":0},{"$f":"'1b. Rater Field Checklist'!$M$142","v":0}]
[{"$f":"'1b. Rater Field Checklist'!$C$143","v":"6.4 Rater-measured total duct leakage in dwelling units meets one of the following two options: 48, 49"},{"$f":"'1b. Rater Field Checklist'!$N$143","v":0},{"$f":"'1b. Rater Field Checklist'!$M$143","v":0}]
[{"$f":"'1b. Rater Field Checklist'!$C$146","v":" 6.4.1 Rough-in: Tested per allowances below, with air handler & all ducts, building cavities used as ducts, & duct boots installed. In addition, all duct boots sealed to finished surface, Rater-verified at final. 50\n\nNo ducted returns 36: The greater of ≤ 3 CFM25 per 100 sq. ft. of CFA or ≤ 30 CFM. Additionally, the Rater-measured pressure difference between the space containing the air handler and the conditioned space, with the air handler running at high speed, is ≤ 5 Pa. For systems > 1 ton, increase by 1 Pa per half ton.\n\nOne or two ducted returns 36: The greater of ≤ 4 CFM25 per 100 sq. ft. of CFA or ≤ 40 CFM.\n\nThree or more ducted returns 36 : The greater of ≤ 6 CFM25 per 100 sq. ft. of CFA or ≤ 60 CFM."},{"$f":"'1b. Rater Field Checklist'!$N$146","v":0},{"$f":"'1b. Rater Field Checklist'!$M$146","v":0}]
[{"$f":"'1b. Rater Field Checklist'!$C$149","v":" 6.4.2 Final: Tested per allowances below, with the air handler & all ducts, building cavities used as ducts, duct boots, & register grilles atop the finished surface (e.g., drywall, floor) installed. 51\n\nNo ducted returns 36: The greater of ≤ 6 CFM25 per 100 sq. ft. of CFA or ≤ 60 CFM. Additionally, the Rater-measured pressure difference between the space containing the air handler and the conditioned space, with the air handler running at high speed, is ≤ 5 Pa. For systems > 1 ton, increase by 1 Pa per half ton.\n\nOne or two ducted returns 36: The greater of ≤ 8 CFM25 per 100 sq. ft. of CFA or ≤ 80 CFM.\n\nThree or more ducted returns 36 : The greater of ≤ 12 CFM25 per 100 sq. ft. of CFA or ≤ 120 CFM."},{"$f":"'1b. Rater Field Checklist'!$N$149","v":0},{"$f":"'1b. Rater Field Checklist'!$M$149","v":0}]
[{"$f":"'1b. Rater Field Checklist'!$C$152","v":"6.5 Townhouses only: Rater-measured duct leakage to the outside the greater of ≤ 4 CFM25 per 100 sq. ft. of CFA or ≤ 40 CFM25. 48, 52"},{"$f":"'1b. Rater Field Checklist'!$N$152","v":0},{"$f":"'1b. Rater Field Checklist'!$M$152","v":0}]
[{"$f":"'1b. Rater Field Checklist'!$C$155","v":"6.6 Common Space: Supply, return, and exhaust ductwork and all plenums serving common spaces are sealed at all transverse joints, longitudinal seams, and duct wall penetrations with mastic, mastic tape, or internal aerosol-based sealant."},{"$f":"'1b. Rater Field Checklist'!$N$155","v":0},{"$f":"'1b. Rater Field Checklist'!$M$155","v":0}]
[{"$f":"'1b. Rater Field Checklist'!$C$156","v":"6.7 Duct leakage of central exhaust systems that serve four or more dwelling units, meets one of the following two options:"},{"$f":"'1b. Rater Field Checklist'!$N$156","v":0},{"$f":"'1b. Rater Field Checklist'!$M$156","v":0}]
[{"$f":"'1b. Rater Field Checklist'!$C$157","v":" 6.7.1 Rough-in: Tested including horizontal run outs, trunks, branches, and take-offs up to, but not including, the grilles, the leakage does not exceed 25% of exhaust fan flow. 53"},{"$f":"'1b. Rater Field Checklist'!$N$157","v":0},{"$f":"'1b. Rater Field Checklist'!$M$157","v":0}]
[{"$f":"'1b. Rater Field Checklist'!$C$159","v":" 6.7.2 Final: Tested inclusive of all ductwork between the fan and the grilles, the leakage does not exceed 30% of exhaust fan flow. 53"},{"$f":"'1b. Rater Field Checklist'!$N$159","v":0},{"$f":"'1b. Rater Field Checklist'!$M$159","v":0}]
[{"$f":"'1b. Rater Field Checklist'!$C$161","v":"7. Dwelling-Unit & Common Space Mechanical Vent. Systems (\"Vent Systems\") 54 & Inlets in Return Duct 55\n(National HVAC Design Report Item # indicated in parenthesis)"},{"$f":"'1b. Rater Field Checklist'!$N$161","v":0},{"$f":"'1b. Rater Field Checklist'!$M$161","v":0}]
[{"$f":"'1b. Rater Field Checklist'!$C$164","v":"7.1 Ventilation manufacturer & model number on installed equipment matches either of the following (check box): 41\n\n National HVAC Design Report           Written approval received from designer"},{"$f":"'1b. Rater Field Checklist'!$N$164","v":0},{"$f":"'1b. Rater Field Checklist'!$M$164","v":0}]
[{"$f":"'1b. Rater Field Checklist'!$C$166","v":"7.2 Rater-measured ventilation rate is within either ± 15 CFM or ± 15% of dwelling unit design values (2.7), and meets or exceeds rates required by ASHRAE 62.2-2010. 56"},{"$f":"'1b. Rater Field Checklist'!$N$166","v":0},{"$f":"'1b. Rater Field Checklist'!$M$166","v":0}]
[{"$f":"'1b. Rater Field Checklist'!$C$168","v":"7.3 Measured ventilation rate is within either ± 15 CFM or ± 15 % of common space design values (2.9), and meets or exceeds rates required by ASHRAE 62.1-2010 (2.8). 57"},{"$f":"'1b. Rater Field Checklist'!$N$168","v":0},{"$f":"'1b. Rater Field Checklist'!$M$168","v":0}]
[{"$f":"'1b. Rater Field Checklist'!$C$170","v":"7.4 A ventilation override control installed and also labeled if its function is not obvious (e.g., a label is required for a standalone wall switch, but not for a switch that’s on the ventilation equipment). Townhouses only: A readily-accessible ventilation override control installed and also labeled if its function is not obvious (e.g., a label is required for a toggle wall switch, but not for a switch that’s on the ventilation equipment)."},{"$f":"'1b. Rater Field Checklist'!$N$170","v":0},{"$f":"'1b. Rater Field Checklist'!$M$170","v":0}]
[{"$f":"'1b. Rater Field Checklist'!$C$171","v":"7.5 For any outdoor air inlet connected to a ducted return of the dwelling unit HVAC system (Complete if present; otherwise check “N/A”): 55"},{"$f":"'1b. Rater Field Checklist'!$N$171","v":0},{"$f":"'1b. Rater Field Checklist'!$M$171","v":0}]
[{"$f":"'1b. Rater Field Checklist'!$C$177","v":"7.6 If located in the dwelling unit, system fan rated ≤ 3 sones if intermittent and ≤ 2 sone if continuous, or exempted. 60"},{"$f":"'1b. Rater Field Checklist'!$N$177","v":0},{"$f":"'1b. Rater Field Checklist'!$M$177","v":0}]
[{"$f":"'1b. Rater Field Checklist'!$C$179","v":"7.7 If dwelling-unit Vent System controller operates the dwelling unit HVAC fan, then HVAC fan operation is intermittent and either the fan type is ECM / ICM (4.12), or the controls will reduce the run-time by accounting for HVAC system heating or cooling hours. 61"},{"$f":"'1b. Rater Field Checklist'!$N$179","v":0},{"$f":"'1b. Rater Field Checklist'!$M$179","v":0}]
[{"$f":"'1b. Rater Field Checklist'!$C$181","v":"7.8 In-unit bathroom fans or in-line fans are ENERGY STAR certified if used as part of the dwelling-unit mechanical ventilation system. 62"},{"$f":"'1b. Rater Field Checklist'!$N$181","v":0},{"$f":"'1b. Rater Field Checklist'!$M$181","v":0}]
[{"$f":"'1b. Rater Field Checklist'!$C$183","v":"7.9 If central exhaust fans, ≤ 1 HP, are installed as part of the dwelling-unit mechanical ventilation system, then they are direct-drive, ECM, with variable speed controllers. If > 1 HP, they are installed with NEMATM Premium Motors."},{"$f":"'1b. Rater Field Checklist'!$N$183","v":0},{"$f":"'1b. Rater Field Checklist'!$M$183","v":0}]
[{"$f":"'1b. Rater Field Checklist'!$C$184","v":"7.10 Air inlet locations (Complete if ventilation air inlet locations were installed (2.22, 2.23); otherwise check “N/A”): 63, 64"},{"$f":"'1b. Rater Field Checklist'!$N$184","v":0},{"$f":"'1b. Rater Field Checklist'!$M$184","v":0}]
[{"$f":"'1b. Rater Field Checklist'!$C$187","v":" 7.10.1 Inlet(s) pull ventilation air directly from outdoors and not from attic, crawlspace, garage, or adjacent dwelling unit."},{"$f":"'1b. Rater Field Checklist'!$N$187","v":0},{"$f":"'1b. Rater Field Checklist'!$M$187","v":0}]
[{"$f":"'1b. Rater Field Checklist'!$C$188","v":" 7.10.2 Inlet(s) are ≥ 2 ft. above grade or roof deck; ≥ 10 ft. of stretched-string distance from known contamination sources not exiting the roof, and ≥ 3 ft. distance from dryer exhausts and sources exiting the roof. 65"},{"$f":"'1b. Rater Field Checklist'!$N$188","v":0},{"$f":"'1b. Rater Field Checklist'!$M$188","v":0}]
[{"$f":"'1b. Rater Field Checklist'!$C$191","v":"8. Local Mechanical Exhaust (National HVAC Design Report Item # indicated in parenthesis)"},{"$f":"'1b. Rater Field Checklist'!$N$191","v":0},{"$f":"'1b. Rater Field Checklist'!$M$191","v":0}]
[{"$f":"'1b. Rater Field Checklist'!$C$192","v":"Dwelling Unit Mechanical exhaust - In each dwelling unit kitchen and bathroom, a system is installed that exhausts directly to the outdoors and meets one of the following Rater-measured airflow and manufacturer-rated sound level standards: 54, 66"},{"$f":"'1b. Rater Field Checklist'!$N$192","v":0},{"$f":"'1b. Rater Field Checklist'!$M$192","v":0}]
[{"$f":"'1b. Rater Field Checklist'!$C$195","v":"Location "},{"$f":"'1b. Rater Field Checklist'!$N$195","v":0},{"$f":"'1b. Rater Field Checklist'!$M$195","v":0}]
[{"$f":"'1b. Rater Field Checklist'!$C$196","v":"8.1 Kitchen\nAirflow\nContinuous Rate:  ≥ 5 ACH, based on kitchen volume 68, 69\nIntermittent Rate 67: ≥ 100 CFM and, if not integrated with range, also ≥ 5 ACH based on kitchen volume 68, 69, 70\n\nSound\nContinuous Rate: Recommended: ≤ 1 sone\nIntermittent Rate 67:  Recommended: ≤ 3 sones"},{"$f":"'1b. Rater Field Checklist'!$N$196","v":0},{"$f":"'1b. Rater Field Checklist'!$M$196","v":0}]
[{"$f":"'1b. Rater Field Checklist'!$C$201","v":"8.2 Bathroom\nAirflow\nContinuous Rate:  ≥ 20 CFM\nIntermittent Rate 67: ≥ 50 CFM\n\nSound\nContinuous Rate: Required: ≤ 2 sones\nIntermittent Rate 67:  Recommended: ≤ 3 sones"},{"$f":"'1b. Rater Field Checklist'!$N$201","v":0},{"$f":"'1b. Rater Field Checklist'!$M$201","v":0}]
[{"$f":"'1b. Rater Field Checklist'!$C$203","v":"Mechanical Exhaust for Common Spaces 2 and Shared Garages "},{"$f":"'1b. Rater Field Checklist'!$N$203","v":0},{"$f":"'1b. Rater Field Checklist'!$M$203","v":0}]
[{"$f":"'1b. Rater Field Checklist'!$C$205","v":"8.3 Measured exhaust rates are  ≥ ASHRAE 62.1 rates (2c). 57"},{"$f":"'1b. Rater Field Checklist'!$N$205","v":0},{"$f":"'1b. Rater Field Checklist'!$M$205","v":0}]
[{"$f":"'1b. Rater Field Checklist'!$C$207","v":"8.4 Where an exhaust system is installed in a shared garage, it is equipped with controls that sense CO and NO2."},{"$f":"'1b. Rater Field Checklist'!$N$207","v":0},{"$f":"'1b. Rater Field Checklist'!$M$207","v":0}]
[{"$f":"'1b. Rater Field Checklist'!$C$208","v":"9. Filtration "},{"$f":"'1b. Rater Field Checklist'!$N$208","v":0},{"$f":"'1b. Rater Field Checklist'!$M$208","v":0}]
[{"$f":"'1b. Rater Field Checklist'!$C$209","v":"9.1 MERV 6+ filter(s) installed in each ducted mechanical system serving an individual dwelling unit and located to facilitate access & regular service by the occupant or building owner. 71"},{"$f":"'1b. Rater Field Checklist'!$N$209","v":0},{"$f":"'1b. Rater Field Checklist'!$M$209","v":0}]
[{"$f":"'1b. Rater Field Checklist'!$C$211","v":" 9.1.1 Filter access panel includes gasket and fits snugly against the exposed edge of filter when closed to prevent bypass. 72"},{"$f":"'1b. Rater Field Checklist'!$N$211","v":0},{"$f":"'1b. Rater Field Checklist'!$M$211","v":0}]
[{"$f":"'1b. Rater Field Checklist'!$C$213","v":" 9.1.2 All return air and mechanically supplied outdoor air passes through filter prior to conditioning."},{"$f":"'1b. Rater Field Checklist'!$N$213","v":0},{"$f":"'1b. Rater Field Checklist'!$M$213","v":0}]
[{"$f":"'1b. Rater Field Checklist'!$C$214","v":"10. Combustion Appliances "},{"$f":"'1b. Rater Field Checklist'!$N$214","v":0},{"$f":"'1b. Rater Field Checklist'!$M$214","v":0}]
[{"$f":"'1b. Rater Field Checklist'!$C$215","v":"10.1 Furnaces, boilers, and water heaters located within the building’s pressure boundary are mechanically drafted or direct-vented. If mechanically drafted, the minimum volume of combustion air required for safe operation by the manufacturer and/or code shall be met or exceeded and make-up air sources must be mechanically closed when the combustion appliance is not in operation. Alternatives in Footnote 75. 73, 74, 75"},{"$f":"'1b. Rater Field Checklist'!$N$215","v":0},{"$f":"'1b. Rater Field Checklist'!$M$215","v":0}]
[{"$f":"'1b. Rater Field Checklist'!$C$219","v":"10.2 Fireplaces located within the building’s pressure boundary are direct-vented. 73, 74"},{"$f":"'1b. Rater Field Checklist'!$N$219","v":0},{"$f":"'1b. Rater Field Checklist'!$M$219","v":0}]
[{"$f":"'1b. Rater Field Checklist'!$C$222","v":"10.3 No unvented combustion appliances other than cooking ranges or ovens are located inside the building’s pressure boundary. For cooking ranges and ovens, local mechanical exhaust per Checklist Item 8.1 requirements must be met. 73"},{"$f":"'1b. Rater Field Checklist'!$N$222","v":0},{"$f":"'1b. Rater Field Checklist'!$M$222","v":0}]
[{"$f":"'1b. Rater Field Checklist'!$C$224","v":"Other "},{"$f":"'1b. Rater Field Checklist'!$N$224","v":0},{"$f":"'1b. Rater Field Checklist'!$M$224","v":0}]
[{"$f":"'1b. Rater Field Checklist'!$C$225","v":"11. Domestic Hot Water "},{"$f":"'1b. Rater Field Checklist'!$N$225","v":0},{"$f":"'1b. Rater Field Checklist'!$M$225","v":0}]
[{"$f":"'1b. Rater Field Checklist'!$C$226","v":"11.1 Prescriptive Path: Hot water equipment rated in EF or UEF meet the efficiency levels specified in the ENERGY STAR Multifamily Reference Design. Otherwise, meet or exceed ≥85% Et. 76"},{"$f":"'1b. Rater Field Checklist'!$N$226","v":0},{"$f":"'1b. Rater Field Checklist'!$M$226","v":0}]
[{"$f":"'1b. Rater Field Checklist'!$C$228","v":"11.2 ERI: For hot water equipment serving common spaces but not dwelling units nor shared laundry: where rated EF or UEF, meet the efficiency levels specified in the ENERGY STAR Multifamily Reference Design. Otherwise, meet or exceed 85% Et. 76"},{"$f":"'1b. Rater Field Checklist'!$N$228","v":0},{"$f":"'1b. Rater Field Checklist'!$M$228","v":0}]
[{"$f":"'1b. Rater Field Checklist'!$C$230","v":"11.3 For in-unit storage water heaters, AHRI Certificate confirms the presence of a heat trap."},{"$f":"'1b. Rater Field Checklist'!$N$230","v":0},{"$f":"'1b. Rater Field Checklist'!$M$230","v":0}]
[{"$f":"'1b. Rater Field Checklist'!$C$231","v":"11.4 DHW piping located in the dwelling unit is insulated with a minimum of R-3. 77"},{"$f":"'1b. Rater Field Checklist'!$N$231","v":0},{"$f":"'1b. Rater Field Checklist'!$M$231","v":0}]
[{"$f":"'1b. Rater Field Checklist'!$C$233","v":"11.5 Rater-measured delivery temperatures at faucets and showerheads do not exceed 125°F. 78"},{"$f":"'1b. Rater Field Checklist'!$N$233","v":0},{"$f":"'1b. Rater Field Checklist'!$M$233","v":0}]
[{"$f":"'1b. Rater Field Checklist'!$C$235","v":"12. Lighting "},{"$f":"'1b. Rater Field Checklist'!$N$235","v":0},{"$f":"'1b. Rater Field Checklist'!$M$235","v":0}]
[{"$f":"'1b. Rater Field Checklist'!$C$236","v":"12.1 Common Space 2 Lighting Controls:"},{"$f":"'1b. Rater Field Checklist'!$N$236","v":0},{"$f":"'1b. Rater Field Checklist'!$M$236","v":0}]
[{"$f":"'1b. Rater Field Checklist'!$C$238","v":" 12.1.1 ERI and Prescriptive Path: All common spaces 2 (including shared garages), except the building lobby and where automatic shutoff would endanger the safety of occupants, have occupancy sensors or automatic bi-level lighting controls installed and operation has been verified."},{"$f":"'1b. Rater Field Checklist'!$N$238","v":0},{"$f":"'1b. Rater Field Checklist'!$M$238","v":0}]
[{"$f":"'1b. Rater Field Checklist'!$C$240","v":" 12.1.2 ASHRAE Path only: All common spaces 2 (including shared garages), except the building lobby, corridors, and stairwells and where automatic shutoff would endanger the safety of occupants, have occupancy sensors or automatic bi-level lighting controls installed and operation has been verified."},{"$f":"'1b. Rater Field Checklist'!$N$240","v":0},{"$f":"'1b. Rater Field Checklist'!$M$240","v":0}]
[{"$f":"'1b. Rater Field Checklist'!$C$242","v":"12.2 Common Space 2 Lighting Power Density Maximum (except garages): 79"},{"$f":"'1b. Rater Field Checklist'!$N$242","v":0},{"$f":"'1b. Rater Field Checklist'!$M$242","v":0}]
[{"$f":"'1b. Rater Field Checklist'!$C$244","v":" 12.2.1 ERI and Prescriptive Path: Total installed lighting power for the combined common spaces 2 must not exceed ASHRAE 90.1-2007 allowances for those combined spaces, using the Space-by-Space or Building Area Method. See Footnote 80 for allowances. 80"},{"$f":"'1b. Rater Field Checklist'!$N$244","v":0},{"$f":"'1b. Rater Field Checklist'!$M$244","v":0}]
[{"$f":"'1b. Rater Field Checklist'!$C$247","v":" 12.2.2 ASHRAE Path only: Total installed lighting power for the combined common spaces 2 must not exceed ASHRAE 90.1-2007 allowances for those combined spaces, using the Space-by-Space or Building Area Method, by more than 20%. See Footnote 80 for allowances. 80"},{"$f":"'1b. Rater Field Checklist'!$N$247","v":0},{"$f":"'1b. Rater Field Checklist'!$M$247","v":0}]
[{"$f":"'1b. Rater Field Checklist'!$C$250","v":"12.3 Shared garages: Lighting power density does not exceed 0.24 W/ft2."},{"$f":"'1b. Rater Field Checklist'!$N$250","v":0},{"$f":"'1b. Rater Field Checklist'!$M$250","v":0}]
[{"$f":"'1b. Rater Field Checklist'!$C$251","v":"12.4 Exterior lighting controls: Fixtures, including parking lot fixtures, must include automatic switching on timers or photocell controls except fixtures intended for 24-hour operation, required for security, or located on dwelling unit balconies."},{"$f":"'1b. Rater Field Checklist'!$N$251","v":0},{"$f":"'1b. Rater Field Checklist'!$M$251","v":0}]
[{"$f":"'1b. Rater Field Checklist'!$C$252","v":"12.5 ERI Path: All exterior and common space lighting fixtures meet the efficiency requirements in the ENERGY STAR Multifamily Reference Design, except fixtures located on dwelling unit balconies. 81, 82"},{"$f":"'1b. Rater Field Checklist'!$N$252","v":0},{"$f":"'1b. Rater Field Checklist'!$M$252","v":0}]
[{"$f":"'1b. Rater Field Checklist'!$C$255","v":"12.6 Prescriptive Path: All lighting fixtures (i.e., dwelling units, common spaces, and exterior) meet the efficiency requirements in the ENERGY STAR Multifamily Reference Design. 81, 82"},{"$f":"'1b. Rater Field Checklist'!$N$255","v":0},{"$f":"'1b. Rater Field Checklist'!$M$255","v":0}]
[{"$f":"'1b. Rater Field Checklist'!$C$258","v":"12.7 Prescriptive Path: Dwelling unit overall in-unit lighting power density ≤ 0.75 W/ft2. When calculating overall lighting power density, use 1.1 W/ft2 where lighting is not installed. 79"},{"$f":"'1b. Rater Field Checklist'!$N$258","v":0},{"$f":"'1b. Rater Field Checklist'!$M$258","v":0}]
[{"$f":"'1b. Rater Field Checklist'!$C$260","v":"13. Appliances, Ceiling Fans, and Plumbing Fixtures "},{"$f":"'1b. Rater Field Checklist'!$N$260","v":0},{"$f":"'1b. Rater Field Checklist'!$M$260","v":0}]
[{"$f":"'1b. Rater Field Checklist'!$C$261","v":"13.1 Prescriptive Path: Installed appliances are ENERGY STAR certified. Installed bathroom faucets, bathroom aerators, and showerheads are WaterSense labeled. 83"},{"$f":"'1b. Rater Field Checklist'!$N$261","v":0},{"$f":"'1b. Rater Field Checklist'!$M$261","v":0}]
[{"$f":"'1b. Rater Field Checklist'!$C$263","v":"13.2 ERI Path: Where installed in common spaces, refrigerators and dishwashers are ENERGY STAR certified and showerheads are WaterSense labeled."},{"$f":"'1b. Rater Field Checklist'!$N$263","v":0},{"$f":"'1b. Rater Field Checklist'!$M$263","v":0}]
[{"$f":"'1b. Rater Field Checklist'!$C$264","v":"13.3 Prescriptive Path: Shower compartments with multiple fixtures cannot be operated simultaneously OR the total flow rate per shower compartment must not exceed 1.75 gallons per minute, as rated at 80 psi."},{"$f":"'1b. Rater Field Checklist'!$N$264","v":0},{"$f":"'1b. Rater Field Checklist'!$M$264","v":0}]
[{"$f":"'1b. Rater Field Checklist'!$C$265","v":"14. Whole Building Energy Consumption Data Acquisition "},{"$f":"'1b. Rater Field Checklist'!$N$265","v":0},{"$f":"'1b. Rater Field Checklist'!$M$265","v":0}]
[{"$f":"'1b. Rater Field Checklist'!$C$266","v":"14.1 For buildings 50,000 ft2 and larger, a strategy that enables the collection of monthly or annual building-level energy consumption data (electricity, natural gas, chilled water, steam, fuel oil, propane, etc.) has been confirmed. 84"},{"$f":"'1b. Rater Field Checklist'!$N$266","v":0},{"$f":"'1b. Rater Field Checklist'!$M$266","v":0}]
[]
[{"$f":"E14","v":"Final 4"}]
["Rater Design Checklist","Verification Phase","Notes/Comments"]
[{"$f":"'1b. Rater Field Checklist'!$C$16","v":"Thermal Enclosure System "},{"$f":"'1b. Rater Field Checklist'!$N$16","v":0},{"$f":"'1b. Rater Field Checklist'!$M$16","v":0}]
[{"$f":"'1b. Rater Field Checklist'!$C$17","v":"1. High-Performance Fenestration & Insulation "},{"$f":"'1b. Rater Field Checklist'!$N$17","v":0},{"$f":"'1b. Rater Field Checklist'!$M$17","v":0}]
[{"$f":"'1b. Rater Field Checklist'!$C$18","v":"1.1 Fenestration meets or exceeds specification in Items 2.1 and 2.2 of the National Rater Design Review Checklist."},{"$f":"'1b. Rater Field Checklist'!$N$18","v":"Open Wall 3"},{"$f":"'1b. Rater Field Checklist'!$M$18","v":0}]
[{"$f":"'1b. Rater Field Checklist'!$C$19","v":"1.2 Insulation meets or exceeds levels specified in Items 3.1 and 3.2 of the National Rater Design Review Checklist."},{"$f":"'1b. Rater Field Checklist'!$N$19","v":"Open Wall 3"},{"$f":"'1b. Rater Field Checklist'!$M$19","v":0}]
[{"$f":"'1b. Rater Field Checklist'!$C$20","v":"1.3 All insulation achieves Grade I install per ANSI / RESNET / ICC Std. 301. Alternatives in footnote 6. 6,7"},{"$f":"'1b. Rater Field Checklist'!$N$20","v":"Open Wall 3"},{"$f":"'1b. Rater Field Checklist'!$M$20","v":0}]
[{"$f":"'1b. Rater Field Checklist'!$C$23","v":"1.4 Prescriptive Path: Window-to-wall ratio ≤ 30%. 8"},{"$f":"'1b. Rater Field Checklist'!$N$23","v":"Open Wall 1"},{"$f":"'1b. Rater Field Checklist'!$M$23","v":0}]
[{"$f":"'1b. Rater Field Checklist'!$C$25","v":"1.5 Heated plenums in unconditioned space or ambient conditions must meet the following requirements: 9"},{"$f":"'1b. Rater Field Checklist'!$N$25","v":0},{"$f":"'1b. Rater Field Checklist'!$M$25","v":0}]
[{"$f":"'1b. Rater Field Checklist'!$C$27","v":" 1.5.1 Sides of heated plenum are an air barrier and insulated to ≥ R-3ci in CZ 1-4; ≥ R-5ci in CZ 5-6; ≥ R-7.5ci in CZ 7; ≥ R-9.5ci in CZ 8, AND;"},{"$f":"'1b. Rater Field Checklist'!$N$27","v":"Open Wall 4"},{"$f":"'1b. Rater Field Checklist'!$M$27","v":0}]
[{"$f":"'1b. Rater Field Checklist'!$C$28","v":" 1.5.2 Insulation at top of heated plenum meets or exceeds the R-value for mass floors from the “All Other” column of Table 502.2(1) of 2009 IECC, AND;"},{"$f":"'1b. Rater Field Checklist'!$N$28","v":"Open Wall 4"},{"$f":"'1b. Rater Field Checklist'!$M$28","v":0}]
[{"$f":"'1b. Rater Field Checklist'!$C$29","v":" 1.5.3 Bottom of heated plenum must have at least R-13 insulation. 10"},{"$f":"'1b. Rater Field Checklist'!$N$29","v":"Open Wall 3"},{"$f":"'1b. Rater Field Checklist'!$M$29","v":0}]
[{"$f":"'1b. Rater Field Checklist'!$C$31","v":"1.6 Garages with space heating must meet the following requirements: 9"},{"$f":"'1b. Rater Field Checklist'!$N$31","v":0},{"$f":"'1b. Rater Field Checklist'!$M$31","v":0}]
[{"$f":"'1b. Rater Field Checklist'!$C$33","v":" 1.6.1 Insulation on above grade walls and walls on the first story below grade ≥ R-5ci in CZ 5-6; ≥ R-7.5ci in CZ 7; ≥ R-9.5ci in CZ 8, AND;"},{"$f":"'1b. Rater Field Checklist'!$N$33","v":0},{"$f":"'1b. Rater Field Checklist'!$M$33","v":0}]
[{"$f":"'1b. Rater Field Checklist'!$C$34","v":" 1.6.2 Ceiling insulation meets or exceeds the R-value for mass floors from the “All Other” column of Table 502.2(1) of 2009 IECC."},{"$f":"'1b. Rater Field Checklist'!$N$34","v":0},{"$f":"'1b. Rater Field Checklist'!$M$34","v":0}]
[{"$f":"'1b. Rater Field Checklist'!$C$35","v":"2. Fully-Aligned Air Barriers 11 At each insulated location below, a complete air barrier is provided that is fully aligned as follows:"},{"$f":"'1b. Rater Field Checklist'!$N$35","v":0},{"$f":"'1b. Rater Field Checklist'!$M$35","v":0}]
[{"$f":"'1b. Rater Field Checklist'!$C$37","v":"Ceilings: At interior or exterior horizontal surface of ceiling insulation in Climate Zones 1-3; at interior horizontal surface of ceiling insulation in Climate Zones 4-8. Also, at exterior vertical surface of ceiling insulation in all climate zones (e.g., using a wind baffle that extends to the full height of the insulation in every bay or a tabbed baffle in each bay with a soffit vent that prevents wind washing in adjacent bays). 12"},{"$f":"'1b. Rater Field Checklist'!$N$37","v":0},{"$f":"'1b. Rater Field Checklist'!$M$37","v":0}]
[{"$f":"'1b. Rater Field Checklist'!$C$39","v":"2.1 Dropped ceilings / soffits below unconditioned attics, chase / dead space, and all other ceilings."},{"$f":"'1b. Rater Field Checklist'!$N$39","v":0},{"$f":"'1b. Rater Field Checklist'!$M$39","v":0}]
[{"$f":"'1b. Rater Field Checklist'!$C$40","v":"Walls: At exterior vertical surface of wall insulation in all climate zones; also at interior vertical surface of wall insulation in Climate Zones 4-8. 13"},{"$f":"'1b. Rater Field Checklist'!$N$40","v":0},{"$f":"'1b. Rater Field Checklist'!$M$40","v":0}]
[{"$f":"'1b. Rater Field Checklist'!$C$42","v":"2.2 Walls behind showers, tubs, staircases, and fireplaces."},{"$f":"'1b. Rater Field Checklist'!$N$42","v":"Open Wall 2"},{"$f":"'1b. Rater Field Checklist'!$M$42","v":0}]
[{"$f":"'1b. Rater Field Checklist'!$C$43","v":"2.3 Architectural bump-outs, dead space, and all other exterior walls."},{"$f":"'1b. Rater Field Checklist'!$N$43","v":0},{"$f":"'1b. Rater Field Checklist'!$M$43","v":0}]
[{"$f":"'1b. Rater Field Checklist'!$C$44","v":"Floors: At exterior vertical surface of floor insulation in all climate zones and, if over unconditioned space, also at interior horizontal surface including supports to ensure alignment. Alternatives in Footnotes 15 & 16. 14, 15, 16"},{"$f":"'1b. Rater Field Checklist'!$N$44","v":0},{"$f":"'1b. Rater Field Checklist'!$M$44","v":0}]
[{"$f":"'1b. Rater Field Checklist'!$C$48","v":"2.4 Floors above garages, floors above unconditioned spaces, and cantilevered floors."},{"$f":"'1b. Rater Field Checklist'!$N$48","v":0},{"$f":"'1b. Rater Field Checklist'!$M$48","v":0}]
[{"$f":"'1b. Rater Field Checklist'!$C$49","v":"2.5 All other floors adjoining unconditioned space (e.g., rim / band joists at exterior wall or at porch roof)."},{"$f":"'1b. Rater Field Checklist'!$N$49","v":0},{"$f":"'1b. Rater Field Checklist'!$M$49","v":0}]
[{"$f":"'1b. Rater Field Checklist'!$C$50","v":"3. Reduced Thermal Bridging"},{"$f":"'1b. Rater Field Checklist'!$N$50","v":0},{"$f":"'1b. Rater Field Checklist'!$M$50","v":0}]
[{"$f":"'1b. Rater Field Checklist'!$C$51","v":"3.1 For insulated ceilings with attic space above (i.e., non-cathedralized), Grade I insulation extends to the inside face of the exterior wall below and is ≥ R-21 in CZ 1-5; ≥ R-30 in CZ 6-8. 17"},{"$f":"'1b. Rater Field Checklist'!$N$51","v":0},{"$f":"'1b. Rater Field Checklist'!$M$51","v":0}]
[{"$f":"'1b. Rater Field Checklist'!$C$53","v":"3.2 For insulated ceilings with attic space above, attic access panels and drop-down stairs insulated ≥ R-10 or equipped with durable ≥ R-10 cover. 18"},{"$f":"'1b. Rater Field Checklist'!$N$53","v":0},{"$f":"'1b. Rater Field Checklist'!$M$53","v":0}]
[{"$f":"'1b. Rater Field Checklist'!$C$55","v":"3.3 Insulation beneath attic platforms (e.g., HVAC platforms, walkways) ≥ R-21 in CZ 1-5; ≥ R-30 in CZ 6-8."},{"$f":"'1b. Rater Field Checklist'!$N$55","v":0},{"$f":"'1b. Rater Field Checklist'!$M$55","v":0}]
[{"$f":"'1b. Rater Field Checklist'!$C$56","v":"3.4 For slabs on grade in CZ 4-8, 100% of slab edge insulated to ≥ R-5 at the depth specified by Table 502.2(1) of the 2009 IECC and aligned with the thermal boundary of the walls. 19, 20"},{"$f":"'1b. Rater Field Checklist'!$N$56","v":0},{"$f":"'1b. Rater Field Checklist'!$M$56","v":0}]
[{"$f":"'1b. Rater Field Checklist'!$C$59","v":"3.5 For elevated concrete slabs in CZ 4-8 (i.e., podiums and projected balconies, but not intermediate slab floor edges) 100% of the slab edge insulated to ≥ R-5. For podiums, this insulation must extend for a minimum of 8ft below the bottom of the slab edge. For columns, the insulation must surround the column, at a depth of 4ft. Alternatives in Footnote 21. 21"},{"$f":"'1b. Rater Field Checklist'!$N$59","v":0},{"$f":"'1b. Rater Field Checklist'!$M$59","v":0}]
[{"$f":"'1b. Rater Field Checklist'!$C$61","v":"3.6 For elevated concrete slabs in CZ 4-8 (i.e., podiums, but not intermediate floor slabs), floor insulation meets the U-factor specified in Table 502.1.2 of the 2009 IECC for Group R when dwelling units are above the slab, and for ‘All Other’ when common space is above the slab. 22"},{"$f":"'1b. Rater Field Checklist'!$N$61","v":0},{"$f":"'1b. Rater Field Checklist'!$M$61","v":0}]
[{"$f":"'1b. Rater Field Checklist'!$C$63","v":"3.7 At above-grade walls and rim / band joists separating conditioned space from the exterior, one of the following options used: 23, 26"},{"$f":"'1b. Rater Field Checklist'!$N$63","v":0},{"$f":"'1b. Rater Field Checklist'!$M$63","v":0}]
[{"$f":"'1b. Rater Field Checklist'!$C$66","v":" 3.7.1 Continuous rigid insulation, insulated siding, or combination of the two is ≥ R-3 in CZ 1-4; ≥ R-5 in CZ 5-8 24, 25, 26, 27; OR;"},{"$f":"'1b. Rater Field Checklist'!$N$66","v":0},{"$f":"'1b. Rater Field Checklist'!$M$66","v":0}]
[{"$f":"'1b. Rater Field Checklist'!$C$71","v":" 3.7.2 Structural Insulated Panels OR; Insulated Concrete Forms OR; Double-wall framing OR; 24, 26, 28"},{"$f":"'1b. Rater Field Checklist'!$N$71","v":0},{"$f":"'1b. Rater Field Checklist'!$M$71","v":0}]
[{"$f":"'1b. Rater Field Checklist'!$C$75","v":" 3.7.3 Option only for wood-framed walls either in CZ 1-3 OR ≤ 3 stories: ‘advanced framing’ details including all of the Items below: 26, 29"},{"$f":"'1b. Rater Field Checklist'!$N$75","v":0},{"$f":"'1b. Rater Field Checklist'!$M$75","v":0}]
[{"$f":"'1b. Rater Field Checklist'!$C$78","v":"  3.7.3a Corners insulated ≥ R-6 to edge, 30 AND;"},{"$f":"'1b. Rater Field Checklist'!$N$78","v":0},{"$f":"'1b. Rater Field Checklist'!$M$78","v":0}]
[{"$f":"'1b. Rater Field Checklist'!$C$80","v":"  3.7.3b Headers above windows & doors insulated ≥ R-3 for 2x4 framing or equivalent cavity width, and ≥ R-5 for all other assemblies (e.g., with 2x6 framing), 31 AND;"},{"$f":"'1b. Rater Field Checklist'!$N$80","v":0},{"$f":"'1b. Rater Field Checklist'!$M$80","v":0}]
[{"$f":"'1b. Rater Field Checklist'!$C$82","v":"  3.7.3c Interior / exterior wall intersections insulated to same R-value as rest of exterior wall. 32"},{"$f":"'1b. Rater Field Checklist'!$N$82","v":0},{"$f":"'1b. Rater Field Checklist'!$M$82","v":0}]
[{"$f":"'1b. Rater Field Checklist'!$C$84","v":"4. Air Sealing (Unless otherwise noted below, “sealed” indicates the use of caulk, foam, or equivalent material.)"},{"$f":"'1b. Rater Field Checklist'!$N$84","v":0},{"$f":"'1b. Rater Field Checklist'!$M$84","v":0}]
[{"$f":"'1b. Rater Field Checklist'!$C$85","v":"4.1 Ducts, flues, shafts, plumbing, piping, wiring, exhaust fans, & other penetrations to unconditioned space sealed, with blocking / flashing as needed."},{"$f":"'1b. Rater Field Checklist'!$N$85","v":0},{"$f":"'1b. Rater Field Checklist'!$M$85","v":0}]
[{"$f":"'1b. Rater Field Checklist'!$C$86","v":"4.2 Recessed lighting fixtures adjacent to unconditioned space ICAT labeled and gasketed. Also, if in insulated ceiling without attic above, exterior surface of fixture insulated to ≥ R-10 in CZ 4-8."},{"$f":"'1b. Rater Field Checklist'!$N$86","v":0},{"$f":"'1b. Rater Field Checklist'!$M$86","v":0}]
[{"$f":"'1b. Rater Field Checklist'!$C$87","v":"4.3 Continuous top plate or blocking is at top of walls adjoining unconditioned space including at balloon-framed parapets, and sealed."},{"$f":"'1b. Rater Field Checklist'!$N$87","v":0},{"$f":"'1b. Rater Field Checklist'!$M$87","v":0}]
[{"$f":"'1b. Rater Field Checklist'!$C$88","v":"4.4 Drywall sealed to top plate at all unconditioned attic / wall interfaces using caulk, foam, drywall adhesive (but not other construction adhesives), or equivalent material. Either apply sealant directly between drywall and top plate or to the seam between the two from the attic above."},{"$f":"'1b. Rater Field Checklist'!$N$88","v":0},{"$f":"'1b. Rater Field Checklist'!$M$88","v":0}]
[{"$f":"'1b. Rater Field Checklist'!$C$89","v":"4.5 Rough opening around windows & exterior doors sealed. 33"},{"$f":"'1b. Rater Field Checklist'!$N$89","v":0},{"$f":"'1b. Rater Field Checklist'!$M$89","v":0}]
[{"$f":"'1b. Rater Field Checklist'!$C$91","v":"4.6 Assemblies that separate attached garages from occupiable space sealed and, also, an air barrier installed, sealed, and aligned with these assemblies. 34"},{"$f":"'1b. Rater Field Checklist'!$N$91","v":0},{"$f":"'1b. Rater Field Checklist'!$M$91","v":0}]
[{"$f":"'1b. Rater Field Checklist'!$C$93","v":"4.7 Doors adjacent to unconditioned space (e.g., attics, garages, basements) or ambient conditions made substantially air-tight with doorsweep and weatherstripping or equivalent gasket."},{"$f":"'1b. Rater Field Checklist'!$N$93","v":0},{"$f":"'1b. Rater Field Checklist'!$M$93","v":0}]
[{"$f":"'1b. Rater Field Checklist'!$C$94","v":"4.8 Attic access panels, roof hatches and drop-down stairs are gasketed (i.e., not caulked) or equipped with durable covers that are gasketed. 18"},{"$f":"'1b. Rater Field Checklist'!$N$94","v":0},{"$f":"'1b. Rater Field Checklist'!$M$94","v":0}]
[{"$f":"'1b. Rater Field Checklist'!$C$96","v":"The following items must be additionally verified in dwelling units, to reduce air leakage between conditioned spaces."},{"$f":"'1b. Rater Field Checklist'!$N$96","v":0},{"$f":"'1b. Rater Field Checklist'!$M$96","v":0}]
[{"$f":"'1b. Rater Field Checklist'!$C$97","v":"4.9 Doors serving as a unit entrance from a corridor / stairwell made substantially air-tight with doorsweep and weatherstripping or equivalent gasket."},{"$f":"'1b. Rater Field Checklist'!$N$97","v":0},{"$f":"'1b. Rater Field Checklist'!$M$97","v":0}]
[{"$f":"'1b. Rater Field Checklist'!$C$98","v":"4.10 Rater-measured compartmentalization is no greater than 0.30 CFM50 per square feet of dwelling unit enclosure area, following procedures in ANSI / RESNET / ICC Std. 380. 35"},{"$f":"'1b. Rater Field Checklist'!$N$98","v":0},{"$f":"'1b. Rater Field Checklist'!$M$98","v":0}]
[{"$f":"'1b. Rater Field Checklist'!$C$100","v":" 4.10.1 For dwelling units with forced air distribution systems without ducted returns and located in a closet adjacent to unconditioned space, the Rater-measured pressure difference between the space containing the air handler and the conditioned space during the compartmentalization test is no greater than 5 Pa. 36"},{"$f":"'1b. Rater Field Checklist'!$N$100","v":0},{"$f":"'1b. Rater Field Checklist'!$M$100","v":0}]
[{"$f":"'1b. Rater Field Checklist'!$C$102","v":"HVAC System 37 (HVAC Design Report Item # indicated in parenthesis) "},{"$f":"'1b. Rater Field Checklist'!$N$102","v":0},{"$f":"'1b. Rater Field Checklist'!$M$102","v":0}]
[{"$f":"'1b. Rater Field Checklist'!$C$104","v":"5. Heating & Cooling Equipment – Complete Track A – HVAC Grading by Rater OR Track B – HVAC Testing by FT Agent 38"},{"$f":"'1b. Rater Field Checklist'!$N$104","v":0},{"$f":"'1b. Rater Field Checklist'!$M$104","v":0}]
[{"$f":"'1b. Rater Field Checklist'!$C$106","v":"Track A 39"},{"$f":"'1b. Rater Field Checklist'!$N$106","v":0},{"$f":"'1b. Rater Field Checklist'!$M$106","v":0}]
[{"$f":"'1b. Rater Field Checklist'!$C$108","v":"5a.1 Blower fan volumetric airflow is Grade I or II per ANSI / RESNET / ACCA Std. 310"},{"$f":"'1b. Rater Field Checklist'!$N$108","v":0},{"$f":"'1b. Rater Field Checklist'!$M$108","v":0}]
[{"$f":"'1b. Rater Field Checklist'!$C$109","v":"5a.2 Blower fan watt draw is Grade I or II per ANSI / RESNET / ACCA Std. 310"},{"$f":"'1b. Rater Field Checklist'!$N$109","v":0},{"$f":"'1b. Rater Field Checklist'!$M$109","v":0}]
[{"$f":"'1b. Rater Field Checklist'!$C$110","v":"5a.3 Refrigerant charge is Grade I per ANSI / RESNET / ACCA Std. 310. See Footnote 40 for exemptions. 40"},{"$f":"'1b. Rater Field Checklist'!$N$110","v":0},{"$f":"'1b. Rater Field Checklist'!$M$110","v":0}]
[{"$f":"'1b. Rater Field Checklist'!$C$112","v":"Track B"},{"$f":"'1b. Rater Field Checklist'!$N$112","v":0},{"$f":"'1b. Rater Field Checklist'!$M$112","v":0}]
[{"$f":"'1b. Rater Field Checklist'!$C$113","v":"5b.1 HVAC manufacturer & model number on installed equipment matches either of the following (check box): 41\n \n National HVAC Design Report (4.6-4.9 & 4.25-4.26)      Written approval received from designer"},{"$f":"'1b. Rater Field Checklist'!$N$113","v":0},{"$f":"'1b. Rater Field Checklist'!$M$113","v":0}]
[{"$f":"'1b. Rater Field Checklist'!$C$115","v":"5b.2 External static pressure measured by Rater at contractor-provided test locations and documented below: 42\n\nReturn-Side External Static Pressure: ________IWC\nSupply-Side External Static Pressure: __________IWC"},{"$f":"'1b. Rater Field Checklist'!$N$115","v":0},{"$f":"'1b. Rater Field Checklist'!$M$115","v":0}]
[{"$f":"'1b. Rater Field Checklist'!$C$117","v":"5.4 Prescriptive Path: Heating and cooling equipment serving dwelling units and common spaces meet the efficiency levels specified in the Exhibit X. Electric resistance space heating is not installed in dwelling units."},{"$f":"'1b. Rater Field Checklist'!$N$117","v":0},{"$f":"'1b. Rater Field Checklist'!$M$117","v":0}]
[{"$f":"'1b. Rater Field Checklist'!$C$118","v":"5.5 ERI Path: Heating and cooling equipment serving common spaces, but not serving dwelling units, meet the efficiency levels specified in the Exhibit X. See Exhibit X for restrictions on electric resistance space heating."},{"$f":"'1b. Rater Field Checklist'!$N$118","v":0},{"$f":"'1b. Rater Field Checklist'!$M$118","v":0}]
[{"$f":"'1b. Rater Field Checklist'!$C$119","v":"5.6 National HVAC Functional Testing Checklist(s) collected prior to certification, with all HVAC systems in the building / project fully documented. Exception: Where credentialed HVAC Contractor(s) are completing the National HVAC Functional Testing Checklist, the checklist is not required to be collected for the systems they verify. 43"},{"$f":"'1b. Rater Field Checklist'!$N$119","v":0},{"$f":"'1b. Rater Field Checklist'!$M$119","v":0}]
[{"$f":"'1b. Rater Field Checklist'!$C$121","v":"5.7 Rater has verified and documented that Functional Testing Agent(s) (“FT Agent(s)”) completing the National HVAC Functional Testing Checklist(s) hold one of the required credentials and completed orientation, if applicable. 43\n\nCredential: ______________________ “FT Agent” Company Name(s): _______________________"},{"$f":"'1b. Rater Field Checklist'!$N$121","v":0},{"$f":"'1b. Rater Field Checklist'!$M$121","v":0}]
[{"$f":"'1b. Rater Field Checklist'!$C$123","v":"Equipment Controls "},{"$f":"'1b. Rater Field Checklist'!$N$123","v":0},{"$f":"'1b. Rater Field Checklist'!$M$123","v":0}]
[{"$f":"'1b. Rater Field Checklist'!$C$124","v":"5.8 All heating and cooling systems serving a dwelling unit have thermostatic controls within the dwelling unit which are not located on exterior walls."},{"$f":"'1b. Rater Field Checklist'!$N$124","v":0},{"$f":"'1b. Rater Field Checklist'!$M$124","v":0}]
[{"$f":"'1b. Rater Field Checklist'!$C$125","v":" 5.8.1 Prescriptive Path: Dwelling unit thermostats are programmable."},{"$f":"'1b. Rater Field Checklist'!$N$125","v":0},{"$f":"'1b. Rater Field Checklist'!$M$125","v":0}]
[{"$f":"'1b. Rater Field Checklist'!$C$126","v":"5.9 Stair and elevator shaft vents equipped with motorized dampers that are capable of being automatically closed during normal building operation and are interlocked to open as required by fire and smoke detection systems. Dampers are verified to be closed at the time of inspection."},{"$f":"'1b. Rater Field Checklist'!$N$126","v":0},{"$f":"'1b. Rater Field Checklist'!$M$126","v":0}]
[{"$f":"'1b. Rater Field Checklist'!$C$127","v":"5.10 Freeze protection systems, such as heat tracing of piping and heat exchangers, including self-regulating heat tracing, and garage / plenum heaters include automatic controls that are verified to shut off the systems when pipe wall or garage / plenum temperatures are above 40°F."},{"$f":"'1b. Rater Field Checklist'!$N$127","v":0},{"$f":"'1b. Rater Field Checklist'!$M$127","v":0}]
[{"$f":"'1b. Rater Field Checklist'!$C$128","v":" 5.10.1 Where heat tracing is installed for freeze-protection, controls must be based on pipe wall temperature and a minimum of R-3 pipe insulation is also required."},{"$f":"'1b. Rater Field Checklist'!$N$128","v":0},{"$f":"'1b. Rater Field Checklist'!$M$128","v":0}]
[{"$f":"'1b. Rater Field Checklist'!$C$129","v":"5.11 Snow- and ice-melting systems include automatic controls that are verified to shut off the systems when the pavement temperature is above 50°F and no precipitation is falling, and an automatic or manual control is installed that is verified to shut off system when the outdoor temperature is above 40°F, so that the potential for snow or ice accumulation is negligible."},{"$f":"'1b. Rater Field Checklist'!$N$129","v":0},{"$f":"'1b. Rater Field Checklist'!$M$129","v":0}]
[{"$f":"'1b. Rater Field Checklist'!$C$130","v":"Hydronic Distribution "},{"$f":"'1b. Rater Field Checklist'!$N$130","v":0},{"$f":"'1b. Rater Field Checklist'!$M$130","v":0}]
[{"$f":"'1b. Rater Field Checklist'!$C$131","v":"5.12 For hydronic distribution systems, all terminal heating and cooling distribution equipment are separated from the riser or distribution loop by a control valve or terminal distribution pump, so that heated or cooled fluid is not delivered to the dwelling unit distribution equipment when there is no call from the thermostat."},{"$f":"'1b. Rater Field Checklist'!$N$131","v":0},{"$f":"'1b. Rater Field Checklist'!$M$131","v":0}]
[{"$f":"'1b. Rater Field Checklist'!$C$132","v":"5.13 Terminal units in hydronic distribution systems are equipped with pressure independent balancing valves or pressure independent control valves."},{"$f":"'1b. Rater Field Checklist'!$N$132","v":0},{"$f":"'1b. Rater Field Checklist'!$M$132","v":0}]
[{"$f":"'1b. Rater Field Checklist'!$C$133","v":"5.14 Piping of a heating or cooling system is insulated in accordance with Item 4.41 on the National HVAC Design Report, including where passing through planks or any other penetrations."},{"$f":"'1b. Rater Field Checklist'!$N$133","v":0},{"$f":"'1b. Rater Field Checklist'!$M$133","v":0}]
[{"$f":"'1b. Rater Field Checklist'!$C$134","v":"5.15 For circulating pumps serving hydronic heating or cooling systems with three-phase motors, 1 horsepower or larger, motors meet or exceed efficiency standards for NEMA Premium™ motors. If 5 horsepower or larger, also installed with variable frequency drives."},{"$f":"'1b. Rater Field Checklist'!$N$134","v":0},{"$f":"'1b. Rater Field Checklist'!$M$134","v":0}]
[{"$f":"'1b. Rater Field Checklist'!$C$135","v":"6. Duct Quality Installation - Applies to Heating, Cooling, Ventilation, Exhaust, & Pressure Balancing Ducts, Unless Noted in Footnote."},{"$f":"'1b. Rater Field Checklist'!$N$135","v":0},{"$f":"'1b. Rater Field Checklist'!$M$135","v":0}]
[{"$f":"'1b. Rater Field Checklist'!$C$136","v":"6.1 Ductwork installed without kinks, sharp bends, compressions, or excessive coiled flexible ductwork. 45"},{"$f":"'1b. Rater Field Checklist'!$N$136","v":0},{"$f":"'1b. Rater Field Checklist'!$M$136","v":0}]
[{"$f":"'1b. Rater Field Checklist'!$C$138","v":"6.2 Bedrooms with a design supply airflow ≥ 150 CFM (per Item 5.2 on the National HVAC Design Report) pressure-balanced (e.g., using transfer grilles, jump ducts, dedicated return ducts, undercut doors) to achieve a Rater-measured pressure differential ≥ -5 Pa and ≤ +5 Pa with respect to the main body of the dwelling unit when all air handlers are operating. See Footnote 46 for test configuration. 46"},{"$f":"'1b. Rater Field Checklist'!$N$138","v":0},{"$f":"'1b. Rater Field Checklist'!$M$138","v":0}]
[{"$f":"'1b. Rater Field Checklist'!$C$140","v":"6.3 All supply and return ducts in unconditioned space, including connections to trunk ducts, are insulated to ≥ R-6. 47"},{"$f":"'1b. Rater Field Checklist'!$N$140","v":0},{"$f":"'1b. Rater Field Checklist'!$M$140","v":0}]
[{"$f":"'1b. Rater Field Checklist'!$C$142","v":" 6.3.1 Prescriptive Path: Dwelling unit ductwork meets the location and insulation requirements specified in the ENERGY STAR Multifamily Reference Design."},{"$f":"'1b. Rater Field Checklist'!$N$142","v":0},{"$f":"'1b. Rater Field Checklist'!$M$142","v":0}]
[{"$f":"'1b. Rater Field Checklist'!$C$143","v":"6.4 Rater-measured total duct leakage in dwelling units meets one of the following two options: 48, 49"},{"$f":"'1b. Rater Field Checklist'!$N$143","v":0},{"$f":"'1b. Rater Field Checklist'!$M$143","v":0}]
[{"$f":"'1b. Rater Field Checklist'!$C$146","v":" 6.4.1 Rough-in: Tested per allowances below, with air handler & all ducts, building cavities used as ducts, & duct boots installed. In addition, all duct boots sealed to finished surface, Rater-verified at final. 50\n\nNo ducted returns 36: The greater of ≤ 3 CFM25 per 100 sq. ft. of CFA or ≤ 30 CFM. Additionally, the Rater-measured pressure difference between the space containing the air handler and the conditioned space, with the air handler running at high speed, is ≤ 5 Pa. For systems > 1 ton, increase by 1 Pa per half ton.\n\nOne or two ducted returns 36: The greater of ≤ 4 CFM25 per 100 sq. ft. of CFA or ≤ 40 CFM.\n\nThree or more ducted returns 36 : The greater of ≤ 6 CFM25 per 100 sq. ft. of CFA or ≤ 60 CFM."},{"$f":"'1b. Rater Field Checklist'!$N$146","v":0},{"$f":"'1b. Rater Field Checklist'!$M$146","v":0}]
[{"$f":"'1b. Rater Field Checklist'!$C$149","v":" 6.4.2 Final: Tested per allowances below, with the air handler & all ducts, building cavities used as ducts, duct boots, & register grilles atop the finished surface (e.g., drywall, floor) installed. 51\n\nNo ducted returns 36: The greater of ≤ 6 CFM25 per 100 sq. ft. of CFA or ≤ 60 CFM. Additionally, the Rater-measured pressure difference between the space containing the air handler and the conditioned space, with the air handler running at high speed, is ≤ 5 Pa. For systems > 1 ton, increase by 1 Pa per half ton.\n\nOne or two ducted returns 36: The greater of ≤ 8 CFM25 per 100 sq. ft. of CFA or ≤ 80 CFM.\n\nThree or more ducted returns 36 : The greater of ≤ 12 CFM25 per 100 sq. ft. of CFA or ≤ 120 CFM."},{"$f":"'1b. Rater Field Checklist'!$N$149","v":0},{"$f":"'1b. Rater Field Checklist'!$M$149","v":0}]
[{"$f":"'1b. Rater Field Checklist'!$C$152","v":"6.5 Townhouses only: Rater-measured duct leakage to the outside the greater of ≤ 4 CFM25 per 100 sq. ft. of CFA or ≤ 40 CFM25. 48, 52"},{"$f":"'1b. Rater Field Checklist'!$N$152","v":0},{"$f":"'1b. Rater Field Checklist'!$M$152","v":0}]
[{"$f":"'1b. Rater Field Checklist'!$C$155","v":"6.6 Common Space: Supply, return, and exhaust ductwork and all plenums serving common spaces are sealed at all transverse joints, longitudinal seams, and duct wall penetrations with mastic, mastic tape, or internal aerosol-based sealant."},{"$f":"'1b. Rater Field Checklist'!$N$155","v":0},{"$f":"'1b. Rater Field Checklist'!$M$155","v":0}]
[{"$f":"'1b. Rater Field Checklist'!$C$156","v":"6.7 Duct leakage of central exhaust systems that serve four or more dwelling units, meets one of the following two options:"},{"$f":"'1b. Rater Field Checklist'!$N$156","v":0},{"$f":"'1b. Rater Field Checklist'!$M$156","v":0}]
[{"$f":"'1b. Rater Field Checklist'!$C$157","v":" 6.7.1 Rough-in: Tested including horizontal run outs, trunks, branches, and take-offs up to, but not including, the grilles, the leakage does not exceed 25% of exhaust fan flow. 53"},{"$f":"'1b. Rater Field Checklist'!$N$157","v":0},{"$f":"'1b. Rater Field Checklist'!$M$157","v":0}]
[{"$f":"'1b. Rater Field Checklist'!$C$159","v":" 6.7.2 Final: Tested inclusive of all ductwork between the fan and the grilles, the leakage does not exceed 30% of exhaust fan flow. 53"},{"$f":"'1b. Rater Field Checklist'!$N$159","v":0},{"$f":"'1b. Rater Field Checklist'!$M$159","v":0}]
[{"$f":"'1b. Rater Field Checklist'!$C$161","v":"7. Dwelling-Unit & Common Space Mechanical Vent. Systems (\"Vent Systems\") 54 & Inlets in Return Duct 55\n(National HVAC Design Report Item # indicated in parenthesis)"},{"$f":"'1b. Rater Field Checklist'!$N$161","v":0},{"$f":"'1b. Rater Field Checklist'!$M$161","v":0}]
[{"$f":"'1b. Rater Field Checklist'!$C$164","v":"7.1 Ventilation manufacturer & model number on installed equipment matches either of the following (check box): 41\n\n National HVAC Design Report           Written approval received from designer"},{"$f":"'1b. Rater Field Checklist'!$N$164","v":0},{"$f":"'1b. Rater Field Checklist'!$M$164","v":0}]
[{"$f":"'1b. Rater Field Checklist'!$C$166","v":"7.2 Rater-measured ventilation rate is within either ± 15 CFM or ± 15% of dwelling unit design values (2.7), and meets or exceeds rates required by ASHRAE 62.2-2010. 56"},{"$f":"'1b. Rater Field Checklist'!$N$166","v":0},{"$f":"'1b. Rater Field Checklist'!$M$166","v":0}]
[{"$f":"'1b. Rater Field Checklist'!$C$168","v":"7.3 Measured ventilation rate is within either ± 15 CFM or ± 15 % of common space design values (2.9), and meets or exceeds rates required by ASHRAE 62.1-2010 (2.8). 57"},{"$f":"'1b. Rater Field Checklist'!$N$168","v":0},{"$f":"'1b. Rater Field Checklist'!$M$168","v":0}]
[{"$f":"'1b. Rater Field Checklist'!$C$170","v":"7.4 A ventilation override control installed and also labeled if its function is not obvious (e.g., a label is required for a standalone wall switch, but not for a switch that’s on the ventilation equipment). Townhouses only: A readily-accessible ventilation override control installed and also labeled if its function is not obvious (e.g., a label is required for a toggle wall switch, but not for a switch that’s on the ventilation equipment)."},{"$f":"'1b. Rater Field Checklist'!$N$170","v":0},{"$f":"'1b. Rater Field Checklist'!$M$170","v":0}]
[{"$f":"'1b. Rater Field Checklist'!$C$171","v":"7.5 For any outdoor air inlet connected to a ducted return of the dwelling unit HVAC system (Complete if present; otherwise check “N/A”): 55"},{"$f":"'1b. Rater Field Checklist'!$N$171","v":0},{"$f":"'1b. Rater Field Checklist'!$M$171","v":0}]
[{"$f":"'1b. Rater Field Checklist'!$C$177","v":"7.6 If located in the dwelling unit, system fan rated ≤ 3 sones if intermittent and ≤ 2 sone if continuous, or exempted. 60"},{"$f":"'1b. Rater Field Checklist'!$N$177","v":0},{"$f":"'1b. Rater Field Checklist'!$M$177","v":0}]
[{"$f":"'1b. Rater Field Checklist'!$C$179","v":"7.7 If dwelling-unit Vent System controller operates the dwelling unit HVAC fan, then HVAC fan operation is intermittent and either the fan type is ECM / ICM (4.12), or the controls will reduce the run-time by accounting for HVAC system heating or cooling hours. 61"},{"$f":"'1b. Rater Field Checklist'!$N$179","v":0},{"$f":"'1b. Rater Field Checklist'!$M$179","v":0}]
[{"$f":"'1b. Rater Field Checklist'!$C$181","v":"7.8 In-unit bathroom fans or in-line fans are ENERGY STAR certified if used as part of the dwelling-unit mechanical ventilation system. 62"},{"$f":"'1b. Rater Field Checklist'!$N$181","v":0},{"$f":"'1b. Rater Field Checklist'!$M$181","v":0}]
[{"$f":"'1b. Rater Field Checklist'!$C$183","v":"7.9 If central exhaust fans, ≤ 1 HP, are installed as part of the dwelling-unit mechanical ventilation system, then they are direct-drive, ECM, with variable speed controllers. If > 1 HP, they are installed with NEMATM Premium Motors."},{"$f":"'1b. Rater Field Checklist'!$N$183","v":0},{"$f":"'1b. Rater Field Checklist'!$M$183","v":0}]
[{"$f":"'1b. Rater Field Checklist'!$C$184","v":"7.10 Air inlet locations (Complete if ventilation air inlet locations were installed (2.22, 2.23); otherwise check “N/A”): 63, 64"},{"$f":"'1b. Rater Field Checklist'!$N$184","v":0},{"$f":"'1b. Rater Field Checklist'!$M$184","v":0}]
[{"$f":"'1b. Rater Field Checklist'!$C$187","v":" 7.10.1 Inlet(s) pull ventilation air directly from outdoors and not from attic, crawlspace, garage, or adjacent dwelling unit."},{"$f":"'1b. Rater Field Checklist'!$N$187","v":0},{"$f":"'1b. Rater Field Checklist'!$M$187","v":0}]
[{"$f":"'1b. Rater Field Checklist'!$C$188","v":" 7.10.2 Inlet(s) are ≥ 2 ft. above grade or roof deck; ≥ 10 ft. of stretched-string distance from known contamination sources not exiting the roof, and ≥ 3 ft. distance from dryer exhausts and sources exiting the roof. 65"},{"$f":"'1b. Rater Field Checklist'!$N$188","v":0},{"$f":"'1b. Rater Field Checklist'!$M$188","v":0}]
[{"$f":"'1b. Rater Field Checklist'!$C$191","v":"8. Local Mechanical Exhaust (National HVAC Design Report Item # indicated in parenthesis)"},{"$f":"'1b. Rater Field Checklist'!$N$191","v":0},{"$f":"'1b. Rater Field Checklist'!$M$191","v":0}]
[{"$f":"'1b. Rater Field Checklist'!$C$192","v":"Dwelling Unit Mechanical exhaust - In each dwelling unit kitchen and bathroom, a system is installed that exhausts directly to the outdoors and meets one of the following Rater-measured airflow and manufacturer-rated sound level standards: 54, 66"},{"$f":"'1b. Rater Field Checklist'!$N$192","v":0},{"$f":"'1b. Rater Field Checklist'!$M$192","v":0}]
[{"$f":"'1b. Rater Field Checklist'!$C$195","v":"Location "},{"$f":"'1b. Rater Field Checklist'!$N$195","v":0},{"$f":"'1b. Rater Field Checklist'!$M$195","v":0}]
[{"$f":"'1b. Rater Field Checklist'!$C$196","v":"8.1 Kitchen\nAirflow\nContinuous Rate:  ≥ 5 ACH, based on kitchen volume 68, 69\nIntermittent Rate 67: ≥ 100 CFM and, if not integrated with range, also ≥ 5 ACH based on kitchen volume 68, 69, 70\n\nSound\nContinuous Rate: Recommended: ≤ 1 sone\nIntermittent Rate 67:  Recommended: ≤ 3 sones"},{"$f":"'1b. Rater Field Checklist'!$N$196","v":0},{"$f":"'1b. Rater Field Checklist'!$M$196","v":0}]
[{"$f":"'1b. Rater Field Checklist'!$C$201","v":"8.2 Bathroom\nAirflow\nContinuous Rate:  ≥ 20 CFM\nIntermittent Rate 67: ≥ 50 CFM\n\nSound\nContinuous Rate: Required: ≤ 2 sones\nIntermittent Rate 67:  Recommended: ≤ 3 sones"},{"$f":"'1b. Rater Field Checklist'!$N$201","v":0},{"$f":"'1b. Rater Field Checklist'!$M$201","v":0}]
[{"$f":"'1b. Rater Field Checklist'!$C$203","v":"Mechanical Exhaust for Common Spaces 2 and Shared Garages "},{"$f":"'1b. Rater Field Checklist'!$N$203","v":0},{"$f":"'1b. Rater Field Checklist'!$M$203","v":0}]
[{"$f":"'1b. Rater Field Checklist'!$C$205","v":"8.3 Measured exhaust rates are  ≥ ASHRAE 62.1 rates (2c). 57"},{"$f":"'1b. Rater Field Checklist'!$N$205","v":0},{"$f":"'1b. Rater Field Checklist'!$M$205","v":0}]
[{"$f":"'1b. Rater Field Checklist'!$C$207","v":"8.4 Where an exhaust system is installed in a shared garage, it is equipped with controls that sense CO and NO2."},{"$f":"'1b. Rater Field Checklist'!$N$207","v":0},{"$f":"'1b. Rater Field Checklist'!$M$207","v":0}]
[{"$f":"'1b. Rater Field Checklist'!$C$208","v":"9. Filtration "},{"$f":"'1b. Rater Field Checklist'!$N$208","v":0},{"$f":"'1b. Rater Field Checklist'!$M$208","v":0}]
[{"$f":"'1b. Rater Field Checklist'!$C$209","v":"9.1 MERV 6+ filter(s) installed in each ducted mechanical system serving an individual dwelling unit and located to facilitate access & regular service by the occupant or building owner. 71"},{"$f":"'1b. Rater Field Checklist'!$N$209","v":0},{"$f":"'1b. Rater Field Checklist'!$M$209","v":0}]
[{"$f":"'1b. Rater Field Checklist'!$C$211","v":" 9.1.1 Filter access panel includes gasket and fits snugly against the exposed edge of filter when closed to prevent bypass. 72"},{"$f":"'1b. Rater Field Checklist'!$N$211","v":0},{"$f":"'1b. Rater Field Checklist'!$M$211","v":0}]
[{"$f":"'1b. Rater Field Checklist'!$C$213","v":" 9.1.2 All return air and mechanically supplied outdoor air passes through filter prior to conditioning."},{"$f":"'1b. Rater Field Checklist'!$N$213","v":0},{"$f":"'1b. Rater Field Checklist'!$M$213","v":0}]
[{"$f":"'1b. Rater Field Checklist'!$C$214","v":"10. Combustion Appliances "},{"$f":"'1b. Rater Field Checklist'!$N$214","v":0},{"$f":"'1b. Rater Field Checklist'!$M$214","v":0}]
[{"$f":"'1b. Rater Field Checklist'!$C$215","v":"10.1 Furnaces, boilers, and water heaters located within the building’s pressure boundary are mechanically drafted or direct-vented. If mechanically drafted, the minimum volume of combustion air required for safe operation by the manufacturer and/or code shall be met or exceeded and make-up air sources must be mechanically closed when the combustion appliance is not in operation. Alternatives in Footnote 75. 73, 74, 75"},{"$f":"'1b. Rater Field Checklist'!$N$215","v":0},{"$f":"'1b. Rater Field Checklist'!$M$215","v":0}]
[{"$f":"'1b. Rater Field Checklist'!$C$219","v":"10.2 Fireplaces located within the building’s pressure boundary are direct-vented. 73, 74"},{"$f":"'1b. Rater Field Checklist'!$N$219","v":0},{"$f":"'1b. Rater Field Checklist'!$M$219","v":0}]
[{"$f":"'1b. Rater Field Checklist'!$C$222","v":"10.3 No unvented combustion appliances other than cooking ranges or ovens are located inside the building’s pressure boundary. For cooking ranges and ovens, local mechanical exhaust per Checklist Item 8.1 requirements must be met. 73"},{"$f":"'1b. Rater Field Checklist'!$N$222","v":0},{"$f":"'1b. Rater Field Checklist'!$M$222","v":0}]
[{"$f":"'1b. Rater Field Checklist'!$C$224","v":"Other "},{"$f":"'1b. Rater Field Checklist'!$N$224","v":0},{"$f":"'1b. Rater Field Checklist'!$M$224","v":0}]
[{"$f":"'1b. Rater Field Checklist'!$C$225","v":"11. Domestic Hot Water "},{"$f":"'1b. Rater Field Checklist'!$N$225","v":0},{"$f":"'1b. Rater Field Checklist'!$M$225","v":0}]
[{"$f":"'1b. Rater Field Checklist'!$C$226","v":"11.1 Prescriptive Path: Hot water equipment rated in EF or UEF meet the efficiency levels specified in the ENERGY STAR Multifamily Reference Design. Otherwise, meet or exceed ≥85% Et. 76"},{"$f":"'1b. Rater Field Checklist'!$N$226","v":0},{"$f":"'1b. Rater Field Checklist'!$M$226","v":0}]
[{"$f":"'1b. Rater Field Checklist'!$C$228","v":"11.2 ERI: For hot water equipment serving common spaces but not dwelling units nor shared laundry: where rated EF or UEF, meet the efficiency levels specified in the ENERGY STAR Multifamily Reference Design. Otherwise, meet or exceed 85% Et. 76"},{"$f":"'1b. Rater Field Checklist'!$N$228","v":0},{"$f":"'1b. Rater Field Checklist'!$M$228","v":0}]
[{"$f":"'1b. Rater Field Checklist'!$C$230","v":"11.3 For in-unit storage water heaters, AHRI Certificate confirms the presence of a heat trap."},{"$f":"'1b. Rater Field Checklist'!$N$230","v":0},{"$f":"'1b. Rater Field Checklist'!$M$230","v":0}]
[{"$f":"'1b. Rater Field Checklist'!$C$231","v":"11.4 DHW piping located in the dwelling unit is insulated with a minimum of R-3. 77"},{"$f":"'1b. Rater Field Checklist'!$N$231","v":0},{"$f":"'1b. Rater Field Checklist'!$M$231","v":0}]
[{"$f":"'1b. Rater Field Checklist'!$C$233","v":"11.5 Rater-measured delivery temperatures at faucets and showerheads do not exceed 125°F. 78"},{"$f":"'1b. Rater Field Checklist'!$N$233","v":0},{"$f":"'1b. Rater Field Checklist'!$M$233","v":0}]
[{"$f":"'1b. Rater Field Checklist'!$C$235","v":"12. Lighting "},{"$f":"'1b. Rater Field Checklist'!$N$235","v":0},{"$f":"'1b. Rater Field Checklist'!$M$235","v":0}]
[{"$f":"'1b. Rater Field Checklist'!$C$236","v":"12.1 Common Space 2 Lighting Controls:"},{"$f":"'1b. Rater Field Checklist'!$N$236","v":0},{"$f":"'1b. Rater Field Checklist'!$M$236","v":0}]
[{"$f":"'1b. Rater Field Checklist'!$C$238","v":" 12.1.1 ERI and Prescriptive Path: All common spaces 2 (including shared garages), except the building lobby and where automatic shutoff would endanger the safety of occupants, have occupancy sensors or automatic bi-level lighting controls installed and operation has been verified."},{"$f":"'1b. Rater Field Checklist'!$N$238","v":0},{"$f":"'1b. Rater Field Checklist'!$M$238","v":0}]
[{"$f":"'1b. Rater Field Checklist'!$C$240","v":" 12.1.2 ASHRAE Path only: All common spaces 2 (including shared garages), except the building lobby, corridors, and stairwells and where automatic shutoff would endanger the safety of occupants, have occupancy sensors or automatic bi-level lighting controls installed and operation has been verified."},{"$f":"'1b. Rater Field Checklist'!$N$240","v":0},{"$f":"'1b. Rater Field Checklist'!$M$240","v":0}]
[{"$f":"'1b. Rater Field Checklist'!$C$242","v":"12.2 Common Space 2 Lighting Power Density Maximum (except garages): 79"},{"$f":"'1b. Rater Field Checklist'!$N$242","v":0},{"$f":"'1b. Rater Field Checklist'!$M$242","v":0}]
[{"$f":"'1b. Rater Field Checklist'!$C$244","v":" 12.2.1 ERI and Prescriptive Path: Total installed lighting power for the combined common spaces 2 must not exceed ASHRAE 90.1-2007 allowances for those combined spaces, using the Space-by-Space or Building Area Method. See Footnote 80 for allowances. 80"},{"$f":"'1b. Rater Field Checklist'!$N$244","v":0},{"$f":"'1b. Rater Field Checklist'!$M$244","v":0}]
[{"$f":"'1b. Rater Field Checklist'!$C$247","v":" 12.2.2 ASHRAE Path only: Total installed lighting power for the combined common spaces 2 must not exceed ASHRAE 90.1-2007 allowances for those combined spaces, using the Space-by-Space or Building Area Method, by more than 20%. See Footnote 80 for allowances. 80"},{"$f":"'1b. Rater Field Checklist'!$N$247","v":0},{"$f":"'1b. Rater Field Checklist'!$M$247","v":0}]
[{"$f":"'1b. Rater Field Checklist'!$C$250","v":"12.3 Shared garages: Lighting power density does not exceed 0.24 W/ft2."},{"$f":"'1b. Rater Field Checklist'!$N$250","v":0},{"$f":"'1b. Rater Field Checklist'!$M$250","v":0}]
[{"$f":"'1b. Rater Field Checklist'!$C$251","v":"12.4 Exterior lighting controls: Fixtures, including parking lot fixtures, must include automatic switching on timers or photocell controls except fixtures intended for 24-hour operation, required for security, or located on dwelling unit balconies."},{"$f":"'1b. Rater Field Checklist'!$N$251","v":0},{"$f":"'1b. Rater Field Checklist'!$M$251","v":0}]
[{"$f":"'1b. Rater Field Checklist'!$C$252","v":"12.5 ERI Path: All exterior and common space lighting fixtures meet the efficiency requirements in the ENERGY STAR Multifamily Reference Design, except fixtures located on dwelling unit balconies. 81, 82"},{"$f":"'1b. Rater Field Checklist'!$N$252","v":0},{"$f":"'1b. Rater Field Checklist'!$M$252","v":0}]
[{"$f":"'1b. Rater Field Checklist'!$C$255","v":"12.6 Prescriptive Path: All lighting fixtures (i.e., dwelling units, common spaces, and exterior) meet the efficiency requirements in the ENERGY STAR Multifamily Reference Design. 81, 82"},{"$f":"'1b. Rater Field Checklist'!$N$255","v":0},{"$f":"'1b. Rater Field Checklist'!$M$255","v":0}]
[{"$f":"'1b. Rater Field Checklist'!$C$258","v":"12.7 Prescriptive Path: Dwelling unit overall in-unit lighting power density ≤ 0.75 W/ft2. When calculating overall lighting power density, use 1.1 W/ft2 where lighting is not installed. 79"},{"$f":"'1b. Rater Field Checklist'!$N$258","v":0},{"$f":"'1b. Rater Field Checklist'!$M$258","v":0}]
[{"$f":"'1b. Rater Field Checklist'!$C$260","v":"13. Appliances, Ceiling Fans, and Plumbing Fixtures "},{"$f":"'1b. Rater Field Checklist'!$N$260","v":0},{"$f":"'1b. Rater Field Checklist'!$M$260","v":0}]
[{"$f":"'1b. Rater Field Checklist'!$C$261","v":"13.1 Prescriptive Path: Installed appliances are ENERGY STAR certified. Installed bathroom faucets, bathroom aerators, and showerheads are WaterSense labeled. 83"},{"$f":"'1b. Rater Field Checklist'!$N$261","v":0},{"$f":"'1b. Rater Field Checklist'!$M$261","v":0}]
[{"$f":"'1b. Rater Field Checklist'!$C$263","v":"13.2 ERI Path: Where installed in common spaces, refrigerators and dishwashers are ENERGY STAR certified and showerheads are WaterSense labeled."},{"$f":"'1b. Rater Field Checklist'!$N$263","v":0},{"$f":"'1b. Rater Field Checklist'!$M$263","v":0}]
[{"$f":"'1b. Rater Field Checklist'!$C$264","v":"13.3 Prescriptive Path: Shower compartments with multiple fixtures cannot be operated simultaneously OR the total flow rate per shower compartment must not exceed 1.75 gallons per minute, as rated at 80 psi."},{"$f":"'1b. Rater Field Checklist'!$N$264","v":0},{"$f":"'1b. Rater Field Checklist'!$M$264","v":0}]
[{"$f":"'1b. Rater Field Checklist'!$C$265","v":"14. Whole Building Energy Consumption Data Acquisition "},{"$f":"'1b. Rater Field Checklist'!$N$265","v":0},{"$f":"'1b. Rater Field Checklist'!$M$265","v":0}]
[{"$f":"'1b. Rater Field Checklist'!$C$266","v":"14.1 For buildings 50,000 ft2 and larger, a strategy that enables the collection of monthly or annual building-level energy consumption data (electricity, natural gas, chilled water, steam, fuel oil, propane, etc.) has been confirmed. 84"},{"$f":"'1b. Rater Field Checklist'!$N$266","v":0},{"$f":"'1b. Rater Field Checklist'!$M$266","v":0}]

{"sheet":"1a. Rater Design Checklist","index":6,"n_rows":119,"n_cols":11,"rows_kept":119,"cut":false,"hidden":false,"merged":[[126,3,126,4],[118,3,118,4],[0,4,0,5],[6,2,6,5],[117,5,117,6],[118,5,118,6],[117,3,117,4],[120,3,120,4],[123,3,123,4]]}
["\n\n\n\n",null,null,null,"Prescriptive"]
[]
["\n\n","Project Name:",{"$f":"IF('Project Information'!C5:D5=\"\",\"\",'Project Information'!C5:D5)","v":"Smith Crossing"},"Number of Units:",{"$f":"IF('Project Information'!$F$11=\"\",\"\",'Project Information'!$F$11)","v":50},"Permit Date:",{"$f":"IF('Project Information'!G5:H5=\"\",\"\",'Project Information'!G5:H5)","v":"2020-06-25"}]
["\n\n","Project Address:",{"$f":"IF('Project Information'!C6:D6=\"\",\"\",'Project Information'!C6:D6)","v":"3248 Huger Street"},"City:",{"$f":"IF('Project Information'!F6=\"\",\"\",'Project Information'!F6)","v":"Columbia"},"State:",{"$f":"IF('Project Information'!H6=\"\",\"\",'Project Information'!H6)","v":"SC"}]
[]
[]
[null,null,"Rater Design Review Checklist 1"]
[null,null," ","Must Correct","Rater 4 Verified","Comments","Column1","Pathway Tag","Required Fields","Field Type","Additional Columns"]
[null,null," 1. Partnership Status ",null,null,null,null,"All","Required","Section Header"]
[null,null,"\n\nFootnote 1. This Checklist applies to all dwelling units, sleeping units, common spaces 2, and garages (open or enclosed) in the building being certified, and where speciified, parking lots. These requirements do not apply to parking garages or lots where the cost of the energy use of the parking garage or lot is not the responsibility of the Builder/Developer, Building Owner, or Property Manager. This Checklist does not apply to commercial or retail spaces.  This Checklist does not apply to common spaces that are located in buildings on the property without any dwelling or sleeping units. The term ‘sleeping unit’ refers to a room or space in which people sleep, which can also include permanent provisions for living, eating, and either sanitation or kitchen facilities but not both. Where the term ‘dwelling unit’ is used in this Checklist, the requirement is also required of ‘sleeping’ units. The term ‘building’ refers to a structure utilized or intended for supporting or sheltering occupancy for a residential purpose; a structure with no dwelling or sleeping units connected to a structure with dwelling or sleeping units by less than 10% of its exterior wall area is not to be included in the ‘building’.",null,null,null,null,"All","Required","Footnote 1 - Checklist"]
[null,null,"Footnote 4. The term ‘Rater’ refers to the person(s) completing the third-party verification required for certification. The person(s) shall: a) be a Certified Rater, Approved Inspector, as defined by ANSI / RESNET / IECC Standard 301, or an equivalent designation as determined by an HCO or MRO; and, b) have attended and successfully completed an EPA-recognized training class. See www.energystar.gov/mftraining.",null,null,null,null,"All","Required","Footnote 4 - Checklist"]
[null,null,"1.1 Rater has verified and documented that builder or developer has an ENERGY STAR partnership agreement using www.energystar.gov/partnerlocator.\n\nBuilder Name: __________________________\nDeveloper Name: _______________________",null,"X",null,null,"All","Required","Checklist"]
[null,null,"1.2 ASHRAE Only: Rater has verified that modeler is listed in the online directory using www.energystar.gov/ASHRAEdirectory.\n\nModeler name: ________________________________ (Not required for projects in California)",null,null,null,null,"ASHRAE","Required","Checklist"]
[null,null,"2. High-Performance Fenestration ",null,null,null,null,"All","Required","Section Header"]
[null,null,"2.1 Dwelling units: ",null,null,null,null,"All","Required","Checklist"]
[null,null," 2.1.1 Prescriptive: Specified fenestration meets or exceeds ENERGY STAR MF Reference Design requirements. 5\n",null,"X",null,null,"Prescriptive","Required","Checklist"]
[null,null,"Footnote 5. All windows, doors and skylights must meet or exceed the U-factor and SHGC requirements specified in the table below. If no NFRC rating is noted on the window or in product literature (e.g., for site-built fenestration), select the U-factor and SHGC value from Tables 4 and 10, respectively, in 2013 ASHRAE Handbook of Fundamentals, Chapter 15. Select the highest U-factor and SHGC value among the values listed for the known window characteristics (e.g., frame type, number of panes, glass color, and presence of low-e coating). Note that the U-factor requirement applies to all fenestration while the SHGC only applies to the glazed portion.\n\nSEE TABLE IN Tab 6. Fenestration\n\nThe following exemptions apply:\ni. An area-weighted average of fenestration products shall be permitted to satisfy the U-factor requirements;\nii. An area-weighted average of fenestration products ≥ 50% glazed shall be permitted to satisfy the SHGC requirements; and\niii. 5% of all combined fenestration area (glazed and opaque) shall be exempt from the U-factor and SHGC requirements, and shall be excluded from area-weighted averages calculated using i) and ii), above. \nIn PHIUS+ or PHI certified buildings, where triple-glazed window assemblies with thermal breaks / spacers between the panes are used, such windows meet the intent of Items 2.1 and 2.2 and shall be excluded when assessing compliance of i) through iii), above.",null,null,null,null,"Prescriptive","Required","Footnote 5 - 2.1.1"]
[null,null," 2.1.2 ERI and ASHRAE Only: Specified fenestration meets or exceeds 2009 IECC residential requirements. 5\n",null,null,null,null,"ERI, ASHRAE","Required","Checklist"]
[null,null,"Footnote 5. All windows, doors and skylights must meet or exceed the U-factor and SHGC requirements specified in the table below. If no NFRC rating is noted on the window or in product literature (e.g., for site-built fenestration), select the U-factor and SHGC value from Tables 4 and 10, respectively, in 2013 ASHRAE Handbook of Fundamentals, Chapter 15. Select the highest U-factor and SHGC value among the values listed for the known window characteristics (e.g., frame type, number of panes, glass color, and presence of low-e coating). Note that the U-factor requirement applies to all fenestration while the SHGC only applies to the glazed portion.\n\nSEE TABLE IN Tab 6. Fenestration\n\nThe following exemptions apply:\ni. An area-weighted average of fenestration products shall be permitted to satisfy the U-factor requirements;\nii. An area-weighted average of fenestration products ≥ 50% glazed shall be permitted to satisfy the SHGC requirements; and\niii. 5% of all combined fenestration area (glazed and opaque) shall be exempt from the U-factor and SHGC requirements, and shall be excluded from area-weighted averages calculated using i) and ii), above. \nIn PHIUS+ or PHI certified buildings, where triple-glazed window assemblies with thermal breaks / spacers between the panes are used, such windows meet the intent of Items 2.1 and 2.2 and shall be excluded when assessing compliance of i) through iii), above.",null,null,null,null,"ERI, ASHRAE","Required","Footnote 5 - 2.1.2"]
[null,null,"2.2 Common space: 2\n",null,null,null,null,"All","Required","Checklist"]
[null,null,"\n\nFootnote 2. The term ‘common space’ refers to any spaces in the building being certified that serve a function in support of the residential part of the building that is not part of a dwelling or sleeping unit.  This includes spaces used by residents, such as corridors, stairs, lobbies, laundry rooms, exercise rooms, residential recreation rooms, and dining halls, as well as offices and other spaces used by building management, administration or maintenance in support of support the residents.",null,null,null,null,"All","Required","Footnote 2 - 2.2"]
[null,null," 2.2.1 ERI and Prescriptive: Specified fenestration meets or exceeds ENERGY STAR MF Reference Design requirements. 5\n",null,"X",null,null,"ERI, Prescriptive","Required","Checklist"]
[null,null,"Footnote 5. All windows, doors and skylights must meet or exceed the U-factor and SHGC requirements specified in the table below. If no NFRC rating is noted on the window or in product literature (e.g., for site-built fenestration), select the U-factor and SHGC value from Tables 4 and 10, respectively, in 2013 ASHRAE Handbook of Fundamentals, Chapter 15. Select the highest U-factor and SHGC value among the values listed for the known window characteristics (e.g., frame type, number of panes, glass color, and presence of low-e coating). Note that the U-factor requirement applies to all fenestration while the SHGC only applies to the glazed portion.\n\nSEE TABLE IN Tab 6. Fenestration\n\nThe following exemptions apply:\ni. An area-weighted average of fenestration products shall be permitted to satisfy the U-factor requirements;\nii. An area-weighted average of fenestration products ≥ 50% glazed shall be permitted to satisfy the SHGC requirements; and\niii. 5% of all combined fenestration area (glazed and opaque) shall be exempt from the U-factor and SHGC requirements, and shall be excluded from area-weighted averages calculated using i) and ii), above. \nIn PHIUS+ or PHI certified buildings, where triple-glazed window assemblies with thermal breaks / spacers between the panes are used, such windows meet the intent of Items 2.1 and 2.2 and shall be excluded when assessing compliance of i) through iii), above.",null,null,null,null,"ERI, Prescriptive","Required","Footnote 5 - 2.2.1"]
[null,null," 2.2.2 ASHRAE Only: Specified fenestration meets or exceeds 2009 IECC commercial requirements. 5\n\n",null,null,null,null,"ASHRAE","Required","Checklist"]
[null,null,"Footnote 5. All windows, doors and skylights must meet or exceed the U-factor and SHGC requirements specified in the table below. If no NFRC rating is noted on the window or in product literature (e.g., for site-built fenestration), select the U-factor and SHGC value from Tables 4 and 10, respectively, in 2013 ASHRAE Handbook of Fundamentals, Chapter 15. Select the highest U-factor and SHGC value among the values listed for the known window characteristics (e.g., frame type, number of panes, glass color, and presence of low-e coating). Note that the U-factor requirement applies to all fenestration while the SHGC only applies to the glazed portion.\n\nSEE TABLE IN Tab 6. Fenestration\n\nThe following exemptions apply:\ni. An area-weighted average of fenestration products shall be permitted to satisfy the U-factor requirements;\nii. An area-weighted average of fenestration products ≥ 50% glazed shall be permitted to satisfy the SHGC requirements; and\niii. 5% of all combined fenestration area (glazed and opaque) shall be exempt from the U-factor and SHGC requirements, and shall be excluded from area-weighted averages calculated using i) and ii), above. \nIn PHIUS+ or PHI certified buildings, where triple-glazed window assemblies with thermal breaks / spacers between the panes are used, such windows meet the intent of Items 2.1 and 2.2 and shall be excluded when assessing compliance of i) through iii), above.",null,null,null,null,"ASHRAE","Required","Footnote 5 - 2.2.2"]
[null,null,"3. High-Performance Insulation ",null,null,null,null,"All","Required","Section Header"]
[null,null,"3.1 Dwelling unit: ",null,null,null,null,"All","Required","Checklist"]
[null,null," 3.1.1: Prescriptive: Specified ceiling 6, wall 7, and slab-on-grade insulation levels meet or exceed ENERGY STAR MF Reference Design requirements. 8, 9, 10 \n",null,"X","UA",null,"Prescriptive","Required","Checklist"]
[null,null,"\n\nFootnote 6. All insulated ceiling surfaces, regardless of slope (e.g., cathedral ceilings, tray ceilings, conditioned attic roof decks, flat ceilings, sloped ceilings), must meet the requirements for ceilings, unless the ceiling is adiabatic, such as the insulated or uninsulated ceiling between two dwelling units in a multistory building. Where the term “ceiling” is used, the component insulation levels for “roofs” shall be used.",null,null,null,null,"Prescriptive","Required","Footnote 6 - 3.1.1"]
[null,null,"Footnote 7. Items 3.1 and 3.2 are applicable to walls that are adjacent to other buildings, the exterior, or a garage. Where the wall assembly includes continuous insulation that is interrupted by fasteners or service openings, an assembly U-factor must be calculated. For the interrupted portions, the continuous insulation cannot contribute to the assembly U-factor and an overall U-factor shall be calculated based on an area weighted ratio. Thermally broken shelf-angles are exempt from de-rating.",null,null,null,null,"Prescriptive","Required","Footnote 7 - 3.1.1"]
[null,null,"Footnote 8. The following exceptions apply:\na. For ceilings with attic spaces, R-30 shall satisfy the requirement for R-38 and R-38 shall satisfy the requirement for R-49 wherever the full height of uncompressed insulation at the lower R-value extends over the wall top plate at the eaves. This exemption shall not apply if the alternative calculations in e) are used;\nb. For ceilings without attic spaces, that are not roofs with insulation above deck, R-30 shall satisfy the requirement for any required value above R-30 if the design of the roof / ceiling assembly does not provide sufficient space for the required insulation value. This exemption shall be limited to 20% of the total insulated ceiling area. This exemption shall not apply if the alternative calculations in e) are used;\nc. Common spaces following the ENERGY STAR Multifamily Reference Design should use the version of IECC specified and the “All Other” column of either the commercial R-value or U-factor tables. To identify the assembly insulation requirement, use the row of the table that best corresponds to that assembly. Unlike Prescriptive Path dwelling units, the common spaces do not need to follow the row corresponding to a wood-framed building. \nd. Where identifying insulation requirements from the commercial chapter of IECC, values from either the R-value or U-factor table may be used for compliance. When referencing the 2009 IECC, projects in Climate Zone 4 and Climate Zone 5/Marine 4 may use U-0.089 and U-0.064 respectively for Group R wood-framed walls instead of the printed U-0.064 and U-0.051.\ne. An alternative total UA calculation may also be used to demonstrate compliance, as follows: \nA total building thermal envelope UA that is less than or equal to the total UA resulting from meeting the individual assembly U-factors also complies. The performance of all components (i.e., roofs, walls, floors, slabs-on-grade, and fenestration) can be traded off using the UA approach. Note that Items 1.5, 1.6, and 3.1 through 3.7 of the National Rater Field Checklist shall be met regardless of the UA tradeoffs calculated. The UA calculation shall be done using a method consistent with the ASHRAE Handbook of Fundamentals and shall include the thermal bridging effects of framing materials. The calculation for a steel-frame envelope assembly shall use the ASHRAE zone method or a method providing equivalent results, and not a series-parallel path calculation method.",null,null,null,null,"Prescriptive","Required","Footnote 8 - 3.1.1"]
[null,null,"Footnote 9. Consistent with the 2009 IECC, slab edge insulation is only required for slab-on-grade floors with a floor surface less than 24 inches below grade. Slab-on-grade perimeter insulation shall extend to the top of the slab to provide a complete thermal break. If the top edge of the insulation is installed between the exterior wall and the edge of the interior slab, it shall be permitted to be cut at a 45-degree angle away from the exterior wall. Alternatively, the thermal break is permitted to be created using ≥ R-3 rigid insulation on top of an existing slab (e.g., in a building undergoing a gut rehabilitation). In such cases, up to 10% of the slab surface is permitted to not be insulated (e.g., for sleepers, for sill plates). Insulation installed on top of slab shall be covered by a durable floor surface (e.g., hardwood, tile, carpet).",null,null,null,null,"Prescriptive","Required","Footnote 9 - 3.1.1"]
[null,null,"Footnote 10. Where an insulated wall separates a garage, patio, porch, or other unconditioned space from the conditioned space of the building, slab perimeter insulation shall also be installed at this interface to provide a thermal break between the conditioned and unconditioned slab, if the slab is in contact with the ground at that interface. Where specific details cannot meet this requirement, partners shall provide the detail to EPA to request an exemption prior to the building’s certification. EPA will compile exempted details and work with industry to develop feasible details for use in future revisions to the program. A list of currently exempted details is available at: www.energystar.gov/slabedge.",null,null,null,null,"Prescriptive","Required","Footnote 10 - 3.1.1"]
[null,null," 3.1.2: ERI and ASHRAE Only: Specified ceiling 6, wall 7, floor, and slab-on-grade insulation levels meet or exceed values from the “Group R” column in the 2009 IECC Commercial chapter. 8, 9, 10\n",null,null,"SELECT PATH",null,"ERI, ASHRAE","Required","Checklist"]
[null,null,"Footnote 6. All insulated ceiling surfaces, regardless of slope (e.g., cathedral ceilings, tray ceilings, conditioned attic roof decks, flat ceilings, sloped ceilings), must meet the requirements for ceilings, unless the ceiling is adiabatic, such as the insulated or uninsulated ceiling between two dwelling units in a multistory building. Where the term “ceiling” is used, the component insulation levels for “roofs” shall be used.",null,null,null,null,"ERI, ASHRAE","Required","Footnote 6 - 3.1.2"]
[null,null,"Footnote 7. Items 3.1 and 3.2 are applicable to walls that are adjacent to other buildings, the exterior, or a garage. Where the wall assembly includes continuous insulation that is interrupted by fasteners or service openings, an assembly U-factor must be calculated. For the interrupted portions, the continuous insulation cannot contribute to the assembly U-factor and an overall U-factor shall be calculated based on an area weighted ratio. Thermally broken shelf-angles are exempt from de-rating.",null,null,null,null,"ERI, ASHRAE","Required","Footnote 7 - 3.1.2"]
[null,null,"Footnote 8. The following exceptions apply:\na. For ceilings with attic spaces, R-30 shall satisfy the requirement for R-38 and R-38 shall satisfy the requirement for R-49 wherever the full height of uncompressed insulation at the lower R-value extends over the wall top plate at the eaves. This exemption shall not apply if the alternative calculations in e) are used;\nb. For ceilings without attic spaces, that are not roofs with insulation above deck, R-30 shall satisfy the requirement for any required value above R-30 if the design of the roof / ceiling assembly does not provide sufficient space for the required insulation value. This exemption shall be limited to 20% of the total insulated ceiling area. This exemption shall not apply if the alternative calculations in e) are used;\nc. Common spaces following the ENERGY STAR Multifamily Reference Design should use the version of IECC specified and the “All Other” column of either the commercial R-value or U-factor tables. To identify the assembly insulation requirement, use the row of the table that best corresponds to that assembly. Unlike Prescriptive Path dwelling units, the common spaces do not need to follow the row corresponding to a wood-framed building. \nd. Where identifying insulation requirements from the commercial chapter of IECC, values from either the R-value or U-factor table may be used for compliance. When referencing the 2009 IECC, projects in Climate Zone 4 and Climate Zone 5/Marine 4 may use U-0.089 and U-0.064 respectively for Group R wood-framed walls instead of the printed U-0.064 and U-0.051.\ne. An alternative total UA calculation may also be used to demonstrate compliance, as follows: \nA total building thermal envelope UA that is less than or equal to the total UA resulting from meeting the individual assembly U-factors also complies. The performance of all components (i.e., roofs, walls, floors, slabs-on-grade, and fenestration) can be traded off using the UA approach. Note that Items 1.5, 1.6, and 3.1 through 3.7 of the National Rater Field Checklist shall be met regardless of the UA tradeoffs calculated. The UA calculation shall be done using a method consistent with the ASHRAE Handbook of Fundamentals and shall include the thermal bridging effects of framing materials. The calculation for a steel-frame envelope assembly shall use the ASHRAE zone method or a method providing equivalent results, and not a series-parallel path calculation method.",null,null,null,null,"ERI, ASHRAE","Required","Footnote 8 - 3.1.2"]
[null,null,"Footnote 9. Consistent with the 2009 IECC, slab edge insulation is only required for slab-on-grade floors with a floor surface less than 24 inches below grade. Slab-on-grade perimeter insulation shall extend to the top of the slab to provide a complete thermal break. If the top edge of the insulation is installed between the exterior wall and the edge of the interior slab, it shall be permitted to be cut at a 45-degree angle away from the exterior wall. Alternatively, the thermal break is permitted to be created using ≥ R-3 rigid insulation on top of an existing slab (e.g., in a building undergoing a gut rehabilitation). In such cases, up to 10% of the slab surface is permitted to not be insulated (e.g., for sleepers, for sill plates). Insulation installed on top of slab shall be covered by a durable floor surface (e.g., hardwood, tile, carpet).",null,null,null,null,"ERI, ASHRAE","Required","Footnote 9 - 3.1.2"]
[null,null,"Footnote 10. Where an insulated wall separates a garage, patio, porch, or other unconditioned space from the conditioned space of the building, slab perimeter insulation shall also be installed at this interface to provide a thermal break between the conditioned and unconditioned slab, if the slab is in contact with the ground at that interface. Where specific details cannot meet this requirement, partners shall provide the detail to EPA to request an exemption prior to the building’s certification. EPA will compile exempted details and work with industry to develop feasible details for use in future revisions to the program. A list of currently exempted details is available at: www.energystar.gov/slabedge.",null,null,null,null,"ERI, ASHRAE","Required","Footnote 10 - 3.1.2"]
[null,null,"3.2 Common space: 2\n",null,null,null,null,"All","Required","Checklist"]
[null,null,"\n\nFootnote 2. The term ‘common space’ refers to any spaces in the building being certified that serve a function in support of the residential part of the building that is not part of a dwelling or sleeping unit.  This includes spaces used by residents, such as corridors, stairs, lobbies, laundry rooms, exercise rooms, residential recreation rooms, and dining halls, as well as offices and other spaces used by building management, administration or maintenance in support of the residents.",null,null,null,null,"All","Required","Footnote 2 - 3.2"]
[null,null," 3.2.1 ERI and Prescriptive: Specified ceiling 6, wall 7, and slab-on-grade insulation levels meet or exceed ENERGY STAR MF Reference Design requirements. 8, 9, 10\n",null,"X","UA",null,"ERI, Prescriptive","Required","Checklist"]
[null,null,"\n\nFootnote 6. All insulated ceiling surfaces, regardless of slope (e.g., cathedral ceilings, tray ceilings, conditioned attic roof decks, flat ceilings, sloped ceilings), must meet the requirements for ceilings, unless the ceiling is adiabatic, such as the insulated or uninsulated ceiling between two dwelling units in a multistory building. Where the term “ceiling” is used, the component insulation levels for “roofs” shall be used.",null,null,null,null,"ERI, Prescriptive","Required","Footnote 6 - 3.2.1"]
[null,null,"Footnote 7. Items 3.1 and 3.2 are applicable to walls that are adjacent to other buildings, the exterior, or a garage. Where the wall assembly includes continuous insulation that is interrupted by fasteners or service openings, an assembly U-factor must be calculated. For the interrupted portions, the continuous insulation cannot contribute to the assembly U-factor and an overall U-factor shall be calculated based on an area weighted ratio. Thermally broken shelf-angles are exempt from de-rating.",null,null,null,null,"ERI, Prescriptive","Required","Footnote 7 - 3.2.1"]
[null,null,"Footnote 8. The following exceptions apply:\na. For ceilings with attic spaces, R-30 shall satisfy the requirement for R-38 and R-38 shall satisfy the requirement for R-49 wherever the full height of uncompressed insulation at the lower R-value extends over the wall top plate at the eaves. This exemption shall not apply if the alternative calculations in e) are used;\nb. For ceilings without attic spaces, that are not roofs with insulation above deck, R-30 shall satisfy the requirement for any required value above R-30 if the design of the roof / ceiling assembly does not provide sufficient space for the required insulation value. This exemption shall be limited to 20% of the total insulated ceiling area. This exemption shall not apply if the alternative calculations in e) are used;\nc. Common spaces following the ENERGY STAR Multifamily Reference Design should use the version of IECC specified and the “All Other” column of either the commercial R-value or U-factor tables. To identify the assembly insulation requirement, use the row of the table that best corresponds to that assembly. Unlike Prescriptive Path dwelling units, the common spaces do not need to follow the row corresponding to a wood-framed building. \nd. Where identifying insulation requirements from the commercial chapter of IECC, values from either the R-value or U-factor table may be used for compliance. When referencing the 2009 IECC, projects in Climate Zone 4 and Climate Zone 5/Marine 4 may use U-0.089 and U-0.064 respectively for Group R wood-framed walls instead of the printed U-0.064 and U-0.051.\ne. An alternative total UA calculation may also be used to demonstrate compliance, as follows: \nA total building thermal envelope UA that is less than or equal to the total UA resulting from meeting the individual assembly U-factors also complies. The performance of all components (i.e., roofs, walls, floors, slabs-on-grade, and fenestration) can be traded off using the UA approach. Note that Items 1.5, 1.6, and 3.1 through 3.7 of the National Rater Field Checklist shall be met regardless of the UA tradeoffs calculated. The UA calculation shall be done using a method consistent with the ASHRAE Handbook of Fundamentals and shall include the thermal bridging effects of framing materials. The calculation for a steel-frame envelope assembly shall use the ASHRAE zone method or a method providing equivalent results, and not a series-parallel path calculation method.",null,null,null,null,"ERI, Prescriptive","Required","Footnote 8 - 3.2.1"]
[null,null,"Footnote 9. Consistent with the 2009 IECC, slab edge insulation is only required for slab-on-grade floors with a floor surface less than 24 inches below grade. Slab-on-grade perimeter insulation shall extend to the top of the slab to provide a complete thermal break. If the top edge of the insulation is installed between the exterior wall and the edge of the interior slab, it shall be permitted to be cut at a 45-degree angle away from the exterior wall. Alternatively, the thermal break is permitted to be created using ≥ R-3 rigid insulation on top of an existing slab (e.g., in a building undergoing a gut rehabilitation). In such cases, up to 10% of the slab surface is permitted to not be insulated (e.g., for sleepers, for sill plates). Insulation installed on top of slab shall be covered by a durable floor surface (e.g., hardwood, tile, carpet).",null,null,null,null,"ERI, Prescriptive","Required","Footnote 9 - 3.2.1"]
[null,null,"Footnote 10. Where an insulated wall separates a garage, patio, porch, or other unconditioned space from the conditioned space of the building, slab perimeter insulation shall also be installed at this interface to provide a thermal break between the conditioned and unconditioned slab, if the slab is in contact with the ground at that interface. Where specific details cannot meet this requirement, partners shall provide the detail to EPA to request an exemption prior to the building’s certification. EPA will compile exempted details and work with industry to develop feasible details for use in future revisions to the program. A list of currently exempted details is available at: www.energystar.gov/slabedge.",null,null,null,null,"ERI, Prescriptive","Required","Footnote 10 - 3.2.1"]
[null,null," 3.2.2 ASHRAE Only: Specified ceiling 6, wall 7, floor, and slab-on-grade insulation levels meet or exceed the values from the \"All Other\" column in the 2009 IECC Commercial chapter. 8, 9, 10\n",null,null,"SELECT PATH",null,"ASHRAE","Required","Checklist"]
[null,null,"\n\nFootnote 6. All insulated ceiling surfaces, regardless of slope (e.g., cathedral ceilings, tray ceilings, conditioned attic roof decks, flat ceilings, sloped ceilings), must meet the requirements for ceilings, unless the ceiling is adiabatic, such as the insulated or uninsulated ceiling between two dwelling units in a multistory building. Where the term “ceiling” is used, the component insulation levels for “roofs” shall be used.",null,null,null,null,"ASHRAE","Required","Footnote 6 - 3.2.2"]
[null,null,"Footnote 7. Items 3.1 and 3.2 are applicable to walls that are adjacent to other buildings, the exterior, or a garage. Where the wall assembly includes continuous insulation that is interrupted by fasteners or service openings, an assembly U-factor must be calculated. For the interrupted portions, the continuous insulation cannot contribute to the assembly U-factor and an overall U-factor shall be calculated based on an area weighted ratio. Thermally broken shelf-angles are exempt from de-rating.",null,null,null,null,"ASHRAE","Required","Footnote 7 - 3.2.2"]
[null,null,"Footnote 8. The following exceptions apply:\na. For ceilings with attic spaces, R-30 shall satisfy the requirement for R-38 and R-38 shall satisfy the requirement for R-49 wherever the full height of uncompressed insulation at the lower R-value extends over the wall top plate at the eaves. This exemption shall not apply if the alternative calculations in e) are used;\nb. For ceilings without attic spaces, that are not roofs with insulation above deck, R-30 shall satisfy the requirement for any required value above R-30 if the design of the roof / ceiling assembly does not provide sufficient space for the required insulation value. This exemption shall be limited to 20% of the total insulated ceiling area. This exemption shall not apply if the alternative calculations in e) are used;\nc. Common spaces following the ENERGY STAR Multifamily Reference Design should use the version of IECC specified and the “All Other” column of either the commercial R-value or U-factor tables. To identify the assembly insulation requirement, use the row of the table that best corresponds to that assembly. Unlike Prescriptive Path dwelling units, the common spaces do not need to follow the row corresponding to a wood-framed building. \nd. Where identifying insulation requirements from the commercial chapter of IECC, values from either the R-value or U-factor table may be used for compliance. When referencing the 2009 IECC, projects in Climate Zone 4 and Climate Zone 5/Marine 4 may use U-0.089 and U-0.064 respectively for Group R wood-framed walls instead of the printed U-0.064 and U-0.051.\ne. An alternative total UA calculation may also be used to demonstrate compliance, as follows: \nA total building thermal envelope UA that is less than or equal to the total UA resulting from meeting the individual assembly U-factors also complies. The performance of all components (i.e., roofs, walls, floors, slabs-on-grade, and fenestration) can be traded off using the UA approach. Note that Items 1.5, 1.6, and 3.1 through 3.7 of the National Rater Field Checklist shall be met regardless of the UA tradeoffs calculated. The UA calculation shall be done using a method consistent with the ASHRAE Handbook of Fundamentals and shall include the thermal bridging effects of framing materials. The calculation for a steel-frame envelope assembly shall use the ASHRAE zone method or a method providing equivalent results, and not a series-parallel path calculation method.",null,null,null,null,"ASHRAE","Required","Footnote 8 - 3.2.2"]
[null,null,"Footnote 9. Consistent with the 2009 IECC, slab edge insulation is only required for slab-on-grade floors with a floor surface less than 24 inches below grade. Slab-on-grade perimeter insulation shall extend to the top of the slab to provide a complete thermal break. If the top edge of the insulation is installed between the exterior wall and the edge of the interior slab, it shall be permitted to be cut at a 45-degree angle away from the exterior wall. Alternatively, the thermal break is permitted to be created using ≥ R-3 rigid insulation on top of an existing slab (e.g., in a building undergoing a gut rehabilitation). In such cases, up to 10% of the slab surface is permitted to not be insulated (e.g., for sleepers, for sill plates). Insulation installed on top of slab shall be covered by a durable floor surface (e.g., hardwood, tile, carpet).",null,null,null,null,"ASHRAE","Required","Footnote 9 - 3.2.2"]
[null,null,"Footnote 10. Where an insulated wall separates a garage, patio, porch, or other unconditioned space from the conditioned space of the building, slab perimeter insulation shall also be installed at this interface to provide a thermal break between the conditioned and unconditioned slab, if the slab is in contact with the ground at that interface. Where specific details cannot meet this requirement, partners shall provide the detail to EPA to request an exemption prior to the building’s certification. EPA will compile exempted details and work with industry to develop feasible details for use in future revisions to the program. A list of currently exempted details is available at: www.energystar.gov/slabedge.",null,null,null,null,"ASHRAE","Required","Footnote 10 - 3.2.2"]
[null,null,"4. Review of HVAC Design Report\n",null,null,null,null,"All","Required","Section Header"]
[null,null,"4a. Review of ANSI / RESNET / ACCA Std. 310 HVAC Design Report with ENERGY STAR MFNC Supplement 3",null,null,null,null,"All","Required","Section Header","4a"]
[null,null,"\n\nFootnote 3. Track A – HVAC Grading by Rater shall not be used until an implementation schedule has been defined for ANSI / RESNET / ACCA Std. 310 by the Home Certification Organization (HCO) or Multifamily Review Organization (MRO) that the building is being certified under. Track A –HVAC Grading by Rater shall then use ANSI / RESNET / ACCA Std. 310 including all Addenda and Normative Appendices, with new versions and Addenda implemented according to the schedule defined by the HCO or MRO that the building is being certified under.",null,null,null,null,"All","Required","Footnote 3 - 4a","4a"]
[null,null,"4a.1 HVAC design report(s) compliant with ANSI / RESNET / ACCA Std. 310 representing all applicable systems, with the ENERGY STAR MFNC supplement, collected for records, with no Items left blank.",null,"X",null,null,"All","Required","Checklist","4a"]
[null,null,"4a.2 ANSI / RESNET / ACCA Std. 310 Rater Design Review Checklist completed for applicable housing type, with all items marked, “Rater Verified”.",null,"X",null,null,"All","Required","Checklist","4a"]
[null,null,"4a.3 Prescriptive Path: Dwelling Unit Mechanical Ventilation is <150% of ASHRAE 62.2-2013 requirements. 11",null,"X",null,null,"Prescriptive","Required","Checklist","4a"]
[null,null,"\n\nFootnote 11. Raters may use this table to determine the maximum ventilation rate allowed.\n\nREFER TO TABLE IN REFERENCE TABLES TAB",null,null,null,null,"All","Required","Footnote 11 - 4a.3","4a"]
[null,null,"4a.4 Total occupant gains do not exceed 645 Btuh per occupant. 12","X",null,null,null,"All","Required","Checklist","4a"]
[null,null,"\n\nFootnote 12. To determine the number of occupants among all HVAC systems in the dwelling unit, calculate the number of bedrooms, as defined below, and add one. The number of occupants used in loads must be within ± 2 of the dwelling unit to be certified.\nA bedroom is defined by ANSI / RESNET / ICC Standard 301-2014 as a room or space 70 sq. ft. or greater size, with egress window and closet, used or intended to be used for sleeping. A “den”, “library”, or “home office” with a closet, egress window, and 70 sq. ft. or greater size or other similar rooms shall count as a bedroom, but living rooms and foyers shall not.\nAn egress window, as defined in 2009 IRC Section R310, shall refer to any operable window that provides for a means of escape and access for rescue in the event of an emergency. The egress window definition has been summarized for convenience. The egress window shall:\n•have a sill height of not more than 44 inches above the floor; AND\n•have a minimum net clear opening of 5.7 sq. ft.; AND\n•have a minimum net clear opening height of 24 in.; AND\n•have a minimum net clear opening width of 20 in.; AND\n•be operational from the inside of the room without the use of keys, tools or special knowledge.",null,null,null,null,"All","Required","Footnote 12 - 4a.4","4a"]
[null,null,"4a.5 Non-occupant internal gains are less than 3,600 Btuh.",null,"X",null,null,"All","Required","Checklist","4a"]
[null,null,"4a.6 Cooling sizing % is within the cooling sizing limit selected by the HVAC designer.",null,"X",null,null,"All","Required","Checklist","4a"]
[null,null,"4b. Review of ENERGY STAR MFNC National HVAC Design Report (National HVAC Design Report Item # indicatd in parenthesis) 13\n",null,null,null,null,"All","Required","Section Header","4b"]
[null,null,"\n\nFootnote 13. The Rater shall collect the National HVAC Design Report(s) per building / project. See Footnote 1 of the National HVAC Design Report for alternatives. Where using an ENERGY STAR Single-Family New Homes National HVAC Design Report, Rater must still review all Items under 4b.2. Regardless of whether the “unit-specific design”, “group design”, or “worst-case design” box has been checked in Item 3.2 of the National HVAC Design Report, the system design as documented on the National HVAC Design Report must fall within the tolerances in Item 4.2 for the unit to be certified. The Rater is only responsible for verifying that the designer has not left any items blank on the National HVAC Design Report and for verifying the discrete objective parameters in Item 4.2 of this Checklist, not for verifying the accuracy of every input on the National HVAC Design Report.",null,null,null,null,"All","Required","Footnote 13 - 4b","4b"]
[null,null,"4b.1 National HVAC Design Report(s) collected for records, with no Items left blank.","X",null,"Missing documentation",null,"All","Required","Checklist","4b"]
[null,null,"4b.2 National HVAC Design Report(s) reviewed by Rater for the following parameters (National MFNC HVAC Design Report Item # indicated in parenthesis): ",null,null,null,null,"All","Required","Checklist","4b"]
[null,null," 4b.2.1 Prescriptive Path: Dwelling Unit Mechanical Ventilation (2.7) is <150% of ASHRAE 62.2-2013 requirements. 11\n",null,"X",null,null,"Prescriptive","Required","Checklist","4b"]
[null,null,"\n\nFootnote 11. Raters may use this table to determine the maximum ventilation rate allowed. \n\nSEE TABLE IN REFERENCE TABLES TAB",null,null,null,null,"Prescriptive","Required","Footnote 11 - 4b.2.1","4b"]
[null,null," 4b.2.2 Cooling season and heating season outdoor design temperatures used in loads (3.4) are within the limits defined for the State and County where the building will be built, or the designer has provided an allowance from EPA to use alternative values. All limits are published at www.energystar.gov/hvacdesigntemps. Note that revised (i.e., 2019 Edition) limits are required to be used for all HVAC Design Reports generated after 07/01/2020. 14",null,"X",null,null,"All","Required","Checklist","4b"]
[null,null,"\n\nFootnote 14. Visit www.energystar.gov/hvacdesigntemps for the maximum cooling season design temperature and minimum heating season design temperature permitted and the process for a designer to obtain an allowance from EPA. The same design report is permitted to be used in other counties, as long as the design temperature limits in those other counties meet or exceed the cooling and heating season temperature limits for the county selected. For example, if Fauquier County, VA, is used for the load calculations, with a 1% cooling temperature limit of 93 °F, then the same report could be used in Fairfax County (which has a higher limit of 94 °F) but not in Arlington County (which has a lower limit of 92 °F).",null,null,null,null,"All","Required","Footnote 14 - 4b.2.2","4b"]
[null,null," 4b.2.3 Number of occupants used in loads (3.6) is within ± 2 of the dwelling unit to be certified and occupant gains (3.7) do not exceed 645 Btuh per occupant. 12\n",null,"X",null,null,"All","Required","Checklist","4b"]
[null,null,"\n\nFootnote 12. To determine the number of occupants among all HVAC systems in the dwelling unit, calculate the number of bedrooms, as defined below, and add one. The number of occupants used in loads must be within ± 2 of the dwelling unit to be certified.\nA bedroom is defined by ANSI / RESNET / ICC Standard 301-2014 as a room or space 70 sq. ft. or greater size, with egress window and closet, used or intended to be used for sleeping. A “den”, “library”, or “home office” with a closet, egress window, and 70 sq. ft. or greater size or other similar rooms shall count as a bedroom, but living rooms and foyers shall not.\nAn egress window, as defined in 2009 IRC Section R310, shall refer to any operable window that provides for a means of escape and access for rescue in the event of an emergency. The egress window definition has been summarized for convenience. The egress window shall:\n•have a sill height of not more than 44 inches above the floor; AND\n•have a minimum net clear opening of 5.7 sq. ft.; AND\n•have a minimum net clear opening height of 24 in.; AND\n•have a minimum net clear opening width of 20 in.; AND\n•be operational from the inside of the room without the use of keys, tools or special knowledge.",null,null,null,null,"All","Required","Footnote 12 - 4b.2.3","4b"]
[null,null," 4b.2.4 Conditioned floor area used in loads (3.8) is between 100 sq. ft. smaller and 300 sq. ft. larger than the dwelling unit to be certified. 15",null,"X",null,null,"All","Required","Checklist","4b"]
[null,null,"\n\nFootnote 15. Conditioned Floor Area for the dwelling unit to be certified shall be calculated in accordance with the definition in ANSI / RESNET / ICC Standard 301-2019.",null,null,null,null,"All","Required","Footnote 15 - 4b.2.4","4b"]
[null,null," 4b.2.5 Window area used in loads (3.9) is between 15 sq. ft. smaller and 60 sq. ft. larger than the dwelling unit to be certified, or for dwelling units to be certified with > 500 sq. ft. of window area, between 3% smaller and 12% larger. 16",null,"X",null,null,"All","Required","Checklist","4b"]
[null,null,"\n\nFootnote 16. Window area for the dwelling unit to be certified shall be calculated in accordance with the on-site inspection protocol provided in Normative Appendix B of ANSI / RESNET / ICC Standard 301-2019.",null,null,null,null,"All","Required","Footnote 16 - 4b.2.5","4b"]
[null,null," 4b.2.6 Predominant window SHGC used in loads (3.10) is within 0.1 of predominant value in the dwelling unit to be certified. 17\n",null,"X",null,null,"All","Required","Checklist","4b"]
[null,null,"\n\nFootnote 17. “Predominant” is defined as the SHGC value used in the greatest amount of window area in the dwelling unit.",null,null,null,null,"All","Required","Footnote 17 - 4b.2.6","4b"]
[null,null," 4b.2.7 Mechanical ventilation used in loads (3.12) is the same as the ventilation design (2.7) for the given unit plan.",null,"X",null,null,"All","Required","Checklist","4b"]
[null,null," 4b.2.8 Non-occupant internal gains (3.13) are less than 3,600 Btuh.",null,"X",null,null,"All","Required","Checklist","4b"]
[null,null," 4b.2.9 Sensible & total heat gain are documented (3.14, 3.16) for the orientation of the dwelling unit to be certified. 18\n",null,"X",null,null,"All","Required","Checklist","4b"]
[null,null,"Footnote 18. Orientation represents the direction that the front door of the dwelling unit is facing. The designer is only required to document the loads for the orientation(s) that the dwelling unit might be built in. For example, if a unit plan will only be built in a specific orientation (e.g., facing South), then the designer only needs to document the loads for this one orientation.",null,null,null,null,"All","Required","Footnote 18 - 4b.2.9","4b"]
[null,null," 4b.2.10 Cooling sizing % (4.18) is within the cooling sizing limit (4.19) selected by the HVAC designer.",null,"X",null,null,"All","Required","Checklist","4b"]
[null,null,"5. Additional Construction Document Review",null,null,null,null,"All","Optional","Section Header"]
[null,null,"5.1 Air Sealing: Review construction documents to verify that air-sealing details at assemblies adjacent to exterior and unconditioned spaces are represented which, at a minimum, demonstrate compliance with checklist items in Section 4 of the National Rater Field Checklist (noted with an asterisk below). Items 5.1.9 and 5.1.10 are not verified by the Rater in the field, but are recommended.","N/A",null,null,null,"All","Optional","Checklist"]
[null,null," 5.1.1 Ducts, flues, shafts, plumbing, piping, wiring, exhaust fans, & other penetrations to unconditioned space sealed, with blocking / flashing as needed*.","N/A",null,null,null,"All","Optional","Checklist"]
[null,null," 5.1.2 Recessed lighting fixtures adjacent to unconditioned space ICAT labeled and gasketed. Also, if in insulated ceiling without attic above, exterior surface of fixture insulated to ≥ R-10 in CZ 4-8*.","N/A",null,null,null,"All","Optional","Checklist"]
[null,null," 5.1.3 Continuous top plate or blocking is at top of walls adjoining unconditioned space including at balloon-framed parapets, and sealed*.","N/A",null,null,null,"All","Optional","Checklist"]
[null,null," 5.1.4 Drywall sealed to top plate at all unconditioned attic / wall interfaces using caulk, foam, drywall adhesive (but not other construction adhesives), or equivalent material. Either apply sealant directly between drywall and top plate or to the seam between the two from the attic above*.","N/A",null,null,null,"All","Optional","Checklist"]
[null,null," 5.1.5 Rough opening around windows & exterior doors sealed*. 19\n","N/A",null,null,null,"All","Optional","Checklist"]
[null,null,"\n\nFootnote 19. In Climate Zones 1 through 3, a continuous stucco cladding system sealed to windows and doors is permitted to be used in lieu of sealing rough openings with caulk or foam.",null,null,null,null,"All","Optional","Footnote 19 - 5.1.5"]
[null,null," 5.1.6 Assemblies that separate attached garages from occupiable space sealed and, also, an air barrier installed, sealed, and aligned with these assemblies*. 20","N/A",null,null,null,"All","Optional","Checklist"]
[null,null,"\n\nFootnote 20. For dwelling or sleeping units adjacent to garages, EPA recommends, but does not require, carbon monoxide (CO) alarms installed in a central location in the immediate vicinity of each separate sleeping zone and according to NFPA 720.",null,null,null,null,"All","Optional","Footnote 20 - 5.1.6"]
[null,null," 5.1.7 Attic access panels, roof hatches and drop-down stairs are gasketed (i.e., not caulked) or equipped with durable covers that are gasketed*. 21\n","N/A",null,null,null,"All","Optional","Checklist"]
[null,null,"\n\nFootnote 21. Examples of durable covers include, but are not limited to, pre-fabricated covers with integral insulation, rigid foam adhered to cover with adhesive, or batt insulation mechanically fastened to the cover (e.g., using bolts, metal wire, or metal strapping).",null,null,null,null,"All","Optional","Footnote 21 - 5.1.7"]
[null,null," 5.1.8 Doors adjacent to unconditioned space (e.g., attics, garages, basements), ambient conditions, or a unit entrance to a corridor / stairwell, made substantially air-tight with doorsweep and weatherstripping or equivalent gasket*.","N/A",null,null,null,"All","Optional","Checklist"]
[null,null," 5.1.9 Above-grade sill plates adjacent to conditioned space sealed to foundation or sub-floor. Gasket also placed beneath above-grade sill plate if resting atop concrete / masonry & adjacent to conditioned space. 22, 23\n","N/A",null,null,null,"All","Optional","Checklist"]
[null,null,"\n\nFootnote 22. Existing sill plates (e.g., in a building undergoing a gut rehabilitation) on the interior side of structural masonry or monolithic walls may not be able to complete this Item. In addition, other existing sill plates resting atop concrete or masonry and adjacent to conditioned space can in lieu of using a gasket, be sealed with caulk, foam, or equivalent material at both the interior seam between the sill plate and the subfloor and the seam between the top of the sill plate and the sheathing.",null,null,null,null,"All","Optional","Footnote 22 - 5.1.9"]
[null,null,"Footnote 23. In Climate Zones 1 through 3, a continuous stucco cladding system adjacent to sill and bottom plates is an alternate option of sealing plates to foundation or sub-floor with caulk, foam, or equivalent material.",null,null,null,null,"All","Optional","Footnote 23 - 5.1.9"]
[null,null," 5.1.10 The gap between the common wall (e.g., the drywall shaft wall) and the structural framing between units sealed at all exterior boundaries.","N/A",null,null,null,"All","Optional","Checklist"]
[null,null,"5.2 Dwelling Unit Compartmentalization","N/A",null,null,null,"All","Optional","Checklist"]
[null,null," 5.2.1 Review construction documents to verify that air-sealing details 24 are represented such that air exchange between the dwelling unit and outside as well as the dwelling unit and other adjacent spaces is minimized and designed to achieve compartmentalization less than or equal to 0.30 CFM50 per square feet of dwelling unit enclosure area, following procedures in ANSI / RESNET / ICC Std. 380.\n\n","N/A",null,null,null,"All","Optional","Checklist"]
[null,null,"\n\nFootnote 24. Recommended air leakage paths to be sealed include, but are not limited to the following:\na. Plumbing penetrations, including those from water piping, drain waste and vent piping, HVAC piping, and gas line piping.\nb. Electrical penetrations, including those for receptacle outlets, lighting outlets / fixtures, communications wiring, thermostats, and smoke alarms.\nc. HVAC penetrations, including those for fans and for exhaust, supply, transfer, and return air ducts.\nd. Envelope penetrations, including at the intersection of baseboard trim and floor, at the intersection of walls and ceilings, around window trim and dwelling unit doors, including the door latch hole.",null,null,null,null,"All","Optional","Footnote 24 - 5.2.1"]
[null,null," 5.2.2 Seal all spaces 5.1.1-5.1.10 on adiabatic unit enclosure assemblies.","N/A",null,null,null,"All","Optional","Checklist"]
[null,null,"5.3 Prescriptive Path: Verify that Window-to-wall ratio ≤ 30%. 25\n","N/A",null,null,null,"Prescriptive","Optional","Checklist"]
[null,null,"\nFootnote 25. Window-to-Wall ratio is taken as the sum of all window area divided by the total exterior above-grade wall area. All decorative glass and skylight window area contribute to the total window area to above-grade wall ratio (WWR). Spandrel sections of curtain wall systems contribute to the above-grade wall area.",null,null,null,null,"Prescriptive","Optional","Footnote 25 - 5.3"]
[null,null,"5.4 Verify that fully-aligned air barrier details are in compliance with checklist items in Section 2 of the National Rater Field Checklist.","N/A",null,null,null,"All","Optional","Checklist"]
[null,null,"5.5 Verify that thermal bridging details are in compliance with checklist items in Section 3 of the National Rater Field Checklist.","N/A",null,null,null,"All","Optional","Checklist"]
[null,null,"5.6 Verify that HVAC details are in compliance with checklist items in Sections 5 - 10 of the National Rater Field Checklist.","N/A",null,null,null,"All","Optional","Checklist"]
[null,null," 5.6.1 Verify that HVAC design includes access and means to measure the dwelling-unit mechanical ventilation airflow rate.","N/A",null,null,null,"All","Optional","Checklist"]
[null,null," 5.6.2 Verify that bedrooms with design airflow ≥ 150 CFM are specified with a combination of transfer grilles, jump ducts dedicated return ducts, and/or undercut doors to achieve a Rater-measured pressure differential ≥ -5 Pa and ≤ +5 Pa with respect to the main body of the dwelling unit when all air handlers are operating.","N/A",null,null,null,"All","Optional","Checklist"]
[null,null," 5.6.3 Verify that Functional Testing Agent(s) hold(s) credential required to complete the applicable sections of the National HVAC Functional Testing Checklist for all HVAC equipment in the building. For Track A, a Functional Testing Agent is not needed to complete Sections 2 and 3 for HVAC systems that will be verified and graded by the Rater. 26\n","N/A",null,null,null,"All","Optional","Checklist"]
[null,null,"\n\nFootnote 26. Functional Testing Agents must hold an approved credential, as listed at www.energystar.gov/ftas, or must be a representative of the Original Equipment Manufacturer (OEM), or a contractor credentialed by an HVAC Quality Installation Training and Oversight Organization (H-QUITO), if not completing Sections 6 and higher. Functional Testing Agents may not be the installing contractor nor employed by the same company as the installing contractor unless they are a credentialed contractor. An explanation of the credentialing process and links to H-QUITOs, which maintain lists of credentialed contractors, can be found at www.energystar.gov/findhvac. A directory of other FT Agents can be found at www.energystar.gov/ftas.",null,null,null,null,"All","Optional","Footnote 26 - 5.6.3"]
[null,null,"5.7 Verify that Domestic Hot Water, Lighting, Appliances, Plumbing Fixtures, and Whole Building Utility Data Acquisition Strategy details are in compliance with checklist items in Sections 11 – 14 of the National Rater Field Checklist.","N/A",null,null,null,"All","Optional","Checklist"]
[]
["\n","Rater Name:",{"$f":"IF('Project Information'!C23:H23=\"\",\"\",'Project Information'!C23:H23)","v":"Favia Pilaf"},"Date of Review: ",null,"2020-07-13"]
["\n","Rater Signature: ",null,"Rater Company Name: ",null,{"$f":"IF('Project Information'!$C$22=\"\",\"\",'Project Information'!$C$22)","v":"Green & Bean Verifiers"}]

{"sheet":"1b. Rater Field Checklist","index":7,"n_rows":278,"n_cols":14,"rows_kept":278,"cut":false,"hidden":false,"merged":[[0,4,0,6],[277,3,277,4],[268,3,268,4],[271,3,271,4],[274,3,274,4],[7,3,7,13],[6,2,6,13]]}
[null,null,null,null,"Prescriptive"]
[]
[null,"Project Name:",{"$f":"'1a. Rater Design Checklist'!C3","v":"Smith Crossing"},"Number of Units:",{"$f":"'1a. Rater Design Checklist'!E3","v":50},"Permit Date:",{"$f":"'1a. Rater Design Checklist'!G3","v":"2020-06-25"},null,null,null,null,null,"Count of Builder Verified Items"]
[null,"Project Address:",{"$f":"'1a. Rater Design Checklist'!C4","v":"3248 Huger Street"},"City:",{"$f":"'1a. Rater Design Checklist'!E4","v":"Columbia"},"State:",{"$f":"'1a. Rater Design Checklist'!G4","v":"SC"},null,null,null,null,null,{"$f":"COUNTIFS(RaterFieldChecklist[Builder Verified 3],\"<>\",RaterFieldChecklist[Builder Verified 3],\"<>N/A\",RaterFieldChecklist[Builder Verified 3],\"<>-\")","v":2}]
[]
[]
[null,null,"Rater Field Review Checklist 1"]
[null,null,null,"Construction Verification"]
[null,null," ","Must Correct ","Builder Verified 3","LP Verified 39","Rater Verified 4","N/A 5","Pathway Tag","Required Fields","Field Type","Additional Columns","Notes/Comments","Verification Phase"]
[null,null,"Footnote 1. This Checklist applies to all dwelling units, sleeping units, common spaces 2, and garages (open or enclosed) in the building being certified, and where specified, parking lots. These requirements do not apply to parking garages or lots where the cost of the energy use of the parking garage or lot is not the responsibility of the Builder/Developer, Building Owner or Property Manager. This Checklist does not apply to commercial or retail spaces. This Checklist does not apply to common spaces 2 that are located in buildings on the property without any dwelling or sleeping units. The term ‘sleeping unit’ refers to a room or space in which people sleep, which can also include permanent provisions for living, eating, and either sanitation or kitchen facilities but not both. Where the term ‘dwelling unit’ is used in this Checklist, the requirement is also required of ‘sleeping’ units. The term ‘building’ refers to a structure utilized or intended for supporting or sheltering occupancy for a residential purpose; a structure with no dwelling or sleeping units connected to a structure with dwelling or sleeping units by less than 10% of its exterior wall area is not to be included in the ‘building’.",null,null,null,null,null,"All","Required","Footnote 1 - Checklist"]
[null,null,"Footnote 2. The term ‘common space’ refers to any spaces in the building being certified that serve a function in support of the residential part of the building that is not part of a dwelling or sleeping unit.  This includes spaces used by residents, such as corridors, stairs, lobbies, laundry rooms, exercise rooms, residential recreation rooms, and dining halls, as well as offices and other spaces used by building management, administration or maintenance in support of the residents.",null,null,null,null,null,"All","Required","Footnote 2 - Checklist"]
[null,null,"Footnote 3. At the discretion of the Rater, the builder or developer may verify up to eight items in Sections 1-4 of this Checklist. For the purpose of this Checklist, “Builder” represents either the builder or the developer. When exercised, the builder’s responsibility will be formally acknowledged by the builder, or their designated agent, signing off on the checklist for the item(s) that they verified. However, if a quality assurance review indicates that Items have not been successfully completed, the Rater will be responsible for facilitating corrective action.",null,null,null,null,null,"All","Required","Footnote 3 - Checklist"]
[null,null,"Footnote 4. The term ‘Rater’ refers to the person(s) completing the third-party verification required for certification. The person(s) shall: a) be a Certified Rater, Approved Inspector, as defined by ANSI / RESNET / IECC Standard 302, or an equivalent designation as determined by a Home Certification Organization (HCO) or Multifamily Review Organization (MRO) and, b) have attended and successfully completed an EPA-recognized training class. See www.energystar.gov/mftraining.  ",null,null,null,null,null,"All","Required","Footnote 4 - Checklist"]
[null,null,"Footnote 5. The column titled “N/A,” which denotes items that are “not applicable,” should be used when the checklist Item is not present in the project or conflicts with local requirements.",null,null,null,null,null,"All","Required","Footnote 5 - Checklist"]
[null,null,"Footnote 44. At the discretion of the Rater, a Licensed Professional (LP), (i.e., a Registered Architect or Professional Engineer in good standing and with a current license), may verify any of the items in Sections 5, 11, and 12 of this Checklist, where a checkbox is provided for “LP Verified”. When exercised, the LP’s responsibility will be formally acknowledged by the LP signing off on the checklist for the item(s) that they verified. However, if a quality assurance review indicates that Items have not been successfully completed, the Rater will be responsible for facilitating corrective action.",null,null,null,null,null,"All","Required","Footnote 44 - Checklist"]
[null,null,"Thermal Enclosure System ",null,null,null,null,null,"All","Required","Section Header"]
[null,null,"1. High-Performance Fenestration & Insulation ",null,null,null,null,null,"All","Required","Section Header"]
[null,null,"1.1 Fenestration meets or exceeds specification in Items 2.1 and 2.2 of the National Rater Design Review Checklist.",null,null,"-",null,"-","All","Required","Checklist",null,null,"Open Wall 3"]
[null,null,"1.2 Insulation meets or exceeds levels specified in Items 3.1 and 3.2 of the National Rater Design Review Checklist.",null,null,"-",null,"-","All","Required","Checklist",null,null,"Open Wall 3"]
[null,null,"1.3 All insulation achieves Grade I install per ANSI / RESNET / ICC Std. 301. Alternatives in footnote 6. 6,7",null,null,"-",null,"-","All","Required","Checklist",null,null,"Open Wall 3"]
[null,null,"Footnote 6. Two alternatives are provided: a) Grade II cavity insulation is permitted to be used for assemblies that contain a layer of continuous, air impermeable insulation ≥ R-3 in Climate Zones 1 to 4, ≥ R-5 in Climate Zones 5 to 8; b) Grade II batts are permitted to be used in floors if they fill the full width and depth of the floor cavity, even when compression occurs due to excess insulation, as long as the R-value of the batts has been appropriately assessed based on manufacturer guidance and the only defect preventing the insulation from achieving Grade I is the compression caused by the excess insulation.",null,null,null,null,null,"All","Required","Footnote 6 - 1.3"]
[null,null,"Footnote 7. Ensure compliance with this requirement using ANSI / RESNET / ICC Std. 301 including all Addenda and Normative Appendices, with new versions and Addenda implemented according to the schedule defined by the HCO or MRO that the building is certified under, with approved exceptions listed at www.energystar.gov/ERIExceptions.",null,null,null,null,null,"All","Required","Footnote 7 - 1.3"]
[null,null,"1.4 Prescriptive Path: Window-to-wall ratio ≤ 30%. 8",null,null,"-",null,null,"Prescriptive","Required","Checklist",null,null,"Open Wall 1"]
[null,null,"Footnote 8. Window-to-Wall ratio is taken as the sum of all window area divided by the total exterior above-grade wall area. All decorative glass and skylight window area contribute to the total window area to above-grade wall ratio (WWR). Spandrel sections of curtain wall systems contribute to the above-grade wall area.",null,null,null,null,null,"Prescriptive","Required","Footnote 8 - 1.4"]
[null,null,"1.5 Heated plenums in unconditioned space or ambient conditions must meet the following requirements: 9",null,null,null,null,null,"All","Required","Checklist"]
[null,null,"Footnote 9. Compliance with Items 1.5 and 1.6 is not required for ASHRAE projects, but the energy used by the heating systems must be modeled following the requirements in the Simulation Guidelines, available at www.energystar.gov/mfguidance.",null,null,null,null,null,"All","Required","Footnote 9 - 1.5"]
[null,null," 1.5.1 Sides of heated plenum are an air barrier and insulated to ≥ R-3ci in CZ 1-4; ≥ R-5ci in CZ 5-6; ≥ R-7.5ci in CZ 7; ≥ R-9.5ci in CZ 8, AND;",null,null,"-",null,null,"All","Required","Checklist",null,null,"Open Wall 4"]
[null,null," 1.5.2 Insulation at top of heated plenum meets or exceeds the R-value for mass floors from the “All Other” column of Table 502.2(1) of 2009 IECC, AND;",null,null,"-",null,null,"All","Required","Checklist",null,null,"Open Wall 4"]
[null,null," 1.5.3 Bottom of heated plenum must have at least R-13 insulation. 10",null,null,"-",null,null,"All","Required","Checklist",null,null,"Open Wall 3"]
[null,null,"Footnote 10. The bottom of the heated plenum is permitted to be suspended ceiling tiles or other non-air barrier material. If fiberglass insulation is installed, it must be paper-faced. This insulation shall achieve a Grade I or Grade II install.",null,null,null,null,null,"All","Required","Footnote 10 - 1.5.3"]
[null,null,"1.6 Garages with space heating must meet the following requirements: 9",null,null,null,null,null,"All","Required","Checklist"]
[null,null,"Footnote 9. Compliance with Items 1.5 and 1.6 is not required for ASHRAE projects, but the energy used by the heating systems must be modeled following the requirements in the Simulation Guidelines, available at www.energystar.gov/mfguidance.",null,null,null,null,null,"All","Required","Footnote 9 - 1.6"]
[null,null," 1.6.1 Insulation on above grade walls and walls on the first story below grade ≥ R-5ci in CZ 5-6; ≥ R-7.5ci in CZ 7; ≥ R-9.5ci in CZ 8, AND;",null,null,"-",null,null,"All","Required","Checklist"]
[null,null," 1.6.2 Ceiling insulation meets or exceeds the R-value for mass floors from the “All Other” column of Table 502.2(1) of 2009 IECC.",null,null,"-",null,null,"All","Required","Checklist"]
[null,null,"2. Fully-Aligned Air Barriers 11 At each insulated location below, a complete air barrier is provided that is fully aligned as follows:",null,null,null,null,null,"All","Required","Section Header"]
[null,null,"Footnote 11. For purposes of this Checklist, an air barrier is defined as any durable solid material that blocks air flow between conditioned space and unconditioned space, including necessary sealing to block excessive air flow at edges and seams and adequate support to resist positive and negative pressures without displacement or damage. EPA recommends, but does not require, rigid air barriers. \nOpen-cell or closed-cell foam shall have a finished thickness ≥ 5.5 in. or 1.5 in., respectively, to qualify as an air barrier unless the manufacturer indicates otherwise.\nIf flexible air barriers such as house wrap are used, they shall be fully sealed at all seams and edges and supported using fasteners with caps or heads ≥ 1 in. diameter unless otherwise indicated by the manufacturer. Flexible air barriers shall not be made of kraft paper, paper-based products, or other materials that are easily torn. If polyethylene is used, its thickness shall be ≥ 6 mil.",null,null,null,null,null,"All","Required","Footnote 11 - 2"]
[null,null,"Ceilings: At interior or exterior horizontal surface of ceiling insulation in Climate Zones 1-3; at interior horizontal surface of ceiling insulation in Climate Zones 4-8. Also, at exterior vertical surface of ceiling insulation in all climate zones (e.g., using a wind baffle that extends to the full height of the insulation in every bay or a tabbed baffle in each bay with a soffit vent that prevents wind washing in adjacent bays). 12",null,null,null,null,null,"All","Required","Section Details"]
[null,null,"Footnote 12. All insulated ceiling surfaces, regardless of slope (e.g., cathedral ceilings, tray ceilings, conditioned attic roof decks, flat ceilings, sloped ceilings), must meet the requirements for ceilings, unless the ceiling is adiabatic.",null,null,null,null,null,"All","Required","Footnote 12 - 2 Ceilings"]
[null,null,"2.1 Dropped ceilings / soffits below unconditioned attics, chase / dead space, and all other ceilings.",null,null,"-",null,null,"All","Required","Checklist"]
[null,null,"Walls: At exterior vertical surface of wall insulation in all climate zones; also at interior vertical surface of wall insulation in Climate Zones 4-8. 13",null,null,null,null,null,"All","Required","Section Details"]
[null,null,"Footnote 13. All insulated vertical surfaces are considered walls (e.g., above and below grade exterior walls, knee walls) and must meet the air barrier requirements for walls. The following exceptions apply: air barriers recommended, but not required, in adiabatic walls; and, in Climate Zones 4 through 8, an air barrier at the interior vertical surface of insulation is recommended but not required in basement walls or crawlspace walls. For the purpose of these exceptions, a basement or crawlspace is a space for which ≥ 40% of the total gross wall area is below-grade.",null,null,null,null,null,"All","Required","Footnote 13 - 2 Walls"]
[null,null,"2.2 Walls behind showers, tubs, staircases, and fireplaces.",null,"X","-",null,null,"All","Required","Checklist",null,null,"Open Wall 2"]
[null,null,"2.3 Architectural bump-outs, dead space, and all other exterior walls.",null,null,"-",null,"-","All","Required","Checklist"]
[null,null,"Floors: At exterior vertical surface of floor insulation in all climate zones and, if over unconditioned space, also at interior horizontal surface including supports to ensure alignment. Alternatives in Footnotes 15 & 16. 14, 15, 16",null,null,null,null,null,"All","Required","Section Details"]
[null,null,"Footnote 14. EPA highly recommends, but does not require, an air barrier at the interior vertical surface of floor insulation in Climate Zones 4-8. ",null,null,null,null,null,"All","Required","Footnote 14 - 2 Floors"]
[null,null,"Footnote 15. Examples of supports necessary for permanent contact include staves for batt insulation or netting for blown-in insulation. Alternatively, supports are not required if batts fill the full depth of the floor cavity, even when compression occurs due to excess insulation, as long as the R-value of the batts has been appropriately assessed based on manufacturer guidance and the only defect preventing the insulation from achieving the required installation grade is the compression caused by the excess insulation.",null,null,null,null,null,"All","Required","Footnote 15 - 2 Floors"]
[null,null,"Footnote 16. Alternatively, an air barrier is permitted to be installed at the exterior horizontal surface of the floor insulation if the insulation is installed in contact with this air barrier, the exterior vertical surfaces of the floor cavity are also insulated, and air barriers are included at the exterior vertical surfaces of this insulation. ",null,null,null,null,null,"All","Required","Footnote 16 - 2 Floors"]
[null,null,"2.4 Floors above garages, floors above unconditioned spaces, and cantilevered floors.","X",null,"-",null,null,"All","Required","Checklist"]
[null,null,"2.5 All other floors adjoining unconditioned space (e.g., rim / band joists at exterior wall or at porch roof).",null,null,"-",null,null,"All","Required","Checklist"]
[null,null,"3. Reduced Thermal Bridging",null,null,null,null,null,"All","Required","Section Header"]
[null,null,"3.1 For insulated ceilings with attic space above (i.e., non-cathedralized), Grade I insulation extends to the inside face of the exterior wall below and is ≥ R-21 in CZ 1-5; ≥ R-30 in CZ 6-8. 17",null,null,"-",null,null,"All","Required","Checklist"]
[null,null,"Footnote 17. The minimum designated R-values must be achieved regardless of the trade-offs determined using an equivalent U-factor or UA alternative calculation. \nNote that if the minimum designated values are used, then higher insulation values may be needed elsewhere to meet Item 1.2. Also, note that these requirements can be met by using any available strategy, such as a raised-heel truss, alternate framing that provides adequate space, and / or high-density insulation.",null,null,null,null,null,"All","Required","Footnote 17 - 3.1"]
[null,null,"3.2 For insulated ceilings with attic space above, attic access panels and drop-down stairs insulated ≥ R-10 or equipped with durable ≥ R-10 cover. 18",null,null,"-",null,null,"All","Required","Checklist"]
[null,null,"Footnote 18. Examples of durable covers include, but are not limited to, pre-fabricated covers with integral insulation, rigid foam adhered to cover with adhesive, or batt insulation mechanically fastened to the cover (e.g., using bolts, metal wire, or metal strapping. Low-slope roof hatch covers to be insulated to R-5 minimum.",null,null,null,null,null,"All","Required","Footnote 18 - 3.2"]
[null,null,"3.3 Insulation beneath attic platforms (e.g., HVAC platforms, walkways) ≥ R-21 in CZ 1-5; ≥ R-30 in CZ 6-8.",null,null,"-",null,null,"All","Required","Checklist"]
[null,null,"3.4 For slabs on grade in CZ 4-8, 100% of slab edge insulated to ≥ R-5 at the depth specified by Table 502.2(1) of the 2009 IECC and aligned with the thermal boundary of the walls. 19, 20",null,null,"-",null,null,"All","Required","Checklist"]
[null,null,"Footnote 19. Consistent with the 2009 IECC, slab edge insulation is only required for slab-on-grade floors with a floor surface less than 24 inches below grade. Slab-on-grade perimeter insulation shall extend to the top of the slab to provide a complete thermal break. If the top edge of the insulation is installed between the exterior wall and the edge of the interior slab, it shall be permitted to be cut at a 45-degree angle away from the exterior wall. Alternatively, the thermal break is permitted to be created using ≥ R-3 rigid insulation on top of an existing slab (e.g., in a building undergoing a gut rehabilitation). In such cases, up to 10% of the slab surface is permitted to not be insulated (e.g., for sleepers, for sill plates). Insulation installed on top of slab shall be covered by a durable floor surface (e.g., hardwood, tile, carpet).",null,null,null,null,null,"All","Required","Footnote 19 - 3.4"]
[null,null,"Footnote 20. Where an insulated wall separates a garage, patio, porch, or other unconditioned space from the conditioned space of the building, slab perimeter insulation shall also be installed at this interface to provide a thermal break between the conditioned and unconditioned slab, if the slab is in contact with the ground at that interface. Where specific details cannot meet this requirement, partners shall provide the detail to EPA to request an exemption prior to the building’s certification. EPA will compile exempted details and work with industry to develop feasible details for use in future revisions to the program. A list of currently exempted details is available at: www.energystar.gov/slabedge.",null,null,null,null,null,"All","Required","Footnote 20 - 3.4"]
[null,null,"3.5 For elevated concrete slabs in CZ 4-8 (i.e., podiums and projected balconies, but not intermediate slab floor edges) 100% of the slab edge insulated to ≥ R-5. For podiums, this insulation must extend for a minimum of 8ft below the bottom of the slab edge. For columns, the insulation must surround the column, at a depth of 4ft. Alternatives in Footnote 21. 21",null,null,"-",null,null,"All","Required","Checklist"]
[null,null,"Footnote 21. For projected balconies, install a minimum of R-5 slab edge insulation to provide a thermal break between conditioned space and the unconditioned projected balcony slab. Alternatively, a UA calculation for the wall assembly that accounts for this projected slab must be performed to demonstrate compliance with Item 1.2. For the purpose of this UA calculation, the area of the wall that is uninsulated due to the projected balcony is required to be calculated as 400% of that actual area. For example, for a projected balcony without any thermal break that is 20 feet wide, and has a thickness of 1 foot, the area to be used in the UA calculation is 80 ft2 instead of 20 ft2. For thermal breaks R-2 and greater, the area is not required to be modified. The distance the balcony projects from the building is not used in this calculation\nFor podiums that are less than 8ft in height, insulation must be installed for the full height of the podium. For podiums that continue below-grade, insulate to a minimum of 8ft below the bottom of the slab edge, or to the depth below-grade specified for slab  edge insulation by Table 502.2(1) of the 2009 IECC. For podiums, where insulation is installed on both interior and exterior surfaces of the wall, insulation depth may be reduced to 4ft. ",null,null,null,null,null,"All","Required","Footnote 21 - 3.5"]
[null,null,"3.6 For elevated concrete slabs in CZ 4-8 (i.e., podiums, but not intermediate floor slabs), floor insulation meets the U-factor specified in Table 502.1.2 of the 2009 IECC for Group R when dwelling units are above the slab, and for ‘All Other’ when common space is above the slab. 22",null,null,"-",null,null,"All","Required","Checklist"]
[null,null,"Footnote 22. Whether insulating from above or below the slab, thermal breaks must be accounted for when determining compliance with floor U-factors. Where structural columns cause a discontinuity in the installed floor insulation, the UA calculation for the floor assembly must account for this uninsulated area of the floor. For the purpose of this UA calculation, the area of the floor that is uninsulated due to the structural columns is required to be calculated as 400% of that actual area. For example, for a 4’x4’ column, the area to be used in the UA calculation is 64 ft2 instead of 16 ft2. The height of the column is not used in this calculation. Alternatively, if the structural column is insulated for a minimum of 4 vertical feet, the modification to the UA calculation is not required, and the U-value of the column insulation shall be associated with the uninsulated area of the floor due to the column.",null,null,null,null,null,"All","Required","Footnote 22 - 3.6"]
[null,null,"3.7 At above-grade walls and rim / band joists separating conditioned space from the exterior, one of the following options used: 23, 26",null,null,null,null,null,"All","Required","Checklist"]
[null,null,"Footnote 23. Item 3.7 is applicable to walls that are adjacent to other buildings. Mass walls utilized as the thermal mass component of a passive solar design (e.g., a Trombe wall) are exempt from this Item. To be eligible for this exemption, the passive solar design shall be comprised of the following five components: an aperture or collector, an absorber, thermal mass, a distribution system, and a control system. For more information, see:  www.energy.gov/sites/prod/files/guide_to_passive_solar_home_design.pdf.\nMass walls that are not part of a passive solar design (e.g., CMU block or log home enclosure) shall either utilize the strategies outlined in Item 3.7 or the pathway in the assembly with the least thermal resistance, as determined using a method consistent with the 2013 ASHRAE Handbook of Fundamentals, shall provide ≥ 50% of the applicable assembly resistance, defined as the reciprocal of the mass wall equivalent U-factor in the 2009 IECC Table 502.1.2. Documentation identifying the pathway with the least thermal resistance and its resistance value shall be collected by the Rater and any Builder Verified or Rater Verified box under Item 3.7 shall be checked. ",null,null,null,null,null,"All","Required","Footnote 23 - 3.7"]
[null,null,"Footnote 26. Walls and rim / band joists using steel or other metal framing shall meet the reduced thermal bridging requirements by complying with Item 3.7.1 of the Checklist and may not demonstrate compliance using Item 3.7.2 or 3.7.3.",null,null,null,null,null,"All","Required","Footnote 26 - 3.7"]
[null,null," 3.7.1 Continuous rigid insulation, insulated siding, or combination of the two is ≥ R-3 in CZ 1-4; ≥ R-5 in CZ 5-8 24, 25, 26, 27; OR;",null,null,"-",null,null,"All","Required","Checklist"]
[null,null,"Footnote 24. Up to 10% of the total exterior wall surface area is exempted from the reduced thermal bridging requirements to accommodate intentional designed details (e.g., architectural details such as thermal fins, wing walls, brick returns, stone window sills, metal panels, or masonry fireplaces; structural details, such as fasteners (e.g., shelf angles, metal clips, z-girts, brick ties), projected balconies, and service openings (e.g., PTACs or PTHPs), but not steel columns or wall area occupied by intermediate floors). It shall be apparent to the Rater that the exempted areas are intentional designed details or the exempted area shall be documented in a plan provided by the builder, architect, or engineer. The entire area of the wall area that is bypassed by the fastener must be used in the calculation. The Rater need not evaluate the necessity of the designed detail to certify the project.",null,null,null,null,null,"All","Required","Footnote 24 - 3.7.1"]
[null,null,"Footnote 25. If used, insulated siding shall be attached directly over a water-resistive barrier and sheathing. In addition, it shall provide the required R-value as demonstrated through either testing in accordance with ASTM C 1363 or by attaining the required R-value at its minimum thickness. Insulated sheathing rated for water protection can be used as a water resistant barrier if all seams are taped and sealed. If non-insulated structural sheathing is used at corners, the advanced framing details listed in Item 3.7.3 shall be met for those wall sections.",null,null,null,null,null,"All","Required","Footnote 25 - 3.7.1"]
[null,null,"Footnote 26. Walls and rim / band joists using steel or other metal framing shall meet the reduced thermal bridging requirements by complying with Item 3.7.1 of the Checklist and may not demonstrate compliance using Item 3.7.2 or 3.7.3.",null,null,null,null,null,"All","Required","Footnote 26 - 3.7.1"]
[null,null,"Footnote 27. In a building undergoing a gut rehabilitation, continuous interior insulation may be used in lieu of continuous exterior rigid insulation or insulated siding. This alternative does not require continuous interior insultation where a floor intersects an exterior wall, it only requires it from floor to ceiling. Continuous interior insulation is required where the demising wall intersects the exterior wall; however, it may be exempted per Footnote 24.",null,null,null,null,null,"All","Required","Footnote 27 - 3.7.1"]
[null,null," 3.7.2 Structural Insulated Panels OR; Insulated Concrete Forms OR; Double-wall framing OR; 24, 26, 28","X",null,"-",null,null,"All","Required","Checklist"]
[null,null,"Footnote 24. Up to 10% of the total exterior wall surface area is exempted from the reduced thermal bridging requirements to accommodate intentional designed details (e.g., architectural details such as thermal fins, wing walls, brick returns, stone window sills, metal panels, or masonry fireplaces; structural details, such as fasteners (e.g., shelf angles, metal clips, z-girts, brick ties), projected balconies, and service openings (e.g., PTACs or PTHPs), but not steel columns or wall area occupied by intermediate floors). It shall be apparent to the Rater that the exempted areas are intentional designed details or the exempted area shall be documented in a plan provided by the builder, architect, or engineer. The entire area of the wall area that is bypassed by the fastener must be used in the calculation. The Rater need not evaluate the necessity of the designed detail to certify the project.",null,null,null,null,null,"All","Required","Footnote 24 - 3.7.2"]
[null,null,"Footnote 26. Walls and rim / band joists using steel or other metal framing shall meet the reduced thermal bridging requirements by complying with Item 3.7.1 of the Checklist and may not demonstrate compliance using Item 3.7.2 or 3.7.3.",null,null,null,null,null,"All","Required","Footnote 26 - 3.7.2"]
[null,null,"Footnote 28. Double-wall framing is defined as any framing method that ensures a continuous layer of insulation covering the studs to at least the R-value required in Item 3.7.1 of the Checklist, such as offset double-stud walls, aligned double-stud walls with continuous insulation between the adjacent stud faces, or single-stud walls with 2x2 or 2x3 cross-framing. In all cases, insulation shall fill the entire wall cavity from the interior to exterior sheathing except at windows, doors and other penetrations.",null,null,null,null,null,"All","Required","Footnote 28 - 3.7.2"]
[null,null," 3.7.3 Option only for wood-framed walls either in CZ 1-3 OR ≤ 3 stories: ‘advanced framing’ details including all of the Items below: 26, 29",null,null,null,null,null,"All","Required","Checklist"]
[null,null,"Footnote 26. Walls and rim / band joists using steel or other metal framing shall meet the reduced thermal bridging requirements by complying with Item 3.7.1 of the Checklist and may not demonstrate compliance using Item 3.7.2 or 3.7.3.",null,null,null,null,null,"All","Required","Footnote 26 - 3.7.3"]
[null,null,"Footnote 29. Rim / band joists are exempt from this requirement. For the purpose of this requirement, “≤ 3 stories” refers to any portion of the building elevation where the wood-framed walls do not exceed 3 stories in height. Partial floors that meet the definition of a mezzanine or loft, as defined by the 2012 IRC, do not count as a story. All ‘advanced framing’ details shall be met except where the builder, architect, or engineer provides a framing plan that encompasses the details in question, indicating that structural members are required at these locations and including the rationale for these members (e.g., full-depth solid framing is required at wall corners or interior / exterior wall intersections for shear strength, a full-depth solid header is required above a window to transfer load to jacks studs, additional jack studs are required to support transferred loads, additional cripple studs are required to maintain on-center spacing, or stud spacing must be reduced to support multiple stories in a multifamily building). The Rater shall retain a copy of the detail and rationale for their records, but need not evaluate the rationale to certify the building. ",null,null,null,null,null,"All","Required","Footnote 29 - 3.7.3"]
[null,null,"  3.7.3a Corners insulated ≥ R-6 to edge, 30 AND;",null,"X","-",null,null,"All","Required","Checklist"]
[null,null,"Footnote 30. All exterior corners shall be constructed to allow access for the installation of ≥ R-6 insulation that extends to the exterior wall sheathing. Examples of compliance options include standard-density insulation with alternative framing techniques, such as using three studs per corner, or high-density insulation (e.g., spray foam) with standard framing techniques.",null,null,null,null,null,"All","Required","Footnote 30 - 3.7.3a"]
[null,null,"  3.7.3b Headers above windows & doors insulated ≥ R-3 for 2x4 framing or equivalent cavity width, and ≥ R-5 for all other assemblies (e.g., with 2x6 framing), 31 AND;",null,null,"-",null,null,"All","Required","Checklist"]
[null,null,"Footnote 31. Compliance options include continuous rigid insulation sheathing, SIP headers, other prefabricated insulated headers, single-member or two-member headers with insulation either in between or on one side, or an equivalent assembly. R-value requirement refers to manufacturer’s nominal insulation value.",null,null,null,null,null,"All","Required","Footnote 31 - 3.7.3b"]
[null,null,"  3.7.3c Interior / exterior wall intersections insulated to same R-value as rest of exterior wall. 32",null,null,"-",null,null,"All","Required","Checklist"]
[null,null,"Footnote 32. Insulation shall run behind interior / exterior wall intersections using ladder blocking, full length 2x6 or 1x6 furring behind the first partition stud, drywall clips, or other equivalent alternative.",null,null,null,null,null,"All","Required","Footnote 32 - 3.7.3c"]
[null,null,"4. Air Sealing (Unless otherwise noted below, “sealed” indicates the use of caulk, foam, or equivalent material.)",null,null,null,null,null,"All","Required","Section Header"]
[null,null,"4.1 Ducts, flues, shafts, plumbing, piping, wiring, exhaust fans, & other penetrations to unconditioned space sealed, with blocking / flashing as needed.",null,null,"-",null,"-","All","Required","Checklist"]
[null,null,"4.2 Recessed lighting fixtures adjacent to unconditioned space ICAT labeled and gasketed. Also, if in insulated ceiling without attic above, exterior surface of fixture insulated to ≥ R-10 in CZ 4-8.",null,null,"-",null,null,"All","Required","Checklist"]
[null,null,"4.3 Continuous top plate or blocking is at top of walls adjoining unconditioned space including at balloon-framed parapets, and sealed.",null,null,"-",null,null,"All","Required","Checklist"]
[null,null,"4.4 Drywall sealed to top plate at all unconditioned attic / wall interfaces using caulk, foam, drywall adhesive (but not other construction adhesives), or equivalent material. Either apply sealant directly between drywall and top plate or to the seam between the two from the attic above.",null,null,"-",null,null,"All","Required","Checklist"]
[null,null,"4.5 Rough opening around windows & exterior doors sealed. 33",null,null,"-",null,"-","All","Required","Checklist"]
[null,null,"Footnote 33. In Climate Zones 1 through 3, a continuous stucco cladding system sealed to windows and doors is permitted to be used in lieu of sealing rough openings with caulk or foam.",null,null,null,null,null,"All","Required","Footnote 33 - 4.5"]
[null,null,"4.6 Assemblies that separate attached garages from occupiable space sealed and, also, an air barrier installed, sealed, and aligned with these assemblies. 34",null,null,"-",null,null,"All","Required","Checklist"]
[null,null,"Footnote 34. For dwelling or sleeping units adjacent to garages, EPA recommends, but does not require, carbon monoxide (CO) alarms installed in a central location in the immediate vicinity of each separate sleeping zone and according to NFPA 720.",null,null,null,null,null,"All","Required","Footnote 34 - 4.6"]
[null,null,"4.7 Doors adjacent to unconditioned space (e.g., attics, garages, basements) or ambient conditions made substantially air-tight with doorsweep and weatherstripping or equivalent gasket.",null,null,"-",null,null,"All","Required","Checklist"]
[null,null,"4.8 Attic access panels, roof hatches and drop-down stairs are gasketed (i.e., not caulked) or equipped with durable covers that are gasketed. 18",null,null,"-",null,null,"All","Required","Checklist"]
[null,null,"Footnote 18. Examples of durable covers include, but are not limited to, pre-fabricated covers with integral insulation, rigid foam adhered to cover with adhesive, or batt insulation mechanically fastened to the cover (e.g., using bolts, metal wire, or metal strapping. Low-slope roof hatch covers to be insulated to R-5 minimum.",null,null,null,null,null,"All","Required","Footnote 18 - 4.8"]
[null,null,"The following items must be additionally verified in dwelling units, to reduce air leakage between conditioned spaces.",null,null,"-",null,null,"All","Required","Section Details"]
[null,null,"4.9 Doors serving as a unit entrance from a corridor / stairwell made substantially air-tight with doorsweep and weatherstripping or equivalent gasket.",null,null,"-",null,null,"All","Required","Checklist"]
[null,null,"4.10 Rater-measured compartmentalization is no greater than 0.30 CFM50 per square feet of dwelling unit enclosure area, following procedures in ANSI / RESNET / ICC Std. 380. 35",null,"-","-",null,"-","All","Required","Checklist"]
[null,null,"Footnote 35. Where a sampling protocol is permitted in accordance with the National or California Program Requirements, at least 20% of the dwelling or sleeping units adjacant to a garage shall be selected for testing.",null,null,null,null,null,"All","Required","Footnote 35 - 4.10"]
[null,null," 4.10.1 For dwelling units with forced air distribution systems without ducted returns and located in a closet adjacent to unconditioned space, the Rater-measured pressure difference between the space containing the air handler and the conditioned space during the compartmentalization test is no greater than 5 Pa. 36",null,"-","-",null,null,"All","Required","Checklist"]
[null,null,"Footnote 36. A ‘ducted return’ is defined as a continuous duct made of sheet metal, duct board, or flexible duct that connects one or more return grilles to the return-side inlet of the air handler. Any other approach to convey air from return or transfer grille(s) to the air handler, such as the use of building cavities, does not constitute a ‘ducted return’.",null,null,null,null,null,"All","Required","Footnote 36 - 4.10.1"]
[null,null,"HVAC System 37 (HVAC Design Report Item # indicated in parenthesis) ",null,null,null,null,null,"All","Required","Section Header"]
[null,null,"Footnote 37. This section of the Checklist is designed to meet the requirements of ASHRAE 62.1-2010 / 2013, ASHRAE 62.2-2010 / 2013, and ANSI / ACCA’s 5 QI-2015 protocol, thereby improving the performance of HVAC equipment in new multifamily buildings when compared to multifamily buildings built to minimum code. However, these features alone cannot prevent all ventilation, indoor air quality, and HVAC problems, (e.g., those caused by a lack of maintenance or by occupant behavior). Therefore, this Checklist is not a guarantee of proper ventilation, indoor air quality, or HVAC performance.",null,null,null,null,null,"All","Required","Footnote 37 - HVAC System"]
[null,null,"5. Heating & Cooling Equipment – Complete Track A – HVAC Grading by Rater OR Track B – HVAC Testing by FT Agent 38",null,null,null,null,null,"All","Required","Section Header"]
[null,null,"Footnote 38. Two tracks are provided for satisfying the mandatory requirements for all certified buildings, Exhibit 2. Track A – HVAC Grading by Rater allows a Rater to utilize ANSI / RESNET / ACCA Std. 310 39, a standard for grading the installation of residential HVAC systems, for all applicable systems serving individual dwelling units or common spaces, and a Functional Testing Agent to verify commercial and central systems. Track B – HVAC Testing by FT Agent utilizes a Functional Testing Agent for all systems. Either path may be selected, but all requirements within that path must be satisfied for the building to be certified.",null,null,null,null,null,"All","Required","Footnote 38 - 5"]
[null,null,"Track A 39",null,null,null,null,null,"All","Required","Section Details"]
[null,null,"Footnote 39. Track A – HVAC Grading by Rater shall not be used until an implementation schedule has been defined for ANSI / RESNET / ACCA Std. 310 by the HCO or MRO that the building is being certified under. Track A – HVAC Grading by Rater shall then use ANSI / RESNET / ACCA Std. 310 including all Addenda and Normative Appendices, with new versions and Addenda implemented according to the schedule defined by the HCO or MRO that the building is being certified under. For Track A, unitary HVAC Systems including air conditioners and heat pumps up to 65 kBtuh and furnaces up to 125 kBtuh serving individual dwelling or sleeping units or common spaces shall comply with 5a.1 through 5a.3 for the building to be certified.",null,null,null,null,null,"All","Required","Footnote 39 - Path A"]
[null,null,"5a.1 Blower fan volumetric airflow is Grade I or II per ANSI / RESNET / ACCA Std. 310",null,"-",null,null,null,"All","Required","Checklist"]
[null,null,"5a.2 Blower fan watt draw is Grade I or II per ANSI / RESNET / ACCA Std. 310",null,"-",null,null,null,"All","Required","Checklist"]
[null,null,"5a.3 Refrigerant charge is Grade I per ANSI / RESNET / ACCA Std. 310. See Footnote 40 for exemptions. 40",null,"-",null,null,null,"All","Required","Checklist"]
[null,null,"Footnote 40. If the non-invasive procedure in ANSI / RESNET / ACCA Std. 310 is not permitted to be used during the final inspection of a unit (i.e., due to the equipment type or to outdoor air temperatures that do not meet the requirements of the non-invasive method), then the unit is permitted to be certified with a default refrigerant charge designation of Grade III. Note that in these circumstances, the weigh-in method procedure in ANSI / RESNET / ACCA Std. 310 may still be used to pursue a Grade I designation.",null,null,null,null,null,"All","Required","Footnote 40 - 5a.3"]
[null,null,"Track B"]
[null,null,"5b.1 HVAC manufacturer & model number on installed equipment matches either of the following (check box): 41\n \n National HVAC Design Report (4.6-4.9 & 4.25-4.26)      Written approval received from designer",null,"-","-",null,null,"All","Required","Checklist"]
[null,null,"Footnote 41. If installed equipment does not match the National HVAC Design Report, then prior to certification the Rater shall obtain written approval from the designer (e.g., email, updated National HVAC Design Report) confirming that the installed equipment meets the requirements of the National HVAC Design Report. In addition, the Rater shall verify that all installed equipment are still exempted types per Footnote 20 of the National HVAC Design Report or, if no longer an exempted type, shall re-review Section 4b  of the National Rater Design Review Checklist to ensure compliance with all requirements (e.g., full completion of HVAC Design Report, HVAC design tolerances). In cases where the condenser unit is installed after the time of inspection by the Rater, the HVAC manufacturer and model numbers on installed equipment can be documented through the use of photographs provided by the HVAC Contractor or Functional Testing Agent after installation is complete.",null,null,null,null,null,"All","Required","Footnote 41 - 5b.1"]
[null,null,"5b.2 External static pressure measured by Rater at contractor-provided test locations and documented below: 42\n\nReturn-Side External Static Pressure: ________IWC\nSupply-Side External Static Pressure: __________IWC",null,null,null,null,null,"All","Required","Checklist"]
[null,null,"Footnote 42. The Rater shall measure and record the external static pressure in the return-side and supply-side of the system using the contractor-provided test locations. However, at this time, the Rater need not assess whether these values are within a specific range to certify the dwelling unit. Ductless systems and systems with a total amount of supply ductwork or distribution building cavities ≤ 10 ft. in length are exempted from this requirement. The Rater is also not required to measure external  static pressure for multi-split systems and may mark “N/A”.",null,null,null,null,null,"All","Required","Footnote 42 - 5b.2"]
[null,null,"5.4 Prescriptive Path: Heating and cooling equipment serving dwelling units and common spaces meet the efficiency levels specified in the Exhibit X. Electric resistance space heating is not installed in dwelling units.",null,"-","-",null,null,"Prescriptive","Required","Checklist"]
[null,null,"5.5 ERI Path: Heating and cooling equipment serving common spaces, but not serving dwelling units, meet the efficiency levels specified in the Exhibit X. See Exhibit X for restrictions on electric resistance space heating.",null,"-","-",null,null,"ERI","Required","Checklist"]
[null,null,"5.6 National HVAC Functional Testing Checklist(s) collected prior to certification, with all HVAC systems in the building / project fully documented. Exception: Where credentialed HVAC Contractor(s) are completing the National HVAC Functional Testing Checklist, the checklist is not required to be collected for the systems they verify. 43",null,"-","-",null,null,"All","Required","Checklist"]
[null,null,"Footnote 43. Functional Testing Agents must hold an approved credential, as listed at www.energystar.gov/ftas, or must be a representative of the Original Equipment Manufacturer (OEM), or a contractor credentialed by an HVAC Quality Installation Training and Oversight Organization (H-QUITO), if not completing Sections 6 and higher. Functional Testing Agents may not be the installing contractor, nor employed by the same company as the installing contractor, unless they are a credentialed contractor. An explanation of the credentialing process and links to H-QUITOs, which maintain lists of credentialed contractors, can be found at www.energystar.gov/findhvac. A directory of other FT Agents can be found at www.energystar.gov/ftas. Raters can confirm FT Agents have met the requirements by documenting they are listed in a directory. For Track A, a Functional Testing Agent is not needed to complete Sections 2 and 3 for residential HVAC systems serving dwelling units or common spaces that will be verified and graded by the Rater.",null,null,null,null,null,"All","Required","Footnote 43 - 5.6"]
[null,null,"5.7 Rater has verified and documented that Functional Testing Agent(s) (“FT Agent(s)”) completing the National HVAC Functional Testing Checklist(s) hold one of the required credentials and completed orientation, if applicable. 43\n\nCredential: ______________________ “FT Agent” Company Name(s): _______________________",null,"-","-",null,null,"All","Required","Checklist"]
[null,null,"Footnote 43. Functional Testing Agents must hold an approved credential, as listed at www.energystar.gov/ftas, or must be a representative of the Original Equipment Manufacturer (OEM), or a contractor credentialed by an HVAC Quality Installation Training and Oversight Organization (H-QUITO), if not completing Sections 6 and higher. Functional Testing Agents may not be the installing contractor nor employed by the same company as the installing contractor unless they are a credentialed contractor. An explanation of the credentialing process and links to H-QUITOs, which maintain lists of credentialed contractors, can be found at www.energystar.gov/findhvac. A directory of other FT Agents can be found at www.energystar.gov/ftas. Raters can confirm FT Agents have met the requirements by documenting they are listed in a directory. For Track A, a Functional Testing Agent is not needed to complete Sections 2 and 3 for residential HVAC systems serving dwelling units or common spaces that will be verified and graded by the Rater.",null,null,null,null,null,"All","Required","Footnote 43 - 5.7"]
[null,null,"Equipment Controls ",null,null,null,null,null,"All","Required","Section Details"]
[null,null,"5.8 All heating and cooling systems serving a dwelling unit have thermostatic controls within the dwelling unit which are not located on exterior walls.",null,"-","-",null,null,"All","Required","Checklist"]
[null,null," 5.8.1 Prescriptive Path: Dwelling unit thermostats are programmable.",null,"-","-",null,null,"Prescriptive","Required","Checklist"]
[null,null,"5.9 Stair and elevator shaft vents equipped with motorized dampers that are capable of being automatically closed during normal building operation and are interlocked to open as required by fire and smoke detection systems. Dampers are verified to be closed at the time of inspection.",null,"-",null,null,null,"All","Required","Checklist"]
[null,null,"5.10 Freeze protection systems, such as heat tracing of piping and heat exchangers, including self-regulating heat tracing, and garage / plenum heaters include automatic controls that are verified to shut off the systems when pipe wall or garage / plenum temperatures are above 40°F.",null,"-",null,null,null,"All","Required","Checklist"]
[null,null," 5.10.1 Where heat tracing is installed for freeze-protection, controls must be based on pipe wall temperature and a minimum of R-3 pipe insulation is also required.",null,"-",null,null,null,"All","Required","Checklist"]
[null,null,"5.11 Snow- and ice-melting systems include automatic controls that are verified to shut off the systems when the pavement temperature is above 50°F and no precipitation is falling, and an automatic or manual control is installed that is verified to shut off system when the outdoor temperature is above 40°F, so that the potential for snow or ice accumulation is negligible.",null,"-",null,null,null,"All","Required","Checklist"]
[null,null,"Hydronic Distribution ",null,null,null,null,null,"All","Required","Section Header"]
[null,null,"5.12 For hydronic distribution systems, all terminal heating and cooling distribution equipment are separated from the riser or distribution loop by a control valve or terminal distribution pump, so that heated or cooled fluid is not delivered to the dwelling unit distribution equipment when there is no call from the thermostat.",null,"-",null,null,null,"All","Required","Checklist"]
[null,null,"5.13 Terminal units in hydronic distribution systems are equipped with pressure independent balancing valves or pressure independent control valves.",null,"-",null,null,null,"All","Required","Checklist"]
[null,null,"5.14 Piping of a heating or cooling system is insulated in accordance with Item 4.41 on the National HVAC Design Report, including where passing through planks or any other penetrations.",null,"-",null,null,null,"All","Required","Checklist"]
[null,null,"5.15 For circulating pumps serving hydronic heating or cooling systems with three-phase motors, 1 horsepower or larger, motors meet or exceed efficiency standards for NEMA Premium™ motors. If 5 horsepower or larger, also installed with variable frequency drives.",null,"-",null,null,null,"All","Required","Checklist"]
[null,null,"6. Duct Quality Installation - Applies to Heating, Cooling, Ventilation, Exhaust, & Pressure Balancing Ducts, Unless Noted in Footnote.",null,null,null,null,null,"All","Required","Section Header"]
[null,null,"6.1 Ductwork installed without kinks, sharp bends, compressions, or excessive coiled flexible ductwork. 45",null,"-","-",null,null,"All","Required","Checklist"]
[null,null,"Footnote 45. Kinks are to be avoided and are caused when ducts are bent across sharp corners such as framing members. Sharp bends are to be avoided and occur when the radius of the turn in the duct is less than one duct diameter. Compression is to be avoided and occurs when flexible ducts in unconditioned space are installed in cavities smaller than the outer duct diameter and ducts in conditioned space are installed in cavities smaller than inner duct diameter. Ducts shall not include coils or loops except to the extent needed for acoustical control.",null,null,null,null,null,"All","Required","Footnote 45 - 6.1"]
[null,null,"6.2 Bedrooms with a design supply airflow ≥ 150 CFM (per Item 5.2 on the National HVAC Design Report) pressure-balanced (e.g., using transfer grilles, jump ducts, dedicated return ducts, undercut doors) to achieve a Rater-measured pressure differential ≥ -5 Pa and ≤ +5 Pa with respect to the main body of the dwelling unit when all air handlers are operating. See Footnote 46 for test configuration. 46",null,"-","-",null,null,"All","Required","Checklist"]
[null,null,"Footnote 46. Item 6.2 does not apply to ventilation ducts, exhaust ducts, or non-ducted systems. For an HVAC system with a multi-speed fan, the highest design fan speed shall be used when verifying this requirement. When verifying this requirement, doors separating bedrooms from the main body of the dwelling unit (e.g., a door between a bedroom and a hallway) shall be closed and doors to rooms that can only be entered from the bedroom (e.g., a closet, a bathroom) shall be open. The Rater-measured pressure shall be rounded to the nearest whole number to assess compliance.",null,null,null,null,null,"All","Required","Footnote 46 - 6.2"]
[null,null,"6.3 All supply and return ducts in unconditioned space, including connections to trunk ducts, are insulated to ≥ R-6. 47",null,"-","-",null,null,"All","Required","Checklist"]
[null,null,"Footnote 47. Item 6.3 does not apply to ducts that are a part of local mechanical exhaust or exhaust-only dwelling-unit mechanical ventilation systems. EPA recommends, but does not require, that all metal ductwork not encompassed by Section 6 (e.g., exhaust ducts, duct boots, ducts in conditioned space) also be insulated and that insulation be sealed to duct boots to prevent condensation.",null,null,null,null,null,"All","Required","Footnote 47 - 6.3"]
[null,null," 6.3.1 Prescriptive Path: Dwelling unit ductwork meets the location and insulation requirements specified in the ENERGY STAR Multifamily Reference Design.",null,"-","-",null,null,"Prescriptive","Required","Checklist"]
[null,null,"6.4 Rater-measured total duct leakage in dwelling units meets one of the following two options: 48, 49",null,null,null,null,null,"All","Required","Checklist"]
[null,null,"Footnote 48. Items 6.4 and 6.5 generally apply to the ducts of space heating, space cooling, and dwelling-unit mechanical ventilation systems. \nHowever, visual inspection is permitted in lieu of testing for the following system types: 1) a dwelling-unit mechanical ventilation system not connected to the space heating or space cooling system, regardless of the number of dwelling units it serves; 2) a space heating or space cooling system for which the ducts and air handler are in conditioned space and the total supply duct length of the system, including all supply trunks and branches, is ≤ 10 ft; and 3) a space heating or space cooling system that serves more than one dwelling unit. In such cases, a Rater shall visually verify that all seams and connections are sealed with mastic or metal tape and all duct boots are sealed to floor, wall, or ceiling using caulk, foam, or mastic tape. \nFor duct systems requiring testing, duct leakage shall be determined and documented by a Rater using ANSI / RESNET / ICC Std. 380 including all Addenda and Normative Appendices, with new versions and Addenda implemented according to the schedule defined by the HCO or MRO that the building is being certified under. Leakage limits shall be assessed on a per-system, rather than per-dwelling unit, basis. ",null,null,null,null,null,"All","Required","Footnote 48 - 6.4"]
[null,null,"Footnote 49: Note that compliance with Item 6.4.1 or 6.4.2 in conjunction with Section 4a of the National Rater Design Review Checklist automatically achieves Grade I total duct leakage per ANSI / RESNET / ACCA Std. 310.",null,null,null,null,null,"All","Required","Footnote 49 - 6.4"]
[null,null," 6.4.1 Rough-in: Tested per allowances below, with air handler & all ducts, building cavities used as ducts, & duct boots installed. In addition, all duct boots sealed to finished surface, Rater-verified at final. 50\n\nNo ducted returns 36: The greater of ≤ 3 CFM25 per 100 sq. ft. of CFA or ≤ 30 CFM. Additionally, the Rater-measured pressure difference between the space containing the air handler and the conditioned space, with the air handler running at high speed, is ≤ 5 Pa. For systems > 1 ton, increase by 1 Pa per half ton.\n\nOne or two ducted returns 36: The greater of ≤ 4 CFM25 per 100 sq. ft. of CFA or ≤ 40 CFM.\n\nThree or more ducted returns 36 : The greater of ≤ 6 CFM25 per 100 sq. ft. of CFA or ≤ 60 CFM.",null,"-","-",null,null,"All","Required","Checklist"]
[null,null,"Footnote 36. A ‘ducted return’ is defined as a continuous duct made of sheet metal, duct board, or flexible duct that connects one or more return grilles to the return-side inlet of the air handler. Any other approach to convey air from return or transfer grille(s) to the air handler, such as the use of building cavities, does not constitute a ‘ducted return’.",null,null,null,null,null,"All","Required","Footnote 36 - 6.4.1"]
[null,null,"Footnote 50. Cabinets (e.g., kitchen, bath, multimedia) or ducts that connect duct boots to toe-kick registers are not required to be in place during the ‘rough-in’ test.",null,null,null,null,null,"All","Required","Footnote 50 - 6.4.1"]
[null,null," 6.4.2 Final: Tested per allowances below, with the air handler & all ducts, building cavities used as ducts, duct boots, & register grilles atop the finished surface (e.g., drywall, floor) installed. 51\n\nNo ducted returns 36: The greater of ≤ 6 CFM25 per 100 sq. ft. of CFA or ≤ 60 CFM. Additionally, the Rater-measured pressure difference between the space containing the air handler and the conditioned space, with the air handler running at high speed, is ≤ 5 Pa. For systems > 1 ton, increase by 1 Pa per half ton.\n\nOne or two ducted returns 36: The greater of ≤ 8 CFM25 per 100 sq. ft. of CFA or ≤ 80 CFM.\n\nThree or more ducted returns 36 : The greater of ≤ 12 CFM25 per 100 sq. ft. of CFA or ≤ 120 CFM.",null,"-","-",null,null,"All","Required","Checklist"]
[null,null,"Footnote 36. A ‘ducted return’ is defined as a continuous duct made of sheet metal, duct board, or flexible duct that connects one or more return grilles to the return-side inlet of the air handler. Any other approach to convey air from return or transfer grille(s) to the air handler, such as the use of building cavities, does not constitute a ‘ducted return’.",null,null,null,null,null,"All","Required","Footnote 36 - 6.4.2"]
[null,null,"Footnote 51. Registers atop carpets are permitted to be removed and the face of the duct boot temporarily sealed during testing. In such cases, the Rater shall visually verify that the boot has been durably sealed to the subfloor (e.g., using duct mastic or caulk) to prevent leakage during normal operation.",null,null,null,null,null,"All","Required","Footnote 51 - 6.4.2"]
[null,null,"6.5 Townhouses only: Rater-measured duct leakage to the outside the greater of ≤ 4 CFM25 per 100 sq. ft. of CFA or ≤ 40 CFM25. 48, 52",null,"-","-",null,null,"All","Required","Checklist"]
[null,null,"Footnote 48. Items 6.4 and 6.5 generally apply to the ducts of space heating, space cooling, and dwelling-unit mechanical ventilation systems. \nHowever, visual inspection is permitted in lieu of testing for the following system types: 1) a dwelling-unit mechanical ventilation system not connected to the space heating or space cooling system, regardless of the number of dwelling units it serves; 2) a space heating or space cooling system for which the ducts and air handler are in conditioned space and the total supply duct length of the system, including all supply trunks and branches, is ≤ 10 ft; and 3) a space heating or space cooling system that serves more than one dwelling unit. In such cases, a Rater shall visually verify that all seams and connections are sealed with mastic or metal tape and all duct boots are sealed to floor, wall, or ceiling using caulk, foam, or mastic tape. \nFor duct systems requiring testing, duct leakage shall be determined and documented by a Rater using ANSI / RESNET / ICC Std. 380 including all Addenda and Normative Appendices, with new versions and Addenda implemented according to the schedule defined by the HCO or MRO that the building is being certified under. Leakage limits shall be assessed on a per-system, rather than per-dwelling unit, basis.",null,null,null,null,null,"All","Required","Footnote 48 - 6.5"]
[null,null,"Footnote 52. Testing of duct leakage to the outdoors can be waived in accordance with the 2nd or 3rd alternative of ANSI / RESNET / ICC Std. 301, Table\n4.2.2 (1), footnote (w). Alternatively, testing of duct leakage to outdoors can be waived in accordance with Section 5.5.2 of ANSI / RESNET / ICC Std. 380 if total duct leakage, at rough-in or final, is ≤ 4 CFM25 per 100 sq. ft. of conditioned floor area or 40 CFM25, whichever is larger. Guidance to assist partners with these alternatives, including modeling inputs, is available at www.energystar.gov/newhomesguidance.",null,null,null,null,null,"All","Required","Footnote 52 - 6.5"]
[null,null,"6.6 Common Space: Supply, return, and exhaust ductwork and all plenums serving common spaces are sealed at all transverse joints, longitudinal seams, and duct wall penetrations with mastic, mastic tape, or internal aerosol-based sealant.",null,"-","-",null,null,"All","Required","Checklist"]
[null,null,"6.7 Duct leakage of central exhaust systems that serve four or more dwelling units, meets one of the following two options:",null,"-","-",null,null,"All","Required","Checklist"]
[null,null," 6.7.1 Rough-in: Tested including horizontal run outs, trunks, branches, and take-offs up to, but not including, the grilles, the leakage does not exceed 25% of exhaust fan flow. 53",null,"-","-",null,null,"All","Required","Checklist"]
[null,null,"\nFootnote 53. For the purpose of computing leakage allowance, exhaust fan flow shall be the lesser of the rated fan flow and at rough-in, 133% of the sum of the design exhaust airflow of the dwelling units that are exhausted by that central fan or at final, 143% of the sum of the design exhaust airflow of the dwelling units that are exhausted by that central fan. Measured fan flow (either at the fan itself or the total airflow measured from all exhaust grilles served by the fan) may be used  in lieu of the rated fan flow to determine the leakage allowance. Duct leakage shall be tested at the design or average operating pressure and shall use the procedures in the RESNET Guidelines for Multifamily Energy Ratings, available at www.resnet.us/blog/resnet-adoptsguidelines-for-multifamily-energy-ratings/. Where testing at the design or average operating pressure is not feasible, testing at 50 Pa is permitted, however the following flow equation must be used to determine the leakage allowance at 50 Pa.\n\nCFM50 = CFMdesign / [Pdesign(0.65) / 50(0.65)]\n\nNo less than 50% of the ductwork, based on total linear feet, shall be tested and must include ductwork other than the main trunks. Where portions of ductwork are tested, rather than entire risers, the percentage of leakage allowed is based upon the design airflow of the dwelling units that are exhausted in that portion. Where failures occur, the percentage of total linear feet required to be tested increases by 10%. Where aerosol-based sealant is used on some but not all risers, the ductwork selected for testing must be representative of all sealing strategies used. This test is not required of central exhaust systems serving clothes dryers.",null,null,null,null,null,"All","Required","Footnote 52 - 6.7.1"]
[null,null," 6.7.2 Final: Tested inclusive of all ductwork between the fan and the grilles, the leakage does not exceed 30% of exhaust fan flow. 53",null,"-","-",null,null,"All","Required","Checklist"]
[null,null,"\nFootnote 53. For the purpose of computing leakage allowance, exhaust fan flow shall be the lesser of the rated fan flow and at rough-in, 133% of the sum of the design exhaust airflow of the dwelling units that are exhausted by that central fan or at final, 143% of the sum of the design exhaust airflow of the dwelling units that are exhausted by that central fan. Measured fan flow (either at the fan itself or the total airflow measured from all exhaust grilles served by the fan) may be used  in lieu of the rated fan flow to determine the leakage allowance. Duct leakage shall be tested at the design or average operating pressure and shall use the procedures in the RESNET Guidelines for Multifamily Energy Ratings, available at www.resnet.us/blog/resnet-adoptsguidelines-for-multifamily-energy-ratings/. Where testing at the design or average operating pressure is not feasible, testing at 50 Pa is permitted, however the following flow equation must be used to determine the leakage allowance at 50 Pa.\n\nCFM50 = CFMdesign / [Pdesign(0.65) / 50(0.65)]\n\nNo less than 50% of the ductwork, based on total linear feet, shall be tested and must include ductwork other than the main trunks. Where portions of ductwork are tested, rather than entire risers, the percentage of leakage allowed is based upon the design airflow of the dwelling units that are exhausted in that portion. Where failures occur, the percentage of total linear feet required to be tested increases by 10%. Where aerosol-based sealant is used on some but not all risers, the ductwork selected for testing must be representative of all sealing strategies used. This test is not required of central exhaust systems serving clothes dryers.",null,null,null,null,null,"All","Required","Footnote 52 - 6.7.2"]
[null,null,"7. Dwelling-Unit & Common Space Mechanical Vent. Systems (\"Vent Systems\") 54 & Inlets in Return Duct 55\n(National HVAC Design Report Item # indicated in parenthesis)",null,null,null,null,null,"All","Required","Section Header"]
[null,null,"\nFootnote 54. As defined by ANSI / RESNET / ICC Std. 301-2019, a Dwelling Unit Mechanical Ventilation System is a ventilation system consisting of powered ventilation equipment such as motor-driven fans and blowers and related mechanical components such as ducts, inlets, dampers, filters and associated control devices that provides dwelling-unit ventilation at a known or measured airflow rate.",null,null,null,null,null,"All","Required","Footnote 54 - 7"]
[null,null,"\nFootnote 55. Item 7.5 applies to any outdoor air inlet connected to a ducted return of the dwelling unit HVAC system, regardless of its intended purpose (e.g., for ventilation air, make-up air, combustion air). This Item does not apply to HVAC systems without a ducted return.",null,null,null,null,null,"All","Required","Footnote 55 - 7"]
[null,null,"7.1 Ventilation manufacturer & model number on installed equipment matches either of the following (check box): 41\n\n National HVAC Design Report           Written approval received from designer",null,"-","-",null,"-","All","Required","Checklist"]
[null,null,"Footnote 41. If installed equipment does not match the National HVAC Design Report, then prior to certification the Rater shall obtain written approval from the designer (e.g., email, updated National HVAC Design Report) confirming that the installed equipment meets the requirements of the National HVAC Design Report. In addition, the Rater shall verify that all installed equipment are still exempted types per Footnote 20 of the National HVAC Design Report or, if no longer an exempted type, shall re-review Section 4b  of the National Rater Design Review Checklist to ensure compliance with all requirements (e.g., full completion of HVAC Design Report, HVAC design tolerances). In cases where the condenser unit is installed after the time of inspection by the Rater, the HVAC manufacturer and model numbers on installed equipment can be documented through the use of photographs provided by the HVAC Contractor or Functional Testing Agent after installation is complete.",null,null,null,null,null,"All","Required","Footnote 41 - 7.1"]
[null,null,"7.2 Rater-measured ventilation rate is within either ± 15 CFM or ± 15% of dwelling unit design values (2.7), and meets or exceeds rates required by ASHRAE 62.2-2010. 56",null,"-","-",null,"-","All","Required","Checklist"]
[null,null,"Footnote 56. The dwelling-unit ventilation air flows and local exhaust air flows shall be determined and documented by a Rater using ANSI / RESNET / ICC Std. 380 including all Addenda and Normative Appendices, with new versions and Addenda implemented according to the schedule defined by the HCO or MRO that the building is being certified under. In Item 7.2, the dwelling-unit ventilation rates required by ASHRAE 62.2-2010 can be calculated using the Multifamily Workbook or the following equation:\n0.01 x Conditioned Floor Area + 7.5 x (number of bedrooms + 1). Where local codes do not permit dwelling-unit ventilation to exceed ASHRAE 62.2-2010 rates, Rater-measured ventilation rate is permitted to be 0-15 CFM less than rates required by ASHRAE 62.2-2010.",null,null,null,null,null,"All","Required","Footnote 54 - 7.2"]
[null,null,"7.3 Measured ventilation rate is within either ± 15 CFM or ± 15 % of common space design values (2.9), and meets or exceeds rates required by ASHRAE 62.1-2010 (2.8). 57",null,"-","-",null,"-","All","Required","Checklist"]
[null,null,"Footnote 57. While common spaces are not under the scope of ANSI / RESNET / ICC Std. 380, the ventilation air flow and exhaust air flows in common spaces shall be measured in accordance with the procedures in ANSI / RESNET / ICC Std. 380. The air flows may be measured by a Rater or a certified air-balancing contractor under the observation of a Rater. Where a system provides supply air that is a mix of return and outdoor air, and not 100% outdoor air, the outdoor air intake airflow shall be measured and compared to the total supply airflow to determine percentage of outdoor air supplied. This percentage shall be applied to airflow measured at supply registers to determine outdoor air provided for comparison to design airflow rates.",null,null,null,null,null,"All","Required","Footnote 55 - 7.3"]
[null,null,"7.4 A ventilation override control installed and also labeled if its function is not obvious (e.g., a label is required for a standalone wall switch, but not for a switch that’s on the ventilation equipment). Townhouses only: A readily-accessible ventilation override control installed and also labeled if its function is not obvious (e.g., a label is required for a toggle wall switch, but not for a switch that’s on the ventilation equipment).",null,"-","-",null,"-","All","Required","Checklist"]
[null,null,"7.5 For any outdoor air inlet connected to a ducted return of the dwelling unit HVAC system (Complete if present; otherwise check “N/A”): 55","-","-","-","-",null,"All","Required","Checklist"]
[null,null,"\nFootnote 55. Item 7.5 applies to any outdoor air inlet connected to a ducted return of the dwelling unit HVAC system, regardless of its intended purpose (e.g., for ventilation air, make-up air, combustion air). This Item does not apply to HVAC systems without a ducted return.",null,null,null,null,null,"All","Required","Footnote 55 - 7.5"]
[null,null,"7.5.1 Controls automatically restrict airflow using a motorized damper during vent. off-cycle and occupant override. 58",null,"-","-",null,"-","All","Required","Checklist"]
[null,null,"\nFootnote 58. For example, if an outdoor air inlet connected to a ducted return is used as a dedicated source of outdoor air for an exhaust ventilation system (e.g., bath fan), the outdoor airflow must be automatically restricted when the exhaust fan is not running and in the event of an override of the exhaust ventilation system.\n\nIn dwelling / sleeping units in multifamily buildings, but not townhouses, automatic restriction of airflow is exempted if a manual shutoff damper is used with a continuous exhaust ventilation system and is readily-accessible, labeled as the override, and not used as a balancing damper.",null,null,null,null,null,"All","Required","Footnote 58 - 7.5.1"]
[null,null,"7.5.2 Rater-measured vent. rate is ≤ 15 CFM or 15% above design value at highest HVAC fan speed. Alt. in Fn. 59. 59",null,"-","-",null,"-","All","Required","Checklist"]
[null,null,"\nFootnote 59. When assessing the ventilation rate, the highest HVAC fan speed applicable to ventilation mode shall be used (e.g., if the inlet only opens when the HVAC is in ‘fan-only’ mode, then test in this mode). If the inlet has a motorized damper that only opens when the local mechanical kitchen exhaust is turned on, then testing is not required. \n\nWhen required, the ventilation airflow through the inlet shall be measured and documented by a Rater using ANSI / RESNET / ICC Std. 380 including all Addenda and Normative Appendices, with new versions and Addenda implemented according to the schedule defined by the HCO or MRO that the building is being certified under. As an alternative, measurement of the outdoor airflow can be waived if a Constant Airflow Regulating (CAR) damper with a manufacturer-specified maximum flow rate no higher than 15 CFM or 15% above the ventilation design value is installed on the inlet.",null,null,null,null,null,"All","Required","Footnote 59 - 7.5.2"]
[null,null,"7.6 If located in the dwelling unit, system fan rated ≤ 3 sones if intermittent and ≤ 2 sone if continuous, or exempted. 60",null,"-","-",null,"-","All","Required","Checklist"]
[null,null,"\nFootnote 60. Dwelling-unit mechanical ventilation fans shall be rated for sound at no less than the airflow rate in Item 2.7 of the National HVAC Design Report. Fans exempted from this requirement include HVAC air handler fans, remote-mounted fans, and intermittent fans rated ≥ 400 CFM. To be considered for this exemption, a remote-mounted fan must be mounted outside the habitable spaces, bathrooms, toilets, and hallways and there shall be ≥ 4 ft. ductwork between the fan and intake grille. Per ASHRAE 62.2-2010, habitable spaces are intended for continual human occupancy; such space generally includes areas used for living, sleeping, dining, and cooking but does not generally include bathrooms, toilets, hallways, storage areas, closets, or utility rooms.",null,null,null,null,null,"All","Required","Footnote 56 - 7.6"]
[null,null,"7.7 If dwelling-unit Vent System controller operates the dwelling unit HVAC fan, then HVAC fan operation is intermittent and either the fan type is ECM / ICM (4.12), or the controls will reduce the run-time by accounting for HVAC system heating or cooling hours. 61",null,"-","-",null,null,"All","Required","Checklist"]
[null,null,"\nFootnote 61. Note that the ‘fan-on’ setting of a thermostat would not be an acceptable controller because it would continuously operate the HVAC fan.",null,null,null,null,null,"All","Required","Footnote 61 - 7.7"]
[null,null,"7.8 In-unit bathroom fans or in-line fans are ENERGY STAR certified if used as part of the dwelling-unit mechanical ventilation system. 62",null,"-","-",null,null,"All","Required","Checklist"]
[null,null,"Footnote 62. Bathroom fans with a rated flow rate ≥ 500 CFM are exempted from the requirement to be ENERGY STAR certified.",null,null,null,null,null,"All","Required","Footnote 57 - 7.8"]
[null,null,"7.9 If central exhaust fans, ≤ 1 HP, are installed as part of the dwelling-unit mechanical ventilation system, then they are direct-drive, ECM, with variable speed controllers. If > 1 HP, they are installed with NEMATM Premium Motors.",null,"-","-",null,null,"All","Required","Checklist"]
[null,null,"7.10 Air inlet locations (Complete if ventilation air inlet locations were installed (2.22, 2.23); otherwise check “N/A”): 63, 64",null,null,null,null,null,"All","Required","Checklist"]
[null,null,"Footnote 63. Ventilation air inlets that are only visible via rooftop access are exempted from Item 7.10 and the Rater shall mark “N/A”. The outlet and inlet of balanced ventilation systems shall meet these spacing requirements unless manufacturer instructions indicate that a smaller distance may be used. However, if this occurs the manufacturer’s instructions shall be collected for documentation purposes.",null,null,null,null,null,"All","Required","Footnote 58 - 7.10"]
[null,null,"\nFootnote 64. Without proper maintenance, ventilation air inlet screens often become filled with debris. Therefore, EPA recommends, but does not require, that these ventilation air inlets be located so as to facilitate access and regular service by the building owner.",null,null,null,null,null,"All","Required","Footnote 59 - 7.10"]
[null,null," 7.10.1 Inlet(s) pull ventilation air directly from outdoors and not from attic, crawlspace, garage, or adjacent dwelling unit.",null,"-","-",null,"-","All","Required","Checklist"]
[null,null," 7.10.2 Inlet(s) are ≥ 2 ft. above grade or roof deck; ≥ 10 ft. of stretched-string distance from known contamination sources not exiting the roof, and ≥ 3 ft. distance from dryer exhausts and sources exiting the roof. 65",null,"-","-",null,"-","All","Required","Checklist"]
[null,null,"Footnote 65. Known contamination sources include, but are not limited to, stacks, vents, exhausts, and vehicles.",null,null,null,null,null,"All","Required","Footnote 60 - 7.10.2"]
[null,null,"7.10.3 Inlet(s) are provided with rodent / insect screen with ≤ 0/5 inch mesh.",null,"-","-",null,"-","All","Required","Checklist"]
[null,null,"8. Local Mechanical Exhaust (National HVAC Design Report Item # indicated in parenthesis)",null,null,null,null,null,"All","Required","Section Header"]
[null,null,"Dwelling Unit Mechanical exhaust - In each dwelling unit kitchen and bathroom, a system is installed that exhausts directly to the outdoors and meets one of the following Rater-measured airflow and manufacturer-rated sound level standards: 54, 66",null,null,null,null,null,"All","Required","Section Details"]
[null,null,"Footnote 54. The dwelling-unit ventilation air flow and local exhaust air flows shall be determined and documented by a Rater using ANSI / RESNET / ICC Std. 380 including all Addenda and Normative Appendices, with new versions and Addenda implemented according to the schedule defined by the HCO or MRO that the building is being certified under. In Item 7.2, the dwelling-unit ventilation rates required by ASHRAE 62.2-2010 can be calculated using the Multifamily Workbook or the following equation:\n0.01 x Conditioned Floor Area + 7.5 x (number of bedrooms + 1). Where local codes do not permit dwelling-unit ventilation to exceed ASHRAE 62.2-2010 rates, Rater-measured ventilation rate is permitted to be 0-15 CFM less than rates required by ASHRAE 62.2-2010.",null,null,null,null,null,"All","Required","Footnote 54 - 8 DUME"]
[null,null,"Footnote 66. Continuous bathroom local mechanical exhaust fans shall be rated for sound at no less than the airflow rate in Item 8.2. Intermittent bathroom and both intermittent and continuous kitchen local mechanical exhaust fans are recommended, but not required, to be rated for sound at no less than the airflow rate in Items 8.1 and 8.2. Per ASHRAE 62.2-2010, an exhaust system is one or more fans that remove air from the building, causing outdoor air to enter by ventilation inlets or normal leakage paths through the building envelope (e.g., bath exhaust fans, range hoods, clothes dryers). Per ASHRAE 62.2-2010, a bathroom is any room containing a bathtub, shower, spa, or similar source of moisture.",null,null,null,null,null,"All","Required","Footnote 61 - 8 DUME"]
[null,null,"Location ",null,null,null,null,null,"All","Required","Section Header"]
[null,null,"8.1 Kitchen\nAirflow\nContinuous Rate:  ≥ 5 ACH, based on kitchen volume 68, 69\nIntermittent Rate 67: ≥ 100 CFM and, if not integrated with range, also ≥ 5 ACH based on kitchen volume 68, 69, 70\n\nSound\nContinuous Rate: Recommended: ≤ 1 sone\nIntermittent Rate 67:  Recommended: ≤ 3 sones",null,"-","-",null,"-","All","Required","Checklist"]
[null,null,"Footnote 67. An intermittent mechanical exhaust system, where provided, shall be designed to operate as needed by the occupant. Control devices shall not impede occupant control in intermittent systems.",null,null,null,null,null,"All","Required","Footnote 62 - 8.1"]
[null,null,"Footnote 68. Kitchen volume shall be determined by drawing the smallest possible rectangle on the floor plan that encompasses all cabinets, pantries, islands, peninsulas, ranges / ovens, and the kitchen exhaust fan, and multiplying by the average ceiling height for this area. In addition, the continuous kitchen exhaust rate shall be ≥ 25 CFM, per 2009 IRC Table M1507.3, regardless of the rate calculated using the kitchen volume. Cabinet volume shall be included in the kitchen volume.",null,null,null,null,null,"All","Required","Footnote 63 - 8.1"]
[null,null,"Footnote 69. Alternatively, the prescriptive duct sizing requirements in Table 5.3 of ASHRAE 62.2-2010 are permitted to be used for kitchen exhaust fans based upon the rated airflow of the fan at 0.25 IWC. If the rated airflow is unknown, ≥ 6 in. smooth duct shall be used, with a rectangular to round duct transition as needed. Guidance to assist partners with these alternatives is available at www.energystar.gov/newhomesguidance. As an alternative to Item 8.1, dwelling units are permitted to use a continuous kitchen exhaust rate of 25 CFM per 2009 IRC Table M1507.3, if they are either a) PHIUS+ or PHI certified, or b) provide both dwelling-unit ventilation and local mechanical kitchen exhaust using a balanced system, and have a Rater-verified whole-building infiltration rate ≤ 1.0 ACH50 or  ≤ 0.05 CFM50 per sq. ft. of Enclosure Area. ‘Enclosure Area’ is defined as the area of the surfaces that bound the volume being pressurized / depressurized during the test.",null,null,null,null,null,"All","Required","Footnote 64 - 8.1"]
[null,null,"Footnote 70. All intermittent kitchen exhaust fans must be capable of exhausting at least 100 CFM. In addition, if the fan is not part of a vented range hood or appliance-range hood combination (i.e., if the fan is not integrated with the range), then it must also be capable of exhausting ≥ 5 ACH, based on the kitchen volume.",null,null,null,null,null,"All","Required","Footnote 65 - 8.1"]
[null,null,"8.2 Bathroom\nAirflow\nContinuous Rate:  ≥ 20 CFM\nIntermittent Rate 67: ≥ 50 CFM\n\nSound\nContinuous Rate: Required: ≤ 2 sones\nIntermittent Rate 67:  Recommended: ≤ 3 sones",null,"-","-",null,"-","All","Required","Checklist"]
[null,null,"Footnote 67. An intermittent mechanical exhaust system, where provided, shall be designed to operate as needed by the occupant. Control devices shall not impede occupant control in intermittent systems.",null,null,null,null,null,"All","Required","Footnote 62 - 8.2"]
[null,null,"Mechanical Exhaust for Common Spaces 2 and Shared Garages ",null,null,null,null,null,"All","Required","Section Header"]
[null,null,"Footnote 2. The term ‘common space’ refers to any spaces in the building being certified that serve a function in support of the residential part of the building that is not part of a dwelling or sleeping unit. This includes spaces used by residents, such as corridors, stairs, lobbies, laundry rooms, exercise rooms, residential recreation rooms, and dining halls, as well as offices and other spaces used by building management, administration or maintenance in support of the residents.",null,null,null,null,null,"All","Required","Footnote 2 - 8 CSME"]
[null,null,"8.3 Measured exhaust rates are  ≥ ASHRAE 62.1 rates (2c). 57",null,"-","-",null,null,"All","Required","Checklist"]
[null,null,"\nFootnote 57. While common spaces are not under the scope of ANSI / RESNET / ICC Std. 380, the ventilation air flow and exhaust air flows in common spaces shall be measured in accordance with the procedures in ANSI / RESNET / ICC Std. 380. The air flows may be measured by a Rater or a certified air-balancing contractor under the observation of a Rater. Where a system provides supply air that is a mix of return and outdoor air, and not 100% outdoor air, the outdoor air intake airflow shall be measured and compared to the total supply airflow to determine percentage of outdoor air supplied. This percentage shall be applied to airflow measured at supply registers to determine outdoor air provided for comparison to design airflow rates.",null,null,null,null,null,"All","Required","Footnote 54 - 8.3"]
[null,null,"8.4 Where an exhaust system is installed in a shared garage, it is equipped with controls that sense CO and NO2.",null,"-","-",null,null,"All","Required","Checklist"]
[null,null,"9. Filtration ",null,null,null,null,null,"All","Required","Section Header"]
[null,null,"9.1 MERV 6+ filter(s) installed in each ducted mechanical system serving an individual dwelling unit and located to facilitate access & regular service by the occupant or building owner. 71",null,"-","-",null,null,"All","Required","Checklist"]
[null,null,"Footnote 71. Based upon, ASHRAE 62.2-2010, ducted mechanical systems are those that supply air to an occupiable space with a total amount of supply ductwork exceeding 10 ft. in length and through a thermal conditioning component, except for evaporative coolers. Systems that do not meet this definition are exempt from this requirement. While filters are recommended for mini-split systems, HRV’s, and ERV’s, these systems, ducted or not, typically do not have MERV-rated filters available for use and are, therefore, also exempted under this version of the requirements. HVAC filters located in the attic shall be considered accessible to the occupant or building owner if either 1) drop-down stairs, a pull-down ladder, or door provide access to attic and a permanently installed walkway has been provided between the attic access location and the filter or 2) the filter location enables arm-length access from a portable ladder without the need to step into the attic and the height of the ceiling access panel or the bottom of the wall access panel where access is provided is ≤ 12 ft.",null,null,null,null,null,"All","Required","Footnote 66 - 9.1"]
[null,null," 9.1.1 Filter access panel includes gasket and fits snugly against the exposed edge of filter when closed to prevent bypass. 72",null,"-","-",null,null,"All","Required","Checklist"]
[null,null,"Footnote 72. The filter media box (i.e., the component in the HVAC system that houses the filter) may be either site-fabricated by the installer or pre-fabricated by the manufacturer to meet this requirement. These requirements only apply when the filter is installed in a filter media box located in the HVAC system, not when the filter is installed flush with the return grille.",null,null,null,null,null,"All","Required","Footnote 67 - 9.1.1"]
[null,null," 9.1.2 All return air and mechanically supplied outdoor air passes through filter prior to conditioning.",null,"-","-",null,null,"All","Required","Checklist"]
[null,null,"10. Combustion Appliances ",null,null,null,null,null,"All","Required","Section Header"]
[null,null,"10.1 Furnaces, boilers, and water heaters located within the building’s pressure boundary are mechanically drafted or direct-vented. If mechanically drafted, the minimum volume of combustion air required for safe operation by the manufacturer and/or code shall be met or exceeded and make-up air sources must be mechanically closed when the combustion appliance is not in operation. Alternatives in Footnote 75. 73, 74, 75",null,"-","-",null,null,"All","Required","Checklist"]
[null,null,"Footnote 73.The pressure boundary is the primary enclosure boundary separating indoor and outdoor air. For example, a volume that has more leakage to outside than to conditioned space would be outside the pressure boundary.",null,null,null,null,null,"All","Required","Footnote 68 - 10.1"]
[null,null,"Footnote 74. Per the 2009 International Mechanical Code, a direct-vent appliance is one that is constructed and installed so that all air for combustion is derived from the outdoor atmosphere and all flue gases are discharged to the outside atmosphere; a mechanical draft system is a venting system designed to remove flue or vent gases by mechanical means consisting of an induced draft portion under non-positive static pressure or a forced draft portion under positive static pressure; and a natural draft system is a venting system designed to remove flue or vent gases under nonpositive static vent pressure entirely by natural draft.",null,null,null,null,null,"All","Required","Footnote 69 - 10.1"]
[null,null,"Footnote 75. Naturally drafted equipment is only allowed if located in a space outside the pressure boundary, where the envelope assemblies separating it from conditioned space are insulated and air-sealed.",null,null,null,null,null,"All","Required","Footnote 70 - 10.1"]
[null,null,"10.2 Fireplaces located within the building’s pressure boundary are direct-vented. 73, 74",null,"-","-",null,null,"All","Required","Checklist"]
[null,null,"Footnote 73. The pressure boundary is the primary enclosure boundary separating indoor and outdoor air. For example, a volume that has more leakage to outside than to conditioned space would be outside the pressure boundary.",null,null,null,null,null,"All","Required","Footnote 68 - 10.2"]
[null,null,"Footnote 74. Per the 2009 International Mechanical Code, a direct-vent appliance is one that is constructed and installed so that all air for combustion is derived from the outdoor atmosphere and all flue gases are discharged to the outside atmosphere; a mechanical draft system is a venting system designed to remove flue or vent gases by mechanical means consisting of an induced draft portion under non-positive static pressure or a forced draft portion under positive static pressure; and a natural draft system is a venting system designed to remove flue or vent gases under nonpositive static vent pressure entirely by natural draft.",null,null,null,null,null,"All","Required","Footnote 69 - 10.2"]
[null,null,"10.3 No unvented combustion appliances other than cooking ranges or ovens are located inside the building’s pressure boundary. For cooking ranges and ovens, local mechanical exhaust per Checklist Item 8.1 requirements must be met. 73",null,"-","-",null,null,"All","Required","Checklist"]
[null,null,"Footnote 73. The pressure boundary is the primary enclosure boundary separating indoor and outdoor air. For example, a volume that has more leakage to outside than to conditioned space would be outside the pressure boundary.",null,null,null,null,null,"All","Required","Footnote 68 - 10.3"]
[null,null,"Other ",null,null,null,null,null,"All","Required","Section Header"]
[null,null,"11. Domestic Hot Water ",null,null,null,null,null,"All","Required","Section Header"]
[null,null,"11.1 Prescriptive Path: Hot water equipment rated in EF or UEF meet the efficiency levels specified in the ENERGY STAR Multifamily Reference Design. Otherwise, meet or exceed ≥85% Et. 76",null,"-","-",null,null,"Prescriptive","Required","Checklist"]
[null,null,"Footnote 76. Where water heater efficiency is rated in Uniform Energy Factor (UEF) rather than Energy Factor (EF), the EF may be calculated from the Uniform Energy Factor (UEF) using the RESNET EF Calculator 2017. The calculated EF must meet the efficiency levels specified in the ENERGY STAR Multifamily Reference Design.",null,null,null,null,null,"Prescriptive","Required","Footnote 71 - 11.1"]
[null,null,"11.2 ERI: For hot water equipment serving common spaces but not dwelling units nor shared laundry: where rated EF or UEF, meet the efficiency levels specified in the ENERGY STAR Multifamily Reference Design. Otherwise, meet or exceed 85% Et. 76",null,"-","-",null,null,"ERI","Required","Checklist"]
[null,null,"Footnote 76. Where water heater efficiency is rated in Uniform Energy Factor (UEF) rather than Energy Factor (EF), the EF may be calculated from the Uniform Energy Factor (UEF) using the RESNET EF Calculator 2017. The calculated EF must meet the efficiency levels specified in the ENERGY STAR Multifamily Reference Design.",null,null,null,null,null,"ERI","Required","Footnote 71 - 11.2"]
[null,null,"11.3 For in-unit storage water heaters, AHRI Certificate confirms the presence of a heat trap.",null,"-","-",null,null,"All","Required","Checklist"]
[null,null,"11.4 DHW piping located in the dwelling unit is insulated with a minimum of R-3. 77",null,"-",null,null,"-","All","Required","Checklist"]
[null,null,"Footnote 77. In accordance with Section 7.4.3 of ASHRAE 90.1-2016, the following in-unit DHW piping requires insulation:\na. Recirculating system piping, including the supply and return piping of a circulating tank type water heater.\nb. The first 8 feet of outlet piping of a constant-temperature nonrecirculating storage system.\nc. The first 8 feet of branch piping connecting to recirculated, heat-traced, or impedance heated piping.\nd. The inlet piping between the storage tank and a heat trap in a nonrecirculating storage system.\ne. Piping that is externally heated (such as heat trace or impedance heating).",null,null,null,null,null,"All","Required","Footnote 72 - 11.4"]
[null,null,"11.5 Rater-measured delivery temperatures at faucets and showerheads do not exceed 125°F. 78",null,"-","-",null,"-","All","Required","Checklist"]
[null,null,"Footnote 78. To measure the delivery temperature, turn the hot water at a fixture completely on and place a digital thermometer in the stream of water. Observe the thermometer and when no additional rise in temperature occurs after 10 seconds, confirm this temperature does not exceed 125°F.",null,null,null,null,null,"All","Required","Footnote 73 - 11.5"]
[null,null,"12. Lighting ",null,null,null,null,null,"All","Required","Section Header"]
[null,null,"12.1 Common Space 2 Lighting Controls:",null,null,null,null,null,"All","Required","Checklist"]
[null,null,"Footnote 2. The term ‘common space’ refers to any spaces in the building being certified that serve a function in support of the residential part of the building that is not part of a dwelling or sleeping unit.  This includes spaces used by residents, such as corridors, stairs, lobbies, laundry rooms, exercise rooms, residential recreation rooms, and dining halls, as well as offices and other spaces used by building management, administration or maintenance in support of the residents.",null,null,null,null,null,"All","Required","Footnote 2 - 12.1"]
[null,null," 12.1.1 ERI and Prescriptive Path: All common spaces 2 (including shared garages), except the building lobby and where automatic shutoff would endanger the safety of occupants, have occupancy sensors or automatic bi-level lighting controls installed and operation has been verified.",null,"-",null,null,null,"ERI, Prescriptive","Required","Checklist"]
[null,null,"Footnote 2. The term ‘common space’ refers to any spaces in the building being certified that serve a function in support of the residential part of the building that is not part of a dwelling or sleeping unit.  This includes spaces used by residents, such as corridors, stairs, lobbies, laundry rooms, exercise rooms, residential recreation rooms, and dining halls, as well as offices and other spaces used by building management, administration or maintenance in support of the residents.",null,null,null,null,null,"ERI, Prescriptive","Required","Footnote 2 - 12.1.1"]
[null,null," 12.1.2 ASHRAE Path only: All common spaces 2 (including shared garages), except the building lobby, corridors, and stairwells and where automatic shutoff would endanger the safety of occupants, have occupancy sensors or automatic bi-level lighting controls installed and operation has been verified.",null,"-",null,null,null,"ASHRAE","Required","Checklist"]
[null,null,"Footnote 2. The term ‘common space’ refers to any spaces in the building being certified that serve a function in support of the residential part of the building that is not part of a dwelling or sleeping unit.  This includes spaces used by residents, such as corridors, stairs, lobbies, laundry rooms, exercise rooms, residential recreation rooms, and dining halls, as well as offices and other spaces used by building management, administration or maintenance in support of the residents.",null,null,null,null,null,"ASHRAE","Required","Footnote 2 - 12.1.2"]
[null,null,"12.2 Common Space 2 Lighting Power Density Maximum (except garages): 79",null,null,null,null,null,"All","Required","Checklist"]
[null,null,"Footnote 79. Senior housing projects can use the space-by-space allowances for ‘facilities for the visually impaired’ in ASHRAE 90.1-2016 Appendix G Table G3.7 for spaces used primarily by building residents. For example, 1.15 W/SF lighting power allowance may be used for the corridors in the baseline. To qualify for the increased allowance, the project must be designed to comply with the light levels in ANSI / IES RP-28 and must provide housing for seniors and/or people with special visual needs. Prescriptive Path dwelling unit overall in-unit lighting power density is permitted to be ≤ 1.3 W/SF, using 1.65 W/SF where lighting is not installed.",null,null,null,null,null,"All","Required","Footnote 74 - 12.2"]
[null,null," 12.2.1 ERI and Prescriptive Path: Total installed lighting power for the combined common spaces 2 must not exceed ASHRAE 90.1-2007 allowances for those combined spaces, using the Space-by-Space or Building Area Method. See Footnote 80 for allowances. 80",null,"-",null,null,null,"ERI, Prescriptive","Required","Checklist"]
[null,null,"Footnote 2. The term ‘common space’ refers to any spaces in the building being certified that serve a function in support of the residential part of the building that is not part of a dwelling or sleeping unit.  This includes spaces used by residents, such as corridors, stairs, lobbies, laundry rooms, exercise rooms, residential recreation rooms, and dining halls, as well as offices and other spaces used by building management, administration or maintenance in support of the residents.",null,null,null,null,null,"ERI, Prescriptive","Required","Footnote 2 - 12.2.1"]
[null,null,"Footnote 80. Lighting power density values from ASHRAE 90.1-2007 Section 9 for Space-by-Space Method for typical common spaces in multifamily properties are shown in the table below. Projects following the Building Area method, the lighting power density is 0.7 W/ft2. For spaces not shown, refer to ASHRAE 90.1-2007 Section 9.\n\nSEE TABLE IN REFERENCE TABLES TAB - Lighting Power Density",null,null,null,null,null,"ERI, Prescriptive","Required","Footnote 75 - 12.2.1"]
[null,null," 12.2.2 ASHRAE Path only: Total installed lighting power for the combined common spaces 2 must not exceed ASHRAE 90.1-2007 allowances for those combined spaces, using the Space-by-Space or Building Area Method, by more than 20%. See Footnote 80 for allowances. 80",null,"-",null,null,null,"ASHRAE","Required","Checklist"]
[null,null,"Footnote 2. The term ‘common space’ refers to any spaces in the building being certified that serve a function in support of the residential part of the building that is not part of a dwelling or sleeping unit.  This includes spaces used by residents, such as corridors, stairs, lobbies, laundry rooms, exercise rooms, residential recreation rooms, and dining halls, as well as offices and other spaces used by building management, administration or maintenance in support of the residents.",null,null,null,null,null,"ASHRAE","Required","Footnote 2 - 12.2.2"]
[null,null,"Footnote 80. Lighting power density values from ASHRAE 90.1-2007 Section 9 for Space-by-Space Method for typical common spaces in multifamily properties are shown in the table below. Projects following the Building Area method, the lighting power density is 0.7 W/ft2. For spaces not shown, refer to ASHRAE 90.1-2007 Section 9.\n\nSEE TABLE IN REFERENCE TABLES TAB - Lighting Power Density",null,null,null,null,null,"ASHRAE","Required","Footnote 75 - 12.2.2"]
[null,null,"12.3 Shared garages: Lighting power density does not exceed 0.24 W/ft2.",null,"-",null,null,null,"All","Required","Checklist"]
[null,null,"12.4 Exterior lighting controls: Fixtures, including parking lot fixtures, must include automatic switching on timers or photocell controls except fixtures intended for 24-hour operation, required for security, or located on dwelling unit balconies.",null,"-",null,null,null,"All","Required","Checklist"]
[null,null,"12.5 ERI Path: All exterior and common space lighting fixtures meet the efficiency requirements in the ENERGY STAR Multifamily Reference Design, except fixtures located on dwelling unit balconies. 81, 82",null,"-","-",null,null,"ERI","Required","Checklist"]
[null,null,"Footnote 81. This requirement applies to exterior lighting fixtures that are attached to the building, but does not apply to landscape or parking lot lighting fixtures.",null,null,null,null,null,"ERI","Required","Footnote 76 - 12.5"]
[null,null,"Footnote 82. For Prescriptive Path dwelling units, ENERGY STAR certified fixtures or light bulbs are required; however, the Rater is only responsible for verifying that the installed lighting meets the Tier I or Tier II definition specified in ANSI / RESNET / ICC Std. 301. For locations outside the dwelling unit, as an alternative to ENERGY STAR certified fixtures or light bulbs, lighting that meets the Tier I or Tier II definition specified in ANSI / RESNET / ICC Std.301 is permitted.",null,null,null,null,null,"ERI","Required","Footnote 77 - 12.5"]
[null,null,"12.6 Prescriptive Path: All lighting fixtures (i.e., dwelling units, common spaces, and exterior) meet the efficiency requirements in the ENERGY STAR Multifamily Reference Design. 81, 82",null,"-","-",null,null,"Prescriptive","Required","Checklist"]
[null,null,"Footnote 81. This requirement applies to exterior lighting fixtures that are attached to the building, but does not apply to landscape or parking lot lighting fixtures.",null,null,null,null,null,"Prescriptive","Required","Footnote 76 - 12.6"]
[null,null,"Footnote 82. For Prescriptive Path dwelling units, ENERGY STAR certified fixtures or light bulbs are required; however, the Rater is only responsible for verifying that the installed lighting meets the Tier I or Tier II definition specified in ANSI / RESNET / ICC Std. 301. For locations outside the dwelling unit, as an alternative to ENERGY STAR certified fixtures or light bulbs, lighting that meets the Tier I or Tier II definition specified in ANSI / RESNET / ICC Std.301 is permitted.",null,null,null,null,null,"Prescriptive","Required","Footnote 77 - 12.6"]
[null,null,"12.7 Prescriptive Path: Dwelling unit overall in-unit lighting power density ≤ 0.75 W/ft2. When calculating overall lighting power density, use 1.1 W/ft2 where lighting is not installed. 79",null,"-","-",null,null,"Prescriptive","Required","Checklist"]
[null,null,"Footnote 79. Senior housing projects can use the space-by-space allowances for ‘facilities for the visually impaired’ in ASHRAE 90.1-2016 Appendix G Table G3.7 for spaces used primarily by building residents. For example, 1.15 W/SF lighting power allowance may be used for the corridors in the baseline. To qualify for the increased allowance, the project must be designed to comply with the light levels in ANSI / IES RP-28 and must provide housing for seniors and/or people with special visual needs. Prescriptive Path dwelling unit overall in-unit lighting power density is permitted to be ≤ 1.3 W/SF, using 1.65 W/SF where lighting is not installed.",null,null,null,null,null,"Prescriptive","Required","Footnote 74 - 12.7"]
[null,null,"13. Appliances, Ceiling Fans, and Plumbing Fixtures ",null,null,null,null,null,"All","Required","Section Header"]
[null,null,"13.1 Prescriptive Path: Installed appliances are ENERGY STAR certified. Installed bathroom faucets, bathroom aerators, and showerheads are WaterSense labeled. 83",null,"-","-",null,null,"Prescriptive","Required","Checklist"]
[null,null,"Footnote 83. Appliances include refrigerators, dishwashers, clothes washers, and clothes dryers. Where an appliance type is not eligible for ENERGY STAR certification, (e.g., commercial dryers) the appliance is exempt from this requirement. Where a bathroom faucet or aerator is not eligible for WaterSense certification, (e.g., public use lavatory faucets) the fixture is exempt from this requirement.",null,null,null,null,null,"Prescriptive","Required","Footnote 78 - 13.1"]
[null,null,"13.2 ERI Path: Where installed in common spaces, refrigerators and dishwashers are ENERGY STAR certified and showerheads are WaterSense labeled.",null,"-","-",null,null,"ERI","Required","Checklist"]
[null,null,"13.3 Prescriptive Path: Shower compartments with multiple fixtures cannot be operated simultaneously OR the total flow rate per shower compartment must not exceed 1.75 gallons per minute, as rated at 80 psi.",null,"-","-",null,null,"Prescriptive","Required","Checklist"]
[null,null,"14. Whole Building Energy Consumption Data Acquisition ",null,null,null,null,null,"All","Required","Section Header"]
[null,null,"14.1 For buildings 50,000 ft2 and larger, a strategy that enables the collection of monthly or annual building-level energy consumption data (electricity, natural gas, chilled water, steam, fuel oil, propane, etc.) has been confirmed. 84",null,"-","-",null,null,"All","Required","Checklist"]
[null,null,"Footnote 84. Strategies include: an agreement with the utility companies to provide the aggregated building-level data, in a spreadsheet format or directly through Portfolio Manager; OR evidence that securing signed utility data release forms will be a mandatory component of all lease agreements; OR installation of a building-level energy monitor, data acquisition system, or utility-owned energy meter. If an energy monitor is installed, the builder shall provide the building operator with the manufacturer’s documentation and operations manual. EPA recommends, but does not require, that one of these strategies also be implemented in buildings 25,000-49,999 ft2.",null,null,null,null,null,"All","Required","Footnote 79 - 14.1"]
[]
[null,"Rater Name:",{"$f":"IF('Project Information'!$C$23=\"\",\"\",'Project Information'!$C$23)","v":"Favia Pilaf"},"Rater Pre-Drywall Inspection Date(s):",null,"5/5/2020, 5/8/2020, 5/11/2020","Rater Initials:"]
[null,"Rater Company Name:",{"$f":"IF('Project Information'!$C$22=\"\",\"\",'Project Information'!$C$22)","v":"Green & Bean Verifiers"}]
[]
[null,"Rater Name: ",{"$f":"IF('Project Information'!$C$23=\"\",\"\",'Project Information'!$C$23)","v":"Favia Pilaf"},"Rater Final Inspection Date(s):",null,"6/26/2020, 6/28/2020, 7/5/2020","Rater Initials:"]
[null,"Rater Company Name:",{"$f":"IF('Project Information'!$C$22=\"\",\"\",'Project Information'!$C$22)","v":"Green & Bean Verifiers"}]
[]
[null,"Builder/Developer Employee:",{"$f":"IF('Project Information'!$F$16=\"\",\"\",'Project Information'!$F$16)","v":"Alice Doe"},"Builder Inspection Date(s):",null,null,"Builder Initials:"]
[null,"Builder/Developer Name:",{"$f":"IF('Project Information'!$C$16:$D$16=\"\",\"\",'Project Information'!$C$16:$D$16)","v":"Woodland & Burke"}]
[]
[null,"Licensed Professional:",{"$f":"IF('Project Information'!$D$34=\"\",\"\",'Project Information'!$D$34)","v":"Christopher Harte"},"LP Inspection Date(s):",null,null,"LP Initials:"]

{"sheet":"2. Unit Testing Results","index":8,"n_rows":116,"n_cols":58,"rows_kept":116,"cut":false,"hidden":false,"merged":[[6,57,7,62],[3,20,3,55],[4,29,4,30],[15,41,15,50],[4,31,4,32],[4,33,4,34],[4,21,4,22],[4,23,4,24],[4,25,4,26],[4,27,4,28],[4,35,4,36],[4,49,4,50],[4,47,4,48],[4,41,4,42],[4,43,4,44],[4,45,4,46],[4,39,4,40],[16,6,16,13],[17,7,18,7],[17,26,17,27],[17,24,17,25],[17,22,17,23],[16,15,16,49],[17,48,17,49],[3,2,3,18],[13,2,13,13],[17,2,18,2],[17,3,18,3],[17,4,18,4],[17,15,18,15],[17,20,17,21],[17,19,18,19],[17,17,17,18],[17,9,18,9],[17,5,18,5],[17,10,18,10],[17,14,18,14],[17,11,18,11],[17,13,18,13],[17,12,18,12],[106,48,106,49],[106,38,107,38],[105,2,105,5],[105,6,105,13],[106,2,107,2],[106,3,107,3],[106,4,107,4],[106,5,107,5],[106,7,107,7],[106,8,107,8],[106,9,107,9],[106,10,107,10],[106,11,107,11],[106,12,107,12],[106,13,107,13],[106,14,107,14],[106,15,107,15],[106,16,107,16],[106,17,106,18],[106,19,107,19],[106,20,106,21],[106,22,106,23],[106,42,106,43],[104,2,104,49],[105,15,105,49],[17,51,18,55],[102,48,102,49],[17,46,17,47],[17,44,17,45],[17,42,17,43],[17,40,17,41],[17,39,18,39],[17,36,17,37],[17,34,17,35],[17,32,17,33],[102,26,102,27],[102,28,102,29],[102,30,102,31],[102,32,102,33],[102,34,102,35],[102,36,102,37],[102,40,102,41],[17,8,18,8],[17,38,18,38],[17,16,18,16],[17,30,17,31],[17,28,17,29],[17,1,18,1],[16,1,16,5],[1,2,1,18],[14,2,14,13],[15,2,15,13],[102,42,102,43],[102,44,102,45],[102,46,102,47],[106,24,106,25],[106,26,106,27],[106,28,106,29],[106,30,106,31],[106,32,106,33],[106,34,106,35],[106,36,106,37],[106,39,107,39],[106,40,106,41],[106,44,106,45],[106,46,106,47],[102,15,102,16],[102,17,102,18],[102,20,102,21],[102,22,102,23],[102,24,102,25]]}
[]
[null,"Instructions: ","Using Tables: Prior to the Proposed Design submittal, the yellow cells in the \"Unit Types\" table should be filled out for the unique floorplans in the project. Prior to testing, each unit in the project should be defined and assigned a unit type in the \"Unit Details\" table. These two tables will enable the generation of the testing targets and allow the user to track testing results of all items on an individual apartment basis.\n\nUpdate the dropdown in cell L5 to select the ASHRAE 62.2 Ventilation Rate for your project (2010 or 2013).\n\nPrior to the As-Built submittal or as testing is completed, enter test values into all orange cells in the Testing Results section. Pass/Fail values will display at the unit level and for the entire checklist item. Additionally, prior to As-Built submittal, complete the orange cells in the \"Label Printing Data Entry\" table.\n\nPrinting: Optimized for Landscape view"]
[]
[null,null,"UNIT TYPES",null,null,null,null,null,null,null,null,null,null,null,null,null,null,null,null,null,"Label Printing Data Entry - this area should be populated during the As-Built Submittal to facilitate label & certificate printing"]
[null,null,"UNIT TYPE","BEDROOMS","BATHROOMS","AREA","PERIMETER","DWELLING UNIT HEIGHT","ENCLOSURE AREA","# RETURNS","VENTILATION (CFM)","ASHRAE 62.2 - 2010","Ventilation > ASHRAE 62.2","KITCHEN VENTILATION","KITCHEN VOLUME(ft3)","BATHROOM 1 VENTILATION","BATHROOM 2 VENTILATION","BATHROOM 3 VENTILATION","AC SIZE (Tons)",null,"Ceiling Insulation (R-Value)","Wall Insulation  (R-Value)",null,"Floor Insulation  (R-Value)",null,"Slab Insulation (R-Value)",null,"Window U-Factor",null,"Window SHGC",null,"Primary Heating System Type",null,"Primary Heating Fuel",null,"Primary Heating Efficiency",null,"Primary Heating Efficiency Unit","Primary Cooling System Type","Primary Cooling Fuel",null,"Primary Cooling Efficiency",null,"Primary Cooling Efficiency Unit",null,"Primary Hot Water System Type",null,"Primary Hot Water Fuel",null,"Primary Hot Water Efficiency (EF)",null,"% ENERGY STAR Certified Lighting","# ES Refrigerators","# ES Ceiling Fans","# ES Dishwashers","# ES Exhaust Fans"]
[null,"Column55","Column1","Column2","Column3","Column4","Column5","Column6","Column7","Column8","Column9","Column10","Column11","Column12","Column13","Column14","Column15","Column16","Column17","Column18","Column19","Column20","Column21","Column22","Column23","Column24","Column25","Column26","Column27","Column28","Column29","Column30","Column31","Column32","Column33","Column34","Column35","Column36","Column37","Column38","Column39","Column40","Column41","Column42","Column43","Column44","Column45","Column46","Column47","Column48","Column49","Column50","Column51","Column52","Column53","Column54"]
[null,null,"A1",1,1,515,120,8,{"$f":"IF($C7=\"\",\"\",2*$F7+$G7*$H7)","v":1990},1,25,{"$f":"IF($L$5=\"ASHRAE 62.2 - 2010\",IF($C7=\"\",\"\",0.01*$F7+7.5*($D7+1)),\nIF($L$5=\"ASHRAE 62.2 - 2013/2016\",IF($C7=\"\",\"\",0.03*$F7+7.5*($D7+1))))","v":20.149999999999999},{"$f":"IF($C7=\"\",\"\",\n\nIF(AND(($L7>=100),(($L7*1.15)<$K7)),\"FAIL\",\nIF(AND(($L7<100),(($L7+15)<$K7)),\"FAIL\",\n\nIF($K7>=$L7,\"PASS\",\nIF(K7<L7,\"FAIL\",\n\"\")))))","v":"PASS"},"Intermittent",{"$f":"IF(N7=\"Intermittent\",\"N/A\",\"\")","v":"N/A"},"Intermittent",null,null,1,null,38,19,null,null,null,10,null,0.3,null,0.32,null,"Furnace",null,"NG",null,92.5,null,"AFUE","AC","Electricity",null,9,null,"HSPF",null,"Storage",null,"Gas",null,0.98,null,90,1,1,1,1,null,"NOTES"]
[null,null,"A2",1,1,678,105,8,2196,1,37,21.78,{"$f":"IF($C8=\"\",\"\",\n\nIF(AND(($L8>=100),(($L8*1.15)<$K8)),\"FAIL\",\nIF(AND(($L8<100),(($L8+15)<$K8)),\"FAIL\",\n\nIF($K8>=$L8,\"PASS\",\nIF(K8<L8,\"FAIL\",\n\"\")))))","v":"FAIL"},"Intermittent",{"$f":"IF(N8=\"Intermittent\",\"N/A\",\"\")","v":"N/A"},"Intermittent",null,null,1.5,null,19,19,null,null,null,10,null,0.3,null,0.32,null,"Furnace",null,"NG",null,92.5,null,"AFUE","AC","Electricity",null,9,null,"HSPF",null,"Storage",null,"Gas",null,0.98,null,90,1,0,1,1]
[null,null,"Studio",1,1,500,184,11,3024,1,35,20,"PASS","Continuous",1400,"Continuous",null,null,2,null,19,19,null,null,null,10,null,0.3,null,0.32,null,"Furnace",null,"NG",null,92.5,null,"AFUE","AC","Electricity",null,9,null,"HSPF",null,"Storage",null,"Gas",null,0.98,null,90,1,0,1,1]
[null,null,"B1",1,1,650,115,8,2220,1,35,21.5,"PASS","Continuous",1800,"Intermittent",null,null,2,null,38,19,null,null,null,10,null,0.3,null,0.32,null,"Furnace",null,"NG",null,94.5,null,"AFUE","AC","Electricity",null,9,null,"HSPF",null,"Storage",null,"Gas",null,0.98,null,90,1,0,1,1]
[null,null,"B2",2,1,800,180,8,3040,1,31,30.5,"PASS","Intermittent",{"$f":"IF(N11=\"Intermittent\",\"N/A\",\"\")","v":"N/A"},"Intermittent",null,null,1.5,null,19,19,null,null,null,10,null,0.3,null,0.32,null,"Furnace",null,"NG",null,92.5,null,"AFUE","AC","Electricity",null,10,null,"HSPF",null,"Storage",null,"Gas",null,0.98,null,90,1,0,1,1]
[null,null,"B3",2,2,815,192,11,3742,2,47,30.65,"FAIL","Intermittent",{"$f":"IF(N12=\"Intermittent\",\"N/A\",\"\")","v":"N/A"},"Intermittent","Intermittent",null,1,null,38,19,null,null,null,10,null,0.3,null,0.32,null,"Furnace",null,"NG",null,92,null,"AFUE","AC","Electricity",null,9,null,"HSPF",null,"Storage",null,"Gas",null,0.98,null,90,1,0,1,1]
[null,null,"B4",3,2,1800,231,11,6141,2,86,48,"FAIL","Continuous",2100,"Intermittent","Intermittent",null,2,null,38,19,null,null,null,10,null,0.3,null,0.32,null,"Furnace",null,"NG",null,92,null,"AFUE","AC","Electricity",null,9,null,"HSPF",null,"Storage",null,"Gas",null,0.98,null,90,1,1,1,2]
[null,null,{"$f":"IF('Project Information'!$F$11=\"\",\"Enter Number of Units in Project Information tab\",CONCATENATE(\"This project has a total of \",'Project Information'!$F$11,\" units. This results in a minimum of \",(7+ROUNDUP((('Project Information'!$F$11-7)/7),0)),\" units to be tested.\"))","v":"This project has a total of 50 units. This results in a minimum of 14 units to be tested."}]
[null,null,{"$f":"CONCATENATE(\"At least 20% of units adjacent to garage must be tested. This project includes \",COUNTIF(Table124[Column17],\"Yes\"),\" units adjacent to garage. At least \",ROUNDUP(0.2*COUNTIF(Table124[Column17],\"Yes\"),0),\" of these units must be tested.\")","v":"At least 20% of units adjacent to garage must be tested. This project includes 6 units adjacent to garage. At least 2 of these units must be tested."}]
[null,null,{"$f":"IF(COUNTIF(Table124[Column17],\"Yes\")*0.2<=COUNTIFS(Table124[Column17],\"Yes\",Table124[Column14],\"<>\"),\"\",CONCATENATE(\"Project must test more units adjacent to garage. \",COUNTIFS(Table124[Column17],\"Yes\",Table124[Column14],\"<>\"),\" of the required \",ROUNDUP(0.2*COUNTIF(Table124[Column17],\"Yes\"),0),\" units have been tested.\"))","v":""}]
[null,"UNIT DETAILS",null,null,null,null,"TESTING TARGETS",null,null,null,null,null,null,null,"SAMPLING","TESTING RESULTS"]
[null,"ADJACENT TO GARAGE","UNIT","UNIT TYPE","SQUARE FOOTAGE","ENCLOSURE AREA","TOTAL DUCT LEAKAGE (6.4.1/6.4.2)","Duct Leakage to Outdoors (Townhouses Only) (6.5)","UNIT INFILTRATION (4.10)",{"$f":"CONCATENATE(\"DWELLING UNIT VENTILATION (7.2)\")","v":"DWELLING UNIT VENTILATION (7.2)"},"KITCHEN VENTILATION (8.1)","BATH 1 VENTILATION (8.2)","BATH 2 VENTILATION (8.2)","BATH 3 VENTILATION (8.2)","SAMPLE SET ID","TESTING DATE","TESTING FAILURE\n(Entered in table below)","TOTAL DUCT LEAKAGE (6.4.1 / 6.4.2)",null,"TEST\n(ROUGH-IN/FINAL)","PRESSURE DIFFERENCE\nFOR NON-DUCTED RETURNS\n(6.4.1/6.4.2)",null,"DUCT LEAKAGE TO OUTSIDE (TOWNHOUSES ONLY) (6.5)",null,"UNIT INFILTRATION (4.10)",null,"PRESSURE DIFFERENTIAL FOR AHU CLOSETS (4.10.1)",null,"DWELLING UNIT VENTILATION (7.2)",null,"KITCHEN VENTILATION (8.1)",null,"BATH 1 VENTILATION (8.2)",null,"BATH 2 VENTILATION (8.2)",null,"BATH 3 VENTILATION (8.2)",null,"RETURN SIDE STATIC PRESSURE (IWC) (5.4)","SUPPLY SIDE STATIC PRESSURE (IWC) (5.4)","TEMP AT SHOWER (11.5)",null,"TEMP AT FAUCETS (11.5)",null,"PRESSURE BALANCING\n(BEDROOM 1) (6.2)",null,"PRESSURE BALANCING\n(BEDROOM 2) (6.2)",null,"PRESSURE BALANCING\n(BEDROOM 3) (6.2)",null,null,"NOTES"]
[null,null,null,null,null,null,null,null,null,null,null,null,null,null,null,null,null,"Value","Pass/Fail",null,"Value","Pass/Fail","Pass/Fail","Value","Value","Pass/Fail","Value","Pass/Fail","Value","Pass/Fail","Value","Pass/Fail","Value","Pass/Fail","Value","Pass/Fail","Value","Pass/Fail",null,null,"Value","Pass/Fail","Value","Pass/Fail","Value","Pass/Fail","Value","Pass/Fail","Value","Pass/Fail"]
[null,"Column17","Column1","Column2","Column3","Column4","Column5","Column6","Column7","Column8","Column9","Column10","Column11","Column12","Column13","Column14","Column15","Column152","Column16","Column172","Column182","Column19","Column21","Column22","Column222","Column23","Column242","Column25","Column262","Column27","Column282","Column29","Column302","Column31","Column18","Column33","Column342","Column35","Column362","Column37","Column382","Column39","Column402","Column41","Column422","Column43","Column442","Column45","Column462","Column47"]
[null,"Yes",101,"A1",{"$f":"IF(D21=\"\",\"\",VLOOKUP(D21,$C$7:$S$13,4))","v":515},{"$f":"IF(D21=\"\",\"\",VLOOKUP(D21,$C$7:$S$13,7))","v":1990},{"$f":"IF($D21=\"\",\"\",\nIF(AND($T21=\"Final\",VLOOKUP($D21,$C$7:$S$13,8)=0,$E21<=1000),60,\nIF(AND($T21=\"Final\",VLOOKUP($D21,$C$7:$S$13,8)=0,$E21>1000),$E21*0.06,\n\nIF(AND($T21=\"Final\",VLOOKUP($D21,$C$7:$S$13,8)<3,$E21<=1000),80,\nIF(AND($T21=\"Final\",VLOOKUP($D21,$C$7:$S$13,8)<3,$E21>1000),$E21*0.08,\n\nIF(AND($T21=\"Final\",VLOOKUP($D21,$C$7:$S$13,8)>=3,$E21<=1000),120,\nIF(AND($T21=\"FInal\",VLOOKUP($D21,$C$7:$S$13,8)>=3,$E21>1000),$E21*0.12,\n\nIF(AND($T21=\"Rough-In\",VLOOKUP($D21,$C$7:$S$13,8)=0,$E21<=1000),30,\nIF(AND($T21=\"Rough-In\",VLOOKUP($D21,$C$7:$S$13,8)=0,$E21>1000),$E21*0.03,\n\nIF(AND($T21=\"Rough-In\",VLOOKUP($D21,$C$7:$S$13,8)<3,$E21<=1000),40,\nIF(AND($T21=\"Rough-In\",VLOOKUP($D21,$C$7:$S$13,8)<3,$E21>1000),$E21*0.04,\n\nIF(AND($T21=\"Rough-In\",VLOOKUP($D21,$C$7:$S$13,8)>=3,$E21<=1000),60,\nIF(AND($T21=\"Rough-In\",VLOOKUP($D21,$C$7:$S$13,8)>=3,$E21>1000),$E21*0.06,\n\n\"\")))))))))))))","v":40},{"$f":"IF($D21=\"\",\"\",IF($E21<1000,40,$E21*0.04))","v":40},{"$f":"IF($D21=\"\",\"\",$F21*0.3)","v":597},{"$f":"IF($D21=\"\",\"\",VLOOKUP($D21,$C$7:$S$13,9))","v":25},{"$f":"IF($D21=\"\",\"\",\nIF(VLOOKUP($D21,$C$7:$S$13,12)=\"Intermittent\",100,\nIF(AND(VLOOKUP($D21,$C$7:$S$13,12)=\"Continuous\",VLOOKUP($D21,$C$7:$S$13,13)=\"\"),\"Volume Above?\",\nIF(VLOOKUP($D21,$C$7:$S$13,12)=\"Continuous\",((5*VLOOKUP($D21,$C$7:$S$13,13))/60),\"\"))))","v":100},{"$f":"IF($D21=\"\",\"\",IF(VLOOKUP($D21,$C$7:$S$13,14)=\"Continuous\",20,IF(VLOOKUP($D21,$C$7:$S$13,14)=\"Intermittent\",50,\"\")))","v":50},{"$f":"IF($D21=\"\",\"\",IF(VLOOKUP($D21,$C$7:$S$13,15)=\"Continuous\",20,IF(VLOOKUP($D21,$C$7:$S$13,15)=\"Intermittent\",50,\"\")))","v":""},{"$f":"IF($D21=\"\",\"\",IF(VLOOKUP($D21,$C$7:$S$13,16)=\"Continuous\",20,IF(VLOOKUP($D21,$C$7:$S$13,16)=\"Intermittent\",50,\"\")))","v":""},1,"6/10/2020; 7/11/2020","Yes",25,{"$f":"IF($R21=\"\",\"\",IF($R21<=$G21,\"PASS\",\"FAIL\"))","v":"PASS"},"Rough-In",5,{"$f":"IF($U21=\"\",\"\",\nIF($U21<=5,\"PASS\",\nIF(AND(VLOOKUP($D21,$C$7:$S$13,17)=1.5,$U21<=6),\"PASS\",\nIF(AND(VLOOKUP($D21,$C$7:$S$13,17)=2,$U21<=7),\"PASS\",\nIF(AND(VLOOKUP($D21,$C$7:$S$13,17)=2.5,$U21<=8),\"PASS\",\nIF(AND(VLOOKUP($D21,$C$7:$S$13,17)=3,$U21<=9),\"PASS\",\nIF(AND(VLOOKUP($D21,$C$7:$S$13,17)=3.5,$U21<=10),\"PASS\",\nIF(AND(VLOOKUP($D21,$C$7:$S$13,17)=4,$U21<=11),\"PASS\",\"FAIL\"))))))))","v":"PASS"},null,{"$f":"IF($W21=\"\",\"\",\nIF($W21<=$H21,\"PASS\",\"FAIL\"))","v":""},25,{"$f":"IF($Y21=\"\",\"\",\nIF($Y21<=$I21,\"PASS\",\"FAIL\"))","v":"PASS"},4,{"$f":"IF($AA21=\"\",\"\",\nIF(AND($AA21>=-5,$AA21<=5),\"PASS\",\"FAIL\"))","v":"PASS"},23,{"$f":"IF($AC21=\"\",\"\",\n\nIF(AND($J21>=100,OR(($J21*1.15)<$AC21,($J21*0.85)>$AC21)),\"FAIL\",\nIF(AND($J21<100,OR(($J21+15)<$AC21,($J21-15)>$AC21)),\"FAIL\",\n\nIF($AC21>=0.01*VLOOKUP($D21,$C$7:$S$13,4)+7.5*(VLOOKUP($D21,$C$7:$S$13,2)+1),\"PASS\",\"FAIL\"))))","v":"PASS"},100,{"$f":"IF($AE21=\"\",\"\",\nIF($AE21>=$K21,\"PASS\",\"FAIL\"))","v":"PASS"},50,{"$f":"IF($AG21=\"\",\"\",\nIF($AG21>=$L21,\"PASS\",\"FAIL\"))","v":"PASS"},null,{"$f":"IF($AI21=\"\",\"\",\nIF($AI21>=$M21,\"PASS\",\"FAIL\"))","v":""},null,{"$f":"IF($AK21=\"\",\"\",\nIF($AK21>=$N21,\"PASS\",\"FAIL\"))","v":""},4,3,100,{"$f":"IF($AO21=\"\",\"\",\nIF($AO21<=125,\"PASS\",\"FAIL\"))","v":"PASS"},91,{"$f":"IF($AQ21=\"\",\"\",\nIF($AQ21<=125,\"PASS\",\"FAIL\"))","v":"PASS"},4,{"$f":"IF($AS21=\"\",\"\",\nIF(AND($AS21>=-5,$AS21<=5),\"PASS\",\"FAIL\"))","v":"PASS"},null,{"$f":"IF($AU21=\"\",\"\",\nIF(AND($AU21>=-5,$AU21<=5),\"PASS\",\"FAIL\"))","v":""},null,{"$f":"IF($AW21=\"\",\"\",\nIF(AND($AW21>=-5,$AW21<=5),\"PASS\",\"FAIL\"))","v":""}]
[null,"Yes",102,"B3",815,3742,40,{"$f":"IF($D22=\"\",\"\",IF($E22<1000,40,$E22*0.04))","v":40},{"$f":"IF($D22=\"\",\"\",$F22*0.3)","v":1122.5999999999999},47,100,50,50,"",1,"6/10/2020; 7/11/2020","Yes",21,"PASS","Rough-In",4,"PASS",null,"",50,"PASS",3,"PASS",35,"PASS",105,"PASS",51,"PASS",60,"PASS",null,"",4,4,90,"PASS",70,"PASS",5,"PASS",4,"PASS",null,""]
[null,"Yes",103,"Studio",1800,6141,72,72,1842.3,86,175,50,50,"",1,"6/10/2020; 7/11/2020","Yes",29,"PASS","Rough-In",3,"PASS",null,"",54,"PASS",5,"PASS",42,"FAIL",105,"FAIL",51,"PASS",null,"",null,"",3,4,78,"PASS",88,"PASS",8,"FAIL",null,"",null,""]
[null,"Yes",104,"B4",1800,6141,144,{"$f":"IF($D24=\"\",\"\",IF($E24<1000,40,$E24*0.04))","v":72},{"$f":"IF($D24=\"\",\"\",$F24*0.3)","v":1842.3},86,175,50,50,"",1,"6/10/2020; 7/11/2020","Yes",4,{"$f":"IF($R24=\"\",\"\",IF($R24<=$G24,\"PASS\",\"FAIL\"))","v":"PASS"},"Final",10,"FAIL",null,{"$f":"IF($W24=\"\",\"\",\nIF($W24<=$H24,\"PASS\",\"FAIL\"))","v":""},59,{"$f":"IF($Y24=\"\",\"\",\nIF($Y24<=$I24,\"PASS\",\"FAIL\"))","v":"PASS"},5,{"$f":"IF($AA24=\"\",\"\",\nIF(AND($AA24>=-5,$AA24<=5),\"PASS\",\"FAIL\"))","v":"PASS"},40,"FAIL",98,{"$f":"IF($AE24=\"\",\"\",\nIF($AE24>=$K24,\"PASS\",\"FAIL\"))","v":"FAIL"},36,{"$f":"IF($AG24=\"\",\"\",\nIF($AG24>=$L24,\"PASS\",\"FAIL\"))","v":"FAIL"},50,{"$f":"IF($AI24=\"\",\"\",\nIF($AI24>=$M24,\"PASS\",\"FAIL\"))","v":"PASS"},null,{"$f":"IF($AK24=\"\",\"\",\nIF($AK24>=$N24,\"PASS\",\"FAIL\"))","v":""},9,6,50,{"$f":"IF($AO24=\"\",\"\",\nIF($AO24<=125,\"PASS\",\"FAIL\"))","v":"PASS"},90,{"$f":"IF($AQ24=\"\",\"\",\nIF($AQ24<=125,\"PASS\",\"FAIL\"))","v":"PASS"},6,{"$f":"IF($AS24=\"\",\"\",\nIF(AND($AS24>=-5,$AS24<=5),\"PASS\",\"FAIL\"))","v":"FAIL"},3,{"$f":"IF($AU24=\"\",\"\",\nIF(AND($AU24>=-5,$AU24<=5),\"PASS\",\"FAIL\"))","v":"PASS"},4,{"$f":"IF($AW24=\"\",\"\",\nIF(AND($AW24>=-5,$AW24<=5),\"PASS\",\"FAIL\"))","v":"PASS"}]
[null,"Yes",105,"Studio",1800,6141,144,72,1842.3,86,175,50,50,"",1,"6/10/2020; 7/11/2020","Yes",36,"PASS","Final",15,"FAIL",null,"",59,"PASS",1,"PASS",28,"FAIL",98,"FAIL",39,"FAIL",null,"",null,"",4,5,175,"FAIL",120,"PASS",7,"FAIL",null,"",null,""]
[null,"Yes",106,"B1",650,2220,80,40,666,35,150,50,"","",1,"6/10/2020; 7/11/2020","Yes",45,"PASS","Final",11,"FAIL",null,"",44,"PASS",7,"FAIL",23,"PASS",101,"FAIL",49,"FAIL",null,"",null,"",3,7,130,"FAIL",126,"FAIL",4,"PASS",3,"PASS",null,""]
[null,"No",107,"B3",815,3742,40,40,1122.5999999999999,47,100,50,50,"",1,"6/10/2020; 7/11/2020","Yes",19,"PASS","Rough-In",5,"PASS",null,"",45,"PASS",8,"FAIL",37,"PASS",93,"FAIL",50,"PASS",48,"FAIL",null,"",5,3,110,"PASS",90,"PASS",1,"PASS",1,"PASS",null,""]
[null,"No",108,"B2",800,3040,40,40,912,31,100,50,"","",2,"6/10/2020; 7/11/2020","Yes",51,"FAIL","Rough-In",7,"FAIL",null,"",60,"PASS",6,"FAIL",36,"PASS",70,"FAIL",45,"FAIL",null,"",null,"",1,3,125,"PASS",85,"PASS",2,"PASS",5,"PASS",null,""]
[null,"No",109,"A2",678,2196,"",40,658.8,37,100,50,"","",2,null,null,null,"",null,null,"",null,"",null,"",null,"",null,"",null,"",null,"",null,"",null,"",null,null,null,"",null,"",null,"",null,"",null,""]
[null,"No",110,"A2",678,2196,"",40,658.8,37,100,50,"","",2,null,null,null,"",null,null,"",null,"",null,"",null,"",null,"",null,"",null,"",null,"",null,"",null,null,null,"",null,"",null,"",null,"",null,""]
[null,"No",201,"A1",515,1990,"",40,597,25,100,50,"","",2,null,null,null,"",null,null,"",null,"",null,"",null,"",null,"",null,"",null,"",null,"",null,"",null,null,null,"",null,"",null,"",null,"",null,""]
[null,"No",202,"B3",815,3742,"",40,1122.5999999999999,47,100,50,50,"",2,null,null,null,"",null,null,"",null,"",null,"",null,"",null,"",null,"",null,"",null,"",null,"",null,null,null,"",null,"",null,"",null,"",null,""]
[null,"No",203,"Studio",1800,6141,"",72,1842.3,86,175,50,50,"",3,null,null,null,"",null,null,"",null,"",null,"",null,"",null,"",null,"",null,"",null,"",null,"",null,null,null,"",null,"",null,"",null,"",null,""]
[null,"No",204,"B4",1800,6141,72,72,1842.3,86,175,50,50,"",3,"2020-06-20","Yes",10,"PASS","Rough-In",3,"PASS",null,"",30,"PASS",5,"PASS",40,"FAIL",98,"FAIL",36,"FAIL",50,"PASS",null,"",4,2,90,"PASS",120,"PASS",null,"",null,"",null,""]
[null,"No",205,"Studio",1800,6141,"",72,1842.3,86,175,50,50,"",3,null,null,null,"",null,null,"",null,"",null,"",null,"",null,"",null,"",null,"",null,"",null,"",null,null,null,"",null,"",null,"",null,"",null,""]
[null,"No",206,"B1",650,2220,"",40,666,35,150,50,"","",4,null,null,null,"",null,null,"",null,"",null,"",null,"",null,"",null,"",null,"",null,"",null,"",null,null,null,"",null,"",null,"",null,"",null,""]
[null,"No",207,"B3",815,3742,"",40,1122.5999999999999,47,100,50,50,"",4,null,null,null,"",null,null,"",null,"",null,"",null,"",null,"",null,"",null,"",null,"",null,"",null,null,null,"",null,"",null,"",null,"",null,""]
[null,"No",208,"B2",800,3040,"",40,912,31,100,50,"","",2,null,null,null,"",null,null,"",null,"",null,"",null,"",null,"",null,"",null,"",null,"",null,"",null,null,null,"",null,"",null,"",null,"",null,""]
[null,"No",209,"A2",678,2196,"",40,658.8,37,100,50,"","",2,null,null,null,"",null,null,"",null,"",null,"",null,"",null,"",null,"",null,"",null,"",null,"",null,null,null,"",null,"",null,"",null,"",null,""]
[null,"No",210,"A2",678,2196,"",40,658.8,37,100,50,"","",5,null,null,null,"",null,null,"",null,"",null,"",null,"",null,"",null,"",null,"",null,"",null,"",null,null,null,"",null,"",null,"",null,"",null,""]
[null,"No",301,"A1",515,1990,"",40,597,25,100,50,"","",6,null,null,null,"",null,null,"",null,"",null,"",null,"",null,"",null,"",null,"",null,"",null,"",null,null,null,"",null,"",null,"",null,"",null,""]
[null,"No",302,"B3",815,3742,"",40,1122.5999999999999,47,100,50,50,"",4,null,null,null,"",null,null,"",null,"",null,"",null,"",null,"",null,"",null,"",null,"",null,"",null,null,null,"",null,"",null,"",null,"",null,""]
[null,"No",303,"Studio",1800,6141,72,72,1842.3,86,175,50,50,"",4,"2020-06-22","Yes",40,"PASS","Rough-In",10,"FAIL",null,"",15,"PASS",7,"FAIL",48,"FAIL",101,"FAIL",49,"FAIL",null,"",null,"",4,2,90,"PASS",120,"PASS",null,"",null,"",null,""]
[null,"No",304,"B4",1800,6141,"",72,1842.3,86,175,50,50,"",6,null,null,null,"",null,null,"",null,"",null,"",null,"",null,"",null,"",null,"",null,"",null,"",null,null,null,"",null,"",null,"",null,"",null,""]
[null,"No",305,"Studio",1800,6141,"",72,1842.3,86,175,50,50,"",6,null,null,null,"",null,null,"",null,"",null,"",null,"",null,"",null,"",null,"",null,"",null,"",null,null,null,"",null,"",null,"",null,"",null,""]
[null,"No",306,"B1",650,2220,"",40,666,35,150,50,"","",4,null,null,null,"",null,null,"",null,"",null,"",null,"",null,"",null,"",null,"",null,"",null,"",null,null,null,"",null,"",null,"",null,"",null,""]
[null,"No",307,"B3",815,3742,"",40,1122.5999999999999,47,100,50,50,"",4,null,null,null,"",null,null,"",null,"",null,"",null,"",null,"",null,"",null,"",null,"",null,"",null,null,null,"",null,"",null,"",null,"",null,""]
[null,"No",308,"B2",800,3040,"",40,912,31,100,50,"","",4,null,null,null,"",null,null,"",null,"",null,"",null,"",null,"",null,"",null,"",null,"",null,"",null,null,null,"",null,"",null,"",null,"",null,""]
[null,"No",309,"A2",678,2196,"",40,658.8,37,100,50,"","",6,null,null,null,"",null,null,"",null,"",null,"",null,"",null,"",null,"",null,"",null,"",null,"",null,null,null,"",null,"",null,"",null,"",null,""]
[null,"No",310,"A2",678,2196,"",40,658.8,37,100,50,"","",3,null,null,null,"",null,null,"",null,"",null,"",null,"",null,"",null,"",null,"",null,"",null,"",null,null,null,"",null,"",null,"",null,"",null,""]
[null,"No",401,"A1",515,1990,"",40,597,25,100,50,"","",3,null,null,null,"",null,null,"",null,"",null,"",null,"",null,"",null,"",null,"",null,"",null,"",null,null,null,"",null,"",null,"",null,"",null,""]
[null,"No",402,"B3",815,3742,"",40,1122.5999999999999,47,100,50,50,"",3,null,null,null,"",null,null,"",null,"",null,"",null,"",null,"",null,"",null,"",null,"",null,"",null,null,null,"",null,"",null,"",null,"",null,""]
[null,"No",403,"Studio",{"$f":"IF(D53=\"\",\"\",VLOOKUP(D53,$C$7:$S$13,4))","v":1800},{"$f":"IF(D53=\"\",\"\",VLOOKUP(D53,$C$7:$S$13,7))","v":6141},{"$f":"IF($D53=\"\",\"\",\nIF(AND($T53=\"Final\",VLOOKUP($D53,$C$7:$S$13,8)=0,$E53<=1000),60,\nIF(AND($T53=\"Final\",VLOOKUP($D53,$C$7:$S$13,8)=0,$E53>1000),$E53*0.06,\n\nIF(AND($T53=\"Final\",VLOOKUP($D53,$C$7:$S$13,8)<3,$E53<=1000),80,\nIF(AND($T53=\"Final\",VLOOKUP($D53,$C$7:$S$13,8)<3,$E53>1000),$E53*0.08,\n\nIF(AND($T53=\"Final\",VLOOKUP($D53,$C$7:$S$13,8)>=3,$E53<=1000),120,\nIF(AND($T53=\"FInal\",VLOOKUP($D53,$C$7:$S$13,8)>=3,$E53>1000),$E53*0.12,\n\nIF(AND($T53=\"Rough-In\",VLOOKUP($D53,$C$7:$S$13,8)=0,$E53<=1000),30,\nIF(AND($T53=\"Rough-In\",VLOOKUP($D53,$C$7:$S$13,8)=0,$E53>1000),$E53*0.03,\n\nIF(AND($T53=\"Rough-In\",VLOOKUP($D53,$C$7:$S$13,8)<3,$E53<=1000),40,\nIF(AND($T53=\"Rough-In\",VLOOKUP($D53,$C$7:$S$13,8)<3,$E53>1000),$E53*0.04,\n\nIF(AND($T53=\"Rough-In\",VLOOKUP($D53,$C$7:$S$13,8)>=3,$E53<=1000),60,\nIF(AND($T53=\"Rough-In\",VLOOKUP($D53,$C$7:$S$13,8)>=3,$E53>1000),$E53*0.06,\n\n\"\")))))))))))))","v":""},72,1842.3,{"$f":"IF($D53=\"\",\"\",VLOOKUP($D53,$C$7:$S$13,9))","v":86},{"$f":"IF($D53=\"\",\"\",\nIF(VLOOKUP($D53,$C$7:$S$13,12)=\"Intermittent\",100,\nIF(AND(VLOOKUP($D53,$C$7:$S$13,12)=\"Continuous\",VLOOKUP($D53,$C$7:$S$13,13)=\"\"),\"Volume Above?\",\nIF(VLOOKUP($D53,$C$7:$S$13,12)=\"Continuous\",((5*VLOOKUP($D53,$C$7:$S$13,13))/60),\"\"))))","v":175},{"$f":"IF($D53=\"\",\"\",IF(VLOOKUP($D53,$C$7:$S$13,14)=\"Continuous\",20,IF(VLOOKUP($D53,$C$7:$S$13,14)=\"Intermittent\",50,\"\")))","v":50},{"$f":"IF($D53=\"\",\"\",IF(VLOOKUP($D53,$C$7:$S$13,15)=\"Continuous\",20,IF(VLOOKUP($D53,$C$7:$S$13,15)=\"Intermittent\",50,\"\")))","v":50},{"$f":"IF($D53=\"\",\"\",IF(VLOOKUP($D53,$C$7:$S$13,16)=\"Continuous\",20,IF(VLOOKUP($D53,$C$7:$S$13,16)=\"Intermittent\",50,\"\")))","v":""},5,null,null,null,"",null,null,{"$f":"IF($U53=\"\",\"\",\nIF($U53<=5,\"PASS\",\nIF(AND(VLOOKUP($D53,$C$7:$S$13,17)=1.5,$U53<=6),\"PASS\",\nIF(AND(VLOOKUP($D53,$C$7:$S$13,17)=2,$U53<=7),\"PASS\",\nIF(AND(VLOOKUP($D53,$C$7:$S$13,17)=2.5,$U53<=8),\"PASS\",\nIF(AND(VLOOKUP($D53,$C$7:$S$13,17)=3,$U53<=9),\"PASS\",\nIF(AND(VLOOKUP($D53,$C$7:$S$13,17)=3.5,$U53<=10),\"PASS\",\nIF(AND(VLOOKUP($D53,$C$7:$S$13,17)=4,$U53<=11),\"PASS\",\"FAIL\"))))))))","v":""},null,"",null,"",null,"",null,{"$f":"IF($AC53=\"\",\"\",\n\nIF(AND($J53>=100,OR(($J53*1.15)<$AC53,($J53*0.85)>$AC53)),\"FAIL\",\nIF(AND($J53<100,OR(($J53+15)<$AC53,($J53-15)>$AC53)),\"FAIL\",\n\nIF($AC53>=0.01*VLOOKUP($D53,$C$7:$S$13,4)+7.5*(VLOOKUP($D53,$C$7:$S$13,2)+1),\"PASS\",\"FAIL\"))))","v":""},null,"",null,"",null,"",null,"",null,null,null,"",null,"",null,"",null,"",null,""]
[null,"No",404,"B4",1800,6141,72,72,1842.3,86,175,50,50,"",5,"2020-07-01","Yes",35,{"$f":"IF($R54=\"\",\"\",IF($R54<=$G54,\"PASS\",\"FAIL\"))","v":"PASS"},"Rough-In",5,"PASS",null,{"$f":"IF($W54=\"\",\"\",\nIF($W54<=$H54,\"PASS\",\"FAIL\"))","v":""},20,{"$f":"IF($Y54=\"\",\"\",\nIF($Y54<=$I54,\"PASS\",\"FAIL\"))","v":"PASS"},10,{"$f":"IF($AA54=\"\",\"\",\nIF(AND($AA54>=-5,$AA54<=5),\"PASS\",\"FAIL\"))","v":"FAIL"},50,"FAIL",111,{"$f":"IF($AE54=\"\",\"\",\nIF($AE54>=$K54,\"PASS\",\"FAIL\"))","v":"FAIL"},30,{"$f":"IF($AG54=\"\",\"\",\nIF($AG54>=$L54,\"PASS\",\"FAIL\"))","v":"FAIL"},null,{"$f":"IF($AI54=\"\",\"\",\nIF($AI54>=$M54,\"PASS\",\"FAIL\"))","v":""},null,{"$f":"IF($AK54=\"\",\"\",\nIF($AK54>=$N54,\"PASS\",\"FAIL\"))","v":""},4,2,90,{"$f":"IF($AO54=\"\",\"\",\nIF($AO54<=125,\"PASS\",\"FAIL\"))","v":"PASS"},120,{"$f":"IF($AQ54=\"\",\"\",\nIF($AQ54<=125,\"PASS\",\"FAIL\"))","v":"PASS"},null,{"$f":"IF($AS54=\"\",\"\",\nIF(AND($AS54>=-5,$AS54<=5),\"PASS\",\"FAIL\"))","v":""},null,{"$f":"IF($AU54=\"\",\"\",\nIF(AND($AU54>=-5,$AU54<=5),\"PASS\",\"FAIL\"))","v":""},null,{"$f":"IF($AW54=\"\",\"\",\nIF(AND($AW54>=-5,$AW54<=5),\"PASS\",\"FAIL\"))","v":""}]
[null,"No",405,"Studio",1800,6141,"",72,1842.3,86,175,50,50,"",3,null,null,null,"",null,null,"",null,"",null,"",null,"",null,"",null,"",null,"",null,"",null,"",null,null,null,"",null,"",null,"",null,"",null,""]
[null,"No",406,"B1",650,2220,80,40,666,35,150,50,"","",6,"2020-06-26","Yes",22,"PASS","Final",3,"PASS",null,"",null,"",null,"",null,"",null,"",null,"",null,"",null,"",null,null,null,"",null,"",null,"",null,"",null,""]
[null,"No",407,"B3",815,3742,"",40,1122.5999999999999,47,100,50,50,"",5,null,null,null,"",null,null,"",null,"",null,"",null,"",null,"",null,"",null,"",null,"",null,"",null,null,null,"",null,"",null,"",null,"",null,""]
[null,"No",408,"B2",800,3040,"",40,912,31,100,50,"","",5,null,null,null,"",null,null,"",null,"",null,"",null,"",null,"",null,"",null,"",null,"",null,"",null,null,null,"",null,"",null,"",null,"",null,""]
[null,"No",409,"A2",678,2196,"",40,658.8,37,100,50,"","",5,null,null,null,"",null,null,"",null,"",null,"",null,"",null,"",null,"",null,"",null,"",null,"",null,null,null,"",null,"",null,"",null,"",null,""]
[null,"No",410,"A2",678,2196,"",40,658.8,37,100,50,"","",5,null,null,null,"",null,null,"",null,"",null,"",null,"",null,"",null,"",null,"",null,"",null,"",null,null,null,"",null,"",null,"",null,"",null,""]
[null,"No",501,"A1",515,1990,"",40,597,25,100,50,"","",6,null,null,null,"",null,null,"",null,"",null,"",null,"",null,"",null,"",null,"",null,"",null,"",null,null,null,"",null,"",null,"",null,"",null,""]
[null,"No",502,"B3",815,3742,80,40,1122.5999999999999,47,100,50,50,"",7,"2020-06-22","Yes",50,"PASS","Final",7,"FAIL",null,"",20,"PASS",10,"FAIL",50,"PASS",50,"FAIL",30,"FAIL",null,"",null,"",4,2,90,"PASS",120,"PASS",null,"",null,"",null,""]
[null,"No",503,"Studio",1800,6141,"",72,1842.3,86,175,50,50,"",7,null,null,null,"",null,null,"",null,"",null,"",null,"",null,"",null,"",null,"",null,"",null,"",null,null,null,"",null,"",null,"",null,"",null,""]
[null,"No",504,"B4",1800,6141,"",72,1842.3,86,175,50,50,"",7,null,null,null,"",null,null,"",null,"",null,"",null,"",null,"",null,"",null,"",null,"",null,"",null,null,null,"",null,"",null,"",null,"",null,""]
[null,"No",505,"Studio",1800,6141,"",72,1842.3,86,175,50,50,"",7,null,null,null,"",null,null,"",null,"",null,"",null,"",null,"",null,"",null,"",null,"",null,"",null,null,null,"",null,"",null,"",null,"",null,""]
[null,"No",506,"B1",650,2220,"",40,666,35,150,50,"","",7,null,null,null,"",null,null,"",null,"",null,"",null,"",null,"",null,"",null,"",null,"",null,"",null,null,null,"",null,"",null,"",null,"",null,""]
[null,"No",507,"B3",815,3742,"",40,1122.5999999999999,47,100,50,50,"",7,null,null,null,"",null,null,"",null,"",null,"",null,"",null,"",null,"",null,"",null,"",null,"",null,null,null,"",null,"",null,"",null,"",null,""]
[null,"No",508,"B2",800,3040,"",40,912,31,100,50,"","",7,null,null,null,"",null,null,"",null,"",null,"",null,"",null,"",null,"",null,"",null,"",null,"",null,null,null,"",null,"",null,"",null,"",null,""]
[null,"No",509,"A2",678,2196,80,40,658.8,37,100,50,"","",8,"2020-06-26","No",50,"PASS","Final",4,"PASS",null,"","4-","FAIL",10,"FAIL",40,"PASS",30,"FAIL",25,"FAIL",null,"",null,"",4,2,90,"PASS",120,"PASS",null,"",null,"",null,""]
[null,"No",510,"A2",678,2196,"",40,658.8,37,100,50,"","",8,null,null,null,"",null,null,"",null,"",null,"",null,"",null,"",null,"",null,"",null,"",null,"",null,null,null,"",null,"",null,"",null,"",null,""]
[null,null,null,null,"","","","","","","","","","",null,null,null,null,"",null,null,"",null,"",null,"",null,"",null,"",null,"",null,"",null,"",null,"",null,null,null,"",null,"",null,"",null,"",null,""]
[null,null,null,null,"","","","","","","","","","",null,null,null,null,"",null,null,"",null,"",null,"",null,"",null,"",null,"",null,"",null,"",null,"",null,null,null,"",null,"",null,"",null,"",null,""]
[null,null,null,null,"","","","","","","","","","",null,null,null,null,"",null,null,"",null,"",null,"",null,"",null,"",null,"",null,"",null,"",null,"",null,null,null,"",null,"",null,"",null,"",null,""]
[null,null,null,null,"","","","","","","","","","",null,null,null,null,"",null,null,"",null,"",null,"",null,"",null,"",null,"",null,"",null,"",null,"",null,null,null,"",null,{"$f":"IF($AQ74=\"\",\"\",\nIF($AQ74<=125,\"PASS\",\"FAIL\"))","v":""},null,"",null,"",null,""]
[null,null,null,null,"","","","","","","","","","",null,null,null,null,"",null,null,"",null,"",null,"",null,"",null,"",null,"",null,"",null,"",null,"",null,null,null,"",null,"",null,"",null,"",null,""]
[null,null,null,null,"","","","","","","","","","",null,null,null,null,"",null,null,"",null,"",null,"",null,"",null,"",null,"",null,"",null,"",null,"",null,null,null,"",null,"",null,"",null,"",null,""]
[null,null,null,null,"","","","","","","","","","",null,null,null,null,"",null,null,"",null,"",null,"",null,"",null,"",null,"",null,"",null,"",null,"",null,null,null,"",null,"",null,"",null,"",null,""]
[null,null,null,null,"","","","","","","","","","",null,null,null,null,"",null,null,"",null,"",null,"",null,"",null,"",null,"",null,"",null,"",null,"",null,null,null,"",null,"",null,"",null,"",null,""]
[null,null,null,null,"","","","","","","","","","",null,null,null,null,"",null,null,"",null,"",null,"",null,"",null,"",null,"",null,"",null,"",null,"",null,null,null,"",null,"",null,"",null,"",null,""]
[null,null,null,null,"","","","","","","","","","",null,null,null,null,"",null,null,"",null,"",null,"",null,"",null,"",null,"",null,"",null,"",null,"",null,null,null,"",null,"",null,"",null,"",null,""]
[null,null,null,null,"","","","","","","","","","",null,null,null,null,"",null,null,"",null,"",null,"",null,"",null,"",null,"",null,"",null,"",null,"",null,null,null,"",null,"",null,"",null,"",null,""]
[null,null,null,null,"","","","","","","","","","",null,null,null,null,"",null,null,"",null,"",null,"",null,"",null,"",null,"",null,"",null,"",null,"",null,null,null,"",null,"",null,"",null,"",null,""]
[null,null,null,null,"","","","","","","","","","",null,null,null,null,"",null,null,"",null,"",null,"",null,"",null,"",null,"",null,"",null,"",null,"",null,null,null,"",null,"",null,"",null,"",null,""]
[null,null,null,null,"","","","","","","","","","",null,null,null,null,"",null,null,"",null,"",null,"",null,"",null,"",null,"",null,"",null,"",null,"",null,null,null,"",null,"",null,"",null,"",null,""]
[null,null,null,null,{"$f":"IF(D85=\"\",\"\",VLOOKUP(D85,$C$7:$S$13,4))","v":""},{"$f":"IF(D85=\"\",\"\",VLOOKUP(D85,$C$7:$S$13,7))","v":""},{"$f":"IF($D85=\"\",\"\",\nIF(AND($T85=\"Final\",VLOOKUP($D85,$C$7:$S$13,8)=0,$E85<=1000),60,\nIF(AND($T85=\"Final\",VLOOKUP($D85,$C$7:$S$13,8)=0,$E85>1000),$E85*0.06,\n\nIF(AND($T85=\"Final\",VLOOKUP($D85,$C$7:$S$13,8)<3,$E85<=1000),80,\nIF(AND($T85=\"Final\",VLOOKUP($D85,$C$7:$S$13,8)<3,$E85>1000),$E85*0.08,\n\nIF(AND($T85=\"Final\",VLOOKUP($D85,$C$7:$S$13,8)>=3,$E85<=1000),120,\nIF(AND($T85=\"FInal\",VLOOKUP($D85,$C$7:$S$13,8)>=3,$E85>1000),$E85*0.12,\n\nIF(AND($T85=\"Rough-In\",VLOOKUP($D85,$C$7:$S$13,8)=0,$E85<=1000),30,\nIF(AND($T85=\"Rough-In\",VLOOKUP($D85,$C$7:$S$13,8)=0,$E85>1000),$E85*0.03,\n\nIF(AND($T85=\"Rough-In\",VLOOKUP($D85,$C$7:$S$13,8)<3,$E85<=1000),40,\nIF(AND($T85=\"Rough-In\",VLOOKUP($D85,$C$7:$S$13,8)<3,$E85>1000),$E85*0.04,\n\nIF(AND($T85=\"Rough-In\",VLOOKUP($D85,$C$7:$S$13,8)>=3,$E85<=1000),60,\nIF(AND($T85=\"Rough-In\",VLOOKUP($D85,$C$7:$S$13,8)>=3,$E85>1000),$E85*0.06,\n\n\"\")))))))))))))","v":""},"","",{"$f":"IF($D85=\"\",\"\",VLOOKUP($D85,$C$7:$S$13,9))","v":""},{"$f":"IF($D85=\"\",\"\",\nIF(VLOOKUP($D85,$C$7:$S$13,12)=\"Intermittent\",100,\nIF(AND(VLOOKUP($D85,$C$7:$S$13,12)=\"Continuous\",VLOOKUP($D85,$C$7:$S$13,13)=\"\"),\"Volume Above?\",\nIF(VLOOKUP($D85,$C$7:$S$13,12)=\"Continuous\",((5*VLOOKUP($D85,$C$7:$S$13,13))/60),\"\"))))","v":""},{"$f":"IF($D85=\"\",\"\",IF(VLOOKUP($D85,$C$7:$S$13,14)=\"Continuous\",20,IF(VLOOKUP($D85,$C$7:$S$13,14)=\"Intermittent\",50,\"\")))","v":""},{"$f":"IF($D85=\"\",\"\",IF(VLOOKUP($D85,$C$7:$S$13,15)=\"Continuous\",20,IF(VLOOKUP($D85,$C$7:$S$13,15)=\"Intermittent\",50,\"\")))","v":""},{"$f":"IF($D85=\"\",\"\",IF(VLOOKUP($D85,$C$7:$S$13,16)=\"Continuous\",20,IF(VLOOKUP($D85,$C$7:$S$13,16)=\"Intermittent\",50,\"\")))","v":""},null,null,null,null,"",null,null,{"$f":"IF($U85=\"\",\"\",\nIF($U85<=5,\"PASS\",\nIF(AND(VLOOKUP($D85,$C$7:$S$13,17)=1.5,$U85<=6),\"PASS\",\nIF(AND(VLOOKUP($D85,$C$7:$S$13,17)=2,$U85<=7),\"PASS\",\nIF(AND(VLOOKUP($D85,$C$7:$S$13,17)=2.5,$U85<=8),\"PASS\",\nIF(AND(VLOOKUP($D85,$C$7:$S$13,17)=3,$U85<=9),\"PASS\",\nIF(AND(VLOOKUP($D85,$C$7:$S$13,17)=3.5,$U85<=10),\"PASS\",\nIF(AND(VLOOKUP($D85,$C$7:$S$13,17)=4,$U85<=11),\"PASS\",\"FAIL\"))))))))","v":""},null,"",null,"",null,"",null,{"$f":"IF($AC85=\"\",\"\",\n\nIF(AND($J85>=100,OR(($J85*1.15)<$AC85,($J85*0.85)>$AC85)),\"FAIL\",\nIF(AND($J85<100,OR(($J85+15)<$AC85,($J85-15)>$AC85)),\"FAIL\",\n\nIF($AC85>=0.01*VLOOKUP($D85,$C$7:$S$13,4)+7.5*(VLOOKUP($D85,$C$7:$S$13,2)+1),\"PASS\",\"FAIL\"))))","v":""},null,"",null,"",null,"",null,"",null,null,null,"",null,"",null,"",null,"",null,""]
[null,null,null,null,"","","","","","","","","","",null,null,null,null,{"$f":"IF($R86=\"\",\"\",IF($R86<=$G86,\"PASS\",\"FAIL\"))","v":""},null,null,"",null,{"$f":"IF($W86=\"\",\"\",\nIF($W86<=$H86,\"PASS\",\"FAIL\"))","v":""},null,{"$f":"IF($Y86=\"\",\"\",\nIF($Y86<=$I86,\"PASS\",\"FAIL\"))","v":""},null,{"$f":"IF($AA86=\"\",\"\",\nIF(AND($AA86>=-5,$AA86<=5),\"PASS\",\"FAIL\"))","v":""},null,"",null,{"$f":"IF($AE86=\"\",\"\",\nIF($AE86>=$K86,\"PASS\",\"FAIL\"))","v":""},null,{"$f":"IF($AG86=\"\",\"\",\nIF($AG86>=$L86,\"PASS\",\"FAIL\"))","v":""},null,{"$f":"IF($AI86=\"\",\"\",\nIF($AI86>=$M86,\"PASS\",\"FAIL\"))","v":""},null,{"$f":"IF($AK86=\"\",\"\",\nIF($AK86>=$N86,\"PASS\",\"FAIL\"))","v":""},null,null,null,{"$f":"IF($AO86=\"\",\"\",\nIF($AO86<=125,\"PASS\",\"FAIL\"))","v":""},null,{"$f":"IF($AQ86=\"\",\"\",\nIF($AQ86<=125,\"PASS\",\"FAIL\"))","v":""},null,{"$f":"IF($AS86=\"\",\"\",\nIF(AND($AS86>=-5,$AS86<=5),\"PASS\",\"FAIL\"))","v":""},null,{"$f":"IF($AU86=\"\",\"\",\nIF(AND($AU86>=-5,$AU86<=5),\"PASS\",\"FAIL\"))","v":""},null,{"$f":"IF($AW86=\"\",\"\",\nIF(AND($AW86>=-5,$AW86<=5),\"PASS\",\"FAIL\"))","v":""}]
[null,null,null,null,"","","",{"$f":"IF($D87=\"\",\"\",IF($E87<1000,40,$E87*0.04))","v":""},{"$f":"IF($D87=\"\",\"\",$F87*0.3)","v":""},"","","","","",null,null,null,null,"",null,null,"",null,"",null,"",null,"",null,"",null,"",null,"",null,"",null,"",null,null,null,"",null,"",null,"",null,"",null,""]
[null,null,null,null,"","","","","","","","","","",null,null,null,null,"",null,null,"",null,"",null,"",null,"",null,"",null,"",null,"",null,"",null,"",null,null,null,"",null,"",null,"",null,"",null,""]
[null,null,null,null,"","","","","","","","","","",null,null,null,null,"",null,null,"",null,"",null,"",null,"",null,"",null,"",null,"",null,"",null,"",null,null,null,"",null,"",null,"",null,"",null,""]
[null,null,null,null,"","","","","","","","","","",null,null,null,null,"",null,null,"",null,"",null,"",null,"",null,"",null,"",null,"",null,"",null,"",null,null,null,"",null,"",null,"",null,"",null,""]
[null,null,null,null,"","","","","","","","","","",null,null,null,null,"",null,null,"",null,"",null,"",null,"",null,"",null,"",null,"",null,"",null,"",null,null,null,"",null,"",null,"",null,"",null,""]
[null,null,null,null,"","","","","","","","","","",null,null,null,null,"",null,null,"",null,"",null,"",null,"",null,"",null,"",null,"",null,"",null,"",null,null,null,"",null,"",null,"",null,"",null,""]
[null,null,null,null,"","","","","","","","","","",null,null,null,null,"",null,null,"",null,"",null,"",null,"",null,"",null,"",null,"",null,"",null,"",null,null,null,"",null,"",null,"",null,"",null,""]
[null,null,null,null,"","","","","","","","","","",null,null,null,null,"",null,null,"",null,"",null,"",null,"",null,"",null,"",null,"",null,"",null,"",null,null,null,"",null,"",null,"",null,"",null,""]
[null,null,null,null,"","","","","","","","","","",null,null,null,null,"",null,null,"",null,"",null,"",null,"",null,"",null,"",null,"",null,"",null,"",null,null,null,"",null,"",null,"",null,"",null,""]
[null,null,null,null,"","","","","","","","","","",null,null,null,null,"",null,null,"",null,"",null,"",null,"",null,"",null,"",null,"",null,"",null,"",null,null,null,"",null,"",null,"",null,"",null,""]
[null,null,null,null,"","","","","","","","","","",null,null,null,null,"",null,null,"",null,"",null,"",null,"",null,"",null,"",null,"",null,"",null,"",null,null,null,"",null,"",null,"",null,"",null,""]
[null,null,null,null,"","","","","","","","","","",null,null,null,null,"",null,null,"",null,"",null,"",null,"",null,"",null,"",null,"",null,"",null,"",null,null,null,"",null,"",null,"",null,"",null,""]
[null,null,null,null,"","","","","","","","","","",null,null,null,null,"",null,null,"",null,"",null,"",null,"",null,"",null,"",null,"",null,"",null,"",null,null,null,"",null,"",null,"",null,"",null,""]
[null,null,null,null,"","","","","","","","","","",null,null,null,null,"",null,null,"",null,"",null,"",null,"",null,"",null,"",null,"",null,"",null,"",null,null,null,"",null,"",null,"",null,"",null,""]
[null,null,null,null,"","","","","","","","","","",null,null,null,null,"",null,null,"",null,"",null,"",null,"",null,"",null,"",null,"",null,"",null,"",null,null,null,"",null,{"$f":"IF($AQ101=\"\",\"\",\nIF($AQ101<=125,\"PASS\",\"FAIL\"))","v":""},null,"",null,"",null,""]
[]
[null,null,null,null,null,null,null,null,null,null,null,null,null,null,null,"Checklist Item PASS/FAIL",null,{"$f":"IF(COUNTIF(S21:S$101,\"FAIL\")<>0,\"FAIL\",\"PASS\")","v":"FAIL"},null,"N/A",{"$f":"IF(COUNTIF(V21:V$101,\"FAIL\")<>0,\"FAIL\",\"PASS\")","v":"FAIL"},null,{"$f":"IF(COUNTIF(X21:X$101,\"FAIL\")<>0,\"FAIL\",\"PASS\")","v":"PASS"},null,{"$f":"IF(COUNTIF(Z21:Z$101,\"FAIL\")<>0,\"FAIL\",\"PASS\")","v":"FAIL"},null,{"$f":"IF(COUNTIF(AB21:AB$101,\"FAIL\")<>0,\"FAIL\",\"PASS\")","v":"FAIL"},null,{"$f":"IF(COUNTIF(AD21:AD$101,\"FAIL\")<>0,\"FAIL\",\"PASS\")","v":"FAIL"},null,{"$f":"IF(COUNTIF(AF21:AF$101,\"FAIL\")<>0,\"FAIL\",\"PASS\")","v":"FAIL"},null,{"$f":"IF(COUNTIF(AH21:AH$101,\"FAIL\")<>0,\"FAIL\",\"PASS\")","v":"FAIL"},null,{"$f":"IF(COUNTIF(AJ21:AJ$101,\"FAIL\")<>0,\"FAIL\",\"PASS\")","v":"FAIL"},null,{"$f":"IF(COUNTIF(AL21:AL$101,\"FAIL\")<>0,\"FAIL\",\"PASS\")","v":"PASS"},null,"N/A","N/A",{"$f":"IF(COUNTIF(AP21:AP$101,\"FAIL\")<>0,\"FAIL\",\"PASS\")","v":"FAIL"},null,{"$f":"IF(COUNTIF(AR21:AR$101,\"FAIL\")<>0,\"FAIL\",\"PASS\")","v":"FAIL"},null,{"$f":"IF(COUNTIF(AT21:AT$101,\"FAIL\")<>0,\"FAIL\",\"PASS\")","v":"FAIL"},null,{"$f":"IF(COUNTIF(AV21:AV$101,\"FAIL\")<>0,\"FAIL\",\"PASS\")","v":"PASS"},null,{"$f":"IF(COUNTIF(AX21:AX$101,\"FAIL\")<>0,\"FAIL\",\"PASS\")","v":"PASS"}]
[]
[null,null,"Failed Tests: Copy entire row from the Units Testing table above for any failed tests. Overwrite the values in the table above with re-test values."]
[null,null,"UNIT DETAILS",null,null,null,"TESTING TARGETS",null,null,null,null,null,null,null,"SAMPLING","TESTING RESULTS"]
[null,null,"UNIT","UNIT TYPE","SQUARE FOOTAGE","ENCLOSURE AREA","TOTAL DUCT LEAKAGE (6.4.1/6.4.2)","Duct Leakage to Outdoors (Townhouses Only) (6.5)","UNIT INFILTRATION (4.10)","DWELLING UNIT VENTILATION (7.2)","KITCHEN VENTILATION (8.1)","BATH 1 VENTILATION (8.2)","BATH 2 VENTILATION (8.2)","BATH 3 VENTILATION (8.2)","SAMPLE SET ID","TESTING DATE","Testing Failure","TOTAL DUCT LEAKAGE (6.4.1 / 6.4.2)",null,"TEST\n(ROUGH-IN/FINAL)","PRESSURE DIFFERENCE\nFOR NON-DUCTED RETURNS\n(6.4.1/6.4.2)",null,"DUCT LEAKAGE TO OUTSIDE (TOWNHOUSES ONLY) (6.5)",null,"UNIT INFILTRATION (4.10)",null,"PRESSURE DIFFERENTIAL FOR AHU CLOSETS (4.10.1)",null,"DWELLING UNIT VENTILATION (7.2)",null,"KITCHEN VENTILATION (8.1)",null,"BATH 1 VENTILATION (8.2)",null,"BATH 2 VENTILATION (8.2)",null,"BATH 3 VENTILATION (8.2)",null,"RETURN SIDE STATIC PRESSURE (IWC) (5.4)","SUPPLY SIDE STATIC PRESSURE (IWC) (5.4)","TEMP AT SHOWER (11.5)",null,"TEMP AT FAUCETS (11.5)",null,"PRESSURE BALANCING\n(BEDROOM 1) (6.2)",null,"PRESSURE BALANCING\n(BEDROOM 2) (6.2)",null,"PRESSURE BALANCING\n(BEDROOM 3) (6.2)"]
[null,null,null,null,null,null,null,null,null,null,null,null,null,null,null,null,null,"Value","Pass/Fail",null,"Value","Pass/Fail","Pass/Fail","Value","Value","Pass/Fail","Value","Pass/Fail","Value","Pass/Fail","Value","Pass/Fail","Value","Pass/Fail","Value","Pass/Fail","Value","Pass/Fail",null,null,"Value","Pass/Fail","Value","Pass/Fail","Value","Pass/Fail","Value","Pass/Fail","Value","Pass/Fail"]
[null,null,101,"A1",515,1990,40,40,597,25,100,50,"","",1,"2020-06-10","Yes",25,"PASS","Rough-In",5,"PASS",null,"",25,"PASS",4,"PASS",23,"PASS",100,"PASS",48,"FAIL",null,"",null,"",4,3,100,"PASS",91,"PASS",10,"FAIL",null,"",null,""]
[null,null,102,"B3",815,3742,40,40,1122.5999999999999,47,100,50,50,"",1,"2020-06-10","Yes",21,"PASS","Rough-In",4,"PASS",null,"",50,"PASS",3,"PASS",35,"PASS",50,"FAIL",51,"PASS",43,"FAIL",null,"",4,4,90,"PASS",70,"PASS",5,"PASS",4,"PASS",null,""]
[null,null,103,"Studio",1800,6141,72,72,1842.3,86,175,50,50,"",1,"2020-06-10","Yes",29,"PASS","Rough-In",3,"PASS",null,"",54,"PASS",5,"PASS",43,"FAIL",105,"FAIL",51,"PASS",null,"",null,"",3,4,78,"PASS",88,"PASS",8,"FAIL",null,"",null,""]
[null,null,104,"B4",1800,6141,144,72,1842.3,86,175,50,50,"",1,"2020-06-10","Yes",4,"PASS","Final",10,"FAIL",null,"",59,"PASS",5,"PASS",40,"FAIL",98,"FAIL",36,"FAIL",50,"PASS",null,"",9,6,50,"PASS",90,"PASS",6,"FAIL",3,"PASS",4,"PASS"]
[null,null,105,"Studio",1800,6141,144,72,1842.3,86,175,50,50,"",1,"2020-06-10","Yes",36,"PASS","Final",15,"FAIL",null,"",59,"PASS",1,"PASS",28,"FAIL",98,"FAIL",39,"FAIL",null,"",null,"",4,5,175,"FAIL",120,"PASS",7,"FAIL",null,"",null,""]
[null,null,106,"B1",650,2220,80,40,666,35,150,50,"","",1,"2020-06-14","Yes",45,"PASS","Final",11,"FAIL",null,"",44,"PASS",7,"FAIL",23,"PASS",101,"FAIL",49,"FAIL",null,"",null,"",3,7,130,"FAIL",126,"FAIL",4,"PASS",3,"PASS",null,""]
[null,null,107,"B3",815,3742,40,40,1122.5999999999999,47,100,50,50,"",1,"2020-06-15","Yes",19,"PASS","Rough-In",5,"PASS",null,"",45,"PASS",8,"FAIL",37,"PASS",93,"FAIL",50,"PASS",48,"FAIL",null,"",5,3,110,"PASS",90,"PASS",1,"PASS",1,"PASS",null,""]
[null,null,108,"B2",800,3040,40,40,912,31,100,50,"","",2,"2020-06-20","Yes",51,"FAIL","Rough-In",7,"FAIL",null,"",60,"PASS",6,"FAIL",36,"PASS",70,"FAIL",45,"FAIL",null,"",null,"",1,3,125,"PASS",85,"PASS",2,"PASS",5,"PASS",null,""]

{"sheet":"3a. Common Area Ventilation","index":9,"n_rows":33,"n_cols":12,"rows_kept":33,"cut":false,"hidden":false,"merged":[[1,2,1,9],[18,2,18,9],[32,2,32,9],[5,11,6,16],[23,11,24,16]]}
[]
[null,"Instructions: ","Using Tables: Prior to the Proposed Design submittal, enter space names and design CFM values in yellow cells, and enter a description of your sampling plan below each table. Add additional columns or rows as needed. (Note: Workbook does not allow you to remove columns after adding. Please save a copy of your workbook before adding new columns.)\n\nPrior to the As-Built Submittal, enter tested CFM values in the orange cells. Total airflow will calculate automatically and a Pass/Fail value will display. \n\nPrinting: Optimized for both views (Portrait/Landscape)."]
[]
[null,"Common Space Outdoor Air Ventilation Rates (7.3): This section can be expanded; copy and insert columns as needed for additional spaces. Copy and insert rows as needed for multiple registers serving a space"]
[]
[null,"Enter Space >>>","Corridor 1 ","Corridor 2","Corridor 3","Corridor 4","Corridor 5","Column6","Column7","Column8",null,"NOTES"]
[null,"Ventilation Airflow Designed by ASHRAE 62.1, per Item 2.9 of\nHVAC Design Report",200,200,200,200,200]
[null,"Tested CFM",100,70,90,90,75]
[null,"Tested CFM",130,98,141,115,100]
[null,"Tested CFM"]
[null,"Tested CFM"]
[null,"Tested CFM"]
[null,"Tested CFM"]
[null,"Tested CFM"]
[null,"Tested CFM"]
[null,"Total Airflow:",{"$f":"IF(C$8=\"\",\"\",SUM(C$8:C$15))","v":230},168,231,205,175,"","",""]
[null,"PASS/FAIL",{"$f":"IF(OR(C$16=0,C$16=\"\"),\"\",\nIF(AND(C$16>=IF((C$7*0.15)>15,C$7-(C$7*0.15),C$7-15),C$16<=IF((C$7*0.15)>15,(C$7*0.15)+C$7,C$7+15)),\"PASS\",\"FAIL\"))","v":"PASS"},"FAIL","FAIL","PASS","PASS","","",""]
[]
[null,"Sampling Plan:","Tested all 10 corridor supplies"]
[]
[]
[null,"Common Space Exhaust Airflow Rates (8.3): This section can be expanded, copy and insert rows/columns as needed, to represent additional spaces."]
[]
[null,"Enter Space >>>","Kitchen","Trash Room","Restroom","Column4","Column5","Column6","Column7","Column8",null,"NOTES"]
[null,"Design CFM",400,300,90]
[null,"Tested CFM",415,150,84]
[null,"Tested CFM",null,174]
[null,"Tested CFM"]
[null,"Tested CFM"]
[null,"Total Airflow",{"$f":"IF(C$26=\"\",\"\",SUM(C$26:C$29))","v":415},324,84,"","","","",""]
[null,"PASS/FAIL",{"$f":"IF(OR(C$30=0,C$30=\"\"),\"\",\nIF(AND(C$30>=IF((C$25*0.15)>15,C$25-(C$25*0.15),C$25-15),C$30<=IF((C$25*0.15)>15,(C$25*0.15)+C$25,C$25+15)),\"PASS\",\"FAIL\"))","v":"PASS"},"PASS","PASS","","","","",""]
[]
[null,"Sampling Plan:","Tested all systems."]

{"sheet":"3b. Central Exhaust Duct Test","index":10,"n_rows":22,"n_cols":16,"rows_kept":22,"cut":false,"hidden":false,"merged":[[7,15,8,20],[21,1,21,2],[21,3,21,4],[1,2,1,13],[19,3,19,13],[19,1,19,2],[5,2,5,13]]}
[]
[null,"Instructions: ","Using Tables: Prior to the Proposed Design submittal, enter values in yellow cells. This section can be expanded; copy and insert rows as needed. CFM allowances will calculate automatically. Enter a description of your sampling plan and the total number of risers below the table.\n\nPrior to the As-Built submittal, enter CFM Leakage results from Single Point tests into the orange cells. \n\nPrinting: Optimized for printing in Landscape view."]
[]
[null,"Central Exhaust Ventilation Duct Leakage Summary (Single-Point tests):"]
[]
[null,"Instructions: ","Central exhaust systems that serve four or more dwelling units tested for duct leakage, where the leakage at rough-in (e.g. including trunks, branches, and take-offs) does not exceed 25% of exhaust fan flow or 30% of exhaust fan flow at final (e.g. inclusive of all ductwork between the fan and the grilles).\n\nNote: For the purpose of computing leakage allowance, exhaust fan flow shall be the lesser of the rated fan flow and at rough-in, 133% of the sum of the design exhaust airflow of the dwelling units that are exhausted by that central fan or at final, 143% of the sum of the design exhaust airflow of the dwelling units that are exhausted by that central fan. Duct leakage shall be tested at the design or average operating pressure and shall use the procedures in the RESNET Guidelines for Multifamily Energy Ratings, available at www.resnet.us/blog/resnet-adoptsguidelines-for-multifamily-energy-ratings/. Where testing at the design or average operating pressure is not feasible, testing at 50 Pa is permitted, however the following flow equation must be used to determine the leakage allowance at 50 Pa.\n\nCFM50 = CFMdesign / Pdesign(0.65) / 50(0.65)"]
[]
[null,"Fan/Shaft ID","# of units/grilles","Rate per unit/grille (CFM)","Rated Fan Flow CFM","Design/Operating Pressure","Testing Pressure","CFM Leakage from Single-Point Test","Test at Final or Rough-in","% Leakage of Design CFM","Rough-in MAX CFM","Final MAX CFM","PASS/FAIL","Comments",null,"NOTES"]
[null,"TEF-1",15,50,2000,60,50,220,"Rough-In",{"$f":"IFERROR($H9/$E9,\"\")","v":0.11},{"$f":"IF($C9=\"\",\"\",\nIF(Table3b[[#This Row],[Testing Pressure]]=50, IF(($C9*$D9*1.33)<$E9,((0.25*1.33*$C9*$D9)/(POWER(Table3b[[#This Row],[Design/Operating Pressure]],0.65)/POWER(50,0.65))),(0.25*$E9)/(POWER(Table3b[[#This Row],[Design/Operating Pressure]],0.65)/POWER(50,0.65))\n), IF(($C9*$D9*1.33)<$E9,(0.25*1.33*$C9*$D9),(0.25*$E9))))","v":221.50580032873921},{"$f":"IF($C9=\"\",\"\",\nIF(Table3b[[#This Row],[Testing Pressure]]=50, IF(($C9*$D9*1.43)<$E9,((0.3*1.43*$C9*$D9)/(POWER(Table3b[[#This Row],[Design/Operating Pressure]],0.65)/POWER(50,0.65))),(0.3*$E9)/(POWER(Table3b[[#This Row],[Design/Operating Pressure]],0.65)/POWER(50,0.65))\n), IF(($C9*$D9*1.43)<$E9,(0.3*1.43*$C9*$D9),(0.3*$E9))))","v":285.79244613843338},{"$f":"IF(AND(Table3b[[#This Row],[Test at Final or Rough-in]]=\"Final\",Table3b[[#This Row],[CFM Leakage from Single-Point Test]]<Table3b[[#This Row],[Final MAX CFM]]),\"PASS\",\nIF(AND(Table3b[[#This Row],[Test at Final or Rough-in]]=\"Rough-In\",Table3b[[#This Row],[CFM Leakage from Single-Point Test]]<Table3b[[#This Row],[Rough-in MAX CFM]]),\"PASS\",\nIF(Table3b[[#This Row],[Test at Final or Rough-in]]=\"\",\"\",\"FAIL\")))","v":"PASS"}]
[null,"TEF-2",7,50,4000,70,70,117,"Final",{"$f":"IFERROR($H10/$E10,\"\")","v":2.9250000000000002E-2},{"$f":"IF($C10=\"\",\"\",\nIF(Table3b[[#This Row],[Testing Pressure]]=50, IF(($C10*$D10*1.33)<$E10,((0.25*1.33*$C10*$D10)/(POWER(Table3b[[#This Row],[Design/Operating Pressure]],0.65)/POWER(50,0.65))),(0.25*$E10)/(POWER(Table3b[[#This Row],[Design/Operating Pressure]],0.65)/POWER(50,0.65))\n), IF(($C10*$D10*1.33)<$E10,(0.25*1.33*$C10*$D10),(0.25*$E10))))","v":116.375},{"$f":"IF($C10=\"\",\"\",\nIF(Table3b[[#This Row],[Testing Pressure]]=50, IF(($C10*$D10*1.43)<$E10,((0.3*1.43*$C10*$D10)/(POWER(Table3b[[#This Row],[Design/Operating Pressure]],0.65)/POWER(50,0.65))),(0.3*$E10)/(POWER(Table3b[[#This Row],[Design/Operating Pressure]],0.65)/POWER(50,0.65))\n), IF(($C10*$D10*1.43)<$E10,(0.3*1.43*$C10*$D10),(0.3*$E10))))","v":150.15},{"$f":"IF(AND(Table3b[[#This Row],[Test at Final or Rough-in]]=\"Final\",Table3b[[#This Row],[CFM Leakage from Single-Point Test]]<Table3b[[#This Row],[Final MAX CFM]]),\"PASS\",\nIF(AND(Table3b[[#This Row],[Test at Final or Rough-in]]=\"Rough-In\",Table3b[[#This Row],[CFM Leakage from Single-Point Test]]<Table3b[[#This Row],[Rough-in MAX CFM]]),\"PASS\",\nIF(Table3b[[#This Row],[Test at Final or Rough-in]]=\"\",\"\",\"FAIL\")))","v":"PASS"}]
[null,"TEF-3",8,50,4000,80,80,135,"Rough-In",3.3750000000000002E-2,{"$f":"IF($C11=\"\",\"\",\nIF(Table3b[[#This Row],[Testing Pressure]]=50, IF(($C11*$D11*1.33)<$E11,((0.25*1.33*$C11*$D11)/(POWER(Table3b[[#This Row],[Design/Operating Pressure]],0.65)/POWER(50,0.65))),(0.25*$E11)/(POWER(Table3b[[#This Row],[Design/Operating Pressure]],0.65)/POWER(50,0.65))\n), IF(($C11*$D11*1.33)<$E11,(0.25*1.33*$C11*$D11),(0.25*$E11))))","v":133},{"$f":"IF($C11=\"\",\"\",\nIF(Table3b[[#This Row],[Testing Pressure]]=50, IF(($C11*$D11*1.43)<$E11,((0.3*1.43*$C11*$D11)/(POWER(Table3b[[#This Row],[Design/Operating Pressure]],0.65)/POWER(50,0.65))),(0.3*$E11)/(POWER(Table3b[[#This Row],[Design/Operating Pressure]],0.65)/POWER(50,0.65))\n), IF(($C11*$D11*1.43)<$E11,(0.3*1.43*$C11*$D11),(0.3*$E11))))","v":171.6},{"$f":"IF(AND(Table3b[[#This Row],[Test at Final or Rough-in]]=\"Final\",Table3b[[#This Row],[CFM Leakage from Single-Point Test]]<Table3b[[#This Row],[Final MAX CFM]]),\"PASS\",\nIF(AND(Table3b[[#This Row],[Test at Final or Rough-in]]=\"Rough-In\",Table3b[[#This Row],[CFM Leakage from Single-Point Test]]<Table3b[[#This Row],[Rough-in MAX CFM]]),\"PASS\",\nIF(Table3b[[#This Row],[Test at Final or Rough-in]]=\"\",\"\",\"FAIL\")))","v":"FAIL"}]
[null,"TEF-4",8,50,3500,100,100,89,"Final",2.5428571428571429E-2,{"$f":"IF($C12=\"\",\"\",\nIF(Table3b[[#This Row],[Testing Pressure]]=50, IF(($C12*$D12*1.33)<$E12,((0.25*1.33*$C12*$D12)/(POWER(Table3b[[#This Row],[Design/Operating Pressure]],0.65)/POWER(50,0.65))),(0.25*$E12)/(POWER(Table3b[[#This Row],[Design/Operating Pressure]],0.65)/POWER(50,0.65))\n), IF(($C12*$D12*1.33)<$E12,(0.25*1.33*$C12*$D12),(0.25*$E12))))","v":133},{"$f":"IF($C12=\"\",\"\",\nIF(Table3b[[#This Row],[Testing Pressure]]=50, IF(($C12*$D12*1.43)<$E12,((0.3*1.43*$C12*$D12)/(POWER(Table3b[[#This Row],[Design/Operating Pressure]],0.65)/POWER(50,0.65))),(0.3*$E12)/(POWER(Table3b[[#This Row],[Design/Operating Pressure]],0.65)/POWER(50,0.65))\n), IF(($C12*$D12*1.43)<$E12,(0.3*1.43*$C12*$D12),(0.3*$E12))))","v":171.6},{"$f":"IF(AND(Table3b[[#This Row],[Test at Final or Rough-in]]=\"Final\",Table3b[[#This Row],[CFM Leakage from Single-Point Test]]<Table3b[[#This Row],[Final MAX CFM]]),\"PASS\",\nIF(AND(Table3b[[#This Row],[Test at Final or Rough-in]]=\"Rough-In\",Table3b[[#This Row],[CFM Leakage from Single-Point Test]]<Table3b[[#This Row],[Rough-in MAX CFM]]),\"PASS\",\nIF(Table3b[[#This Row],[Test at Final or Rough-in]]=\"\",\"\",\"FAIL\")))","v":"PASS"}]
[null,null,null,null,null,null,null,null,null,"",{"$f":"IF($C13=\"\",\"\",\nIF(Table3b[[#This Row],[Testing Pressure]]=50, IF(($C13*$D13*1.33)<$E13,((0.25*1.33*$C13*$D13)/(POWER(Table3b[[#This Row],[Design/Operating Pressure]],0.65)/POWER(50,0.65))),(0.25*$E13)/(POWER(Table3b[[#This Row],[Design/Operating Pressure]],0.65)/POWER(50,0.65))\n), IF(($C13*$D13*1.33)<$E13,(0.25*1.33*$C13*$D13),(0.25*$E13))))","v":""},{"$f":"IF($C13=\"\",\"\",\nIF(Table3b[[#This Row],[Testing Pressure]]=50, IF(($C13*$D13*1.43)<$E13,((0.3*1.43*$C13*$D13)/(POWER(Table3b[[#This Row],[Design/Operating Pressure]],0.65)/POWER(50,0.65))),(0.3*$E13)/(POWER(Table3b[[#This Row],[Design/Operating Pressure]],0.65)/POWER(50,0.65))\n), IF(($C13*$D13*1.43)<$E13,(0.3*1.43*$C13*$D13),(0.3*$E13))))","v":""},{"$f":"IF(AND(Table3b[[#This Row],[Test at Final or Rough-in]]=\"Final\",Table3b[[#This Row],[CFM Leakage from Single-Point Test]]<Table3b[[#This Row],[Final MAX CFM]]),\"PASS\",\nIF(AND(Table3b[[#This Row],[Test at Final or Rough-in]]=\"Rough-In\",Table3b[[#This Row],[CFM Leakage from Single-Point Test]]<Table3b[[#This Row],[Rough-in MAX CFM]]),\"PASS\",\nIF(Table3b[[#This Row],[Test at Final or Rough-in]]=\"\",\"\",\"FAIL\")))","v":""}]
[null,null,null,null,null,null,null,null,null,"",{"$f":"IF($C14=\"\",\"\",\nIF(Table3b[[#This Row],[Testing Pressure]]=50, IF(($C14*$D14*1.33)<$E14,((0.25*1.33*$C14*$D14)/(POWER(Table3b[[#This Row],[Design/Operating Pressure]],0.65)/POWER(50,0.65))),(0.25*$E14)/(POWER(Table3b[[#This Row],[Design/Operating Pressure]],0.65)/POWER(50,0.65))\n), IF(($C14*$D14*1.33)<$E14,(0.25*1.33*$C14*$D14),(0.25*$E14))))","v":""},{"$f":"IF($C14=\"\",\"\",\nIF(Table3b[[#This Row],[Testing Pressure]]=50, IF(($C14*$D14*1.43)<$E14,((0.3*1.43*$C14*$D14)/(POWER(Table3b[[#This Row],[Design/Operating Pressure]],0.65)/POWER(50,0.65))),(0.3*$E14)/(POWER(Table3b[[#This Row],[Design/Operating Pressure]],0.65)/POWER(50,0.65))\n), IF(($C14*$D14*1.43)<$E14,(0.3*1.43*$C14*$D14),(0.3*$E14))))","v":""},{"$f":"IF(AND(Table3b[[#This Row],[Test at Final or Rough-in]]=\"Final\",Table3b[[#This Row],[CFM Leakage from Single-Point Test]]<Table3b[[#This Row],[Final MAX CFM]]),\"PASS\",\nIF(AND(Table3b[[#This Row],[Test at Final or Rough-in]]=\"Rough-In\",Table3b[[#This Row],[CFM Leakage from Single-Point Test]]<Table3b[[#This Row],[Rough-in MAX CFM]]),\"PASS\",\nIF(Table3b[[#This Row],[Test at Final or Rough-in]]=\"\",\"\",\"FAIL\")))","v":""}]
[null,null,null,null,null,null,null,null,null,"",{"$f":"IF($C15=\"\",\"\",\nIF(Table3b[[#This Row],[Testing Pressure]]=50, IF(($C15*$D15*1.33)<$E15,((0.25*1.33*$C15*$D15)/(POWER(Table3b[[#This Row],[Design/Operating Pressure]],0.65)/POWER(50,0.65))),(0.25*$E15)/(POWER(Table3b[[#This Row],[Design/Operating Pressure]],0.65)/POWER(50,0.65))\n), IF(($C15*$D15*1.33)<$E15,(0.25*1.33*$C15*$D15),(0.25*$E15))))","v":""},{"$f":"IF($C15=\"\",\"\",\nIF(Table3b[[#This Row],[Testing Pressure]]=50, IF(($C15*$D15*1.43)<$E15,((0.3*1.43*$C15*$D15)/(POWER(Table3b[[#This Row],[Design/Operating Pressure]],0.65)/POWER(50,0.65))),(0.3*$E15)/(POWER(Table3b[[#This Row],[Design/Operating Pressure]],0.65)/POWER(50,0.65))\n), IF(($C15*$D15*1.43)<$E15,(0.3*1.43*$C15*$D15),(0.3*$E15))))","v":""},{"$f":"IF(AND(Table3b[[#This Row],[Test at Final or Rough-in]]=\"Final\",Table3b[[#This Row],[CFM Leakage from Single-Point Test]]<Table3b[[#This Row],[Final MAX CFM]]),\"PASS\",\nIF(AND(Table3b[[#This Row],[Test at Final or Rough-in]]=\"Rough-In\",Table3b[[#This Row],[CFM Leakage from Single-Point Test]]<Table3b[[#This Row],[Rough-in MAX CFM]]),\"PASS\",\nIF(Table3b[[#This Row],[Test at Final or Rough-in]]=\"\",\"\",\"FAIL\")))","v":""}]
[null,null,null,null,null,null,null,null,null,"",{"$f":"IF($C16=\"\",\"\",\nIF(Table3b[[#This Row],[Testing Pressure]]=50, IF(($C16*$D16*1.33)<$E16,((0.25*1.33*$C16*$D16)/(POWER(Table3b[[#This Row],[Design/Operating Pressure]],0.65)/POWER(50,0.65))),(0.25*$E16)/(POWER(Table3b[[#This Row],[Design/Operating Pressure]],0.65)/POWER(50,0.65))\n), IF(($C16*$D16*1.33)<$E16,(0.25*1.33*$C16*$D16),(0.25*$E16))))","v":""},{"$f":"IF($C16=\"\",\"\",\nIF(Table3b[[#This Row],[Testing Pressure]]=50, IF(($C16*$D16*1.43)<$E16,((0.3*1.43*$C16*$D16)/(POWER(Table3b[[#This Row],[Design/Operating Pressure]],0.65)/POWER(50,0.65))),(0.3*$E16)/(POWER(Table3b[[#This Row],[Design/Operating Pressure]],0.65)/POWER(50,0.65))\n), IF(($C16*$D16*1.43)<$E16,(0.3*1.43*$C16*$D16),(0.3*$E16))))","v":""},{"$f":"IF(AND(Table3b[[#This Row],[Test at Final or Rough-in]]=\"Final\",Table3b[[#This Row],[CFM Leakage from Single-Point Test]]<Table3b[[#This Row],[Final MAX CFM]]),\"PASS\",\nIF(AND(Table3b[[#This Row],[Test at Final or Rough-in]]=\"Rough-In\",Table3b[[#This Row],[CFM Leakage from Single-Point Test]]<Table3b[[#This Row],[Rough-in MAX CFM]]),\"PASS\",\nIF(Table3b[[#This Row],[Test at Final or Rough-in]]=\"\",\"\",\"FAIL\")))","v":""}]
[null,null,null,null,null,null,null,null,null,"",{"$f":"IF($C17=\"\",\"\",\nIF(Table3b[[#This Row],[Testing Pressure]]=50, IF(($C17*$D17*1.33)<$E17,((0.25*1.33*$C17*$D17)/(POWER(Table3b[[#This Row],[Design/Operating Pressure]],0.65)/POWER(50,0.65))),(0.25*$E17)/(POWER(Table3b[[#This Row],[Design/Operating Pressure]],0.65)/POWER(50,0.65))\n), IF(($C17*$D17*1.33)<$E17,(0.25*1.33*$C17*$D17),(0.25*$E17))))","v":""},{"$f":"IF($C17=\"\",\"\",\nIF(Table3b[[#This Row],[Testing Pressure]]=50, IF(($C17*$D17*1.43)<$E17,((0.3*1.43*$C17*$D17)/(POWER(Table3b[[#This Row],[Design/Operating Pressure]],0.65)/POWER(50,0.65))),(0.3*$E17)/(POWER(Table3b[[#This Row],[Design/Operating Pressure]],0.65)/POWER(50,0.65))\n), IF(($C17*$D17*1.43)<$E17,(0.3*1.43*$C17*$D17),(0.3*$E17))))","v":""},{"$f":"IF(AND(Table3b[[#This Row],[Test at Final or Rough-in]]=\"Final\",Table3b[[#This Row],[CFM Leakage from Single-Point Test]]<Table3b[[#This Row],[Final MAX CFM]]),\"PASS\",\nIF(AND(Table3b[[#This Row],[Test at Final or Rough-in]]=\"Rough-In\",Table3b[[#This Row],[CFM Leakage from Single-Point Test]]<Table3b[[#This Row],[Rough-in MAX CFM]]),\"PASS\",\nIF(Table3b[[#This Row],[Test at Final or Rough-in]]=\"\",\"\",\"FAIL\")))","v":""}]
[null,null,null,null,null,null,null,null,null,"",{"$f":"IF($C18=\"\",\"\",\nIF(Table3b[[#This Row],[Testing Pressure]]=50, IF(($C18*$D18*1.33)<$E18,((0.25*1.33*$C18*$D18)/(POWER(Table3b[[#This Row],[Design/Operating Pressure]],0.65)/POWER(50,0.65))),(0.25*$E18)/(POWER(Table3b[[#This Row],[Design/Operating Pressure]],0.65)/POWER(50,0.65))\n), IF(($C18*$D18*1.33)<$E18,(0.25*1.33*$C18*$D18),(0.25*$E18))))","v":""},{"$f":"IF($C18=\"\",\"\",\nIF(Table3b[[#This Row],[Testing Pressure]]=50, IF(($C18*$D18*1.43)<$E18,((0.3*1.43*$C18*$D18)/(POWER(Table3b[[#This Row],[Design/Operating Pressure]],0.65)/POWER(50,0.65))),(0.3*$E18)/(POWER(Table3b[[#This Row],[Design/Operating Pressure]],0.65)/POWER(50,0.65))\n), IF(($C18*$D18*1.43)<$E18,(0.3*1.43*$C18*$D18),(0.3*$E18))))","v":""},{"$f":"IF(AND(Table3b[[#This Row],[Test at Final or Rough-in]]=\"Final\",Table3b[[#This Row],[CFM Leakage from Single-Point Test]]<Table3b[[#This Row],[Final MAX CFM]]),\"PASS\",\nIF(AND(Table3b[[#This Row],[Test at Final or Rough-in]]=\"Rough-In\",Table3b[[#This Row],[CFM Leakage from Single-Point Test]]<Table3b[[#This Row],[Rough-in MAX CFM]]),\"PASS\",\nIF(Table3b[[#This Row],[Test at Final or Rough-in]]=\"\",\"\",\"FAIL\")))","v":""}]
[]
[null,"Sampling Plan:",null,"All risers tested."]
[]
[null,"Total # of risers:",null,4]

{"sheet":"4. Appliances","index":11,"n_rows":13,"n_cols":13,"rows_kept":13,"cut":false,"hidden":false,"merged":[[1,2,1,10],[4,1,4,10],[7,1,7,10],[7,12,8,14]]}
[]
[null,"Instructions: ","Using Tables: Providing data in orange cells on this tab prior to the Proposed Design submittal is optional, but recommended.\n\nPrior to As-Built submittal, enter installed appliance details into all orange cells. If make and model numbers were entered at the Proposed Design submittal, mark any changes from the Proposed Design in 'Inspection Comments' (Column K).\n\nPrinting: Optimized for both views (Portrait/Landscape)."]
[]
[null,"1. ASHRAE Path"]
[null,"Provide photo of each unique appliance model number AND provide the Energy Guide label or other documentation that confirms energy use consistent with ASHRAE Path Calculator."]
[]
[null,"2. Prescriptive Path "]
[null,"Provide photo of each unique appliance model number AND either list MFR/model in table below OR submit evidence of listing in the ENERGY STAR Product Search at time of purchase.",null,null,null,null,null,null,null,null,null,null,"NOTES"]
[]
[null,"APPLIANCE","LOCATION","QUANTITY","MFR","MODEL #","ENERGY STAR\n(Yes/No)","LOCATION\n(dwg/spec)","PLAN REVIEW","INSPECTION?","INSPECTION COMMENTS "]
[null,"Refrigerator","Kitchen",1,"Vandeley Industries","M604A0By75","Yes",null,null,"No","Installed after CO"]
[null,"Dishwasher","Kitchen",1,"Vandeley Industries","ACA44005b","Yes",null,null,"Yes","Change request submitted for Units A1 & A2"]
[null,"Washer/Dryer 2-in-1 Stack","Mechanical Closet",1,"Vandeley Industries","c09bab4520-240","Yes",null,null,"Yes","Installed"]

{"sheet":"5. Envelope Compliance Options","index":12,"n_rows":4,"n_cols":3,"rows_kept":4,"cut":false,"hidden":false,"merged":[[1,2,1,4],[3,2,3,4]]}
[]
[null,"Instructions: ","To demonstrate compliance with the High-Performance Insulation requirements, project teams have three options to select from: R-values, U-Factors, or Total UA. Based on the descriptions below, use the drop-down to indicate your selection and the appropriate tab will be shown. \n\nEnvelope R-Values (5a): Use this tab if you want to compare your insulation to the R-Value required (Note: Projects should not use this tab if they are going through the Prescriptive Path OR if the project contains walls with uninsulated balconies, PTACS, continuous insulation that is frequently interrupted by fasteners, or floors with garages below.\n\nEnvelope U-Factors (5b): Use this tab if you want to compare the project insulation to the U-factor required. (Note: slab on grade insulation will still show an R-Value or F-Factor)\n\nTotal UA Compliance (5c): Use this tab if you want to show that the project meets the total UA option. (Note: slab on grade insulation will still show an R-Value or F-Factor)"]
[]
[null,"Which envelope compliance option does your project use?","Total UA Compliance"]

{"sheet":"5a. Envelope R-Values","index":13,"n_rows":19,"n_cols":20,"rows_kept":19,"cut":false,"hidden":true,"merged":[[8,19,9,22],[1,2,1,7],[8,1,8,2],[5,1,5,2],[5,4,5,7],[6,1,6,7],[8,6,8,7]]}
[]
[null,"Instructions: ","Using Tables: Answer \"Does this project include any of the following:\" question in the orange cell dropdown to its right. If yes, do not use this worksheet and instead use tabs 5b or 5c. If no, continue with worksheet and complete all yellow cells, prior to the Proposed Design submittal. Compare specified value to ENERGY STAR requirement and use the drop-down to indicate if the components Pass or Fail. \n\nWarning: If during the course of design or construction, the certification path changes, you will need to re-select the Building Component and Component Type drop-down options.\n\nPrior to As-Built submittal, update the Installed R-value or U-factor to match as-built conditions, if different from design.\n\nNote: All door calculations are included on the \"6. Fenestration\" tab.\n\nPrinting: Optimized for Landscape view."]
[]
[null,"Mandatory Insulation Requirement Verification"]
[]
[null,"Does this project include any of the following: \n1) walls with uninsulated balconies; \n2) PTACS; \n3) continuous insulation that is frequently interrupted by fasteners; or\n4) floors with garages below.",null,"Yes",{"$f":"IF($D$6=\"Yes\",\"DO NOT USE THIS WORKSHEET. USE THE TOTAL UA (5c) TAB.\",\"\")","v":"DO NOT USE THIS WORKSHEET. USE THE TOTAL UA (5c) TAB."}]
[null,"This R-value compliance path is not permitted for projects with walls with uninsulated balconies, PTACs, continuous insulation that is frequently interrupted by fasteners, or floors with garages below. They must use the U-factor or total UA tabs."]
[]
[null,"Select ENERGY STAR Pathway",null,{"$f":"IF('Project Information'!$C$8=\"\",\"Complete Project Information Tab\",'Project Information'!$C$8)","v":"Prescriptive"},"Select ENERGY STAR Version",{"$f":"IF('Project Information'!$F$8=\"\",\"Complete Project Information Tab\",'Project Information'!$F$8)","v":"Version 1"},"Select ENERGY STAR Climate Zone",null,{"$f":"IF('Project Information'!$F$10=\"\",\"Complete Project Information Tab\",'Project Information'!$F$10)","v":"CZ 4"},null,null,null,null,null,{"$f":"IF($I$9=\"CZ 1\",2,\nIF($I$9=\"CZ 2\",3,\nIF($I$9=\"CZ 3\",4,\nIF($I$9=\"CZ 4\",5,\nIF($I$9=\"CZ 4 C\",6,\nIF($I$9=\"CZ 5\",7,\nIF($I$9=\"CZ 6\",8,\nIF($I$9=\"CZ 7\",9,\nIF($I$9=\"CZ 8\",10,\"\")))))))))","v":5},"<< CZ Reference Table Index",null,null,null,"Notes"]
[null,null,null,null,null,null,null,null,null,null,null,null,null,"hide","hide","hide","hide","hide"]
[null,"Assembly Name","Dwelling or Common?","Building Component","Component Type\n(N/A for Prescriptive Dwelling Unit)","ENERGY STAR Requirement","Specified/Installed R-value or U-Factor","PASS/FAIL","Description of Layers","Location\n(dwg/spec)\n(Optional)","Plan Review\n(Optional)","Inspection?\n(Optional)","Inspection Comments\n(Optional)","Component_Lookup","Lookup Table","ESRefDesign Row Lookups","Row Lookups Index","Building_Component_Lookup"]
[null,"South Cantelever","Dwelling","Slab Insulation","N/A",{"$f":"IFERROR(IF(AND($F$9=\"Version 1.2 OR+WA\",OR($I$9=\"CZ 1\",$I$9=\"CZ 2\",$I$9=\"CZ 3\",$I$9=\"CZ 4\",$I$9=\"CZ 7\",$I$9=\"CZ 8\")),\"N/A - Update CZ\",\n\nIF(Table5a[[#This Row],[Lookup Table]]=\"ESRefDesign_Insulation_V1\",INDEX(INDIRECT(Table5a[[#This Row],[Lookup Table]]),Table5a[[#This Row],[Row Lookups Index]],$O$9),\nIF(Table5a[[#This Row],[Lookup Table]]=\"ESRefDesign_Insulation_V11\",INDEX(INDIRECT(Table5a[[#This Row],[Lookup Table]]),Table5a[[#This Row],[Row Lookups Index]],$O$9),\nIF(Table5a[[#This Row],[Lookup Table]]=\"ESRefDesign_Insulation_V12\",INDEX(INDIRECT(Table5a[[#This Row],[Lookup Table]]),Table5a[[#This Row],[Row Lookups Index]],2),\n\nIF(Table5a[[#This Row],[Lookup Table]]=\"IECC2009_R\",INDEX(INDIRECT(Table5a[[#This Row],[ESRefDesign Row Lookups]]),Table5a[[#This Row],[Row Lookups Index]],$O$9),\nIF(Table5a[[#This Row],[Lookup Table]]=\"IECC2009_O\",INDEX(INDIRECT(Table5a[[#This Row],[ESRefDesign Row Lookups]]),Table5a[[#This Row],[Row Lookups Index]],$O$9),\n\nIF(Table5a[[#This Row],[Lookup Table]]=\"IECC2012_R\",INDEX(INDIRECT(Table5a[[#This Row],[ESRefDesign Row Lookups]]),Table5a[[#This Row],[Row Lookups Index]],$O$9),\nIF(Table5a[[#This Row],[Lookup Table]]=\"IECC2012_O\",INDEX(INDIRECT(Table5a[[#This Row],[ESRefDesign Row Lookups]]),Table5a[[#This Row],[Row Lookups Index]],$O$9),\n\n\"\")))))))),\"\")","v":"R-10"},3.3000000000000002E-2,"PASS","Band Joist, Batt, Sheathing & air seal, tyvek wrap, vinyl siding",null,null,null,null,{"$f":"IF(OR(Table5a[[#This Row],[Building_Component_Lookup]]=\"BuildingComponents_ESRefList\",Table5a[[#This Row],[Building_Component_Lookup]]=\"BuildingComponents_ESRefListv12\"),\"ESRefNoCom\",\nIF(Table5a[[#This Row],[Building Component]]=\"Roofs\",\"Roofs\",\nIF(Table5a[[#This Row],[Building Component]]=\"Walls, Above Grade\",\"WallsAboveGrade\",\nIF(Table5a[[#This Row],[Building Component]]=\"Walls, Below Grade\",\"WallsBelowGrade\",\nIF(Table5a[[#This Row],[Building Component]]=\"Floors\",\"Floors\",\nIF(Table5a[[#This Row],[Building Component]]=\"Slab-on-Grade Floors\",\"SlabOnGradeFloors\",\nIF(Table5a[[#This Row],[Building Component]]=\"Opaque Doors\",\"OpaqueDoors\",\"\")))))))","v":"ESRefNoCom"},{"$f":"IF(AND(Table5a[[#This Row],[Dwelling or Common?]]=\"Dwelling\",$D$9=\"Prescriptive\",$F$9=\"Version 1\"),\"ESRefDesign_Insulation_V1\",\nIF(AND(Table5a[[#This Row],[Dwelling or Common?]]=\"Dwelling\",$D$9=\"Prescriptive\",$F$9=\"Version 1.1\"),\"ESRefDesign_Insulation_V11\",\n\nIF(AND($F$9=\"Version 1.2 OR+WA\",$D$9=\"Prescriptive\"),\"ESRefDesign_Insulation_V12\",\n\nIF(Table5a[[#This Row],[Dwelling or Common?]]=\"Dwelling\",\"IECC2009_R\",\n\nIF(AND(Table5a[[#This Row],[Dwelling or Common?]]=\"Common\",$D$9=\"Prescriptive\",$F$9=\"Version 1\"),\"IECC2009_O\",\nIF(AND(Table5a[[#This Row],[Dwelling or Common?]]=\"Common\",$D$9=\"Prescriptive\",$F$9=\"Version 1.1\"),\"IECC2012_O\",\n\nIF(AND(Table5a[[#This Row],[Dwelling or Common?]]=\"Common\",OR($D$9=\"ERI\",$D$9=\"Title 24 - Dwelling Unit Models\"),$F$9=\"Version 1\"),\"IECC2009_O\",\nIF(AND(Table5a[[#This Row],[Dwelling or Common?]]=\"Common\",OR($D$9=\"ERI\",$D$9=\"Title 24 - Dwelling Unit Models\"),$F$9=\"Version 1.1\"),\"IECC2012_O\",\nIF(AND(Table5a[[#This Row],[Dwelling or Common?]]=\"Common\",OR($D$9=\"ERI\",$D$9=\"Title 24 - Dwelling Unit Models\"),$F$9=\"Version 1.2 OR+WA\"),\"ESRefDesign_Insulation_V12\",\n\nIF(AND(Table5a[[#This Row],[Dwelling or Common?]]=\"Common\",OR($D$9=\"ASHRAE\",$D$9=\"Title 24 - Whole Building Models\")),\"IECC2009_O\",\"\"\n))))))))))","v":"ESRefDesign_Insulation_V1"},{"$f":"IF(Table5a[[#This Row],[Building Component]]=\"Slab Insulation\",\"Slab Insulation R-Value:\",\nIF(Table5a[[#This Row],[Building Component]]=\"Basement Wall Continuous Insulation\",\"Basement Wall Continuous Insulation R-Value:\",\nIF(Table5a[[#This Row],[Building Component]]=\"Floor Assembly\", \"Floor Assembly U-Factor:\",\nIF(Table5a[[#This Row],[Building Component]]=\"Wall Assembly\", \"Wall Assembly U-Factor:\",\nIF(Table5a[[#This Row],[Building Component]]=\"Ceiling Assembly\", \"Ceiling Assembly U-Factor:\",\n\nTable5a[[#This Row],[Lookup Table]]&\"_\"&Table5a[[#This Row],[Component_Lookup]])\n))))","v":"Slab Insulation R-Value:"},{"$f":"IF(Table5a[[#This Row],[ESRefDesign Row Lookups]]=\"Slab Insulation R-Value:\",1,\nIF(Table5a[[#This Row],[ESRefDesign Row Lookups]]=\"Slab Insulation Depth (ft):\",2,\nIF(Table5a[[#This Row],[ESRefDesign Row Lookups]]=\"Basement Wall Continuous Insulation R-Value:\",3,\nIF(Table5a[[#This Row],[ESRefDesign Row Lookups]]=\"Floor Assembly U-Factor:\",4,\nIF(Table5a[[#This Row],[ESRefDesign Row Lookups]]=\"Wall Assembly U-Factor:\",5,\nIF(Table5a[[#This Row],[ESRefDesign Row Lookups]]=\"Ceiling Assembly U-Factor:\",6,\n\nIF(Table5a[[#This Row],[Building Component]]=\"Above-Grade Wall\",1,\nIF(Table5a[[#This Row],[Building Component]]=\"Ceiling\",2,\nIF(Table5a[[#This Row],[Building Component]]=\"Floor\",3,\nIF(Table5a[[#This Row],[Building Component]]=\"Basement Wall\",4,\nIF(Table5a[[#This Row],[Building Component]]=\"On-Grade & Below Grade Slab\",5,\n\nIF(Table5a[[#This Row],[Component Type\n(N/A for Prescriptive Dwelling Unit)]]=\"Insulation entirely above deck\",1,\nIF(Table5a[[#This Row],[Component Type\n(N/A for Prescriptive Dwelling Unit)]]=\"Metal buildings (with R-5 thermal blocks)\",2,\nIF(Table5a[[#This Row],[Component Type\n(N/A for Prescriptive Dwelling Unit)]]=\"Attic and other\",3,\n\nIF(Table5a[[#This Row],[Component Type\n(N/A for Prescriptive Dwelling Unit)]]=\"Mass\",1,\nIF(Table5a[[#This Row],[Component Type\n(N/A for Prescriptive Dwelling Unit)]]=\"Metal building\",2,\nIF(Table5a[[#This Row],[Component Type\n(N/A for Prescriptive Dwelling Unit)]]=\"Metal framed\",3,\nIF(Table5a[[#This Row],[Component Type\n(N/A for Prescriptive Dwelling Unit)]]=\"Wood framed and other\",4,\n\nIF(Table5a[[#This Row],[Component Type\n(N/A for Prescriptive Dwelling Unit)]]=\"Below grade wall\",1,\n\nIF(Table5a[[#This Row],[Component Type\n(N/A for Prescriptive Dwelling Unit)]]=\"Mass\",1,\nIF(Table5a[[#This Row],[Component Type\n(N/A for Prescriptive Dwelling Unit)]]=\"Joist/framing\nSteel/(wood)\",2,\n\nIF(Table5a[[#This Row],[Component Type\n(N/A for Prescriptive Dwelling Unit)]]=\"Unheated slabs\",1,\nIF(Table5a[[#This Row],[Component Type\n(N/A for Prescriptive Dwelling Unit)]]=\"Heated slabs\",2,\n\nIF(Table5a[[#This Row],[Component Type\n(N/A for Prescriptive Dwelling Unit)]]=\"Swinging\",1,\nIF(Table5a[[#This Row],[Component Type\n(N/A for Prescriptive Dwelling Unit)]]=\"Roll-up or sliding\",2,\n\n\"ADD IN IECC TABLE INDEX VALUES\")))))))))))))))))))))))))","v":1},{"$f":"IF(AND($F$9=\"Version 1.2 OR+WA\",$D$9=\"Prescriptive\"),\"BuildingComponents_ESRefListv12\",\nIF(AND($F$9=\"Version 1.2 OR+WA\",$D$9=\"ERI\",Table5a[[#This Row],[Dwelling or Common?]]=\"Common\"),\"BuildingComponents_ESRefListv12\",\nIF(AND(Table5a[[#This Row],[Dwelling or Common?]]=\"Dwelling\",$D$9=\"Prescriptive\"),\"BuildingComponents_ESRefList\",\nIF(Table5a[[#This Row],[Dwelling or Common?]]=\"Dwelling\",\"BuildingComponents_IECCList\",\n\nIF(AND(Table5a[[#This Row],[Dwelling or Common?]]=\"Common\",$D$9=\"Prescriptive\"),\"BuildingComponents_IECCList\",\nIF(AND(Table5a[[#This Row],[Dwelling or Common?]]=\"Common\",OR($D$9=\"ERI\",$D$9=\"Title 24 - Dwelling Unit Models\")),\"BuildingComponents_IECCList\",\nIF(AND(Table5a[[#This Row],[Dwelling or Common?]]=\"Common\",OR($D$9=\"ASHRAE\",$D$9=\"Title 24 - Whole Building Models\")),\"BuildingComponents_IECCList\",\"\")))))))","v":"BuildingComponents_ESRefList"}]
[null,"North Exterior","Dwelling","Basement Wall Continuous Insulation","N/A",{"$f":"IFERROR(IF(AND($F$9=\"Version 1.2 OR+WA\",OR($I$9=\"CZ 1\",$I$9=\"CZ 2\",$I$9=\"CZ 3\",$I$9=\"CZ 4\",$I$9=\"CZ 7\",$I$9=\"CZ 8\")),\"N/A - Update CZ\",\n\nIF(Table5a[[#This Row],[Lookup Table]]=\"ESRefDesign_Insulation_V1\",INDEX(INDIRECT(Table5a[[#This Row],[Lookup Table]]),Table5a[[#This Row],[Row Lookups Index]],$O$9),\nIF(Table5a[[#This Row],[Lookup Table]]=\"ESRefDesign_Insulation_V11\",INDEX(INDIRECT(Table5a[[#This Row],[Lookup Table]]),Table5a[[#This Row],[Row Lookups Index]],$O$9),\nIF(Table5a[[#This Row],[Lookup Table]]=\"ESRefDesign_Insulation_V12\",INDEX(INDIRECT(Table5a[[#This Row],[Lookup Table]]),Table5a[[#This Row],[Row Lookups Index]],2),\n\nIF(Table5a[[#This Row],[Lookup Table]]=\"IECC2009_R\",INDEX(INDIRECT(Table5a[[#This Row],[ESRefDesign Row Lookups]]),Table5a[[#This Row],[Row Lookups Index]],$O$9),\nIF(Table5a[[#This Row],[Lookup Table]]=\"IECC2009_O\",INDEX(INDIRECT(Table5a[[#This Row],[ESRefDesign Row Lookups]]),Table5a[[#This Row],[Row Lookups Index]],$O$9),\n\nIF(Table5a[[#This Row],[Lookup Table]]=\"IECC2012_R\",INDEX(INDIRECT(Table5a[[#This Row],[ESRefDesign Row Lookups]]),Table5a[[#This Row],[Row Lookups Index]],$O$9),\nIF(Table5a[[#This Row],[Lookup Table]]=\"IECC2012_O\",INDEX(INDIRECT(Table5a[[#This Row],[ESRefDesign Row Lookups]]),Table5a[[#This Row],[Row Lookups Index]],$O$9),\n\n\"\")))))))),\"\")","v":"R-7.5"},10,"PASS","silt screen, gravel, rigid foam board, concrete monolithic slab",null,null,null,null,{"$f":"IF(OR(Table5a[[#This Row],[Building_Component_Lookup]]=\"BuildingComponents_ESRefList\",Table5a[[#This Row],[Building_Component_Lookup]]=\"BuildingComponents_ESRefListv12\"),\"ESRefNoCom\",\nIF(Table5a[[#This Row],[Building Component]]=\"Roofs\",\"Roofs\",\nIF(Table5a[[#This Row],[Building Component]]=\"Walls, Above Grade\",\"WallsAboveGrade\",\nIF(Table5a[[#This Row],[Building Component]]=\"Walls, Below Grade\",\"WallsBelowGrade\",\nIF(Table5a[[#This Row],[Building Component]]=\"Floors\",\"Floors\",\nIF(Table5a[[#This Row],[Building Component]]=\"Slab-on-Grade Floors\",\"SlabOnGradeFloors\",\nIF(Table5a[[#This Row],[Building Component]]=\"Opaque Doors\",\"OpaqueDoors\",\"\")))))))","v":"ESRefNoCom"},{"$f":"IF(AND(Table5a[[#This Row],[Dwelling or Common?]]=\"Dwelling\",$D$9=\"Prescriptive\",$F$9=\"Version 1\"),\"ESRefDesign_Insulation_V1\",\nIF(AND(Table5a[[#This Row],[Dwelling or Common?]]=\"Dwelling\",$D$9=\"Prescriptive\",$F$9=\"Version 1.1\"),\"ESRefDesign_Insulation_V11\",\n\nIF(AND($F$9=\"Version 1.2 OR+WA\",$D$9=\"Prescriptive\"),\"ESRefDesign_Insulation_V12\",\n\nIF(Table5a[[#This Row],[Dwelling or Common?]]=\"Dwelling\",\"IECC2009_R\",\n\nIF(AND(Table5a[[#This Row],[Dwelling or Common?]]=\"Common\",$D$9=\"Prescriptive\",$F$9=\"Version 1\"),\"IECC2009_O\",\nIF(AND(Table5a[[#This Row],[Dwelling or Common?]]=\"Common\",$D$9=\"Prescriptive\",$F$9=\"Version 1.1\"),\"IECC2012_O\",\n\nIF(AND(Table5a[[#This Row],[Dwelling or Common?]]=\"Common\",OR($D$9=\"ERI\",$D$9=\"Title 24 - Dwelling Unit Models\"),$F$9=\"Version 1\"),\"IECC2009_O\",\nIF(AND(Table5a[[#This Row],[Dwelling or Common?]]=\"Common\",OR($D$9=\"ERI\",$D$9=\"Title 24 - Dwelling Unit Models\"),$F$9=\"Version 1.1\"),\"IECC2012_O\",\nIF(AND(Table5a[[#This Row],[Dwelling or Common?]]=\"Common\",OR($D$9=\"ERI\",$D$9=\"Title 24 - Dwelling Unit Models\"),$F$9=\"Version 1.2 OR+WA\"),\"ESRefDesign_Insulation_V12\",\n\nIF(AND(Table5a[[#This Row],[Dwelling or Common?]]=\"Common\",OR($D$9=\"ASHRAE\",$D$9=\"Title 24 - Whole Building Models\")),\"IECC2009_O\",\"\"\n))))))))))","v":"ESRefDesign_Insulation_V1"},{"$f":"IF(Table5a[[#This Row],[Building Component]]=\"Slab Insulation\",\"Slab Insulation R-Value:\",\nIF(Table5a[[#This Row],[Building Component]]=\"Basement Wall Continuous Insulation\",\"Basement Wall Continuous Insulation R-Value:\",\nIF(Table5a[[#This Row],[Building Component]]=\"Floor Assembly\", \"Floor Assembly U-Factor:\",\nIF(Table5a[[#This Row],[Building Component]]=\"Wall Assembly\", \"Wall Assembly U-Factor:\",\nIF(Table5a[[#This Row],[Building Component]]=\"Ceiling Assembly\", \"Ceiling Assembly U-Factor:\",\n\nTable5a[[#This Row],[Lookup Table]]&\"_\"&Table5a[[#This Row],[Component_Lookup]])\n))))","v":"Basement Wall Continuous Insulation R-Value:"},{"$f":"IF(Table5a[[#This Row],[ESRefDesign Row Lookups]]=\"Slab Insulation R-Value:\",1,\nIF(Table5a[[#This Row],[ESRefDesign Row Lookups]]=\"Slab Insulation Depth (ft):\",2,\nIF(Table5a[[#This Row],[ESRefDesign Row Lookups]]=\"Basement Wall Continuous Insulation R-Value:\",3,\nIF(Table5a[[#This Row],[ESRefDesign Row Lookups]]=\"Floor Assembly U-Factor:\",4,\nIF(Table5a[[#This Row],[ESRefDesign Row Lookups]]=\"Wall Assembly U-Factor:\",5,\nIF(Table5a[[#This Row],[ESRefDesign Row Lookups]]=\"Ceiling Assembly U-Factor:\",6,\n\nIF(Table5a[[#This Row],[Building Component]]=\"Above-Grade Wall\",1,\nIF(Table5a[[#This Row],[Building Component]]=\"Ceiling\",2,\nIF(Table5a[[#This Row],[Building Component]]=\"Floor\",3,\nIF(Table5a[[#This Row],[Building Component]]=\"Basement Wall\",4,\nIF(Table5a[[#This Row],[Building Component]]=\"On-Grade & Below Grade Slab\",5,\n\nIF(Table5a[[#This Row],[Component Type\n(N/A for Prescriptive Dwelling Unit)]]=\"Insulation entirely above deck\",1,\nIF(Table5a[[#This Row],[Component Type\n(N/A for Prescriptive Dwelling Unit)]]=\"Metal buildings (with R-5 thermal blocks)\",2,\nIF(Table5a[[#This Row],[Component Type\n(N/A for Prescriptive Dwelling Unit)]]=\"Attic and other\",3,\n\nIF(Table5a[[#This Row],[Component Type\n(N/A for Prescriptive Dwelling Unit)]]=\"Mass\",1,\nIF(Table5a[[#This Row],[Component Type\n(N/A for Prescriptive Dwelling Unit)]]=\"Metal building\",2,\nIF(Table5a[[#This Row],[Component Type\n(N/A for Prescriptive Dwelling Unit)]]=\"Metal framed\",3,\nIF(Table5a[[#This Row],[Component Type\n(N/A for Prescriptive Dwelling Unit)]]=\"Wood framed and other\",4,\n\nIF(Table5a[[#This Row],[Component Type\n(N/A for Prescriptive Dwelling Unit)]]=\"Below grade wall\",1,\n\nIF(Table5a[[#This Row],[Component Type\n(N/A for Prescriptive Dwelling Unit)]]=\"Mass\",1,\nIF(Table5a[[#This Row],[Component Type\n(N/A for Prescriptive Dwelling Unit)]]=\"Joist/framing\nSteel/(wood)\",2,\n\nIF(Table5a[[#This Row],[Component Type\n(N/A for Prescriptive Dwelling Unit)]]=\"Unheated slabs\",1,\nIF(Table5a[[#This Row],[Component Type\n(N/A for Prescriptive Dwelling Unit)]]=\"Heated slabs\",2,\n\nIF(Table5a[[#This Row],[Component Type\n(N/A for Prescriptive Dwelling Unit)]]=\"Swinging\",1,\nIF(Table5a[[#This Row],[Component Type\n(N/A for Prescriptive Dwelling Unit)]]=\"Roll-up or sliding\",2,\n\n\"ADD IN IECC TABLE INDEX VALUES\")))))))))))))))))))))))))","v":3},{"$f":"IF(AND($F$9=\"Version 1.2 OR+WA\",$D$9=\"Prescriptive\"),\"BuildingComponents_ESRefListv12\",\nIF(AND($F$9=\"Version 1.2 OR+WA\",$D$9=\"ERI\",Table5a[[#This Row],[Dwelling or Common?]]=\"Common\"),\"BuildingComponents_ESRefListv12\",\nIF(AND(Table5a[[#This Row],[Dwelling or Common?]]=\"Dwelling\",$D$9=\"Prescriptive\"),\"BuildingComponents_ESRefList\",\nIF(Table5a[[#This Row],[Dwelling or Common?]]=\"Dwelling\",\"BuildingComponents_IECCList\",\n\nIF(AND(Table5a[[#This Row],[Dwelling or Common?]]=\"Common\",$D$9=\"Prescriptive\"),\"BuildingComponents_IECCList\",\nIF(AND(Table5a[[#This Row],[Dwelling or Common?]]=\"Common\",OR($D$9=\"ERI\",$D$9=\"Title 24 - Dwelling Unit Models\")),\"BuildingComponents_IECCList\",\nIF(AND(Table5a[[#This Row],[Dwelling or Common?]]=\"Common\",OR($D$9=\"ASHRAE\",$D$9=\"Title 24 - Whole Building Models\")),\"BuildingComponents_IECCList\",\"\")))))))","v":"BuildingComponents_ESRefList"}]
[null,"Top Floor Beneath Patio","Dwelling","Floor Assembly","N/A",{"$f":"IFERROR(IF(AND($F$9=\"Version 1.2 OR+WA\",OR($I$9=\"CZ 1\",$I$9=\"CZ 2\",$I$9=\"CZ 3\",$I$9=\"CZ 4\",$I$9=\"CZ 7\",$I$9=\"CZ 8\")),\"N/A - Update CZ\",\n\nIF(Table5a[[#This Row],[Lookup Table]]=\"ESRefDesign_Insulation_V1\",INDEX(INDIRECT(Table5a[[#This Row],[Lookup Table]]),Table5a[[#This Row],[Row Lookups Index]],$O$9),\nIF(Table5a[[#This Row],[Lookup Table]]=\"ESRefDesign_Insulation_V11\",INDEX(INDIRECT(Table5a[[#This Row],[Lookup Table]]),Table5a[[#This Row],[Row Lookups Index]],$O$9),\nIF(Table5a[[#This Row],[Lookup Table]]=\"ESRefDesign_Insulation_V12\",INDEX(INDIRECT(Table5a[[#This Row],[Lookup Table]]),Table5a[[#This Row],[Row Lookups Index]],2),\n\nIF(Table5a[[#This Row],[Lookup Table]]=\"IECC2009_R\",INDEX(INDIRECT(Table5a[[#This Row],[ESRefDesign Row Lookups]]),Table5a[[#This Row],[Row Lookups Index]],$O$9),\nIF(Table5a[[#This Row],[Lookup Table]]=\"IECC2009_O\",INDEX(INDIRECT(Table5a[[#This Row],[ESRefDesign Row Lookups]]),Table5a[[#This Row],[Row Lookups Index]],$O$9),\n\nIF(Table5a[[#This Row],[Lookup Table]]=\"IECC2012_R\",INDEX(INDIRECT(Table5a[[#This Row],[ESRefDesign Row Lookups]]),Table5a[[#This Row],[Row Lookups Index]],$O$9),\nIF(Table5a[[#This Row],[Lookup Table]]=\"IECC2012_O\",INDEX(INDIRECT(Table5a[[#This Row],[ESRefDesign Row Lookups]]),Table5a[[#This Row],[Row Lookups Index]],$O$9),\n\n\"\")))))))),\"\")","v":"U-0.033"},6.4000000000000001E-2,"FAIL","drywall,aluminum stud & batt, poly, sheathing, rigid continuous foam board, tyvek, vinyl siding",null,null,null,null,{"$f":"IF(OR(Table5a[[#This Row],[Building_Component_Lookup]]=\"BuildingComponents_ESRefList\",Table5a[[#This Row],[Building_Component_Lookup]]=\"BuildingComponents_ESRefListv12\"),\"ESRefNoCom\",\nIF(Table5a[[#This Row],[Building Component]]=\"Roofs\",\"Roofs\",\nIF(Table5a[[#This Row],[Building Component]]=\"Walls, Above Grade\",\"WallsAboveGrade\",\nIF(Table5a[[#This Row],[Building Component]]=\"Walls, Below Grade\",\"WallsBelowGrade\",\nIF(Table5a[[#This Row],[Building Component]]=\"Floors\",\"Floors\",\nIF(Table5a[[#This Row],[Building Component]]=\"Slab-on-Grade Floors\",\"SlabOnGradeFloors\",\nIF(Table5a[[#This Row],[Building Component]]=\"Opaque Doors\",\"OpaqueDoors\",\"\")))))))","v":"ESRefNoCom"},{"$f":"IF(AND(Table5a[[#This Row],[Dwelling or Common?]]=\"Dwelling\",$D$9=\"Prescriptive\",$F$9=\"Version 1\"),\"ESRefDesign_Insulation_V1\",\nIF(AND(Table5a[[#This Row],[Dwelling or Common?]]=\"Dwelling\",$D$9=\"Prescriptive\",$F$9=\"Version 1.1\"),\"ESRefDesign_Insulation_V11\",\n\nIF(AND($F$9=\"Version 1.2 OR+WA\",$D$9=\"Prescriptive\"),\"ESRefDesign_Insulation_V12\",\n\nIF(Table5a[[#This Row],[Dwelling or Common?]]=\"Dwelling\",\"IECC2009_R\",\n\nIF(AND(Table5a[[#This Row],[Dwelling or Common?]]=\"Common\",$D$9=\"Prescriptive\",$F$9=\"Version 1\"),\"IECC2009_O\",\nIF(AND(Table5a[[#This Row],[Dwelling or Common?]]=\"Common\",$D$9=\"Prescriptive\",$F$9=\"Version 1.1\"),\"IECC2012_O\",\n\nIF(AND(Table5a[[#This Row],[Dwelling or Common?]]=\"Common\",OR($D$9=\"ERI\",$D$9=\"Title 24 - Dwelling Unit Models\"),$F$9=\"Version 1\"),\"IECC2009_O\",\nIF(AND(Table5a[[#This Row],[Dwelling or Common?]]=\"Common\",OR($D$9=\"ERI\",$D$9=\"Title 24 - Dwelling Unit Models\"),$F$9=\"Version 1.1\"),\"IECC2012_O\",\nIF(AND(Table5a[[#This Row],[Dwelling or Common?]]=\"Common\",OR($D$9=\"ERI\",$D$9=\"Title 24 - Dwelling Unit Models\"),$F$9=\"Version 1.2 OR+WA\"),\"ESRefDesign_Insulation_V12\",\n\nIF(AND(Table5a[[#This Row],[Dwelling or Common?]]=\"Common\",OR($D$9=\"ASHRAE\",$D$9=\"Title 24 - Whole Building Models\")),\"IECC2009_O\",\"\"\n))))))))))","v":"ESRefDesign_Insulation_V1"},{"$f":"IF(Table5a[[#This Row],[Building Component]]=\"Slab Insulation\",\"Slab Insulation R-Value:\",\nIF(Table5a[[#This Row],[Building Component]]=\"Basement Wall Continuous Insulation\",\"Basement Wall Continuous Insulation R-Value:\",\nIF(Table5a[[#This Row],[Building Component]]=\"Floor Assembly\", \"Floor Assembly U-Factor:\",\nIF(Table5a[[#This Row],[Building Component]]=\"Wall Assembly\", \"Wall Assembly U-Factor:\",\nIF(Table5a[[#This Row],[Building Component]]=\"Ceiling Assembly\", \"Ceiling Assembly U-Factor:\",\n\nTable5a[[#This Row],[Lookup Table]]&\"_\"&Table5a[[#This Row],[Component_Lookup]])\n))))","v":"Floor Assembly U-Factor:"},{"$f":"IF(Table5a[[#This Row],[ESRefDesign Row Lookups]]=\"Slab Insulation R-Value:\",1,\nIF(Table5a[[#This Row],[ESRefDesign Row Lookups]]=\"Slab Insulation Depth (ft):\",2,\nIF(Table5a[[#This Row],[ESRefDesign Row Lookups]]=\"Basement Wall Continuous Insulation R-Value:\",3,\nIF(Table5a[[#This Row],[ESRefDesign Row Lookups]]=\"Floor Assembly U-Factor:\",4,\nIF(Table5a[[#This Row],[ESRefDesign Row Lookups]]=\"Wall Assembly U-Factor:\",5,\nIF(Table5a[[#This Row],[ESRefDesign Row Lookups]]=\"Ceiling Assembly U-Factor:\",6,\n\nIF(Table5a[[#This Row],[Building Component]]=\"Above-Grade Wall\",1,\nIF(Table5a[[#This Row],[Building Component]]=\"Ceiling\",2,\nIF(Table5a[[#This Row],[Building Component]]=\"Floor\",3,\nIF(Table5a[[#This Row],[Building Component]]=\"Basement Wall\",4,\nIF(Table5a[[#This Row],[Building Component]]=\"On-Grade & Below Grade Slab\",5,\n\nIF(Table5a[[#This Row],[Component Type\n(N/A for Prescriptive Dwelling Unit)]]=\"Insulation entirely above deck\",1,\nIF(Table5a[[#This Row],[Component Type\n(N/A for Prescriptive Dwelling Unit)]]=\"Metal buildings (with R-5 thermal blocks)\",2,\nIF(Table5a[[#This Row],[Component Type\n(N/A for Prescriptive Dwelling Unit)]]=\"Attic and other\",3,\n\nIF(Table5a[[#This Row],[Component Type\n(N/A for Prescriptive Dwelling Unit)]]=\"Mass\",1,\nIF(Table5a[[#This Row],[Component Type\n(N/A for Prescriptive Dwelling Unit)]]=\"Metal building\",2,\nIF(Table5a[[#This Row],[Component Type\n(N/A for Prescriptive Dwelling Unit)]]=\"Metal framed\",3,\nIF(Table5a[[#This Row],[Component Type\n(N/A for Prescriptive Dwelling Unit)]]=\"Wood framed and other\",4,\n\nIF(Table5a[[#This Row],[Component Type\n(N/A for Prescriptive Dwelling Unit)]]=\"Below grade wall\",1,\n\nIF(Table5a[[#This Row],[Component Type\n(N/A for Prescriptive Dwelling Unit)]]=\"Mass\",1,\nIF(Table5a[[#This Row],[Component Type\n(N/A for Prescriptive Dwelling Unit)]]=\"Joist/framing\nSteel/(wood)\",2,\n\nIF(Table5a[[#This Row],[Component Type\n(N/A for Prescriptive Dwelling Unit)]]=\"Unheated slabs\",1,\nIF(Table5a[[#This Row],[Component Type\n(N/A for Prescriptive Dwelling Unit)]]=\"Heated slabs\",2,\n\nIF(Table5a[[#This Row],[Component Type\n(N/A for Prescriptive Dwelling Unit)]]=\"Swinging\",1,\nIF(Table5a[[#This Row],[Component Type\n(N/A for Prescriptive Dwelling Unit)]]=\"Roll-up or sliding\",2,\n\n\"ADD IN IECC TABLE INDEX VALUES\")))))))))))))))))))))))))","v":4},{"$f":"IF(AND($F$9=\"Version 1.2 OR+WA\",$D$9=\"Prescriptive\"),\"BuildingComponents_ESRefListv12\",\nIF(AND($F$9=\"Version 1.2 OR+WA\",$D$9=\"ERI\",Table5a[[#This Row],[Dwelling or Common?]]=\"Common\"),\"BuildingComponents_ESRefListv12\",\nIF(AND(Table5a[[#This Row],[Dwelling or Common?]]=\"Dwelling\",$D$9=\"Prescriptive\"),\"BuildingComponents_ESRefList\",\nIF(Table5a[[#This Row],[Dwelling or Common?]]=\"Dwelling\",\"BuildingComponents_IECCList\",\n\nIF(AND(Table5a[[#This Row],[Dwelling or Common?]]=\"Common\",$D$9=\"Prescriptive\"),\"BuildingComponents_IECCList\",\nIF(AND(Table5a[[#This Row],[Dwelling or Common?]]=\"Common\",OR($D$9=\"ERI\",$D$9=\"Title 24 - Dwelling Unit Models\")),\"BuildingComponents_IECCList\",\nIF(AND(Table5a[[#This Row],[Dwelling or Common?]]=\"Common\",OR($D$9=\"ASHRAE\",$D$9=\"Title 24 - Whole Building Models\")),\"BuildingComponents_IECCList\",\"\")))))))","v":"BuildingComponents_ESRefList"}]
[null,"Top Floor Beneath Roof Deck","Common","Roofs","Insulation entirely above deck",{"$f":"IFERROR(IF(AND($F$9=\"Version 1.2 OR+WA\",OR($I$9=\"CZ 1\",$I$9=\"CZ 2\",$I$9=\"CZ 3\",$I$9=\"CZ 4\",$I$9=\"CZ 7\",$I$9=\"CZ 8\")),\"N/A - Update CZ\",\n\nIF(Table5a[[#This Row],[Lookup Table]]=\"ESRefDesign_Insulation_V1\",INDEX(INDIRECT(Table5a[[#This Row],[Lookup Table]]),Table5a[[#This Row],[Row Lookups Index]],$O$9),\nIF(Table5a[[#This Row],[Lookup Table]]=\"ESRefDesign_Insulation_V11\",INDEX(INDIRECT(Table5a[[#This Row],[Lookup Table]]),Table5a[[#This Row],[Row Lookups Index]],$O$9),\nIF(Table5a[[#This Row],[Lookup Table]]=\"ESRefDesign_Insulation_V12\",INDEX(INDIRECT(Table5a[[#This Row],[Lookup Table]]),Table5a[[#This Row],[Row Lookups Index]],2),\n\nIF(Table5a[[#This Row],[Lookup Table]]=\"IECC2009_R\",INDEX(INDIRECT(Table5a[[#This Row],[ESRefDesign Row Lookups]]),Table5a[[#This Row],[Row Lookups Index]],$O$9),\nIF(Table5a[[#This Row],[Lookup Table]]=\"IECC2009_O\",INDEX(INDIRECT(Table5a[[#This Row],[ESRefDesign Row Lookups]]),Table5a[[#This Row],[Row Lookups Index]],$O$9),\n\nIF(Table5a[[#This Row],[Lookup Table]]=\"IECC2012_R\",INDEX(INDIRECT(Table5a[[#This Row],[ESRefDesign Row Lookups]]),Table5a[[#This Row],[Row Lookups Index]],$O$9),\nIF(Table5a[[#This Row],[Lookup Table]]=\"IECC2012_O\",INDEX(INDIRECT(Table5a[[#This Row],[ESRefDesign Row Lookups]]),Table5a[[#This Row],[Row Lookups Index]],$O$9),\n\n\"\")))))))),\"\")","v":"R-20ci"},2.7E-2,"FAIL","drywall, resilient channel, batt, open attic, roof deck, 4\" foam board, 18mil membrane, gravel, patio assembly",null,null,null,null,{"$f":"IF(OR(Table5a[[#This Row],[Building_Component_Lookup]]=\"BuildingComponents_ESRefList\",Table5a[[#This Row],[Building_Component_Lookup]]=\"BuildingComponents_ESRefListv12\"),\"ESRefNoCom\",\nIF(Table5a[[#This Row],[Building Component]]=\"Roofs\",\"Roofs\",\nIF(Table5a[[#This Row],[Building Component]]=\"Walls, Above Grade\",\"WallsAboveGrade\",\nIF(Table5a[[#This Row],[Building Component]]=\"Walls, Below Grade\",\"WallsBelowGrade\",\nIF(Table5a[[#This Row],[Building Component]]=\"Floors\",\"Floors\",\nIF(Table5a[[#This Row],[Building Component]]=\"Slab-on-Grade Floors\",\"SlabOnGradeFloors\",\nIF(Table5a[[#This Row],[Building Component]]=\"Opaque Doors\",\"OpaqueDoors\",\"\")))))))","v":"Roofs"},{"$f":"IF(AND(Table5a[[#This Row],[Dwelling or Common?]]=\"Dwelling\",$D$9=\"Prescriptive\",$F$9=\"Version 1\"),\"ESRefDesign_Insulation_V1\",\nIF(AND(Table5a[[#This Row],[Dwelling or Common?]]=\"Dwelling\",$D$9=\"Prescriptive\",$F$9=\"Version 1.1\"),\"ESRefDesign_Insulation_V11\",\n\nIF(AND($F$9=\"Version 1.2 OR+WA\",$D$9=\"Prescriptive\"),\"ESRefDesign_Insulation_V12\",\n\nIF(Table5a[[#This Row],[Dwelling or Common?]]=\"Dwelling\",\"IECC2009_R\",\n\nIF(AND(Table5a[[#This Row],[Dwelling or Common?]]=\"Common\",$D$9=\"Prescriptive\",$F$9=\"Version 1\"),\"IECC2009_O\",\nIF(AND(Table5a[[#This Row],[Dwelling or Common?]]=\"Common\",$D$9=\"Prescriptive\",$F$9=\"Version 1.1\"),\"IECC2012_O\",\n\nIF(AND(Table5a[[#This Row],[Dwelling or Common?]]=\"Common\",OR($D$9=\"ERI\",$D$9=\"Title 24 - Dwelling Unit Models\"),$F$9=\"Version 1\"),\"IECC2009_O\",\nIF(AND(Table5a[[#This Row],[Dwelling or Common?]]=\"Common\",OR($D$9=\"ERI\",$D$9=\"Title 24 - Dwelling Unit Models\"),$F$9=\"Version 1.1\"),\"IECC2012_O\",\nIF(AND(Table5a[[#This Row],[Dwelling or Common?]]=\"Common\",OR($D$9=\"ERI\",$D$9=\"Title 24 - Dwelling Unit Models\"),$F$9=\"Version 1.2 OR+WA\"),\"ESRefDesign_Insulation_V12\",\n\nIF(AND(Table5a[[#This Row],[Dwelling or Common?]]=\"Common\",OR($D$9=\"ASHRAE\",$D$9=\"Title 24 - Whole Building Models\")),\"IECC2009_O\",\"\"\n))))))))))","v":"IECC2009_O"},{"$f":"IF(Table5a[[#This Row],[Building Component]]=\"Slab Insulation\",\"Slab Insulation R-Value:\",\nIF(Table5a[[#This Row],[Building Component]]=\"Basement Wall Continuous Insulation\",\"Basement Wall Continuous Insulation R-Value:\",\nIF(Table5a[[#This Row],[Building Component]]=\"Floor Assembly\", \"Floor Assembly U-Factor:\",\nIF(Table5a[[#This Row],[Building Component]]=\"Wall Assembly\", \"Wall Assembly U-Factor:\",\nIF(Table5a[[#This Row],[Building Component]]=\"Ceiling Assembly\", \"Ceiling Assembly U-Factor:\",\n\nTable5a[[#This Row],[Lookup Table]]&\"_\"&Table5a[[#This Row],[Component_Lookup]])\n))))","v":"IECC2009_O_Roofs"},{"$f":"IF(Table5a[[#This Row],[ESRefDesign Row Lookups]]=\"Slab Insulation R-Value:\",1,\nIF(Table5a[[#This Row],[ESRefDesign Row Lookups]]=\"Slab Insulation Depth (ft):\",2,\nIF(Table5a[[#This Row],[ESRefDesign Row Lookups]]=\"Basement Wall Continuous Insulation R-Value:\",3,\nIF(Table5a[[#This Row],[ESRefDesign Row Lookups]]=\"Floor Assembly U-Factor:\",4,\nIF(Table5a[[#This Row],[ESRefDesign Row Lookups]]=\"Wall Assembly U-Factor:\",5,\nIF(Table5a[[#This Row],[ESRefDesign Row Lookups]]=\"Ceiling Assembly U-Factor:\",6,\n\nIF(Table5a[[#This Row],[Building Component]]=\"Above-Grade Wall\",1,\nIF(Table5a[[#This Row],[Building Component]]=\"Ceiling\",2,\nIF(Table5a[[#This Row],[Building Component]]=\"Floor\",3,\nIF(Table5a[[#This Row],[Building Component]]=\"Basement Wall\",4,\nIF(Table5a[[#This Row],[Building Component]]=\"On-Grade & Below Grade Slab\",5,\n\nIF(Table5a[[#This Row],[Component Type\n(N/A for Prescriptive Dwelling Unit)]]=\"Insulation entirely above deck\",1,\nIF(Table5a[[#This Row],[Component Type\n(N/A for Prescriptive Dwelling Unit)]]=\"Metal buildings (with R-5 thermal blocks)\",2,\nIF(Table5a[[#This Row],[Component Type\n(N/A for Prescriptive Dwelling Unit)]]=\"Attic and other\",3,\n\nIF(Table5a[[#This Row],[Component Type\n(N/A for Prescriptive Dwelling Unit)]]=\"Mass\",1,\nIF(Table5a[[#This Row],[Component Type\n(N/A for Prescriptive Dwelling Unit)]]=\"Metal building\",2,\nIF(Table5a[[#This Row],[Component Type\n(N/A for Prescriptive Dwelling Unit)]]=\"Metal framed\",3,\nIF(Table5a[[#This Row],[Component Type\n(N/A for Prescriptive Dwelling Unit)]]=\"Wood framed and other\",4,\n\nIF(Table5a[[#This Row],[Component Type\n(N/A for Prescriptive Dwelling Unit)]]=\"Below grade wall\",1,\n\nIF(Table5a[[#This Row],[Component Type\n(N/A for Prescriptive Dwelling Unit)]]=\"Mass\",1,\nIF(Table5a[[#This Row],[Component Type\n(N/A for Prescriptive Dwelling Unit)]]=\"Joist/framing\nSteel/(wood)\",2,\n\nIF(Table5a[[#This Row],[Component Type\n(N/A for Prescriptive Dwelling Unit)]]=\"Unheated slabs\",1,\nIF(Table5a[[#This Row],[Component Type\n(N/A for Prescriptive Dwelling Unit)]]=\"Heated slabs\",2,\n\nIF(Table5a[[#This Row],[Component Type\n(N/A for Prescriptive Dwelling Unit)]]=\"Swinging\",1,\nIF(Table5a[[#This Row],[Component Type\n(N/A for Prescriptive Dwelling Unit)]]=\"Roll-up or sliding\",2,\n\n\"ADD IN IECC TABLE INDEX VALUES\")))))))))))))))))))))))))","v":1},{"$f":"IF(AND($F$9=\"Version 1.2 OR+WA\",$D$9=\"Prescriptive\"),\"BuildingComponents_ESRefListv12\",\nIF(AND($F$9=\"Version 1.2 OR+WA\",$D$9=\"ERI\",Table5a[[#This Row],[Dwelling or Common?]]=\"Common\"),\"BuildingComponents_ESRefListv12\",\nIF(AND(Table5a[[#This Row],[Dwelling or Common?]]=\"Dwelling\",$D$9=\"Prescriptive\"),\"BuildingComponents_ESRefList\",\nIF(Table5a[[#This Row],[Dwelling or Common?]]=\"Dwelling\",\"BuildingComponents_IECCList\",\n\nIF(AND(Table5a[[#This Row],[Dwelling or Common?]]=\"Common\",$D$9=\"Prescriptive\"),\"BuildingComponents_IECCList\",\nIF(AND(Table5a[[#This Row],[Dwelling or Common?]]=\"Common\",OR($D$9=\"ERI\",$D$9=\"Title 24 - Dwelling Unit Models\")),\"BuildingComponents_IECCList\",\nIF(AND(Table5a[[#This Row],[Dwelling or Common?]]=\"Common\",OR($D$9=\"ASHRAE\",$D$9=\"Title 24 - Whole Building Models\")),\"BuildingComponents_IECCList\",\"\")))))))","v":"BuildingComponents_IECCList"}]
[null,"Ground Floor Foundation","Common","Walls, Above Grade","Metal framed",{"$f":"IFERROR(IF(AND($F$9=\"Version 1.2 OR+WA\",OR($I$9=\"CZ 1\",$I$9=\"CZ 2\",$I$9=\"CZ 3\",$I$9=\"CZ 4\",$I$9=\"CZ 7\",$I$9=\"CZ 8\")),\"N/A - Update CZ\",\n\nIF(Table5a[[#This Row],[Lookup Table]]=\"ESRefDesign_Insulation_V1\",INDEX(INDIRECT(Table5a[[#This Row],[Lookup Table]]),Table5a[[#This Row],[Row Lookups Index]],$O$9),\nIF(Table5a[[#This Row],[Lookup Table]]=\"ESRefDesign_Insulation_V11\",INDEX(INDIRECT(Table5a[[#This Row],[Lookup Table]]),Table5a[[#This Row],[Row Lookups Index]],$O$9),\nIF(Table5a[[#This Row],[Lookup Table]]=\"ESRefDesign_Insulation_V12\",INDEX(INDIRECT(Table5a[[#This Row],[Lookup Table]]),Table5a[[#This Row],[Row Lookups Index]],2),\n\nIF(Table5a[[#This Row],[Lookup Table]]=\"IECC2009_R\",INDEX(INDIRECT(Table5a[[#This Row],[ESRefDesign Row Lookups]]),Table5a[[#This Row],[Row Lookups Index]],$O$9),\nIF(Table5a[[#This Row],[Lookup Table]]=\"IECC2009_O\",INDEX(INDIRECT(Table5a[[#This Row],[ESRefDesign Row Lookups]]),Table5a[[#This Row],[Row Lookups Index]],$O$9),\n\nIF(Table5a[[#This Row],[Lookup Table]]=\"IECC2012_R\",INDEX(INDIRECT(Table5a[[#This Row],[ESRefDesign Row Lookups]]),Table5a[[#This Row],[Row Lookups Index]],$O$9),\nIF(Table5a[[#This Row],[Lookup Table]]=\"IECC2012_O\",INDEX(INDIRECT(Table5a[[#This Row],[ESRefDesign Row Lookups]]),Table5a[[#This Row],[Row Lookups Index]],$O$9),\n\n\"\")))))))),\"\")","v":"R-13 + R-7.5ci"},0,"FAIL","aluminum Stud, batt, vapor poly, 10\" concrete, liquid applied seal, gravel, silt screen, below grad back-fill. ",null,null,null,null,{"$f":"IF(OR(Table5a[[#This Row],[Building_Component_Lookup]]=\"BuildingComponents_ESRefList\",Table5a[[#This Row],[Building_Component_Lookup]]=\"BuildingComponents_ESRefListv12\"),\"ESRefNoCom\",\nIF(Table5a[[#This Row],[Building Component]]=\"Roofs\",\"Roofs\",\nIF(Table5a[[#This Row],[Building Component]]=\"Walls, Above Grade\",\"WallsAboveGrade\",\nIF(Table5a[[#This Row],[Building Component]]=\"Walls, Below Grade\",\"WallsBelowGrade\",\nIF(Table5a[[#This Row],[Building Component]]=\"Floors\",\"Floors\",\nIF(Table5a[[#This Row],[Building Component]]=\"Slab-on-Grade Floors\",\"SlabOnGradeFloors\",\nIF(Table5a[[#This Row],[Building Component]]=\"Opaque Doors\",\"OpaqueDoors\",\"\")))))))","v":"WallsAboveGrade"},{"$f":"IF(AND(Table5a[[#This Row],[Dwelling or Common?]]=\"Dwelling\",$D$9=\"Prescriptive\",$F$9=\"Version 1\"),\"ESRefDesign_Insulation_V1\",\nIF(AND(Table5a[[#This Row],[Dwelling or Common?]]=\"Dwelling\",$D$9=\"Prescriptive\",$F$9=\"Version 1.1\"),\"ESRefDesign_Insulation_V11\",\n\nIF(AND($F$9=\"Version 1.2 OR+WA\",$D$9=\"Prescriptive\"),\"ESRefDesign_Insulation_V12\",\n\nIF(Table5a[[#This Row],[Dwelling or Common?]]=\"Dwelling\",\"IECC2009_R\",\n\nIF(AND(Table5a[[#This Row],[Dwelling or Common?]]=\"Common\",$D$9=\"Prescriptive\",$F$9=\"Version 1\"),\"IECC2009_O\",\nIF(AND(Table5a[[#This Row],[Dwelling or Common?]]=\"Common\",$D$9=\"Prescriptive\",$F$9=\"Version 1.1\"),\"IECC2012_O\",\n\nIF(AND(Table5a[[#This Row],[Dwelling or Common?]]=\"Common\",OR($D$9=\"ERI\",$D$9=\"Title 24 - Dwelling Unit Models\"),$F$9=\"Version 1\"),\"IECC2009_O\",\nIF(AND(Table5a[[#This Row],[Dwelling or Common?]]=\"Common\",OR($D$9=\"ERI\",$D$9=\"Title 24 - Dwelling Unit Models\"),$F$9=\"Version 1.1\"),\"IECC2012_O\",\nIF(AND(Table5a[[#This Row],[Dwelling or Common?]]=\"Common\",OR($D$9=\"ERI\",$D$9=\"Title 24 - Dwelling Unit Models\"),$F$9=\"Version 1.2 OR+WA\"),\"ESRefDesign_Insulation_V12\",\n\nIF(AND(Table5a[[#This Row],[Dwelling or Common?]]=\"Common\",OR($D$9=\"ASHRAE\",$D$9=\"Title 24 - Whole Building Models\")),\"IECC2009_O\",\"\"\n))))))))))","v":"IECC2009_O"},{"$f":"IF(Table5a[[#This Row],[Building Component]]=\"Slab Insulation\",\"Slab Insulation R-Value:\",\nIF(Table5a[[#This Row],[Building Component]]=\"Basement Wall Continuous Insulation\",\"Basement Wall Continuous Insulation R-Value:\",\nIF(Table5a[[#This Row],[Building Component]]=\"Floor Assembly\", \"Floor Assembly U-Factor:\",\nIF(Table5a[[#This Row],[Building Component]]=\"Wall Assembly\", \"Wall Assembly U-Factor:\",\nIF(Table5a[[#This Row],[Building Component]]=\"Ceiling Assembly\", \"Ceiling Assembly U-Factor:\",\n\nTable5a[[#This Row],[Lookup Table]]&\"_\"&Table5a[[#This Row],[Component_Lookup]])\n))))","v":"IECC2009_O_WallsAboveGrade"},{"$f":"IF(Table5a[[#This Row],[ESRefDesign Row Lookups]]=\"Slab Insulation R-Value:\",1,\nIF(Table5a[[#This Row],[ESRefDesign Row Lookups]]=\"Slab Insulation Depth (ft):\",2,\nIF(Table5a[[#This Row],[ESRefDesign Row Lookups]]=\"Basement Wall Continuous Insulation R-Value:\",3,\nIF(Table5a[[#This Row],[ESRefDesign Row Lookups]]=\"Floor Assembly U-Factor:\",4,\nIF(Table5a[[#This Row],[ESRefDesign Row Lookups]]=\"Wall Assembly U-Factor:\",5,\nIF(Table5a[[#This Row],[ESRefDesign Row Lookups]]=\"Ceiling Assembly U-Factor:\",6,\n\nIF(Table5a[[#This Row],[Building Component]]=\"Above-Grade Wall\",1,\nIF(Table5a[[#This Row],[Building Component]]=\"Ceiling\",2,\nIF(Table5a[[#This Row],[Building Component]]=\"Floor\",3,\nIF(Table5a[[#This Row],[Building Component]]=\"Basement Wall\",4,\nIF(Table5a[[#This Row],[Building Component]]=\"On-Grade & Below Grade Slab\",5,\n\nIF(Table5a[[#This Row],[Component Type\n(N/A for Prescriptive Dwelling Unit)]]=\"Insulation entirely above deck\",1,\nIF(Table5a[[#This Row],[Component Type\n(N/A for Prescriptive Dwelling Unit)]]=\"Metal buildings (with R-5 thermal blocks)\",2,\nIF(Table5a[[#This Row],[Component Type\n(N/A for Prescriptive Dwelling Unit)]]=\"Attic and other\",3,\n\nIF(Table5a[[#This Row],[Component Type\n(N/A for Prescriptive Dwelling Unit)]]=\"Mass\",1,\nIF(Table5a[[#This Row],[Component Type\n(N/A for Prescriptive Dwelling Unit)]]=\"Metal building\",2,\nIF(Table5a[[#This Row],[Component Type\n(N/A for Prescriptive Dwelling Unit)]]=\"Metal framed\",3,\nIF(Table5a[[#This Row],[Component Type\n(N/A for Prescriptive Dwelling Unit)]]=\"Wood framed and other\",4,\n\nIF(Table5a[[#This Row],[Component Type\n(N/A for Prescriptive Dwelling Unit)]]=\"Below grade wall\",1,\n\nIF(Table5a[[#This Row],[Component Type\n(N/A for Prescriptive Dwelling Unit)]]=\"Mass\",1,\nIF(Table5a[[#This Row],[Component Type\n(N/A for Prescriptive Dwelling Unit)]]=\"Joist/framing\nSteel/(wood)\",2,\n\nIF(Table5a[[#This Row],[Component Type\n(N/A for Prescriptive Dwelling Unit)]]=\"Unheated slabs\",1,\nIF(Table5a[[#This Row],[Component Type\n(N/A for Prescriptive Dwelling Unit)]]=\"Heated slabs\",2,\n\nIF(Table5a[[#This Row],[Component Type\n(N/A for Prescriptive Dwelling Unit)]]=\"Swinging\",1,\nIF(Table5a[[#This Row],[Component Type\n(N/A for Prescriptive Dwelling Unit)]]=\"Roll-up or sliding\",2,\n\n\"ADD IN IECC TABLE INDEX VALUES\")))))))))))))))))))))))))","v":3},{"$f":"IF(AND($F$9=\"Version 1.2 OR+WA\",$D$9=\"Prescriptive\"),\"BuildingComponents_ESRefListv12\",\nIF(AND($F$9=\"Version 1.2 OR+WA\",$D$9=\"ERI\",Table5a[[#This Row],[Dwelling or Common?]]=\"Common\"),\"BuildingComponents_ESRefListv12\",\nIF(AND(Table5a[[#This Row],[Dwelling or Common?]]=\"Dwelling\",$D$9=\"Prescriptive\"),\"BuildingComponents_ESRefList\",\nIF(Table5a[[#This Row],[Dwelling or Common?]]=\"Dwelling\",\"BuildingComponents_IECCList\",\n\nIF(AND(Table5a[[#This Row],[Dwelling or Common?]]=\"Common\",$D$9=\"Prescriptive\"),\"BuildingComponents_IECCList\",\nIF(AND(Table5a[[#This Row],[Dwelling or Common?]]=\"Common\",OR($D$9=\"ERI\",$D$9=\"Title 24 - Dwelling Unit Models\")),\"BuildingComponents_IECCList\",\nIF(AND(Table5a[[#This Row],[Dwelling or Common?]]=\"Common\",OR($D$9=\"ASHRAE\",$D$9=\"Title 24 - Whole Building Models\")),\"BuildingComponents_IECCList\",\"\")))))))","v":"BuildingComponents_IECCList"}]
[null,"Ground Corridor Slab","Common","Walls, Below Grade","Below grade wall",{"$f":"IFERROR(IF(AND($F$9=\"Version 1.2 OR+WA\",OR($I$9=\"CZ 1\",$I$9=\"CZ 2\",$I$9=\"CZ 3\",$I$9=\"CZ 4\",$I$9=\"CZ 7\",$I$9=\"CZ 8\")),\"N/A - Update CZ\",\n\nIF(Table5a[[#This Row],[Lookup Table]]=\"ESRefDesign_Insulation_V1\",INDEX(INDIRECT(Table5a[[#This Row],[Lookup Table]]),Table5a[[#This Row],[Row Lookups Index]],$O$9),\nIF(Table5a[[#This Row],[Lookup Table]]=\"ESRefDesign_Insulation_V11\",INDEX(INDIRECT(Table5a[[#This Row],[Lookup Table]]),Table5a[[#This Row],[Row Lookups Index]],$O$9),\nIF(Table5a[[#This Row],[Lookup Table]]=\"ESRefDesign_Insulation_V12\",INDEX(INDIRECT(Table5a[[#This Row],[Lookup Table]]),Table5a[[#This Row],[Row Lookups Index]],2),\n\nIF(Table5a[[#This Row],[Lookup Table]]=\"IECC2009_R\",INDEX(INDIRECT(Table5a[[#This Row],[ESRefDesign Row Lookups]]),Table5a[[#This Row],[Row Lookups Index]],$O$9),\nIF(Table5a[[#This Row],[Lookup Table]]=\"IECC2009_O\",INDEX(INDIRECT(Table5a[[#This Row],[ESRefDesign Row Lookups]]),Table5a[[#This Row],[Row Lookups Index]],$O$9),\n\nIF(Table5a[[#This Row],[Lookup Table]]=\"IECC2012_R\",INDEX(INDIRECT(Table5a[[#This Row],[ESRefDesign Row Lookups]]),Table5a[[#This Row],[Row Lookups Index]],$O$9),\nIF(Table5a[[#This Row],[Lookup Table]]=\"IECC2012_O\",INDEX(INDIRECT(Table5a[[#This Row],[ESRefDesign Row Lookups]]),Table5a[[#This Row],[Row Lookups Index]],$O$9),\n\n\"\")))))))),\"\")","v":"NR"},0.27,"PASS","drywall, resilient channel, batt, open attic, roof deck, 4\" foam board, 18mil membrane",null,null,null,null,{"$f":"IF(OR(Table5a[[#This Row],[Building_Component_Lookup]]=\"BuildingComponents_ESRefList\",Table5a[[#This Row],[Building_Component_Lookup]]=\"BuildingComponents_ESRefListv12\"),\"ESRefNoCom\",\nIF(Table5a[[#This Row],[Building Component]]=\"Roofs\",\"Roofs\",\nIF(Table5a[[#This Row],[Building Component]]=\"Walls, Above Grade\",\"WallsAboveGrade\",\nIF(Table5a[[#This Row],[Building Component]]=\"Walls, Below Grade\",\"WallsBelowGrade\",\nIF(Table5a[[#This Row],[Building Component]]=\"Floors\",\"Floors\",\nIF(Table5a[[#This Row],[Building Component]]=\"Slab-on-Grade Floors\",\"SlabOnGradeFloors\",\nIF(Table5a[[#This Row],[Building Component]]=\"Opaque Doors\",\"OpaqueDoors\",\"\")))))))","v":"WallsBelowGrade"},{"$f":"IF(AND(Table5a[[#This Row],[Dwelling or Common?]]=\"Dwelling\",$D$9=\"Prescriptive\",$F$9=\"Version 1\"),\"ESRefDesign_Insulation_V1\",\nIF(AND(Table5a[[#This Row],[Dwelling or Common?]]=\"Dwelling\",$D$9=\"Prescriptive\",$F$9=\"Version 1.1\"),\"ESRefDesign_Insulation_V11\",\n\nIF(AND($F$9=\"Version 1.2 OR+WA\",$D$9=\"Prescriptive\"),\"ESRefDesign_Insulation_V12\",\n\nIF(Table5a[[#This Row],[Dwelling or Common?]]=\"Dwelling\",\"IECC2009_R\",\n\nIF(AND(Table5a[[#This Row],[Dwelling or Common?]]=\"Common\",$D$9=\"Prescriptive\",$F$9=\"Version 1\"),\"IECC2009_O\",\nIF(AND(Table5a[[#This Row],[Dwelling or Common?]]=\"Common\",$D$9=\"Prescriptive\",$F$9=\"Version 1.1\"),\"IECC2012_O\",\n\nIF(AND(Table5a[[#This Row],[Dwelling or Common?]]=\"Common\",OR($D$9=\"ERI\",$D$9=\"Title 24 - Dwelling Unit Models\"),$F$9=\"Version 1\"),\"IECC2009_O\",\nIF(AND(Table5a[[#This Row],[Dwelling or Common?]]=\"Common\",OR($D$9=\"ERI\",$D$9=\"Title 24 - Dwelling Unit Models\"),$F$9=\"Version 1.1\"),\"IECC2012_O\",\nIF(AND(Table5a[[#This Row],[Dwelling or Common?]]=\"Common\",OR($D$9=\"ERI\",$D$9=\"Title 24 - Dwelling Unit Models\"),$F$9=\"Version 1.2 OR+WA\"),\"ESRefDesign_Insulation_V12\",\n\nIF(AND(Table5a[[#This Row],[Dwelling or Common?]]=\"Common\",OR($D$9=\"ASHRAE\",$D$9=\"Title 24 - Whole Building Models\")),\"IECC2009_O\",\"\"\n))))))))))","v":"IECC2009_O"},{"$f":"IF(Table5a[[#This Row],[Building Component]]=\"Slab Insulation\",\"Slab Insulation R-Value:\",\nIF(Table5a[[#This Row],[Building Component]]=\"Basement Wall Continuous Insulation\",\"Basement Wall Continuous Insulation R-Value:\",\nIF(Table5a[[#This Row],[Building Component]]=\"Floor Assembly\", \"Floor Assembly U-Factor:\",\nIF(Table5a[[#This Row],[Building Component]]=\"Wall Assembly\", \"Wall Assembly U-Factor:\",\nIF(Table5a[[#This Row],[Building Component]]=\"Ceiling Assembly\", \"Ceiling Assembly U-Factor:\",\n\nTable5a[[#This Row],[Lookup Table]]&\"_\"&Table5a[[#This Row],[Component_Lookup]])\n))))","v":"IECC2009_O_WallsBelowGrade"},{"$f":"IF(Table5a[[#This Row],[ESRefDesign Row Lookups]]=\"Slab Insulation R-Value:\",1,\nIF(Table5a[[#This Row],[ESRefDesign Row Lookups]]=\"Slab Insulation Depth (ft):\",2,\nIF(Table5a[[#This Row],[ESRefDesign Row Lookups]]=\"Basement Wall Continuous Insulation R-Value:\",3,\nIF(Table5a[[#This Row],[ESRefDesign Row Lookups]]=\"Floor Assembly U-Factor:\",4,\nIF(Table5a[[#This Row],[ESRefDesign Row Lookups]]=\"Wall Assembly U-Factor:\",5,\nIF(Table5a[[#This Row],[ESRefDesign Row Lookups]]=\"Ceiling Assembly U-Factor:\",6,\n\nIF(Table5a[[#This Row],[Building Component]]=\"Above-Grade Wall\",1,\nIF(Table5a[[#This Row],[Building Component]]=\"Ceiling\",2,\nIF(Table5a[[#This Row],[Building Component]]=\"Floor\",3,\nIF(Table5a[[#This Row],[Building Component]]=\"Basement Wall\",4,\nIF(Table5a[[#This Row],[Building Component]]=\"On-Grade & Below Grade Slab\",5,\n\nIF(Table5a[[#This Row],[Component Type\n(N/A for Prescriptive Dwelling Unit)]]=\"Insulation entirely above deck\",1,\nIF(Table5a[[#This Row],[Component Type\n(N/A for Prescriptive Dwelling Unit)]]=\"Metal buildings (with R-5 thermal blocks)\",2,\nIF(Table5a[[#This Row],[Component Type\n(N/A for Prescriptive Dwelling Unit)]]=\"Attic and other\",3,\n\nIF(Table5a[[#This Row],[Component Type\n(N/A for Prescriptive Dwelling Unit)]]=\"Mass\",1,\nIF(Table5a[[#This Row],[Component Type\n(N/A for Prescriptive Dwelling Unit)]]=\"Metal building\",2,\nIF(Table5a[[#This Row],[Component Type\n(N/A for Prescriptive Dwelling Unit)]]=\"Metal framed\",3,\nIF(Table5a[[#This Row],[Component Type\n(N/A for Prescriptive Dwelling Unit)]]=\"Wood framed and other\",4,\n\nIF(Table5a[[#This Row],[Component Type\n(N/A for Prescriptive Dwelling Unit)]]=\"Below grade wall\",1,\n\nIF(Table5a[[#This Row],[Component Type\n(N/A for Prescriptive Dwelling Unit)]]=\"Mass\",1,\nIF(Table5a[[#This Row],[Component Type\n(N/A for Prescriptive Dwelling Unit)]]=\"Joist/framing\nSteel/(wood)\",2,\n\nIF(Table5a[[#This Row],[Component Type\n(N/A for Prescriptive Dwelling Unit)]]=\"Unheated slabs\",1,\nIF(Table5a[[#This Row],[Component Type\n(N/A for Prescriptive Dwelling Unit)]]=\"Heated slabs\",2,\n\nIF(Table5a[[#This Row],[Component Type\n(N/A for Prescriptive Dwelling Unit)]]=\"Swinging\",1,\nIF(Table5a[[#This Row],[Component Type\n(N/A for Prescriptive Dwelling Unit)]]=\"Roll-up or sliding\",2,\n\n\"ADD IN IECC TABLE INDEX VALUES\")))))))))))))))))))))))))","v":1},{"$f":"IF(AND($F$9=\"Version 1.2 OR+WA\",$D$9=\"Prescriptive\"),\"BuildingComponents_ESRefListv12\",\nIF(AND($F$9=\"Version 1.2 OR+WA\",$D$9=\"ERI\",Table5a[[#This Row],[Dwelling or Common?]]=\"Common\"),\"BuildingComponents_ESRefListv12\",\nIF(AND(Table5a[[#This Row],[Dwelling or Common?]]=\"Dwelling\",$D$9=\"Prescriptive\"),\"BuildingComponents_ESRefList\",\nIF(Table5a[[#This Row],[Dwelling or Common?]]=\"Dwelling\",\"BuildingComponents_IECCList\",\n\nIF(AND(Table5a[[#This Row],[Dwelling or Common?]]=\"Common\",$D$9=\"Prescriptive\"),\"BuildingComponents_IECCList\",\nIF(AND(Table5a[[#This Row],[Dwelling or Common?]]=\"Common\",OR($D$9=\"ERI\",$D$9=\"Title 24 - Dwelling Unit Models\")),\"BuildingComponents_IECCList\",\nIF(AND(Table5a[[#This Row],[Dwelling or Common?]]=\"Common\",OR($D$9=\"ASHRAE\",$D$9=\"Title 24 - Whole Building Models\")),\"BuildingComponents_IECCList\",\"\")))))))","v":"BuildingComponents_IECCList"}]
[null,null,null,null,null,{"$f":"IFERROR(IF(AND($F$9=\"Version 1.2 OR+WA\",OR($I$9=\"CZ 1\",$I$9=\"CZ 2\",$I$9=\"CZ 3\",$I$9=\"CZ 4\",$I$9=\"CZ 7\",$I$9=\"CZ 8\")),\"N/A - Update CZ\",\n\nIF(Table5a[[#This Row],[Lookup Table]]=\"ESRefDesign_Insulation_V1\",INDEX(INDIRECT(Table5a[[#This Row],[Lookup Table]]),Table5a[[#This Row],[Row Lookups Index]],$O$9),\nIF(Table5a[[#This Row],[Lookup Table]]=\"ESRefDesign_Insulation_V11\",INDEX(INDIRECT(Table5a[[#This Row],[Lookup Table]]),Table5a[[#This Row],[Row Lookups Index]],$O$9),\nIF(Table5a[[#This Row],[Lookup Table]]=\"ESRefDesign_Insulation_V12\",INDEX(INDIRECT(Table5a[[#This Row],[Lookup Table]]),Table5a[[#This Row],[Row Lookups Index]],2),\n\nIF(Table5a[[#This Row],[Lookup Table]]=\"IECC2009_R\",INDEX(INDIRECT(Table5a[[#This Row],[ESRefDesign Row Lookups]]),Table5a[[#This Row],[Row Lookups Index]],$O$9),\nIF(Table5a[[#This Row],[Lookup Table]]=\"IECC2009_O\",INDEX(INDIRECT(Table5a[[#This Row],[ESRefDesign Row Lookups]]),Table5a[[#This Row],[Row Lookups Index]],$O$9),\n\nIF(Table5a[[#This Row],[Lookup Table]]=\"IECC2012_R\",INDEX(INDIRECT(Table5a[[#This Row],[ESRefDesign Row Lookups]]),Table5a[[#This Row],[Row Lookups Index]],$O$9),\nIF(Table5a[[#This Row],[Lookup Table]]=\"IECC2012_O\",INDEX(INDIRECT(Table5a[[#This Row],[ESRefDesign Row Lookups]]),Table5a[[#This Row],[Row Lookups Index]],$O$9),\n\n\"\")))))))),\"\")","v":""},null,null,null,null,null,null,null,{"$f":"IF(OR(Table5a[[#This Row],[Building_Component_Lookup]]=\"BuildingComponents_ESRefList\",Table5a[[#This Row],[Building_Component_Lookup]]=\"BuildingComponents_ESRefListv12\"),\"ESRefNoCom\",\nIF(Table5a[[#This Row],[Building Component]]=\"Roofs\",\"Roofs\",\nIF(Table5a[[#This Row],[Building Component]]=\"Walls, Above Grade\",\"WallsAboveGrade\",\nIF(Table5a[[#This Row],[Building Component]]=\"Walls, Below Grade\",\"WallsBelowGrade\",\nIF(Table5a[[#This Row],[Building Component]]=\"Floors\",\"Floors\",\nIF(Table5a[[#This Row],[Building Component]]=\"Slab-on-Grade Floors\",\"SlabOnGradeFloors\",\nIF(Table5a[[#This Row],[Building Component]]=\"Opaque Doors\",\"OpaqueDoors\",\"\")))))))","v":""},{"$f":"IF(AND(Table5a[[#This Row],[Dwelling or Common?]]=\"Dwelling\",$D$9=\"Prescriptive\",$F$9=\"Version 1\"),\"ESRefDesign_Insulation_V1\",\nIF(AND(Table5a[[#This Row],[Dwelling or Common?]]=\"Dwelling\",$D$9=\"Prescriptive\",$F$9=\"Version 1.1\"),\"ESRefDesign_Insulation_V11\",\n\nIF(AND($F$9=\"Version 1.2 OR+WA\",$D$9=\"Prescriptive\"),\"ESRefDesign_Insulation_V12\",\n\nIF(Table5a[[#This Row],[Dwelling or Common?]]=\"Dwelling\",\"IECC2009_R\",\n\nIF(AND(Table5a[[#This Row],[Dwelling or Common?]]=\"Common\",$D$9=\"Prescriptive\",$F$9=\"Version 1\"),\"IECC2009_O\",\nIF(AND(Table5a[[#This Row],[Dwelling or Common?]]=\"Common\",$D$9=\"Prescriptive\",$F$9=\"Version 1.1\"),\"IECC2012_O\",\n\nIF(AND(Table5a[[#This Row],[Dwelling or Common?]]=\"Common\",OR($D$9=\"ERI\",$D$9=\"Title 24 - Dwelling Unit Models\"),$F$9=\"Version 1\"),\"IECC2009_O\",\nIF(AND(Table5a[[#This Row],[Dwelling or Common?]]=\"Common\",OR($D$9=\"ERI\",$D$9=\"Title 24 - Dwelling Unit Models\"),$F$9=\"Version 1.1\"),\"IECC2012_O\",\nIF(AND(Table5a[[#This Row],[Dwelling or Common?]]=\"Common\",OR($D$9=\"ERI\",$D$9=\"Title 24 - Dwelling Unit Models\"),$F$9=\"Version 1.2 OR+WA\"),\"ESRefDesign_Insulation_V12\",\n\nIF(AND(Table5a[[#This Row],[Dwelling or Common?]]=\"Common\",OR($D$9=\"ASHRAE\",$D$9=\"Title 24 - Whole Building Models\")),\"IECC2009_O\",\"\"\n))))))))))","v":""},{"$f":"IF(Table5a[[#This Row],[Building Component]]=\"Slab Insulation\",\"Slab Insulation R-Value:\",\nIF(Table5a[[#This Row],[Building Component]]=\"Basement Wall Continuous Insulation\",\"Basement Wall Continuous Insulation R-Value:\",\nIF(Table5a[[#This Row],[Building Component]]=\"Floor Assembly\", \"Floor Assembly U-Factor:\",\nIF(Table5a[[#This Row],[Building Component]]=\"Wall Assembly\", \"Wall Assembly U-Factor:\",\nIF(Table5a[[#This Row],[Building Component]]=\"Ceiling Assembly\", \"Ceiling Assembly U-Factor:\",\n\nTable5a[[#This Row],[Lookup Table]]&\"_\"&Table5a[[#This Row],[Component_Lookup]])\n))))","v":"_"},{"$f":"IF(Table5a[[#This Row],[ESRefDesign Row Lookups]]=\"Slab Insulation R-Value:\",1,\nIF(Table5a[[#This Row],[ESRefDesign Row Lookups]]=\"Slab Insulation Depth (ft):\",2,\nIF(Table5a[[#This Row],[ESRefDesign Row Lookups]]=\"Basement Wall Continuous Insulation R-Value:\",3,\nIF(Table5a[[#This Row],[ESRefDesign Row Lookups]]=\"Floor Assembly U-Factor:\",4,\nIF(Table5a[[#This Row],[ESRefDesign Row Lookups]]=\"Wall Assembly U-Factor:\",5,\nIF(Table5a[[#This Row],[ESRefDesign Row Lookups]]=\"Ceiling Assembly U-Factor:\",6,\n\nIF(Table5a[[#This Row],[Building Component]]=\"Above-Grade Wall\",1,\nIF(Table5a[[#This Row],[Building Component]]=\"Ceiling\",2,\nIF(Table5a[[#This Row],[Building Component]]=\"Floor\",3,\nIF(Table5a[[#This Row],[Building Component]]=\"Basement Wall\",4,\nIF(Table5a[[#This Row],[Building Component]]=\"On-Grade & Below Grade Slab\",5,\n\nIF(Table5a[[#This Row],[Component Type\n(N/A for Prescriptive Dwelling Unit)]]=\"Insulation entirely above deck\",1,\nIF(Table5a[[#This Row],[Component Type\n(N/A for Prescriptive Dwelling Unit)]]=\"Metal buildings (with R-5 thermal blocks)\",2,\nIF(Table5a[[#This Row],[Component Type\n(N/A for Prescriptive Dwelling Unit)]]=\"Attic and other\",3,\n\nIF(Table5a[[#This Row],[Component Type\n(N/A for Prescriptive Dwelling Unit)]]=\"Mass\",1,\nIF(Table5a[[#This Row],[Component Type\n(N/A for Prescriptive Dwelling Unit)]]=\"Metal building\",2,\nIF(Table5a[[#This Row],[Component Type\n(N/A for Prescriptive Dwelling Unit)]]=\"Metal framed\",3,\nIF(Table5a[[#This Row],[Component Type\n(N/A for Prescriptive Dwelling Unit)]]=\"Wood framed and other\",4,\n\nIF(Table5a[[#This Row],[Component Type\n(N/A for Prescriptive Dwelling Unit)]]=\"Below grade wall\",1,\n\nIF(Table5a[[#This Row],[Component Type\n(N/A for Prescriptive Dwelling Unit)]]=\"Mass\",1,\nIF(Table5a[[#This Row],[Component Type\n(N/A for Prescriptive Dwelling Unit)]]=\"Joist/framing\nSteel/(wood)\",2,\n\nIF(Table5a[[#This Row],[Component Type\n(N/A for Prescriptive Dwelling Unit)]]=\"Unheated slabs\",1,\nIF(Table5a[[#This Row],[Component Type\n(N/A for Prescriptive Dwelling Unit)]]=\"Heated slabs\",2,\n\nIF(Table5a[[#This Row],[Component Type\n(N/A for Prescriptive Dwelling Unit)]]=\"Swinging\",1,\nIF(Table5a[[#This Row],[Component Type\n(N/A for Prescriptive Dwelling Unit)]]=\"Roll-up or sliding\",2,\n\n\"ADD IN IECC TABLE INDEX VALUES\")))))))))))))))))))))))))","v":"ADD IN IECC TABLE INDEX VALUES"},{"$f":"IF(AND($F$9=\"Version 1.2 OR+WA\",$D$9=\"Prescriptive\"),\"BuildingComponents_ESRefListv12\",\nIF(AND($F$9=\"Version 1.2 OR+WA\",$D$9=\"ERI\",Table5a[[#This Row],[Dwelling or Common?]]=\"Common\"),\"BuildingComponents_ESRefListv12\",\nIF(AND(Table5a[[#This Row],[Dwelling or Common?]]=\"Dwelling\",$D$9=\"Prescriptive\"),\"BuildingComponents_ESRefList\",\nIF(Table5a[[#This Row],[Dwelling or Common?]]=\"Dwelling\",\"BuildingComponents_IECCList\",\n\nIF(AND(Table5a[[#This Row],[Dwelling or Common?]]=\"Common\",$D$9=\"Prescriptive\"),\"BuildingComponents_IECCList\",\nIF(AND(Table5a[[#This Row],[Dwelling or Common?]]=\"Common\",OR($D$9=\"ERI\",$D$9=\"Title 24 - Dwelling Unit Models\")),\"BuildingComponents_IECCList\",\nIF(AND(Table5a[[#This Row],[Dwelling or Common?]]=\"Common\",OR($D$9=\"ASHRAE\",$D$9=\"Title 24 - Whole Building Models\")),\"BuildingComponents_IECCList\",\"\")))))))","v":""}]
[null,null,null,null,null,{"$f":"IFERROR(IF(AND($F$9=\"Version 1.2 OR+WA\",OR($I$9=\"CZ 1\",$I$9=\"CZ 2\",$I$9=\"CZ 3\",$I$9=\"CZ 4\",$I$9=\"CZ 7\",$I$9=\"CZ 8\")),\"N/A - Update CZ\",\n\nIF(Table5a[[#This Row],[Lookup Table]]=\"ESRefDesign_Insulation_V1\",INDEX(INDIRECT(Table5a[[#This Row],[Lookup Table]]),Table5a[[#This Row],[Row Lookups Index]],$O$9),\nIF(Table5a[[#This Row],[Lookup Table]]=\"ESRefDesign_Insulation_V11\",INDEX(INDIRECT(Table5a[[#This Row],[Lookup Table]]),Table5a[[#This Row],[Row Lookups Index]],$O$9),\nIF(Table5a[[#This Row],[Lookup Table]]=\"ESRefDesign_Insulation_V12\",INDEX(INDIRECT(Table5a[[#This Row],[Lookup Table]]),Table5a[[#This Row],[Row Lookups Index]],2),\n\nIF(Table5a[[#This Row],[Lookup Table]]=\"IECC2009_R\",INDEX(INDIRECT(Table5a[[#This Row],[ESRefDesign Row Lookups]]),Table5a[[#This Row],[Row Lookups Index]],$O$9),\nIF(Table5a[[#This Row],[Lookup Table]]=\"IECC2009_O\",INDEX(INDIRECT(Table5a[[#This Row],[ESRefDesign Row Lookups]]),Table5a[[#This Row],[Row Lookups Index]],$O$9),\n\nIF(Table5a[[#This Row],[Lookup Table]]=\"IECC2012_R\",INDEX(INDIRECT(Table5a[[#This Row],[ESRefDesign Row Lookups]]),Table5a[[#This Row],[Row Lookups Index]],$O$9),\nIF(Table5a[[#This Row],[Lookup Table]]=\"IECC2012_O\",INDEX(INDIRECT(Table5a[[#This Row],[ESRefDesign Row Lookups]]),Table5a[[#This Row],[Row Lookups Index]],$O$9),\n\n\"\")))))))),\"\")","v":""},null,null,null,null,null,null,null,{"$f":"IF(OR(Table5a[[#This Row],[Building_Component_Lookup]]=\"BuildingComponents_ESRefList\",Table5a[[#This Row],[Building_Component_Lookup]]=\"BuildingComponents_ESRefListv12\"),\"ESRefNoCom\",\nIF(Table5a[[#This Row],[Building Component]]=\"Roofs\",\"Roofs\",\nIF(Table5a[[#This Row],[Building Component]]=\"Walls, Above Grade\",\"WallsAboveGrade\",\nIF(Table5a[[#This Row],[Building Component]]=\"Walls, Below Grade\",\"WallsBelowGrade\",\nIF(Table5a[[#This Row],[Building Component]]=\"Floors\",\"Floors\",\nIF(Table5a[[#This Row],[Building Component]]=\"Slab-on-Grade Floors\",\"SlabOnGradeFloors\",\nIF(Table5a[[#This Row],[Building Component]]=\"Opaque Doors\",\"OpaqueDoors\",\"\")))))))","v":""},{"$f":"IF(AND(Table5a[[#This Row],[Dwelling or Common?]]=\"Dwelling\",$D$9=\"Prescriptive\",$F$9=\"Version 1\"),\"ESRefDesign_Insulation_V1\",\nIF(AND(Table5a[[#This Row],[Dwelling or Common?]]=\"Dwelling\",$D$9=\"Prescriptive\",$F$9=\"Version 1.1\"),\"ESRefDesign_Insulation_V11\",\n\nIF(AND($F$9=\"Version 1.2 OR+WA\",$D$9=\"Prescriptive\"),\"ESRefDesign_Insulation_V12\",\n\nIF(Table5a[[#This Row],[Dwelling or Common?]]=\"Dwelling\",\"IECC2009_R\",\n\nIF(AND(Table5a[[#This Row],[Dwelling or Common?]]=\"Common\",$D$9=\"Prescriptive\",$F$9=\"Version 1\"),\"IECC2009_O\",\nIF(AND(Table5a[[#This Row],[Dwelling or Common?]]=\"Common\",$D$9=\"Prescriptive\",$F$9=\"Version 1.1\"),\"IECC2012_O\",\n\nIF(AND(Table5a[[#This Row],[Dwelling or Common?]]=\"Common\",OR($D$9=\"ERI\",$D$9=\"Title 24 - Dwelling Unit Models\"),$F$9=\"Version 1\"),\"IECC2009_O\",\nIF(AND(Table5a[[#This Row],[Dwelling or Common?]]=\"Common\",OR($D$9=\"ERI\",$D$9=\"Title 24 - Dwelling Unit Models\"),$F$9=\"Version 1.1\"),\"IECC2012_O\",\nIF(AND(Table5a[[#This Row],[Dwelling or Common?]]=\"Common\",OR($D$9=\"ERI\",$D$9=\"Title 24 - Dwelling Unit Models\"),$F$9=\"Version 1.2 OR+WA\"),\"ESRefDesign_Insulation_V12\",\n\nIF(AND(Table5a[[#This Row],[Dwelling or Common?]]=\"Common\",OR($D$9=\"ASHRAE\",$D$9=\"Title 24 - Whole Building Models\")),\"IECC2009_O\",\"\"\n))))))))))","v":""},{"$f":"IF(Table5a[[#This Row],[Building Component]]=\"Slab Insulation\",\"Slab Insulation R-Value:\",\nIF(Table5a[[#This Row],[Building Component]]=\"Basement Wall Continuous Insulation\",\"Basement Wall Continuous Insulation R-Value:\",\nIF(Table5a[[#This Row],[Building Component]]=\"Floor Assembly\", \"Floor Assembly U-Factor:\",\nIF(Table5a[[#This Row],[Building Component]]=\"Wall Assembly\", \"Wall Assembly U-Factor:\",\nIF(Table5a[[#This Row],[Building Component]]=\"Ceiling Assembly\", \"Ceiling Assembly U-Factor:\",\n\nTable5a[[#This Row],[Lookup Table]]&\"_\"&Table5a[[#This Row],[Component_Lookup]])\n))))","v":"_"},{"$f":"IF(Table5a[[#This Row],[ESRefDesign Row Lookups]]=\"Slab Insulation R-Value:\",1,\nIF(Table5a[[#This Row],[ESRefDesign Row Lookups]]=\"Slab Insulation Depth (ft):\",2,\nIF(Table5a[[#This Row],[ESRefDesign Row Lookups]]=\"Basement Wall Continuous Insulation R-Value:\",3,\nIF(Table5a[[#This Row],[ESRefDesign Row Lookups]]=\"Floor Assembly U-Factor:\",4,\nIF(Table5a[[#This Row],[ESRefDesign Row Lookups]]=\"Wall Assembly U-Factor:\",5,\nIF(Table5a[[#This Row],[ESRefDesign Row Lookups]]=\"Ceiling Assembly U-Factor:\",6,\n\nIF(Table5a[[#This Row],[Building Component]]=\"Above-Grade Wall\",1,\nIF(Table5a[[#This Row],[Building Component]]=\"Ceiling\",2,\nIF(Table5a[[#This Row],[Building Component]]=\"Floor\",3,\nIF(Table5a[[#This Row],[Building Component]]=\"Basement Wall\",4,\nIF(Table5a[[#This Row],[Building Component]]=\"On-Grade & Below Grade Slab\",5,\n\nIF(Table5a[[#This Row],[Component Type\n(N/A for Prescriptive Dwelling Unit)]]=\"Insulation entirely above deck\",1,\nIF(Table5a[[#This Row],[Component Type\n(N/A for Prescriptive Dwelling Unit)]]=\"Metal buildings (with R-5 thermal blocks)\",2,\nIF(Table5a[[#This Row],[Component Type\n(N/A for Prescriptive Dwelling Unit)]]=\"Attic and other\",3,\n\nIF(Table5a[[#This Row],[Component Type\n(N/A for Prescriptive Dwelling Unit)]]=\"Mass\",1,\nIF(Table5a[[#This Row],[Component Type\n(N/A for Prescriptive Dwelling Unit)]]=\"Metal building\",2,\nIF(Table5a[[#This Row],[Component Type\n(N/A for Prescriptive Dwelling Unit)]]=\"Metal framed\",3,\nIF(Table5a[[#This Row],[Component Type\n(N/A for Prescriptive Dwelling Unit)]]=\"Wood framed and other\",4,\n\nIF(Table5a[[#This Row],[Component Type\n(N/A for Prescriptive Dwelling Unit)]]=\"Below grade wall\",1,\n\nIF(Table5a[[#This Row],[Component Type\n(N/A for Prescriptive Dwelling Unit)]]=\"Mass\",1,\nIF(Table5a[[#This Row],[Component Type\n(N/A for Prescriptive Dwelling Unit)]]=\"Joist/framing\nSteel/(wood)\",2,\n\nIF(Table5a[[#This Row],[Component Type\n(N/A for Prescriptive Dwelling Unit)]]=\"Unheated slabs\",1,\nIF(Table5a[[#This Row],[Component Type\n(N/A for Prescriptive Dwelling Unit)]]=\"Heated slabs\",2,\n\nIF(Table5a[[#This Row],[Component Type\n(N/A for Prescriptive Dwelling Unit)]]=\"Swinging\",1,\nIF(Table5a[[#This Row],[Component Type\n(N/A for Prescriptive Dwelling Unit)]]=\"Roll-up or sliding\",2,\n\n\"ADD IN IECC TABLE INDEX VALUES\")))))))))))))))))))))))))","v":"ADD IN IECC TABLE INDEX VALUES"},{"$f":"IF(AND($F$9=\"Version 1.2 OR+WA\",$D$9=\"Prescriptive\"),\"BuildingComponents_ESRefListv12\",\nIF(AND($F$9=\"Version 1.2 OR+WA\",$D$9=\"ERI\",Table5a[[#This Row],[Dwelling or Common?]]=\"Common\"),\"BuildingComponents_ESRefListv12\",\nIF(AND(Table5a[[#This Row],[Dwelling or Common?]]=\"Dwelling\",$D$9=\"Prescriptive\"),\"BuildingComponents_ESRefList\",\nIF(Table5a[[#This Row],[Dwelling or Common?]]=\"Dwelling\",\"BuildingComponents_IECCList\",\n\nIF(AND(Table5a[[#This Row],[Dwelling or Common?]]=\"Common\",$D$9=\"Prescriptive\"),\"BuildingComponents_IECCList\",\nIF(AND(Table5a[[#This Row],[Dwelling or Common?]]=\"Common\",OR($D$9=\"ERI\",$D$9=\"Title 24 - Dwelling Unit Models\")),\"BuildingComponents_IECCList\",\nIF(AND(Table5a[[#This Row],[Dwelling or Common?]]=\"Common\",OR($D$9=\"ASHRAE\",$D$9=\"Title 24 - Whole Building Models\")),\"BuildingComponents_IECCList\",\"\")))))))","v":""}]

{"sheet":"5b. Envelope U-Factors","index":14,"n_rows":17,"n_cols":27,"rows_kept":17,"cut":false,"hidden":true,"merged":[[1,2,1,14],[90,1,90,2],[90,4,96,4],[96,1,96,2],[22,1,22,3],[25,1,25,3],[58,1,58,3],[60,1,60,3],[3,5,3,6],[5,4,5,5],[6,11,6,14],[3,8,3,9],[5,23,6,25],[107,4,113,4],[113,1,113,2],[3,1,3,2],[106,1,106,2],[99,4,105,4],[105,1,105,2],[61,4,68,4],[70,4,77,4],[79,1,79,3],[80,1,80,2],[80,4,86,4],[86,1,86,2]]}
[]
[null,"Instructions: ","Using Tables: Complete all yellow cells prior to the Proposed Design submittal. Compare specified value to ENERGY STAR requirement and use the drop-down to indicate if the components Pass or Fail.\n\nWarning: If during the course of design or construction, the certification path changes, you will need to re-select the Building Component and Component Type drop-down options.\n\nPrior to As-Built submittal, update the Installed U-factor to match as-built conditions, if different from design.\n\nNote: All door calculations are included on the fenestration tab.\n\nPrinting: Optimized for Landscape view."]
[]
[null,"Select ENERGY STAR Pathway",null,{"$f":"IF('Project Information'!$C$8=\"\",\"Complete Project Information Tab\",'Project Information'!$C$8)","v":"Prescriptive"},"Select ENERGY STAR Version",{"$f":"IF('Project Information'!$F$8=\"\",\"Complete Project Information Tab\",'Project Information'!$F$8)","v":"Version 1"},null,"Select ENERGY STAR Climate Zone",{"$f":"IF('Project Information'!$F$10=\"\",\"Complete Project Information Tab\",'Project Information'!$F$10)","v":"CZ 4"}]
[]
[null,"Mandatory Insulation Requirement Verification",null,null,null,null,null,null,null,null,null,null,null,null,null,null,null,null,null,null,null,null,null,"NOTES"]
[null,null,null,null,null,null,null,null,null,null,null,null,null,null,null,null,"hide","hide","hide","hide","hide","hide"]
[null,"Assembly Name","Dwelling or Common?","Building Component","Component Type\n(N/A for Prescriptive Path Dwelling Unit)","% of Component Area","ENERGY STAR Requirement Values","ENERGY STAR Required U-Factor","Specified/Installed U-Factor","PASS/FAIL","Description of Layers","Appendix A Table Referenced","Location\n(dwg/spec)\n(Optional)","Plan Review\n(Optional)","Inspection?\n(Optional)","Inspection Comments\n(Optional)","Building_Component_Lookup","Component_Lookup","Lookup Table Pt1","Lookup Table Pt2","Row Index","Column Index",null,null,null,null," "]
[null,"South Cantelever","Dwelling","Slab Insulation","N/A",100,{"$f":"IFERROR(IF(AND($F$4=\"Version 1.2 OR+WA\",OR($I$4=\"CZ 1\",$I$4=\"CZ 2\",$I$4=\"CZ 3\",$I$4=\"CZ 4\",$I$4=\"CZ 7\",$I$4=\"CZ 8\")),\"N/A - Update CZ\",\n\nIF(Table5b[[#This Row],[Lookup Table Pt1]]=\"ESRefDesign_InsulationU_V1\",INDEX(INDIRECT(Table5b[[#This Row],[Lookup Table Pt1]]),Table5b[[#This Row],[Row Index]],Table5b[[#This Row],[Column Index]]),\nIF(Table5b[[#This Row],[Lookup Table Pt1]]=\"ESRefDesign_InsulationU_V11\",INDEX(INDIRECT(Table5b[[#This Row],[Lookup Table Pt1]]),Table5b[[#This Row],[Row Index]],Table5b[[#This Row],[Column Index]]),\nIF(Table5b[[#This Row],[Lookup Table Pt1]]=\"ESRefDesign_InsulationU_V12\",INDEX(INDIRECT(Table5b[[#This Row],[Lookup Table Pt1]]),Table5b[[#This Row],[Row Index]],2),\n\nIF(Table5b[[#This Row],[Lookup Table Pt1]]=\"IECC2009_RU\",INDEX(INDIRECT(Table5b[[#This Row],[Lookup Table Pt2]]),Table5b[[#This Row],[Row Index]],Table5b[[#This Row],[Column Index]]),\nIF(Table5b[[#This Row],[Lookup Table Pt1]]=\"IECC2009_OU\",INDEX(INDIRECT(Table5b[[#This Row],[Lookup Table Pt2]]),Table5b[[#This Row],[Row Index]],Table5b[[#This Row],[Column Index]]),\n\nIF(Table5b[[#This Row],[Lookup Table Pt1]]=\"IECC2012_RU\",INDEX(INDIRECT(Table5b[[#This Row],[Lookup Table Pt2]]),Table5b[[#This Row],[Row Index]],Table5b[[#This Row],[Column Index]]),\nIF(Table5b[[#This Row],[Lookup Table Pt1]]=\"IECC2012_OU\",INDEX(INDIRECT(Table5b[[#This Row],[Lookup Table Pt2]]),Table5b[[#This Row],[Row Index]],Table5b[[#This Row],[Column Index]]),\n\n\"\")))))))),\"\")","v":"R-10"},{"$f":"IFERROR(\nIF(LEFT(Table5b[[#This Row],[ENERGY STAR Requirement Values]],2)=\"U-\",Table5b[[#This Row],[ENERGY STAR Requirement Values]],\n\nIF(OR(Table5b[[#This Row],[Building Component]]=\"Slab Insulation\",Table5b[[#This Row],[Building Component]]=\"Slab-On-Grade Floor\",Table5b[[#This Row],[Building Component]]=\"Slab-On-Grade Floors\",Table5b[[#This Row],[Building Component]]=\"On-Grade & Below Grade Slab\",Table5b[[#This Row],[Building Component]]=\"Slab-on-Grade Floors\",Table5b[[#This Row],[Building Component]]=\"Slab-on-Grade Floor\"),\"\",\n\nIF(OR(Table5b[[#This Row],[ENERGY STAR Requirement Values]]=\"R-0\",Table5b[[#This Row],[ENERGY STAR Requirement Values]]=0,Table5b[[#This Row],[ENERGY STAR Requirement Values]]=\"C-1.140\"),\"U-0.36\",\nIF(OR(Table5b[[#This Row],[ENERGY STAR Requirement Values]]=\"R-7.5\",Table5b[[#This Row],[ENERGY STAR Requirement Values]]=7.5,Table5b[[#This Row],[ENERGY STAR Requirement Values]]=\"C-0.119\"),\"U-0.072\",\nIF(OR(Table5b[[#This Row],[ENERGY STAR Requirement Values]]=\"R-10\",Table5b[[#This Row],[ENERGY STAR Requirement Values]]=10,Table5b[[#This Row],[ENERGY STAR Requirement Values]]=\"C-0.092\"),\"U-0.059\",\nIF(OR(Table5b[[#This Row],[ENERGY STAR Requirement Values]]=\"R-15\",Table5b[[#This Row],[ENERGY STAR Requirement Values]]=15,Table5b[[#This Row],[ENERGY STAR Requirement Values]]=\"R-15 continuous or R-21 cavity\"),\"U-0.05\",\nIF(OR(Table5b[[#This Row],[ENERGY STAR Requirement Values]]=\"R-12.5\",Table5b[[#This Row],[ENERGY STAR Requirement Values]]=12.5,Table5b[[#This Row],[ENERGY STAR Requirement Values]]=\"C-0.075\"),\"U-0.054\",\nIF(OR(Table5b[[#This Row],[ENERGY STAR Requirement Values]]=\"R-21\",Table5b[[#This Row],[ENERGY STAR Requirement Values]]=21),\"U-0.056\",\nIF(OR(Table5b[[#This Row],[ENERGY STAR Requirement Values]]=\"R-38\",Table5b[[#This Row],[ENERGY STAR Requirement Values]]=38),\"U-0.028\",\nIF(OR(Table5b[[#This Row],[ENERGY STAR Requirement Values]]=\"R-49\",Table5b[[#This Row],[ENERGY STAR Requirement Values]]=49),\"U-0.026\",\n\nIF(LEFT(Table5b[[#This Row],[ENERGY STAR Requirement Values]],2)=\"F-\",\"\",\n\nIF(LEFT(Table5b[[#This Row],[ENERGY STAR Requirement Values]],1)=\"0\",CONCATENATE(\"U-\",Table5b[[#This Row],[ENERGY STAR Requirement Values]]),\n\nTable5b[[#This Row],[ENERGY STAR Requirement Values]])))))))))))),\"\")","v":""},3.3000000000000002E-2,"PASS","Band Joist, Batt, Sheathing & air seal, tyvek wrap, vinyl siding","A5.3","A-50a","Yes","Yes",null,{"$f":"IF(AND(Table5b[[#This Row],[Dwelling or Common?]]=\"Dwelling\",$D$4=\"Prescriptive\",OR($F$4=\"Version 1\", $F$4=\"Version 1.1\")),\"BuildingComponents_ESRefList\",\nIF(AND(Table5b[[#This Row],[Dwelling or Common?]]=\"Dwelling\",$D$4=\"Prescriptive\",$F$4=\"Version 1.2 OR+WA\"),\"BuildingComponents_ESRefListV12\",\nIF(Table5b[[#This Row],[Dwelling or Common?]]=\"Dwelling\",\"BuildingComponents_IECCList\",\n\nIF(AND(Table5b[[#This Row],[Dwelling or Common?]]=\"Common\",$F$4=\"Version 1.2 OR+WA\",OR($D$4=\"Prescriptive\",$D$4=\"ERI\",$D$4=\"Title 24 - Dwelling Unit Models\")),\"BuildingComponents_ESRefListV12\",\n\nIF(AND(Table5b[[#This Row],[Dwelling or Common?]]=\"Common\",$D$4=\"Prescriptive\"),\"BuildingComponents_IECCList\",\nIF(AND(Table5b[[#This Row],[Dwelling or Common?]]=\"Common\",OR($D$4=\"ERI\",$D$4=\"Title 24 - Dwelling Unit Models\")),\"BuildingComponents_IECCList\",\n\nIF(AND(Table5b[[#This Row],[Dwelling or Common?]]=\"Common\",OR($D$4=\"ASHRAE\",$D$4=\"Title 24 - Whole Building Models\")),\"BuildingComponents_IECCList\",\n\"\")))))))","v":"BuildingComponents_ESRefList"},{"$f":"IF(OR(Table5b[[#This Row],[Building_Component_Lookup]]=\"BuildingComponents_ESRefList\",Table5b[[#This Row],[Building_Component_Lookup]]=\"BuildingComponents_ESRefListV12\"),\"ESRefNoCom\",\nIF(Table5b[[#This Row],[Building Component]]=\"Roofs\",\"Roof\",\nIF(Table5b[[#This Row],[Building Component]]=\"Walls, Above Grade\",\"WallAboveGrade\",\nIF(Table5b[[#This Row],[Building Component]]=\"Walls, Below Grade\",\"WallBelowGrade\",\nIF(Table5b[[#This Row],[Building Component]]=\"Floors\",\"Floor\",\nIF(Table5b[[#This Row],[Building Component]]=\"Slab-on-Grade Floors\",\"SlabOnGradeFloor\",\nIF(Table5b[[#This Row],[Building Component]]=\"Opaque Doors\",\"OpaqueDoor\",\"\")))))))","v":"ESRefNoCom"},{"$f":"IF(AND(Table5b[[#This Row],[Dwelling or Common?]]=\"Dwelling\",$F$4=\"Version 1\",$D$4=\"Prescriptive\"),\"ESRefDesign_InsulationU_V1\",\nIF(AND(Table5b[[#This Row],[Dwelling or Common?]]=\"Dwelling\",$F$4=\"Version 1.1\",$D$4=\"Prescriptive\"),\"ESRefDesign_InsulationU_V11\",\nIF(AND(Table5b[[#This Row],[Dwelling or Common?]]=\"Dwelling\",$F$4=\"Version 1.2 OR+WA\",$D$4=\"Prescriptive\"),\"ESRefDesign_InsulationU_V12\",\n\nIF(AND(Table5b[[#This Row],[Dwelling or Common?]]=\"Dwelling\",OR($F$4=\"Version 1\",$F$4=\"Version 1.1\",$F$4=\"Version 1.2 OR+WA\"),OR($D$4=\"ERI\",$D$4=\"ASHRAE\",$D$4=\"Title 24 - Whole Building Models\",$D$4=\"Title 24 - Dwelling Unit Models\")),\"IECC2009_RU\",\n\nIF(AND(Table5b[[#This Row],[Dwelling or Common?]]=\"Common\",$F$4=\"Version 1\",OR($D$4=\"Prescriptive\",$D$4=\"ERI\",$D$4=\"Title 24 - Dwelling Unit Models\",)),\"IECC2009_OU\",\nIF(AND(Table5b[[#This Row],[Dwelling or Common?]]=\"Common\",$F$4=\"Version 1.1\",OR($D$4=\"Prescriptive\",$D$4=\"ERI\",$D$4=\"Title 24 - Dwelling Unit Models\")),\"IECC2012_OU\",\nIF(AND(Table5b[[#This Row],[Dwelling or Common?]]=\"Common\",$F$4=\"Version 1.2 OR+WA\",OR($D$4=\"Prescriptive\",$D$4=\"ERI\",$D$4=\"Title 24 - Dwelling Unit Models\")),\"ESRefDesign_InsulationU_V12\",\n\nIF(AND(Table5b[[#This Row],[Dwelling or Common?]]=\"Common\",OR($D$4=\"ASHRAE\",$D$4=\"Title 24 - Whole Building Models\")),\"IECC2009_OU\",\n\n\"\"))))))))","v":"ESRefDesign_InsulationU_V1"},{"$f":"IF(Table5b[[#This Row],[Building Component]]=\"Slab Insulation\",\"Slab Insulation R-Value:\",\nIF(Table5b[[#This Row],[Building Component]]=\"Basement Wall Continuous Insulation\",\"Basement Wall Continuous Insulation R-Value:\",\nIF(Table5b[[#This Row],[Building Component]]=\"Floor Assembly\", \"Floor Assembly U-Factor:\",\nIF(Table5b[[#This Row],[Building Component]]=\"Wall Assembly\", \"Wall Assembly U-Factor:\",\nIF(Table5b[[#This Row],[Building Component]]=\"Ceiling Assembly\", \"Ceiling Assembly U-Factor:\",\n\nTable5b[[#This Row],[Lookup Table Pt1]]&\"_\"&Table5b[[#This Row],[Component_Lookup]])\n))))","v":"Slab Insulation R-Value:"},{"$f":"IF(Table5b[[#This Row],[Lookup Table Pt2]]=\"Slab Insulation R-Value:\",1,\nIF(Table5b[[#This Row],[Lookup Table Pt2]]=\"Slab Insulation Depth (ft):\",2,\nIF(Table5b[[#This Row],[Lookup Table Pt2]]=\"Basement Wall Continuous Insulation R-Value:\",3,\nIF(Table5b[[#This Row],[Lookup Table Pt2]]=\"Floor Assembly U-Factor:\",4,\nIF(Table5b[[#This Row],[Lookup Table Pt2]]=\"Wall Assembly U-Factor:\",5,\nIF(Table5b[[#This Row],[Lookup Table Pt2]]=\"Ceiling Assembly U-Factor:\",6,\n\nIF(Table5b[[#This Row],[Building Component]]=\"Above-Grade Wall\",1,\nIF(Table5b[[#This Row],[Building Component]]=\"Ceiling\",2,\nIF(Table5b[[#This Row],[Building Component]]=\"Floor\",3,\nIF(Table5b[[#This Row],[Building Component]]=\"Basement Wall\",4,\nIF(Table5b[[#This Row],[Building Component]]=\"On-Grade & Below Grade Slab\",5,\n\nIF(Table5b[[#This Row],[Component Type\n(N/A for Prescriptive Path Dwelling Unit)]]=\"Insulation entirely above deck\",1,\nIF(Table5b[[#This Row],[Component Type\n(N/A for Prescriptive Path Dwelling Unit)]]=\"Metal buildings\",2,\nIF(Table5b[[#This Row],[Component Type\n(N/A for Prescriptive Path Dwelling Unit)]]=\"Attic and other\",3,\n\nIF(Table5b[[#This Row],[Component Type\n(N/A for Prescriptive Path Dwelling Unit)]]=\"Mass\",1,\nIF(Table5b[[#This Row],[Component Type\n(N/A for Prescriptive Path Dwelling Unit)]]=\"Metal building\",2,\nIF(Table5b[[#This Row],[Component Type\n(N/A for Prescriptive Path Dwelling Unit)]]=\"Metal framed\",3,\nIF(Table5b[[#This Row],[Component Type\n(N/A for Prescriptive Path Dwelling Unit)]]=\"Wood framed and other\",4,\n\nIF(Table5b[[#This Row],[Component Type\n(N/A for Prescriptive Path Dwelling Unit)]]=\"Below grade wall\",1,\n\nIF(Table5b[[#This Row],[Component Type\n(N/A for Prescriptive Path Dwelling Unit)]]=\"Mass\",1,\nIF(Table5b[[#This Row],[Component Type\n(N/A for Prescriptive Path Dwelling Unit)]]=\"Joist/framing\",2,\n\nIF(Table5b[[#This Row],[Component Type\n(N/A for Prescriptive Path Dwelling Unit)]]=\"Unheated slabs\",1,\nIF(Table5b[[#This Row],[Component Type\n(N/A for Prescriptive Path Dwelling Unit)]]=\"Heated slabs\",2,\n\nIF(Table5b[[#This Row],[Component Type\n(N/A for Prescriptive Path Dwelling Unit)]]=\"Swinging\",1,\nIF(Table5b[[#This Row],[Component Type\n(N/A for Prescriptive Path Dwelling Unit)]]=\"Roll-up or sliding\",2,\n\n\"ADD IN IECC TABLE INDEX VALUES\")))))))))))))))))))))))))","v":1},{"$f":"IF(AND($F$4=\"Version 1.2 OR+WA\",$D$4=\"Prescriptive\"),2,\n\nIF($I$4=\"CZ 1\",2,\nIF($I$4=\"CZ 2\",3,\nIF($I$4=\"CZ 3\",4,\nIF($I$4=\"CZ 4\",5,\nIF($I$4=\"CZ 4 C\",6,\nIF($I$4=\"CZ 5\",7,\nIF($I$4=\"CZ 6\",8,\nIF($I$4=\"CZ 7\",9,\nIF($I$4=\"CZ 8\",10,\"\"))))))))))","v":5}]
[null,"Ground Corridor Slab","Dwelling","Basement Wall Continuous Insulation","N/A",90,{"$f":"IFERROR(IF(AND($F$4=\"Version 1.2 OR+WA\",OR($I$4=\"CZ 1\",$I$4=\"CZ 2\",$I$4=\"CZ 3\",$I$4=\"CZ 4\",$I$4=\"CZ 7\",$I$4=\"CZ 8\")),\"N/A - Update CZ\",\n\nIF(Table5b[[#This Row],[Lookup Table Pt1]]=\"ESRefDesign_InsulationU_V1\",INDEX(INDIRECT(Table5b[[#This Row],[Lookup Table Pt1]]),Table5b[[#This Row],[Row Index]],Table5b[[#This Row],[Column Index]]),\nIF(Table5b[[#This Row],[Lookup Table Pt1]]=\"ESRefDesign_InsulationU_V11\",INDEX(INDIRECT(Table5b[[#This Row],[Lookup Table Pt1]]),Table5b[[#This Row],[Row Index]],Table5b[[#This Row],[Column Index]]),\nIF(Table5b[[#This Row],[Lookup Table Pt1]]=\"ESRefDesign_InsulationU_V12\",INDEX(INDIRECT(Table5b[[#This Row],[Lookup Table Pt1]]),Table5b[[#This Row],[Row Index]],2),\n\nIF(Table5b[[#This Row],[Lookup Table Pt1]]=\"IECC2009_RU\",INDEX(INDIRECT(Table5b[[#This Row],[Lookup Table Pt2]]),Table5b[[#This Row],[Row Index]],Table5b[[#This Row],[Column Index]]),\nIF(Table5b[[#This Row],[Lookup Table Pt1]]=\"IECC2009_OU\",INDEX(INDIRECT(Table5b[[#This Row],[Lookup Table Pt2]]),Table5b[[#This Row],[Row Index]],Table5b[[#This Row],[Column Index]]),\n\nIF(Table5b[[#This Row],[Lookup Table Pt1]]=\"IECC2012_RU\",INDEX(INDIRECT(Table5b[[#This Row],[Lookup Table Pt2]]),Table5b[[#This Row],[Row Index]],Table5b[[#This Row],[Column Index]]),\nIF(Table5b[[#This Row],[Lookup Table Pt1]]=\"IECC2012_OU\",INDEX(INDIRECT(Table5b[[#This Row],[Lookup Table Pt2]]),Table5b[[#This Row],[Row Index]],Table5b[[#This Row],[Column Index]]),\n\n\"\")))))))),\"\")","v":"R-7.5"},{"$f":"IFERROR(\nIF(LEFT(Table5b[[#This Row],[ENERGY STAR Requirement Values]],2)=\"U-\",Table5b[[#This Row],[ENERGY STAR Requirement Values]],\n\nIF(OR(Table5b[[#This Row],[Building Component]]=\"Slab Insulation\",Table5b[[#This Row],[Building Component]]=\"Slab-On-Grade Floor\",Table5b[[#This Row],[Building Component]]=\"Slab-On-Grade Floors\",Table5b[[#This Row],[Building Component]]=\"On-Grade & Below Grade Slab\",Table5b[[#This Row],[Building Component]]=\"Slab-on-Grade Floors\",Table5b[[#This Row],[Building Component]]=\"Slab-on-Grade Floor\"),\"\",\n\nIF(OR(Table5b[[#This Row],[ENERGY STAR Requirement Values]]=\"R-0\",Table5b[[#This Row],[ENERGY STAR Requirement Values]]=0,Table5b[[#This Row],[ENERGY STAR Requirement Values]]=\"C-1.140\"),\"U-0.36\",\nIF(OR(Table5b[[#This Row],[ENERGY STAR Requirement Values]]=\"R-7.5\",Table5b[[#This Row],[ENERGY STAR Requirement Values]]=7.5,Table5b[[#This Row],[ENERGY STAR Requirement Values]]=\"C-0.119\"),\"U-0.072\",\nIF(OR(Table5b[[#This Row],[ENERGY STAR Requirement Values]]=\"R-10\",Table5b[[#This Row],[ENERGY STAR Requirement Values]]=10,Table5b[[#This Row],[ENERGY STAR Requirement Values]]=\"C-0.092\"),\"U-0.059\",\nIF(OR(Table5b[[#This Row],[ENERGY STAR Requirement Values]]=\"R-15\",Table5b[[#This Row],[ENERGY STAR Requirement Values]]=15,Table5b[[#This Row],[ENERGY STAR Requirement Values]]=\"R-15 continuous or R-21 cavity\"),\"U-0.05\",\nIF(OR(Table5b[[#This Row],[ENERGY STAR Requirement Values]]=\"R-12.5\",Table5b[[#This Row],[ENERGY STAR Requirement Values]]=12.5,Table5b[[#This Row],[ENERGY STAR Requirement Values]]=\"C-0.075\"),\"U-0.054\",\nIF(OR(Table5b[[#This Row],[ENERGY STAR Requirement Values]]=\"R-21\",Table5b[[#This Row],[ENERGY STAR Requirement Values]]=21),\"U-0.056\",\nIF(OR(Table5b[[#This Row],[ENERGY STAR Requirement Values]]=\"R-38\",Table5b[[#This Row],[ENERGY STAR Requirement Values]]=38),\"U-0.028\",\nIF(OR(Table5b[[#This Row],[ENERGY STAR Requirement Values]]=\"R-49\",Table5b[[#This Row],[ENERGY STAR Requirement Values]]=49),\"U-0.026\",\n\nIF(LEFT(Table5b[[#This Row],[ENERGY STAR Requirement Values]],2)=\"F-\",\"\",\n\nIF(LEFT(Table5b[[#This Row],[ENERGY STAR Requirement Values]],1)=\"0\",CONCATENATE(\"U-\",Table5b[[#This Row],[ENERGY STAR Requirement Values]]),\n\nTable5b[[#This Row],[ENERGY STAR Requirement Values]])))))))))))),\"\")","v":"U-0.072"},10,"PASS","silt screen, gravel, rigid foam board, concrete monolithic slab","A5.2","A-50b","Yes","Yes",null,{"$f":"IF(AND(Table5b[[#This Row],[Dwelling or Common?]]=\"Dwelling\",$D$4=\"Prescriptive\",OR($F$4=\"Version 1\", $F$4=\"Version 1.1\")),\"BuildingComponents_ESRefList\",\nIF(AND(Table5b[[#This Row],[Dwelling or Common?]]=\"Dwelling\",$D$4=\"Prescriptive\",$F$4=\"Version 1.2 OR+WA\"),\"BuildingComponents_ESRefListV12\",\nIF(Table5b[[#This Row],[Dwelling or Common?]]=\"Dwelling\",\"BuildingComponents_IECCList\",\n\nIF(AND(Table5b[[#This Row],[Dwelling or Common?]]=\"Common\",$F$4=\"Version 1.2 OR+WA\",OR($D$4=\"Prescriptive\",$D$4=\"ERI\",$D$4=\"Title 24 - Dwelling Unit Models\")),\"BuildingComponents_ESRefListV12\",\n\nIF(AND(Table5b[[#This Row],[Dwelling or Common?]]=\"Common\",$D$4=\"Prescriptive\"),\"BuildingComponents_IECCList\",\nIF(AND(Table5b[[#This Row],[Dwelling or Common?]]=\"Common\",OR($D$4=\"ERI\",$D$4=\"Title 24 - Dwelling Unit Models\")),\"BuildingComponents_IECCList\",\n\nIF(AND(Table5b[[#This Row],[Dwelling or Common?]]=\"Common\",OR($D$4=\"ASHRAE\",$D$4=\"Title 24 - Whole Building Models\")),\"BuildingComponents_IECCList\",\n\"\")))))))","v":"BuildingComponents_ESRefList"},{"$f":"IF(OR(Table5b[[#This Row],[Building_Component_Lookup]]=\"BuildingComponents_ESRefList\",Table5b[[#This Row],[Building_Component_Lookup]]=\"BuildingComponents_ESRefListV12\"),\"ESRefNoCom\",\nIF(Table5b[[#This Row],[Building Component]]=\"Roofs\",\"Roof\",\nIF(Table5b[[#This Row],[Building Component]]=\"Walls, Above Grade\",\"WallAboveGrade\",\nIF(Table5b[[#This Row],[Building Component]]=\"Walls, Below Grade\",\"WallBelowGrade\",\nIF(Table5b[[#This Row],[Building Component]]=\"Floors\",\"Floor\",\nIF(Table5b[[#This Row],[Building Component]]=\"Slab-on-Grade Floors\",\"SlabOnGradeFloor\",\nIF(Table5b[[#This Row],[Building Component]]=\"Opaque Doors\",\"OpaqueDoor\",\"\")))))))","v":"ESRefNoCom"},{"$f":"IF(AND(Table5b[[#This Row],[Dwelling or Common?]]=\"Dwelling\",$F$4=\"Version 1\",$D$4=\"Prescriptive\"),\"ESRefDesign_InsulationU_V1\",\nIF(AND(Table5b[[#This Row],[Dwelling or Common?]]=\"Dwelling\",$F$4=\"Version 1.1\",$D$4=\"Prescriptive\"),\"ESRefDesign_InsulationU_V11\",\nIF(AND(Table5b[[#This Row],[Dwelling or Common?]]=\"Dwelling\",$F$4=\"Version 1.2 OR+WA\",$D$4=\"Prescriptive\"),\"ESRefDesign_InsulationU_V12\",\n\nIF(AND(Table5b[[#This Row],[Dwelling or Common?]]=\"Dwelling\",OR($F$4=\"Version 1\",$F$4=\"Version 1.1\",$F$4=\"Version 1.2 OR+WA\"),OR($D$4=\"ERI\",$D$4=\"ASHRAE\",$D$4=\"Title 24 - Whole Building Models\",$D$4=\"Title 24 - Dwelling Unit Models\")),\"IECC2009_RU\",\n\nIF(AND(Table5b[[#This Row],[Dwelling or Common?]]=\"Common\",$F$4=\"Version 1\",OR($D$4=\"Prescriptive\",$D$4=\"ERI\",$D$4=\"Title 24 - Dwelling Unit Models\",)),\"IECC2009_OU\",\nIF(AND(Table5b[[#This Row],[Dwelling or Common?]]=\"Common\",$F$4=\"Version 1.1\",OR($D$4=\"Prescriptive\",$D$4=\"ERI\",$D$4=\"Title 24 - Dwelling Unit Models\")),\"IECC2012_OU\",\nIF(AND(Table5b[[#This Row],[Dwelling or Common?]]=\"Common\",$F$4=\"Version 1.2 OR+WA\",OR($D$4=\"Prescriptive\",$D$4=\"ERI\",$D$4=\"Title 24 - Dwelling Unit Models\")),\"ESRefDesign_InsulationU_V12\",\n\nIF(AND(Table5b[[#This Row],[Dwelling or Common?]]=\"Common\",OR($D$4=\"ASHRAE\",$D$4=\"Title 24 - Whole Building Models\")),\"IECC2009_OU\",\n\n\"\"))))))))","v":"ESRefDesign_InsulationU_V1"},{"$f":"IF(Table5b[[#This Row],[Building Component]]=\"Slab Insulation\",\"Slab Insulation R-Value:\",\nIF(Table5b[[#This Row],[Building Component]]=\"Basement Wall Continuous Insulation\",\"Basement Wall Continuous Insulation R-Value:\",\nIF(Table5b[[#This Row],[Building Component]]=\"Floor Assembly\", \"Floor Assembly U-Factor:\",\nIF(Table5b[[#This Row],[Building Component]]=\"Wall Assembly\", \"Wall Assembly U-Factor:\",\nIF(Table5b[[#This Row],[Building Component]]=\"Ceiling Assembly\", \"Ceiling Assembly U-Factor:\",\n\nTable5b[[#This Row],[Lookup Table Pt1]]&\"_\"&Table5b[[#This Row],[Component_Lookup]])\n))))","v":"Basement Wall Continuous Insulation R-Value:"},{"$f":"IF(Table5b[[#This Row],[Lookup Table Pt2]]=\"Slab Insulation R-Value:\",1,\nIF(Table5b[[#This Row],[Lookup Table Pt2]]=\"Slab Insulation Depth (ft):\",2,\nIF(Table5b[[#This Row],[Lookup Table Pt2]]=\"Basement Wall Continuous Insulation R-Value:\",3,\nIF(Table5b[[#This Row],[Lookup Table Pt2]]=\"Floor Assembly U-Factor:\",4,\nIF(Table5b[[#This Row],[Lookup Table Pt2]]=\"Wall Assembly U-Factor:\",5,\nIF(Table5b[[#This Row],[Lookup Table Pt2]]=\"Ceiling Assembly U-Factor:\",6,\n\nIF(Table5b[[#This Row],[Building Component]]=\"Above-Grade Wall\",1,\nIF(Table5b[[#This Row],[Building Component]]=\"Ceiling\",2,\nIF(Table5b[[#This Row],[Building Component]]=\"Floor\",3,\nIF(Table5b[[#This Row],[Building Component]]=\"Basement Wall\",4,\nIF(Table5b[[#This Row],[Building Component]]=\"On-Grade & Below Grade Slab\",5,\n\nIF(Table5b[[#This Row],[Component Type\n(N/A for Prescriptive Path Dwelling Unit)]]=\"Insulation entirely above deck\",1,\nIF(Table5b[[#This Row],[Component Type\n(N/A for Prescriptive Path Dwelling Unit)]]=\"Metal buildings\",2,\nIF(Table5b[[#This Row],[Component Type\n(N/A for Prescriptive Path Dwelling Unit)]]=\"Attic and other\",3,\n\nIF(Table5b[[#This Row],[Component Type\n(N/A for Prescriptive Path Dwelling Unit)]]=\"Mass\",1,\nIF(Table5b[[#This Row],[Component Type\n(N/A for Prescriptive Path Dwelling Unit)]]=\"Metal building\",2,\nIF(Table5b[[#This Row],[Component Type\n(N/A for Prescriptive Path Dwelling Unit)]]=\"Metal framed\",3,\nIF(Table5b[[#This Row],[Component Type\n(N/A for Prescriptive Path Dwelling Unit)]]=\"Wood framed and other\",4,\n\nIF(Table5b[[#This Row],[Component Type\n(N/A for Prescriptive Path Dwelling Unit)]]=\"Below grade wall\",1,\n\nIF(Table5b[[#This Row],[Component Type\n(N/A for Prescriptive Path Dwelling Unit)]]=\"Mass\",1,\nIF(Table5b[[#This Row],[Component Type\n(N/A for Prescriptive Path Dwelling Unit)]]=\"Joist/framing\",2,\n\nIF(Table5b[[#This Row],[Component Type\n(N/A for Prescriptive Path Dwelling Unit)]]=\"Unheated slabs\",1,\nIF(Table5b[[#This Row],[Component Type\n(N/A for Prescriptive Path Dwelling Unit)]]=\"Heated slabs\",2,\n\nIF(Table5b[[#This Row],[Component Type\n(N/A for Prescriptive Path Dwelling Unit)]]=\"Swinging\",1,\nIF(Table5b[[#This Row],[Component Type\n(N/A for Prescriptive Path Dwelling Unit)]]=\"Roll-up or sliding\",2,\n\n\"ADD IN IECC TABLE INDEX VALUES\")))))))))))))))))))))))))","v":3},{"$f":"IF(AND($F$4=\"Version 1.2 OR+WA\",$D$4=\"Prescriptive\"),2,\n\nIF($I$4=\"CZ 1\",2,\nIF($I$4=\"CZ 2\",3,\nIF($I$4=\"CZ 3\",4,\nIF($I$4=\"CZ 4\",5,\nIF($I$4=\"CZ 4 C\",6,\nIF($I$4=\"CZ 5\",7,\nIF($I$4=\"CZ 6\",8,\nIF($I$4=\"CZ 7\",9,\nIF($I$4=\"CZ 8\",10,\"\"))))))))))","v":5}]
[null,"North Exterior","Dwelling","Floor Assembly","N/A",93,{"$f":"IFERROR(IF(AND($F$4=\"Version 1.2 OR+WA\",OR($I$4=\"CZ 1\",$I$4=\"CZ 2\",$I$4=\"CZ 3\",$I$4=\"CZ 4\",$I$4=\"CZ 7\",$I$4=\"CZ 8\")),\"N/A - Update CZ\",\n\nIF(Table5b[[#This Row],[Lookup Table Pt1]]=\"ESRefDesign_InsulationU_V1\",INDEX(INDIRECT(Table5b[[#This Row],[Lookup Table Pt1]]),Table5b[[#This Row],[Row Index]],Table5b[[#This Row],[Column Index]]),\nIF(Table5b[[#This Row],[Lookup Table Pt1]]=\"ESRefDesign_InsulationU_V11\",INDEX(INDIRECT(Table5b[[#This Row],[Lookup Table Pt1]]),Table5b[[#This Row],[Row Index]],Table5b[[#This Row],[Column Index]]),\nIF(Table5b[[#This Row],[Lookup Table Pt1]]=\"ESRefDesign_InsulationU_V12\",INDEX(INDIRECT(Table5b[[#This Row],[Lookup Table Pt1]]),Table5b[[#This Row],[Row Index]],2),\n\nIF(Table5b[[#This Row],[Lookup Table Pt1]]=\"IECC2009_RU\",INDEX(INDIRECT(Table5b[[#This Row],[Lookup Table Pt2]]),Table5b[[#This Row],[Row Index]],Table5b[[#This Row],[Column Index]]),\nIF(Table5b[[#This Row],[Lookup Table Pt1]]=\"IECC2009_OU\",INDEX(INDIRECT(Table5b[[#This Row],[Lookup Table Pt2]]),Table5b[[#This Row],[Row Index]],Table5b[[#This Row],[Column Index]]),\n\nIF(Table5b[[#This Row],[Lookup Table Pt1]]=\"IECC2012_RU\",INDEX(INDIRECT(Table5b[[#This Row],[Lookup Table Pt2]]),Table5b[[#This Row],[Row Index]],Table5b[[#This Row],[Column Index]]),\nIF(Table5b[[#This Row],[Lookup Table Pt1]]=\"IECC2012_OU\",INDEX(INDIRECT(Table5b[[#This Row],[Lookup Table Pt2]]),Table5b[[#This Row],[Row Index]],Table5b[[#This Row],[Column Index]]),\n\n\"\")))))))),\"\")","v":"U-0.033"},{"$f":"IFERROR(\nIF(LEFT(Table5b[[#This Row],[ENERGY STAR Requirement Values]],2)=\"U-\",Table5b[[#This Row],[ENERGY STAR Requirement Values]],\n\nIF(OR(Table5b[[#This Row],[Building Component]]=\"Slab Insulation\",Table5b[[#This Row],[Building Component]]=\"Slab-On-Grade Floor\",Table5b[[#This Row],[Building Component]]=\"Slab-On-Grade Floors\",Table5b[[#This Row],[Building Component]]=\"On-Grade & Below Grade Slab\",Table5b[[#This Row],[Building Component]]=\"Slab-on-Grade Floors\",Table5b[[#This Row],[Building Component]]=\"Slab-on-Grade Floor\"),\"\",\n\nIF(OR(Table5b[[#This Row],[ENERGY STAR Requirement Values]]=\"R-0\",Table5b[[#This Row],[ENERGY STAR Requirement Values]]=0,Table5b[[#This Row],[ENERGY STAR Requirement Values]]=\"C-1.140\"),\"U-0.36\",\nIF(OR(Table5b[[#This Row],[ENERGY STAR Requirement Values]]=\"R-7.5\",Table5b[[#This Row],[ENERGY STAR Requirement Values]]=7.5,Table5b[[#This Row],[ENERGY STAR Requirement Values]]=\"C-0.119\"),\"U-0.072\",\nIF(OR(Table5b[[#This Row],[ENERGY STAR Requirement Values]]=\"R-10\",Table5b[[#This Row],[ENERGY STAR Requirement Values]]=10,Table5b[[#This Row],[ENERGY STAR Requirement Values]]=\"C-0.092\"),\"U-0.059\",\nIF(OR(Table5b[[#This Row],[ENERGY STAR Requirement Values]]=\"R-15\",Table5b[[#This Row],[ENERGY STAR Requirement Values]]=15,Table5b[[#This Row],[ENERGY STAR Requirement Values]]=\"R-15 continuous or R-21 cavity\"),\"U-0.05\",\nIF(OR(Table5b[[#This Row],[ENERGY STAR Requirement Values]]=\"R-12.5\",Table5b[[#This Row],[ENERGY STAR Requirement Values]]=12.5,Table5b[[#This Row],[ENERGY STAR Requirement Values]]=\"C-0.075\"),\"U-0.054\",\nIF(OR(Table5b[[#This Row],[ENERGY STAR Requirement Values]]=\"R-21\",Table5b[[#This Row],[ENERGY STAR Requirement Values]]=21),\"U-0.056\",\nIF(OR(Table5b[[#This Row],[ENERGY STAR Requirement Values]]=\"R-38\",Table5b[[#This Row],[ENERGY STAR Requirement Values]]=38),\"U-0.028\",\nIF(OR(Table5b[[#This Row],[ENERGY STAR Requirement Values]]=\"R-49\",Table5b[[#This Row],[ENERGY STAR Requirement Values]]=49),\"U-0.026\",\n\nIF(LEFT(Table5b[[#This Row],[ENERGY STAR Requirement Values]],2)=\"F-\",\"\",\n\nIF(LEFT(Table5b[[#This Row],[ENERGY STAR Requirement Values]],1)=\"0\",CONCATENATE(\"U-\",Table5b[[#This Row],[ENERGY STAR Requirement Values]]),\n\nTable5b[[#This Row],[ENERGY STAR Requirement Values]])))))))))))),\"\")","v":"U-0.033"},6.4000000000000001E-2,"PASS","drywall,aluminum stud & batt, poly, sheathing, rigid continuous foam board, tyvek, vinyl siding","A4.2","A-50c","Yes","Yes",null,{"$f":"IF(AND(Table5b[[#This Row],[Dwelling or Common?]]=\"Dwelling\",$D$4=\"Prescriptive\",OR($F$4=\"Version 1\", $F$4=\"Version 1.1\")),\"BuildingComponents_ESRefList\",\nIF(AND(Table5b[[#This Row],[Dwelling or Common?]]=\"Dwelling\",$D$4=\"Prescriptive\",$F$4=\"Version 1.2 OR+WA\"),\"BuildingComponents_ESRefListV12\",\nIF(Table5b[[#This Row],[Dwelling or Common?]]=\"Dwelling\",\"BuildingComponents_IECCList\",\n\nIF(AND(Table5b[[#This Row],[Dwelling or Common?]]=\"Common\",$F$4=\"Version 1.2 OR+WA\",OR($D$4=\"Prescriptive\",$D$4=\"ERI\",$D$4=\"Title 24 - Dwelling Unit Models\")),\"BuildingComponents_ESRefListV12\",\n\nIF(AND(Table5b[[#This Row],[Dwelling or Common?]]=\"Common\",$D$4=\"Prescriptive\"),\"BuildingComponents_IECCList\",\nIF(AND(Table5b[[#This Row],[Dwelling or Common?]]=\"Common\",OR($D$4=\"ERI\",$D$4=\"Title 24 - Dwelling Unit Models\")),\"BuildingComponents_IECCList\",\n\nIF(AND(Table5b[[#This Row],[Dwelling or Common?]]=\"Common\",OR($D$4=\"ASHRAE\",$D$4=\"Title 24 - Whole Building Models\")),\"BuildingComponents_IECCList\",\n\"\")))))))","v":"BuildingComponents_ESRefList"},{"$f":"IF(OR(Table5b[[#This Row],[Building_Component_Lookup]]=\"BuildingComponents_ESRefList\",Table5b[[#This Row],[Building_Component_Lookup]]=\"BuildingComponents_ESRefListV12\"),\"ESRefNoCom\",\nIF(Table5b[[#This Row],[Building Component]]=\"Roofs\",\"Roof\",\nIF(Table5b[[#This Row],[Building Component]]=\"Walls, Above Grade\",\"WallAboveGrade\",\nIF(Table5b[[#This Row],[Building Component]]=\"Walls, Below Grade\",\"WallBelowGrade\",\nIF(Table5b[[#This Row],[Building Component]]=\"Floors\",\"Floor\",\nIF(Table5b[[#This Row],[Building Component]]=\"Slab-on-Grade Floors\",\"SlabOnGradeFloor\",\nIF(Table5b[[#This Row],[Building Component]]=\"Opaque Doors\",\"OpaqueDoor\",\"\")))))))","v":"ESRefNoCom"},{"$f":"IF(AND(Table5b[[#This Row],[Dwelling or Common?]]=\"Dwelling\",$F$4=\"Version 1\",$D$4=\"Prescriptive\"),\"ESRefDesign_InsulationU_V1\",\nIF(AND(Table5b[[#This Row],[Dwelling or Common?]]=\"Dwelling\",$F$4=\"Version 1.1\",$D$4=\"Prescriptive\"),\"ESRefDesign_InsulationU_V11\",\nIF(AND(Table5b[[#This Row],[Dwelling or Common?]]=\"Dwelling\",$F$4=\"Version 1.2 OR+WA\",$D$4=\"Prescriptive\"),\"ESRefDesign_InsulationU_V12\",\n\nIF(AND(Table5b[[#This Row],[Dwelling or Common?]]=\"Dwelling\",OR($F$4=\"Version 1\",$F$4=\"Version 1.1\",$F$4=\"Version 1.2 OR+WA\"),OR($D$4=\"ERI\",$D$4=\"ASHRAE\",$D$4=\"Title 24 - Whole Building Models\",$D$4=\"Title 24 - Dwelling Unit Models\")),\"IECC2009_RU\",\n\nIF(AND(Table5b[[#This Row],[Dwelling or Common?]]=\"Common\",$F$4=\"Version 1\",OR($D$4=\"Prescriptive\",$D$4=\"ERI\",$D$4=\"Title 24 - Dwelling Unit Models\",)),\"IECC2009_OU\",\nIF(AND(Table5b[[#This Row],[Dwelling or Common?]]=\"Common\",$F$4=\"Version 1.1\",OR($D$4=\"Prescriptive\",$D$4=\"ERI\",$D$4=\"Title 24 - Dwelling Unit Models\")),\"IECC2012_OU\",\nIF(AND(Table5b[[#This Row],[Dwelling or Common?]]=\"Common\",$F$4=\"Version 1.2 OR+WA\",OR($D$4=\"Prescriptive\",$D$4=\"ERI\",$D$4=\"Title 24 - Dwelling Unit Models\")),\"ESRefDesign_InsulationU_V12\",\n\nIF(AND(Table5b[[#This Row],[Dwelling or Common?]]=\"Common\",OR($D$4=\"ASHRAE\",$D$4=\"Title 24 - Whole Building Models\")),\"IECC2009_OU\",\n\n\"\"))))))))","v":"ESRefDesign_InsulationU_V1"},{"$f":"IF(Table5b[[#This Row],[Building Component]]=\"Slab Insulation\",\"Slab Insulation R-Value:\",\nIF(Table5b[[#This Row],[Building Component]]=\"Basement Wall Continuous Insulation\",\"Basement Wall Continuous Insulation R-Value:\",\nIF(Table5b[[#This Row],[Building Component]]=\"Floor Assembly\", \"Floor Assembly U-Factor:\",\nIF(Table5b[[#This Row],[Building Component]]=\"Wall Assembly\", \"Wall Assembly U-Factor:\",\nIF(Table5b[[#This Row],[Building Component]]=\"Ceiling Assembly\", \"Ceiling Assembly U-Factor:\",\n\nTable5b[[#This Row],[Lookup Table Pt1]]&\"_\"&Table5b[[#This Row],[Component_Lookup]])\n))))","v":"Floor Assembly U-Factor:"},{"$f":"IF(Table5b[[#This Row],[Lookup Table Pt2]]=\"Slab Insulation R-Value:\",1,\nIF(Table5b[[#This Row],[Lookup Table Pt2]]=\"Slab Insulation Depth (ft):\",2,\nIF(Table5b[[#This Row],[Lookup Table Pt2]]=\"Basement Wall Continuous Insulation R-Value:\",3,\nIF(Table5b[[#This Row],[Lookup Table Pt2]]=\"Floor Assembly U-Factor:\",4,\nIF(Table5b[[#This Row],[Lookup Table Pt2]]=\"Wall Assembly U-Factor:\",5,\nIF(Table5b[[#This Row],[Lookup Table Pt2]]=\"Ceiling Assembly U-Factor:\",6,\n\nIF(Table5b[[#This Row],[Building Component]]=\"Above-Grade Wall\",1,\nIF(Table5b[[#This Row],[Building Component]]=\"Ceiling\",2,\nIF(Table5b[[#This Row],[Building Component]]=\"Floor\",3,\nIF(Table5b[[#This Row],[Building Component]]=\"Basement Wall\",4,\nIF(Table5b[[#This Row],[Building Component]]=\"On-Grade & Below Grade Slab\",5,\n\nIF(Table5b[[#This Row],[Component Type\n(N/A for Prescriptive Path Dwelling Unit)]]=\"Insulation entirely above deck\",1,\nIF(Table5b[[#This Row],[Component Type\n(N/A for Prescriptive Path Dwelling Unit)]]=\"Metal buildings\",2,\nIF(Table5b[[#This Row],[Component Type\n(N/A for Prescriptive Path Dwelling Unit)]]=\"Attic and other\",3,\n\nIF(Table5b[[#This Row],[Component Type\n(N/A for Prescriptive Path Dwelling Unit)]]=\"Mass\",1,\nIF(Table5b[[#This Row],[Component Type\n(N/A for Prescriptive Path Dwelling Unit)]]=\"Metal building\",2,\nIF(Table5b[[#This Row],[Component Type\n(N/A for Prescriptive Path Dwelling Unit)]]=\"Metal framed\",3,\nIF(Table5b[[#This Row],[Component Type\n(N/A for Prescriptive Path Dwelling Unit)]]=\"Wood framed and other\",4,\n\nIF(Table5b[[#This Row],[Component Type\n(N/A for Prescriptive Path Dwelling Unit)]]=\"Below grade wall\",1,\n\nIF(Table5b[[#This Row],[Component Type\n(N/A for Prescriptive Path Dwelling Unit)]]=\"Mass\",1,\nIF(Table5b[[#This Row],[Component Type\n(N/A for Prescriptive Path Dwelling Unit)]]=\"Joist/framing\",2,\n\nIF(Table5b[[#This Row],[Component Type\n(N/A for Prescriptive Path Dwelling Unit)]]=\"Unheated slabs\",1,\nIF(Table5b[[#This Row],[Component Type\n(N/A for Prescriptive Path Dwelling Unit)]]=\"Heated slabs\",2,\n\nIF(Table5b[[#This Row],[Component Type\n(N/A for Prescriptive Path Dwelling Unit)]]=\"Swinging\",1,\nIF(Table5b[[#This Row],[Component Type\n(N/A for Prescriptive Path Dwelling Unit)]]=\"Roll-up or sliding\",2,\n\n\"ADD IN IECC TABLE INDEX VALUES\")))))))))))))))))))))))))","v":4},5]
[null,"Top Floor Beneath Patio","Dwelling","Wall Assembly","N/A",92,{"$f":"IFERROR(IF(AND($F$4=\"Version 1.2 OR+WA\",OR($I$4=\"CZ 1\",$I$4=\"CZ 2\",$I$4=\"CZ 3\",$I$4=\"CZ 4\",$I$4=\"CZ 7\",$I$4=\"CZ 8\")),\"N/A - Update CZ\",\n\nIF(Table5b[[#This Row],[Lookup Table Pt1]]=\"ESRefDesign_InsulationU_V1\",INDEX(INDIRECT(Table5b[[#This Row],[Lookup Table Pt1]]),Table5b[[#This Row],[Row Index]],Table5b[[#This Row],[Column Index]]),\nIF(Table5b[[#This Row],[Lookup Table Pt1]]=\"ESRefDesign_InsulationU_V11\",INDEX(INDIRECT(Table5b[[#This Row],[Lookup Table Pt1]]),Table5b[[#This Row],[Row Index]],Table5b[[#This Row],[Column Index]]),\nIF(Table5b[[#This Row],[Lookup Table Pt1]]=\"ESRefDesign_InsulationU_V12\",INDEX(INDIRECT(Table5b[[#This Row],[Lookup Table Pt1]]),Table5b[[#This Row],[Row Index]],2),\n\nIF(Table5b[[#This Row],[Lookup Table Pt1]]=\"IECC2009_RU\",INDEX(INDIRECT(Table5b[[#This Row],[Lookup Table Pt2]]),Table5b[[#This Row],[Row Index]],Table5b[[#This Row],[Column Index]]),\nIF(Table5b[[#This Row],[Lookup Table Pt1]]=\"IECC2009_OU\",INDEX(INDIRECT(Table5b[[#This Row],[Lookup Table Pt2]]),Table5b[[#This Row],[Row Index]],Table5b[[#This Row],[Column Index]]),\n\nIF(Table5b[[#This Row],[Lookup Table Pt1]]=\"IECC2012_RU\",INDEX(INDIRECT(Table5b[[#This Row],[Lookup Table Pt2]]),Table5b[[#This Row],[Row Index]],Table5b[[#This Row],[Column Index]]),\nIF(Table5b[[#This Row],[Lookup Table Pt1]]=\"IECC2012_OU\",INDEX(INDIRECT(Table5b[[#This Row],[Lookup Table Pt2]]),Table5b[[#This Row],[Row Index]],Table5b[[#This Row],[Column Index]]),\n\n\"\")))))))),\"\")","v":"U-0.064"},{"$f":"IFERROR(\nIF(LEFT(Table5b[[#This Row],[ENERGY STAR Requirement Values]],2)=\"U-\",Table5b[[#This Row],[ENERGY STAR Requirement Values]],\n\nIF(OR(Table5b[[#This Row],[Building Component]]=\"Slab Insulation\",Table5b[[#This Row],[Building Component]]=\"Slab-On-Grade Floor\",Table5b[[#This Row],[Building Component]]=\"Slab-On-Grade Floors\",Table5b[[#This Row],[Building Component]]=\"On-Grade & Below Grade Slab\",Table5b[[#This Row],[Building Component]]=\"Slab-on-Grade Floors\",Table5b[[#This Row],[Building Component]]=\"Slab-on-Grade Floor\"),\"\",\n\nIF(OR(Table5b[[#This Row],[ENERGY STAR Requirement Values]]=\"R-0\",Table5b[[#This Row],[ENERGY STAR Requirement Values]]=0,Table5b[[#This Row],[ENERGY STAR Requirement Values]]=\"C-1.140\"),\"U-0.36\",\nIF(OR(Table5b[[#This Row],[ENERGY STAR Requirement Values]]=\"R-7.5\",Table5b[[#This Row],[ENERGY STAR Requirement Values]]=7.5,Table5b[[#This Row],[ENERGY STAR Requirement Values]]=\"C-0.119\"),\"U-0.072\",\nIF(OR(Table5b[[#This Row],[ENERGY STAR Requirement Values]]=\"R-10\",Table5b[[#This Row],[ENERGY STAR Requirement Values]]=10,Table5b[[#This Row],[ENERGY STAR Requirement Values]]=\"C-0.092\"),\"U-0.059\",\nIF(OR(Table5b[[#This Row],[ENERGY STAR Requirement Values]]=\"R-15\",Table5b[[#This Row],[ENERGY STAR Requirement Values]]=15,Table5b[[#This Row],[ENERGY STAR Requirement Values]]=\"R-15 continuous or R-21 cavity\"),\"U-0.05\",\nIF(OR(Table5b[[#This Row],[ENERGY STAR Requirement Values]]=\"R-12.5\",Table5b[[#This Row],[ENERGY STAR Requirement Values]]=12.5,Table5b[[#This Row],[ENERGY STAR Requirement Values]]=\"C-0.075\"),\"U-0.054\",\nIF(OR(Table5b[[#This Row],[ENERGY STAR Requirement Values]]=\"R-21\",Table5b[[#This Row],[ENERGY STAR Requirement Values]]=21),\"U-0.056\",\nIF(OR(Table5b[[#This Row],[ENERGY STAR Requirement Values]]=\"R-38\",Table5b[[#This Row],[ENERGY STAR Requirement Values]]=38),\"U-0.028\",\nIF(OR(Table5b[[#This Row],[ENERGY STAR Requirement Values]]=\"R-49\",Table5b[[#This Row],[ENERGY STAR Requirement Values]]=49),\"U-0.026\",\n\nIF(LEFT(Table5b[[#This Row],[ENERGY STAR Requirement Values]],2)=\"F-\",\"\",\n\nIF(LEFT(Table5b[[#This Row],[ENERGY STAR Requirement Values]],1)=\"0\",CONCATENATE(\"U-\",Table5b[[#This Row],[ENERGY STAR Requirement Values]]),\n\nTable5b[[#This Row],[ENERGY STAR Requirement Values]])))))))))))),\"\")","v":"U-0.064"},"U-0.027","PASS","drywall, resilient channel, batt, open attic, roof deck, 4\" foam board, 18mil membrane, gravel, patio assembly","A2.2","A-51a","Yes","Yes",null,{"$f":"IF(AND(Table5b[[#This Row],[Dwelling or Common?]]=\"Dwelling\",$D$4=\"Prescriptive\",OR($F$4=\"Version 1\", $F$4=\"Version 1.1\")),\"BuildingComponents_ESRefList\",\nIF(AND(Table5b[[#This Row],[Dwelling or Common?]]=\"Dwelling\",$D$4=\"Prescriptive\",$F$4=\"Version 1.2 OR+WA\"),\"BuildingComponents_ESRefListV12\",\nIF(Table5b[[#This Row],[Dwelling or Common?]]=\"Dwelling\",\"BuildingComponents_IECCList\",\n\nIF(AND(Table5b[[#This Row],[Dwelling or Common?]]=\"Common\",$F$4=\"Version 1.2 OR+WA\",OR($D$4=\"Prescriptive\",$D$4=\"ERI\",$D$4=\"Title 24 - Dwelling Unit Models\")),\"BuildingComponents_ESRefListV12\",\n\nIF(AND(Table5b[[#This Row],[Dwelling or Common?]]=\"Common\",$D$4=\"Prescriptive\"),\"BuildingComponents_IECCList\",\nIF(AND(Table5b[[#This Row],[Dwelling or Common?]]=\"Common\",OR($D$4=\"ERI\",$D$4=\"Title 24 - Dwelling Unit Models\")),\"BuildingComponents_IECCList\",\n\nIF(AND(Table5b[[#This Row],[Dwelling or Common?]]=\"Common\",OR($D$4=\"ASHRAE\",$D$4=\"Title 24 - Whole Building Models\")),\"BuildingComponents_IECCList\",\n\"\")))))))","v":"BuildingComponents_ESRefList"},{"$f":"IF(OR(Table5b[[#This Row],[Building_Component_Lookup]]=\"BuildingComponents_ESRefList\",Table5b[[#This Row],[Building_Component_Lookup]]=\"BuildingComponents_ESRefListV12\"),\"ESRefNoCom\",\nIF(Table5b[[#This Row],[Building Component]]=\"Roofs\",\"Roof\",\nIF(Table5b[[#This Row],[Building Component]]=\"Walls, Above Grade\",\"WallAboveGrade\",\nIF(Table5b[[#This Row],[Building Component]]=\"Walls, Below Grade\",\"WallBelowGrade\",\nIF(Table5b[[#This Row],[Building Component]]=\"Floors\",\"Floor\",\nIF(Table5b[[#This Row],[Building Component]]=\"Slab-on-Grade Floors\",\"SlabOnGradeFloor\",\nIF(Table5b[[#This Row],[Building Component]]=\"Opaque Doors\",\"OpaqueDoor\",\"\")))))))","v":"ESRefNoCom"},{"$f":"IF(AND(Table5b[[#This Row],[Dwelling or Common?]]=\"Dwelling\",$F$4=\"Version 1\",$D$4=\"Prescriptive\"),\"ESRefDesign_InsulationU_V1\",\nIF(AND(Table5b[[#This Row],[Dwelling or Common?]]=\"Dwelling\",$F$4=\"Version 1.1\",$D$4=\"Prescriptive\"),\"ESRefDesign_InsulationU_V11\",\nIF(AND(Table5b[[#This Row],[Dwelling or Common?]]=\"Dwelling\",$F$4=\"Version 1.2 OR+WA\",$D$4=\"Prescriptive\"),\"ESRefDesign_InsulationU_V12\",\n\nIF(AND(Table5b[[#This Row],[Dwelling or Common?]]=\"Dwelling\",OR($F$4=\"Version 1\",$F$4=\"Version 1.1\",$F$4=\"Version 1.2 OR+WA\"),OR($D$4=\"ERI\",$D$4=\"ASHRAE\",$D$4=\"Title 24 - Whole Building Models\",$D$4=\"Title 24 - Dwelling Unit Models\")),\"IECC2009_RU\",\n\nIF(AND(Table5b[[#This Row],[Dwelling or Common?]]=\"Common\",$F$4=\"Version 1\",OR($D$4=\"Prescriptive\",$D$4=\"ERI\",$D$4=\"Title 24 - Dwelling Unit Models\",)),\"IECC2009_OU\",\nIF(AND(Table5b[[#This Row],[Dwelling or Common?]]=\"Common\",$F$4=\"Version 1.1\",OR($D$4=\"Prescriptive\",$D$4=\"ERI\",$D$4=\"Title 24 - Dwelling Unit Models\")),\"IECC2012_OU\",\nIF(AND(Table5b[[#This Row],[Dwelling or Common?]]=\"Common\",$F$4=\"Version 1.2 OR+WA\",OR($D$4=\"Prescriptive\",$D$4=\"ERI\",$D$4=\"Title 24 - Dwelling Unit Models\")),\"ESRefDesign_InsulationU_V12\",\n\nIF(AND(Table5b[[#This Row],[Dwelling or Common?]]=\"Common\",OR($D$4=\"ASHRAE\",$D$4=\"Title 24 - Whole Building Models\")),\"IECC2009_OU\",\n\n\"\"))))))))","v":"ESRefDesign_InsulationU_V1"},{"$f":"IF(Table5b[[#This Row],[Building Component]]=\"Slab Insulation\",\"Slab Insulation R-Value:\",\nIF(Table5b[[#This Row],[Building Component]]=\"Basement Wall Continuous Insulation\",\"Basement Wall Continuous Insulation R-Value:\",\nIF(Table5b[[#This Row],[Building Component]]=\"Floor Assembly\", \"Floor Assembly U-Factor:\",\nIF(Table5b[[#This Row],[Building Component]]=\"Wall Assembly\", \"Wall Assembly U-Factor:\",\nIF(Table5b[[#This Row],[Building Component]]=\"Ceiling Assembly\", \"Ceiling Assembly U-Factor:\",\n\nTable5b[[#This Row],[Lookup Table Pt1]]&\"_\"&Table5b[[#This Row],[Component_Lookup]])\n))))","v":"Wall Assembly U-Factor:"},{"$f":"IF(Table5b[[#This Row],[Lookup Table Pt2]]=\"Slab Insulation R-Value:\",1,\nIF(Table5b[[#This Row],[Lookup Table Pt2]]=\"Slab Insulation Depth (ft):\",2,\nIF(Table5b[[#This Row],[Lookup Table Pt2]]=\"Basement Wall Continuous Insulation R-Value:\",3,\nIF(Table5b[[#This Row],[Lookup Table Pt2]]=\"Floor Assembly U-Factor:\",4,\nIF(Table5b[[#This Row],[Lookup Table Pt2]]=\"Wall Assembly U-Factor:\",5,\nIF(Table5b[[#This Row],[Lookup Table Pt2]]=\"Ceiling Assembly U-Factor:\",6,\n\nIF(Table5b[[#This Row],[Building Component]]=\"Above-Grade Wall\",1,\nIF(Table5b[[#This Row],[Building Component]]=\"Ceiling\",2,\nIF(Table5b[[#This Row],[Building Component]]=\"Floor\",3,\nIF(Table5b[[#This Row],[Building Component]]=\"Basement Wall\",4,\nIF(Table5b[[#This Row],[Building Component]]=\"On-Grade & Below Grade Slab\",5,\n\nIF(Table5b[[#This Row],[Component Type\n(N/A for Prescriptive Path Dwelling Unit)]]=\"Insulation entirely above deck\",1,\nIF(Table5b[[#This Row],[Component Type\n(N/A for Prescriptive Path Dwelling Unit)]]=\"Metal buildings\",2,\nIF(Table5b[[#This Row],[Component Type\n(N/A for Prescriptive Path Dwelling Unit)]]=\"Attic and other\",3,\n\nIF(Table5b[[#This Row],[Component Type\n(N/A for Prescriptive Path Dwelling Unit)]]=\"Mass\",1,\nIF(Table5b[[#This Row],[Component Type\n(N/A for Prescriptive Path Dwelling Unit)]]=\"Metal building\",2,\nIF(Table5b[[#This Row],[Component Type\n(N/A for Prescriptive Path Dwelling Unit)]]=\"Metal framed\",3,\nIF(Table5b[[#This Row],[Component Type\n(N/A for Prescriptive Path Dwelling Unit)]]=\"Wood framed and other\",4,\n\nIF(Table5b[[#This Row],[Component Type\n(N/A for Prescriptive Path Dwelling Unit)]]=\"Below grade wall\",1,\n\nIF(Table5b[[#This Row],[Component Type\n(N/A for Prescriptive Path Dwelling Unit)]]=\"Mass\",1,\nIF(Table5b[[#This Row],[Component Type\n(N/A for Prescriptive Path Dwelling Unit)]]=\"Joist/framing\",2,\n\nIF(Table5b[[#This Row],[Component Type\n(N/A for Prescriptive Path Dwelling Unit)]]=\"Unheated slabs\",1,\nIF(Table5b[[#This Row],[Component Type\n(N/A for Prescriptive Path Dwelling Unit)]]=\"Heated slabs\",2,\n\nIF(Table5b[[#This Row],[Component Type\n(N/A for Prescriptive Path Dwelling Unit)]]=\"Swinging\",1,\nIF(Table5b[[#This Row],[Component Type\n(N/A for Prescriptive Path Dwelling Unit)]]=\"Roll-up or sliding\",2,\n\n\"ADD IN IECC TABLE INDEX VALUES\")))))))))))))))))))))))))","v":5},5]
[null,"Ground Floor Foundation","Common","Roofs","Insulation entirely above deck",98,{"$f":"IFERROR(IF(AND($F$4=\"Version 1.2 OR+WA\",OR($I$4=\"CZ 1\",$I$4=\"CZ 2\",$I$4=\"CZ 3\",$I$4=\"CZ 4\",$I$4=\"CZ 7\",$I$4=\"CZ 8\")),\"N/A - Update CZ\",\n\nIF(Table5b[[#This Row],[Lookup Table Pt1]]=\"ESRefDesign_InsulationU_V1\",INDEX(INDIRECT(Table5b[[#This Row],[Lookup Table Pt1]]),Table5b[[#This Row],[Row Index]],Table5b[[#This Row],[Column Index]]),\nIF(Table5b[[#This Row],[Lookup Table Pt1]]=\"ESRefDesign_InsulationU_V11\",INDEX(INDIRECT(Table5b[[#This Row],[Lookup Table Pt1]]),Table5b[[#This Row],[Row Index]],Table5b[[#This Row],[Column Index]]),\nIF(Table5b[[#This Row],[Lookup Table Pt1]]=\"ESRefDesign_InsulationU_V12\",INDEX(INDIRECT(Table5b[[#This Row],[Lookup Table Pt1]]),Table5b[[#This Row],[Row Index]],2),\n\nIF(Table5b[[#This Row],[Lookup Table Pt1]]=\"IECC2009_RU\",INDEX(INDIRECT(Table5b[[#This Row],[Lookup Table Pt2]]),Table5b[[#This Row],[Row Index]],Table5b[[#This Row],[Column Index]]),\nIF(Table5b[[#This Row],[Lookup Table Pt1]]=\"IECC2009_OU\",INDEX(INDIRECT(Table5b[[#This Row],[Lookup Table Pt2]]),Table5b[[#This Row],[Row Index]],Table5b[[#This Row],[Column Index]]),\n\nIF(Table5b[[#This Row],[Lookup Table Pt1]]=\"IECC2012_RU\",INDEX(INDIRECT(Table5b[[#This Row],[Lookup Table Pt2]]),Table5b[[#This Row],[Row Index]],Table5b[[#This Row],[Column Index]]),\nIF(Table5b[[#This Row],[Lookup Table Pt1]]=\"IECC2012_OU\",INDEX(INDIRECT(Table5b[[#This Row],[Lookup Table Pt2]]),Table5b[[#This Row],[Row Index]],Table5b[[#This Row],[Column Index]]),\n\n\"\")))))))),\"\")","v":"U-0.048"},{"$f":"IFERROR(\nIF(LEFT(Table5b[[#This Row],[ENERGY STAR Requirement Values]],2)=\"U-\",Table5b[[#This Row],[ENERGY STAR Requirement Values]],\n\nIF(OR(Table5b[[#This Row],[Building Component]]=\"Slab Insulation\",Table5b[[#This Row],[Building Component]]=\"Slab-On-Grade Floor\",Table5b[[#This Row],[Building Component]]=\"Slab-On-Grade Floors\",Table5b[[#This Row],[Building Component]]=\"On-Grade & Below Grade Slab\",Table5b[[#This Row],[Building Component]]=\"Slab-on-Grade Floors\",Table5b[[#This Row],[Building Component]]=\"Slab-on-Grade Floor\"),\"\",\n\nIF(OR(Table5b[[#This Row],[ENERGY STAR Requirement Values]]=\"R-0\",Table5b[[#This Row],[ENERGY STAR Requirement Values]]=0,Table5b[[#This Row],[ENERGY STAR Requirement Values]]=\"C-1.140\"),\"U-0.36\",\nIF(OR(Table5b[[#This Row],[ENERGY STAR Requirement Values]]=\"R-7.5\",Table5b[[#This Row],[ENERGY STAR Requirement Values]]=7.5,Table5b[[#This Row],[ENERGY STAR Requirement Values]]=\"C-0.119\"),\"U-0.072\",\nIF(OR(Table5b[[#This Row],[ENERGY STAR Requirement Values]]=\"R-10\",Table5b[[#This Row],[ENERGY STAR Requirement Values]]=10,Table5b[[#This Row],[ENERGY STAR Requirement Values]]=\"C-0.092\"),\"U-0.059\",\nIF(OR(Table5b[[#This Row],[ENERGY STAR Requirement Values]]=\"R-15\",Table5b[[#This Row],[ENERGY STAR Requirement Values]]=15,Table5b[[#This Row],[ENERGY STAR Requirement Values]]=\"R-15 continuous or R-21 cavity\"),\"U-0.05\",\nIF(OR(Table5b[[#This Row],[ENERGY STAR Requirement Values]]=\"R-12.5\",Table5b[[#This Row],[ENERGY STAR Requirement Values]]=12.5,Table5b[[#This Row],[ENERGY STAR Requirement Values]]=\"C-0.075\"),\"U-0.054\",\nIF(OR(Table5b[[#This Row],[ENERGY STAR Requirement Values]]=\"R-21\",Table5b[[#This Row],[ENERGY STAR Requirement Values]]=21),\"U-0.056\",\nIF(OR(Table5b[[#This Row],[ENERGY STAR Requirement Values]]=\"R-38\",Table5b[[#This Row],[ENERGY STAR Requirement Values]]=38),\"U-0.028\",\nIF(OR(Table5b[[#This Row],[ENERGY STAR Requirement Values]]=\"R-49\",Table5b[[#This Row],[ENERGY STAR Requirement Values]]=49),\"U-0.026\",\n\nIF(LEFT(Table5b[[#This Row],[ENERGY STAR Requirement Values]],2)=\"F-\",\"\",\n\nIF(LEFT(Table5b[[#This Row],[ENERGY STAR Requirement Values]],1)=\"0\",CONCATENATE(\"U-\",Table5b[[#This Row],[ENERGY STAR Requirement Values]]),\n\nTable5b[[#This Row],[ENERGY STAR Requirement Values]])))))))))))),\"\")","v":"U-0.048"},0,"FAIL","aluminum Stud, batt, vapor poly, 10\" concrete, liquid applied seal, gravel, silt screen, below grad back-fill. ","A5.2","A-51b","Yes","Yes",null,{"$f":"IF(AND(Table5b[[#This Row],[Dwelling or Common?]]=\"Dwelling\",$D$4=\"Prescriptive\",OR($F$4=\"Version 1\", $F$4=\"Version 1.1\")),\"BuildingComponents_ESRefList\",\nIF(AND(Table5b[[#This Row],[Dwelling or Common?]]=\"Dwelling\",$D$4=\"Prescriptive\",$F$4=\"Version 1.2 OR+WA\"),\"BuildingComponents_ESRefListV12\",\nIF(Table5b[[#This Row],[Dwelling or Common?]]=\"Dwelling\",\"BuildingComponents_IECCList\",\n\nIF(AND(Table5b[[#This Row],[Dwelling or Common?]]=\"Common\",$F$4=\"Version 1.2 OR+WA\",OR($D$4=\"Prescriptive\",$D$4=\"ERI\",$D$4=\"Title 24 - Dwelling Unit Models\")),\"BuildingComponents_ESRefListV12\",\n\nIF(AND(Table5b[[#This Row],[Dwelling or Common?]]=\"Common\",$D$4=\"Prescriptive\"),\"BuildingComponents_IECCList\",\nIF(AND(Table5b[[#This Row],[Dwelling or Common?]]=\"Common\",OR($D$4=\"ERI\",$D$4=\"Title 24 - Dwelling Unit Models\")),\"BuildingComponents_IECCList\",\n\nIF(AND(Table5b[[#This Row],[Dwelling or Common?]]=\"Common\",OR($D$4=\"ASHRAE\",$D$4=\"Title 24 - Whole Building Models\")),\"BuildingComponents_IECCList\",\n\"\")))))))","v":"BuildingComponents_IECCList"},{"$f":"IF(OR(Table5b[[#This Row],[Building_Component_Lookup]]=\"BuildingComponents_ESRefList\",Table5b[[#This Row],[Building_Component_Lookup]]=\"BuildingComponents_ESRefListV12\"),\"ESRefNoCom\",\nIF(Table5b[[#This Row],[Building Component]]=\"Roofs\",\"Roof\",\nIF(Table5b[[#This Row],[Building Component]]=\"Walls, Above Grade\",\"WallAboveGrade\",\nIF(Table5b[[#This Row],[Building Component]]=\"Walls, Below Grade\",\"WallBelowGrade\",\nIF(Table5b[[#This Row],[Building Component]]=\"Floors\",\"Floor\",\nIF(Table5b[[#This Row],[Building Component]]=\"Slab-on-Grade Floors\",\"SlabOnGradeFloor\",\nIF(Table5b[[#This Row],[Building Component]]=\"Opaque Doors\",\"OpaqueDoor\",\"\")))))))","v":"Roof"},{"$f":"IF(AND(Table5b[[#This Row],[Dwelling or Common?]]=\"Dwelling\",$F$4=\"Version 1\",$D$4=\"Prescriptive\"),\"ESRefDesign_InsulationU_V1\",\nIF(AND(Table5b[[#This Row],[Dwelling or Common?]]=\"Dwelling\",$F$4=\"Version 1.1\",$D$4=\"Prescriptive\"),\"ESRefDesign_InsulationU_V11\",\nIF(AND(Table5b[[#This Row],[Dwelling or Common?]]=\"Dwelling\",$F$4=\"Version 1.2 OR+WA\",$D$4=\"Prescriptive\"),\"ESRefDesign_InsulationU_V12\",\n\nIF(AND(Table5b[[#This Row],[Dwelling or Common?]]=\"Dwelling\",OR($F$4=\"Version 1\",$F$4=\"Version 1.1\",$F$4=\"Version 1.2 OR+WA\"),OR($D$4=\"ERI\",$D$4=\"ASHRAE\",$D$4=\"Title 24 - Whole Building Models\",$D$4=\"Title 24 - Dwelling Unit Models\")),\"IECC2009_RU\",\n\nIF(AND(Table5b[[#This Row],[Dwelling or Common?]]=\"Common\",$F$4=\"Version 1\",OR($D$4=\"Prescriptive\",$D$4=\"ERI\",$D$4=\"Title 24 - Dwelling Unit Models\",)),\"IECC2009_OU\",\nIF(AND(Table5b[[#This Row],[Dwelling or Common?]]=\"Common\",$F$4=\"Version 1.1\",OR($D$4=\"Prescriptive\",$D$4=\"ERI\",$D$4=\"Title 24 - Dwelling Unit Models\")),\"IECC2012_OU\",\nIF(AND(Table5b[[#This Row],[Dwelling or Common?]]=\"Common\",$F$4=\"Version 1.2 OR+WA\",OR($D$4=\"Prescriptive\",$D$4=\"ERI\",$D$4=\"Title 24 - Dwelling Unit Models\")),\"ESRefDesign_InsulationU_V12\",\n\nIF(AND(Table5b[[#This Row],[Dwelling or Common?]]=\"Common\",OR($D$4=\"ASHRAE\",$D$4=\"Title 24 - Whole Building Models\")),\"IECC2009_OU\",\n\n\"\"))))))))","v":"IECC2009_OU"},{"$f":"IF(Table5b[[#This Row],[Building Component]]=\"Slab Insulation\",\"Slab Insulation R-Value:\",\nIF(Table5b[[#This Row],[Building Component]]=\"Basement Wall Continuous Insulation\",\"Basement Wall Continuous Insulation R-Value:\",\nIF(Table5b[[#This Row],[Building Component]]=\"Floor Assembly\", \"Floor Assembly U-Factor:\",\nIF(Table5b[[#This Row],[Building Component]]=\"Wall Assembly\", \"Wall Assembly U-Factor:\",\nIF(Table5b[[#This Row],[Building Component]]=\"Ceiling Assembly\", \"Ceiling Assembly U-Factor:\",\n\nTable5b[[#This Row],[Lookup Table Pt1]]&\"_\"&Table5b[[#This Row],[Component_Lookup]])\n))))","v":"IECC2009_OU_Roof"},{"$f":"IF(Table5b[[#This Row],[Lookup Table Pt2]]=\"Slab Insulation R-Value:\",1,\nIF(Table5b[[#This Row],[Lookup Table Pt2]]=\"Slab Insulation Depth (ft):\",2,\nIF(Table5b[[#This Row],[Lookup Table Pt2]]=\"Basement Wall Continuous Insulation R-Value:\",3,\nIF(Table5b[[#This Row],[Lookup Table Pt2]]=\"Floor Assembly U-Factor:\",4,\nIF(Table5b[[#This Row],[Lookup Table Pt2]]=\"Wall Assembly U-Factor:\",5,\nIF(Table5b[[#This Row],[Lookup Table Pt2]]=\"Ceiling Assembly U-Factor:\",6,\n\nIF(Table5b[[#This Row],[Building Component]]=\"Above-Grade Wall\",1,\nIF(Table5b[[#This Row],[Building Component]]=\"Ceiling\",2,\nIF(Table5b[[#This Row],[Building Component]]=\"Floor\",3,\nIF(Table5b[[#This Row],[Building Component]]=\"Basement Wall\",4,\nIF(Table5b[[#This Row],[Building Component]]=\"On-Grade & Below Grade Slab\",5,\n\nIF(Table5b[[#This Row],[Component Type\n(N/A for Prescriptive Path Dwelling Unit)]]=\"Insulation entirely above deck\",1,\nIF(Table5b[[#This Row],[Component Type\n(N/A for Prescriptive Path Dwelling Unit)]]=\"Metal buildings\",2,\nIF(Table5b[[#This Row],[Component Type\n(N/A for Prescriptive Path Dwelling Unit)]]=\"Attic and other\",3,\n\nIF(Table5b[[#This Row],[Component Type\n(N/A for Prescriptive Path Dwelling Unit)]]=\"Mass\",1,\nIF(Table5b[[#This Row],[Component Type\n(N/A for Prescriptive Path Dwelling Unit)]]=\"Metal building\",2,\nIF(Table5b[[#This Row],[Component Type\n(N/A for Prescriptive Path Dwelling Unit)]]=\"Metal framed\",3,\nIF(Table5b[[#This Row],[Component Type\n(N/A for Prescriptive Path Dwelling Unit)]]=\"Wood framed and other\",4,\n\nIF(Table5b[[#This Row],[Component Type\n(N/A for Prescriptive Path Dwelling Unit)]]=\"Below grade wall\",1,\n\nIF(Table5b[[#This Row],[Component Type\n(N/A for Prescriptive Path Dwelling Unit)]]=\"Mass\",1,\nIF(Table5b[[#This Row],[Component Type\n(N/A for Prescriptive Path Dwelling Unit)]]=\"Joist/framing\",2,\n\nIF(Table5b[[#This Row],[Component Type\n(N/A for Prescriptive Path Dwelling Unit)]]=\"Unheated slabs\",1,\nIF(Table5b[[#This Row],[Component Type\n(N/A for Prescriptive Path Dwelling Unit)]]=\"Heated slabs\",2,\n\nIF(Table5b[[#This Row],[Component Type\n(N/A for Prescriptive Path Dwelling Unit)]]=\"Swinging\",1,\nIF(Table5b[[#This Row],[Component Type\n(N/A for Prescriptive Path Dwelling Unit)]]=\"Roll-up or sliding\",2,\n\n\"ADD IN IECC TABLE INDEX VALUES\")))))))))))))))))))))))))","v":1},5]
[null,"Top Floor Beneath Roof Deck","Common","Walls, Above Grade","Metal framed",100,{"$f":"IFERROR(IF(AND($F$4=\"Version 1.2 OR+WA\",OR($I$4=\"CZ 1\",$I$4=\"CZ 2\",$I$4=\"CZ 3\",$I$4=\"CZ 4\",$I$4=\"CZ 7\",$I$4=\"CZ 8\")),\"N/A - Update CZ\",\n\nIF(Table5b[[#This Row],[Lookup Table Pt1]]=\"ESRefDesign_InsulationU_V1\",INDEX(INDIRECT(Table5b[[#This Row],[Lookup Table Pt1]]),Table5b[[#This Row],[Row Index]],Table5b[[#This Row],[Column Index]]),\nIF(Table5b[[#This Row],[Lookup Table Pt1]]=\"ESRefDesign_InsulationU_V11\",INDEX(INDIRECT(Table5b[[#This Row],[Lookup Table Pt1]]),Table5b[[#This Row],[Row Index]],Table5b[[#This Row],[Column Index]]),\nIF(Table5b[[#This Row],[Lookup Table Pt1]]=\"ESRefDesign_InsulationU_V12\",INDEX(INDIRECT(Table5b[[#This Row],[Lookup Table Pt1]]),Table5b[[#This Row],[Row Index]],2),\n\nIF(Table5b[[#This Row],[Lookup Table Pt1]]=\"IECC2009_RU\",INDEX(INDIRECT(Table5b[[#This Row],[Lookup Table Pt2]]),Table5b[[#This Row],[Row Index]],Table5b[[#This Row],[Column Index]]),\nIF(Table5b[[#This Row],[Lookup Table Pt1]]=\"IECC2009_OU\",INDEX(INDIRECT(Table5b[[#This Row],[Lookup Table Pt2]]),Table5b[[#This Row],[Row Index]],Table5b[[#This Row],[Column Index]]),\n\nIF(Table5b[[#This Row],[Lookup Table Pt1]]=\"IECC2012_RU\",INDEX(INDIRECT(Table5b[[#This Row],[Lookup Table Pt2]]),Table5b[[#This Row],[Row Index]],Table5b[[#This Row],[Column Index]]),\nIF(Table5b[[#This Row],[Lookup Table Pt1]]=\"IECC2012_OU\",INDEX(INDIRECT(Table5b[[#This Row],[Lookup Table Pt2]]),Table5b[[#This Row],[Row Index]],Table5b[[#This Row],[Column Index]]),\n\n\"\")))))))),\"\")","v":"U-0.064"},{"$f":"IFERROR(\nIF(LEFT(Table5b[[#This Row],[ENERGY STAR Requirement Values]],2)=\"U-\",Table5b[[#This Row],[ENERGY STAR Requirement Values]],\n\nIF(OR(Table5b[[#This Row],[Building Component]]=\"Slab Insulation\",Table5b[[#This Row],[Building Component]]=\"Slab-On-Grade Floor\",Table5b[[#This Row],[Building Component]]=\"Slab-On-Grade Floors\",Table5b[[#This Row],[Building Component]]=\"On-Grade & Below Grade Slab\",Table5b[[#This Row],[Building Component]]=\"Slab-on-Grade Floors\",Table5b[[#This Row],[Building Component]]=\"Slab-on-Grade Floor\"),\"\",\n\nIF(OR(Table5b[[#This Row],[ENERGY STAR Requirement Values]]=\"R-0\",Table5b[[#This Row],[ENERGY STAR Requirement Values]]=0,Table5b[[#This Row],[ENERGY STAR Requirement Values]]=\"C-1.140\"),\"U-0.36\",\nIF(OR(Table5b[[#This Row],[ENERGY STAR Requirement Values]]=\"R-7.5\",Table5b[[#This Row],[ENERGY STAR Requirement Values]]=7.5,Table5b[[#This Row],[ENERGY STAR Requirement Values]]=\"C-0.119\"),\"U-0.072\",\nIF(OR(Table5b[[#This Row],[ENERGY STAR Requirement Values]]=\"R-10\",Table5b[[#This Row],[ENERGY STAR Requirement Values]]=10,Table5b[[#This Row],[ENERGY STAR Requirement Values]]=\"C-0.092\"),\"U-0.059\",\nIF(OR(Table5b[[#This Row],[ENERGY STAR Requirement Values]]=\"R-15\",Table5b[[#This Row],[ENERGY STAR Requirement Values]]=15,Table5b[[#This Row],[ENERGY STAR Requirement Values]]=\"R-15 continuous or R-21 cavity\"),\"U-0.05\",\nIF(OR(Table5b[[#This Row],[ENERGY STAR Requirement Values]]=\"R-12.5\",Table5b[[#This Row],[ENERGY STAR Requirement Values]]=12.5,Table5b[[#This Row],[ENERGY STAR Requirement Values]]=\"C-0.075\"),\"U-0.054\",\nIF(OR(Table5b[[#This Row],[ENERGY STAR Requirement Values]]=\"R-21\",Table5b[[#This Row],[ENERGY STAR Requirement Values]]=21),\"U-0.056\",\nIF(OR(Table5b[[#This Row],[ENERGY STAR Requirement Values]]=\"R-38\",Table5b[[#This Row],[ENERGY STAR Requirement Values]]=38),\"U-0.028\",\nIF(OR(Table5b[[#This Row],[ENERGY STAR Requirement Values]]=\"R-49\",Table5b[[#This Row],[ENERGY STAR Requirement Values]]=49),\"U-0.026\",\n\nIF(LEFT(Table5b[[#This Row],[ENERGY STAR Requirement Values]],2)=\"F-\",\"\",\n\nIF(LEFT(Table5b[[#This Row],[ENERGY STAR Requirement Values]],1)=\"0\",CONCATENATE(\"U-\",Table5b[[#This Row],[ENERGY STAR Requirement Values]]),\n\nTable5b[[#This Row],[ENERGY STAR Requirement Values]])))))))))))),\"\")","v":"U-0.064"},2.7E-2,"FAIL","drywall, resilient channel, batt, open attic, roof deck, 4\" foam board, 18mil membrane","A2.2","A-51a","Yes","No",null,{"$f":"IF(AND(Table5b[[#This Row],[Dwelling or Common?]]=\"Dwelling\",$D$4=\"Prescriptive\",OR($F$4=\"Version 1\", $F$4=\"Version 1.1\")),\"BuildingComponents_ESRefList\",\nIF(AND(Table5b[[#This Row],[Dwelling or Common?]]=\"Dwelling\",$D$4=\"Prescriptive\",$F$4=\"Version 1.2 OR+WA\"),\"BuildingComponents_ESRefListV12\",\nIF(Table5b[[#This Row],[Dwelling or Common?]]=\"Dwelling\",\"BuildingComponents_IECCList\",\n\nIF(AND(Table5b[[#This Row],[Dwelling or Common?]]=\"Common\",$F$4=\"Version 1.2 OR+WA\",OR($D$4=\"Prescriptive\",$D$4=\"ERI\",$D$4=\"Title 24 - Dwelling Unit Models\")),\"BuildingComponents_ESRefListV12\",\n\nIF(AND(Table5b[[#This Row],[Dwelling or Common?]]=\"Common\",$D$4=\"Prescriptive\"),\"BuildingComponents_IECCList\",\nIF(AND(Table5b[[#This Row],[Dwelling or Common?]]=\"Common\",OR($D$4=\"ERI\",$D$4=\"Title 24 - Dwelling Unit Models\")),\"BuildingComponents_IECCList\",\n\nIF(AND(Table5b[[#This Row],[Dwelling or Common?]]=\"Common\",OR($D$4=\"ASHRAE\",$D$4=\"Title 24 - Whole Building Models\")),\"BuildingComponents_IECCList\",\n\"\")))))))","v":"BuildingComponents_IECCList"},{"$f":"IF(OR(Table5b[[#This Row],[Building_Component_Lookup]]=\"BuildingComponents_ESRefList\",Table5b[[#This Row],[Building_Component_Lookup]]=\"BuildingComponents_ESRefListV12\"),\"ESRefNoCom\",\nIF(Table5b[[#This Row],[Building Component]]=\"Roofs\",\"Roof\",\nIF(Table5b[[#This Row],[Building Component]]=\"Walls, Above Grade\",\"WallAboveGrade\",\nIF(Table5b[[#This Row],[Building Component]]=\"Walls, Below Grade\",\"WallBelowGrade\",\nIF(Table5b[[#This Row],[Building Component]]=\"Floors\",\"Floor\",\nIF(Table5b[[#This Row],[Building Component]]=\"Slab-on-Grade Floors\",\"SlabOnGradeFloor\",\nIF(Table5b[[#This Row],[Building Component]]=\"Opaque Doors\",\"OpaqueDoor\",\"\")))))))","v":"WallAboveGrade"},{"$f":"IF(AND(Table5b[[#This Row],[Dwelling or Common?]]=\"Dwelling\",$F$4=\"Version 1\",$D$4=\"Prescriptive\"),\"ESRefDesign_InsulationU_V1\",\nIF(AND(Table5b[[#This Row],[Dwelling or Common?]]=\"Dwelling\",$F$4=\"Version 1.1\",$D$4=\"Prescriptive\"),\"ESRefDesign_InsulationU_V11\",\nIF(AND(Table5b[[#This Row],[Dwelling or Common?]]=\"Dwelling\",$F$4=\"Version 1.2 OR+WA\",$D$4=\"Prescriptive\"),\"ESRefDesign_InsulationU_V12\",\n\nIF(AND(Table5b[[#This Row],[Dwelling or Common?]]=\"Dwelling\",OR($F$4=\"Version 1\",$F$4=\"Version 1.1\",$F$4=\"Version 1.2 OR+WA\"),OR($D$4=\"ERI\",$D$4=\"ASHRAE\",$D$4=\"Title 24 - Whole Building Models\",$D$4=\"Title 24 - Dwelling Unit Models\")),\"IECC2009_RU\",\n\nIF(AND(Table5b[[#This Row],[Dwelling or Common?]]=\"Common\",$F$4=\"Version 1\",OR($D$4=\"Prescriptive\",$D$4=\"ERI\",$D$4=\"Title 24 - Dwelling Unit Models\",)),\"IECC2009_OU\",\nIF(AND(Table5b[[#This Row],[Dwelling or Common?]]=\"Common\",$F$4=\"Version 1.1\",OR($D$4=\"Prescriptive\",$D$4=\"ERI\",$D$4=\"Title 24 - Dwelling Unit Models\")),\"IECC2012_OU\",\nIF(AND(Table5b[[#This Row],[Dwelling or Common?]]=\"Common\",$F$4=\"Version 1.2 OR+WA\",OR($D$4=\"Prescriptive\",$D$4=\"ERI\",$D$4=\"Title 24 - Dwelling Unit Models\")),\"ESRefDesign_InsulationU_V12\",\n\nIF(AND(Table5b[[#This Row],[Dwelling or Common?]]=\"Common\",OR($D$4=\"ASHRAE\",$D$4=\"Title 24 - Whole Building Models\")),\"IECC2009_OU\",\n\n\"\"))))))))","v":"IECC2009_OU"},{"$f":"IF(Table5b[[#This Row],[Building Component]]=\"Slab Insulation\",\"Slab Insulation R-Value:\",\nIF(Table5b[[#This Row],[Building Component]]=\"Basement Wall Continuous Insulation\",\"Basement Wall Continuous Insulation R-Value:\",\nIF(Table5b[[#This Row],[Building Component]]=\"Floor Assembly\", \"Floor Assembly U-Factor:\",\nIF(Table5b[[#This Row],[Building Component]]=\"Wall Assembly\", \"Wall Assembly U-Factor:\",\nIF(Table5b[[#This Row],[Building Component]]=\"Ceiling Assembly\", \"Ceiling Assembly U-Factor:\",\n\nTable5b[[#This Row],[Lookup Table Pt1]]&\"_\"&Table5b[[#This Row],[Component_Lookup]])\n))))","v":"IECC2009_OU_WallAboveGrade"},{"$f":"IF(Table5b[[#This Row],[Lookup Table Pt2]]=\"Slab Insulation R-Value:\",1,\nIF(Table5b[[#This Row],[Lookup Table Pt2]]=\"Slab Insulation Depth (ft):\",2,\nIF(Table5b[[#This Row],[Lookup Table Pt2]]=\"Basement Wall Continuous Insulation R-Value:\",3,\nIF(Table5b[[#This Row],[Lookup Table Pt2]]=\"Floor Assembly U-Factor:\",4,\nIF(Table5b[[#This Row],[Lookup Table Pt2]]=\"Wall Assembly U-Factor:\",5,\nIF(Table5b[[#This Row],[Lookup Table Pt2]]=\"Ceiling Assembly U-Factor:\",6,\n\nIF(Table5b[[#This Row],[Building Component]]=\"Above-Grade Wall\",1,\nIF(Table5b[[#This Row],[Building Component]]=\"Ceiling\",2,\nIF(Table5b[[#This Row],[Building Component]]=\"Floor\",3,\nIF(Table5b[[#This Row],[Building Component]]=\"Basement Wall\",4,\nIF(Table5b[[#This Row],[Building Component]]=\"On-Grade & Below Grade Slab\",5,\n\nIF(Table5b[[#This Row],[Component Type\n(N/A for Prescriptive Path Dwelling Unit)]]=\"Insulation entirely above deck\",1,\nIF(Table5b[[#This Row],[Component Type\n(N/A for Prescriptive Path Dwelling Unit)]]=\"Metal buildings\",2,\nIF(Table5b[[#This Row],[Component Type\n(N/A for Prescriptive Path Dwelling Unit)]]=\"Attic and other\",3,\n\nIF(Table5b[[#This Row],[Component Type\n(N/A for Prescriptive Path Dwelling Unit)]]=\"Mass\",1,\nIF(Table5b[[#This Row],[Component Type\n(N/A for Prescriptive Path Dwelling Unit)]]=\"Metal building\",2,\nIF(Table5b[[#This Row],[Component Type\n(N/A for Prescriptive Path Dwelling Unit)]]=\"Metal framed\",3,\nIF(Table5b[[#This Row],[Component Type\n(N/A for Prescriptive Path Dwelling Unit)]]=\"Wood framed and other\",4,\n\nIF(Table5b[[#This Row],[Component Type\n(N/A for Prescriptive Path Dwelling Unit)]]=\"Below grade wall\",1,\n\nIF(Table5b[[#This Row],[Component Type\n(N/A for Prescriptive Path Dwelling Unit)]]=\"Mass\",1,\nIF(Table5b[[#This Row],[Component Type\n(N/A for Prescriptive Path Dwelling Unit)]]=\"Joist/framing\",2,\n\nIF(Table5b[[#This Row],[Component Type\n(N/A for Prescriptive Path Dwelling Unit)]]=\"Unheated slabs\",1,\nIF(Table5b[[#This Row],[Component Type\n(N/A for Prescriptive Path Dwelling Unit)]]=\"Heated slabs\",2,\n\nIF(Table5b[[#This Row],[Component Type\n(N/A for Prescriptive Path Dwelling Unit)]]=\"Swinging\",1,\nIF(Table5b[[#This Row],[Component Type\n(N/A for Prescriptive Path Dwelling Unit)]]=\"Roll-up or sliding\",2,\n\n\"ADD IN IECC TABLE INDEX VALUES\")))))))))))))))))))))))))","v":3},5]
[null,null,"Common","Floors","Mass",null,{"$f":"IFERROR(IF(AND($F$4=\"Version 1.2 OR+WA\",OR($I$4=\"CZ 1\",$I$4=\"CZ 2\",$I$4=\"CZ 3\",$I$4=\"CZ 4\",$I$4=\"CZ 7\",$I$4=\"CZ 8\")),\"N/A - Update CZ\",\n\nIF(Table5b[[#This Row],[Lookup Table Pt1]]=\"ESRefDesign_InsulationU_V1\",INDEX(INDIRECT(Table5b[[#This Row],[Lookup Table Pt1]]),Table5b[[#This Row],[Row Index]],Table5b[[#This Row],[Column Index]]),\nIF(Table5b[[#This Row],[Lookup Table Pt1]]=\"ESRefDesign_InsulationU_V11\",INDEX(INDIRECT(Table5b[[#This Row],[Lookup Table Pt1]]),Table5b[[#This Row],[Row Index]],Table5b[[#This Row],[Column Index]]),\nIF(Table5b[[#This Row],[Lookup Table Pt1]]=\"ESRefDesign_InsulationU_V12\",INDEX(INDIRECT(Table5b[[#This Row],[Lookup Table Pt1]]),Table5b[[#This Row],[Row Index]],2),\n\nIF(Table5b[[#This Row],[Lookup Table Pt1]]=\"IECC2009_RU\",INDEX(INDIRECT(Table5b[[#This Row],[Lookup Table Pt2]]),Table5b[[#This Row],[Row Index]],Table5b[[#This Row],[Column Index]]),\nIF(Table5b[[#This Row],[Lookup Table Pt1]]=\"IECC2009_OU\",INDEX(INDIRECT(Table5b[[#This Row],[Lookup Table Pt2]]),Table5b[[#This Row],[Row Index]],Table5b[[#This Row],[Column Index]]),\n\nIF(Table5b[[#This Row],[Lookup Table Pt1]]=\"IECC2012_RU\",INDEX(INDIRECT(Table5b[[#This Row],[Lookup Table Pt2]]),Table5b[[#This Row],[Row Index]],Table5b[[#This Row],[Column Index]]),\nIF(Table5b[[#This Row],[Lookup Table Pt1]]=\"IECC2012_OU\",INDEX(INDIRECT(Table5b[[#This Row],[Lookup Table Pt2]]),Table5b[[#This Row],[Row Index]],Table5b[[#This Row],[Column Index]]),\n\n\"\")))))))),\"\")","v":"U-0.087"},{"$f":"IFERROR(\nIF(LEFT(Table5b[[#This Row],[ENERGY STAR Requirement Values]],2)=\"U-\",Table5b[[#This Row],[ENERGY STAR Requirement Values]],\n\nIF(OR(Table5b[[#This Row],[Building Component]]=\"Slab Insulation\",Table5b[[#This Row],[Building Component]]=\"Slab-On-Grade Floor\",Table5b[[#This Row],[Building Component]]=\"Slab-On-Grade Floors\",Table5b[[#This Row],[Building Component]]=\"On-Grade & Below Grade Slab\",Table5b[[#This Row],[Building Component]]=\"Slab-on-Grade Floors\",Table5b[[#This Row],[Building Component]]=\"Slab-on-Grade Floor\"),\"\",\n\nIF(OR(Table5b[[#This Row],[ENERGY STAR Requirement Values]]=\"R-0\",Table5b[[#This Row],[ENERGY STAR Requirement Values]]=0,Table5b[[#This Row],[ENERGY STAR Requirement Values]]=\"C-1.140\"),\"U-0.36\",\nIF(OR(Table5b[[#This Row],[ENERGY STAR Requirement Values]]=\"R-7.5\",Table5b[[#This Row],[ENERGY STAR Requirement Values]]=7.5,Table5b[[#This Row],[ENERGY STAR Requirement Values]]=\"C-0.119\"),\"U-0.072\",\nIF(OR(Table5b[[#This Row],[ENERGY STAR Requirement Values]]=\"R-10\",Table5b[[#This Row],[ENERGY STAR Requirement Values]]=10,Table5b[[#This Row],[ENERGY STAR Requirement Values]]=\"C-0.092\"),\"U-0.059\",\nIF(OR(Table5b[[#This Row],[ENERGY STAR Requirement Values]]=\"R-15\",Table5b[[#This Row],[ENERGY STAR Requirement Values]]=15,Table5b[[#This Row],[ENERGY STAR Requirement Values]]=\"R-15 continuous or R-21 cavity\"),\"U-0.05\",\nIF(OR(Table5b[[#This Row],[ENERGY STAR Requirement Values]]=\"R-12.5\",Table5b[[#This Row],[ENERGY STAR Requirement Values]]=12.5,Table5b[[#This Row],[ENERGY STAR Requirement Values]]=\"C-0.075\"),\"U-0.054\",\nIF(OR(Table5b[[#This Row],[ENERGY STAR Requirement Values]]=\"R-21\",Table5b[[#This Row],[ENERGY STAR Requirement Values]]=21),\"U-0.056\",\nIF(OR(Table5b[[#This Row],[ENERGY STAR Requirement Values]]=\"R-38\",Table5b[[#This Row],[ENERGY STAR Requirement Values]]=38),\"U-0.028\",\nIF(OR(Table5b[[#This Row],[ENERGY STAR Requirement Values]]=\"R-49\",Table5b[[#This Row],[ENERGY STAR Requirement Values]]=49),\"U-0.026\",\n\nIF(LEFT(Table5b[[#This Row],[ENERGY STAR Requirement Values]],2)=\"F-\",\"\",\n\nIF(LEFT(Table5b[[#This Row],[ENERGY STAR Requirement Values]],1)=\"0\",CONCATENATE(\"U-\",Table5b[[#This Row],[ENERGY STAR Requirement Values]]),\n\nTable5b[[#This Row],[ENERGY STAR Requirement Values]])))))))))))),\"\")","v":"U-0.087"},null,null,null,null,null,null,null,null,{"$f":"IF(AND(Table5b[[#This Row],[Dwelling or Common?]]=\"Dwelling\",$D$4=\"Prescriptive\",OR($F$4=\"Version 1\", $F$4=\"Version 1.1\")),\"BuildingComponents_ESRefList\",\nIF(AND(Table5b[[#This Row],[Dwelling or Common?]]=\"Dwelling\",$D$4=\"Prescriptive\",$F$4=\"Version 1.2 OR+WA\"),\"BuildingComponents_ESRefListV12\",\nIF(Table5b[[#This Row],[Dwelling or Common?]]=\"Dwelling\",\"BuildingComponents_IECCList\",\n\nIF(AND(Table5b[[#This Row],[Dwelling or Common?]]=\"Common\",$F$4=\"Version 1.2 OR+WA\",OR($D$4=\"Prescriptive\",$D$4=\"ERI\",$D$4=\"Title 24 - Dwelling Unit Models\")),\"BuildingComponents_ESRefListV12\",\n\nIF(AND(Table5b[[#This Row],[Dwelling or Common?]]=\"Common\",$D$4=\"Prescriptive\"),\"BuildingComponents_IECCList\",\nIF(AND(Table5b[[#This Row],[Dwelling or Common?]]=\"Common\",OR($D$4=\"ERI\",$D$4=\"Title 24 - Dwelling Unit Models\")),\"BuildingComponents_IECCList\",\n\nIF(AND(Table5b[[#This Row],[Dwelling or Common?]]=\"Common\",OR($D$4=\"ASHRAE\",$D$4=\"Title 24 - Whole Building Models\")),\"BuildingComponents_IECCList\",\n\"\")))))))","v":"BuildingComponents_IECCList"},{"$f":"IF(OR(Table5b[[#This Row],[Building_Component_Lookup]]=\"BuildingComponents_ESRefList\",Table5b[[#This Row],[Building_Component_Lookup]]=\"BuildingComponents_ESRefListV12\"),\"ESRefNoCom\",\nIF(Table5b[[#This Row],[Building Component]]=\"Roofs\",\"Roof\",\nIF(Table5b[[#This Row],[Building Component]]=\"Walls, Above Grade\",\"WallAboveGrade\",\nIF(Table5b[[#This Row],[Building Component]]=\"Walls, Below Grade\",\"WallBelowGrade\",\nIF(Table5b[[#This Row],[Building Component]]=\"Floors\",\"Floor\",\nIF(Table5b[[#This Row],[Building Component]]=\"Slab-on-Grade Floors\",\"SlabOnGradeFloor\",\nIF(Table5b[[#This Row],[Building Component]]=\"Opaque Doors\",\"OpaqueDoor\",\"\")))))))","v":"Floor"},{"$f":"IF(AND(Table5b[[#This Row],[Dwelling or Common?]]=\"Dwelling\",$F$4=\"Version 1\",$D$4=\"Prescriptive\"),\"ESRefDesign_InsulationU_V1\",\nIF(AND(Table5b[[#This Row],[Dwelling or Common?]]=\"Dwelling\",$F$4=\"Version 1.1\",$D$4=\"Prescriptive\"),\"ESRefDesign_InsulationU_V11\",\nIF(AND(Table5b[[#This Row],[Dwelling or Common?]]=\"Dwelling\",$F$4=\"Version 1.2 OR+WA\",$D$4=\"Prescriptive\"),\"ESRefDesign_InsulationU_V12\",\n\nIF(AND(Table5b[[#This Row],[Dwelling or Common?]]=\"Dwelling\",OR($F$4=\"Version 1\",$F$4=\"Version 1.1\",$F$4=\"Version 1.2 OR+WA\"),OR($D$4=\"ERI\",$D$4=\"ASHRAE\",$D$4=\"Title 24 - Whole Building Models\",$D$4=\"Title 24 - Dwelling Unit Models\")),\"IECC2009_RU\",\n\nIF(AND(Table5b[[#This Row],[Dwelling or Common?]]=\"Common\",$F$4=\"Version 1\",OR($D$4=\"Prescriptive\",$D$4=\"ERI\",$D$4=\"Title 24 - Dwelling Unit Models\",)),\"IECC2009_OU\",\nIF(AND(Table5b[[#This Row],[Dwelling or Common?]]=\"Common\",$F$4=\"Version 1.1\",OR($D$4=\"Prescriptive\",$D$4=\"ERI\",$D$4=\"Title 24 - Dwelling Unit Models\")),\"IECC2012_OU\",\nIF(AND(Table5b[[#This Row],[Dwelling or Common?]]=\"Common\",$F$4=\"Version 1.2 OR+WA\",OR($D$4=\"Prescriptive\",$D$4=\"ERI\",$D$4=\"Title 24 - Dwelling Unit Models\")),\"ESRefDesign_InsulationU_V12\",\n\nIF(AND(Table5b[[#This Row],[Dwelling or Common?]]=\"Common\",OR($D$4=\"ASHRAE\",$D$4=\"Title 24 - Whole Building Models\")),\"IECC2009_OU\",\n\n\"\"))))))))","v":"IECC2009_OU"},{"$f":"IF(Table5b[[#This Row],[Building Component]]=\"Slab Insulation\",\"Slab Insulation R-Value:\",\nIF(Table5b[[#This Row],[Building Component]]=\"Basement Wall Continuous Insulation\",\"Basement Wall Continuous Insulation R-Value:\",\nIF(Table5b[[#This Row],[Building Component]]=\"Floor Assembly\", \"Floor Assembly U-Factor:\",\nIF(Table5b[[#This Row],[Building Component]]=\"Wall Assembly\", \"Wall Assembly U-Factor:\",\nIF(Table5b[[#This Row],[Building Component]]=\"Ceiling Assembly\", \"Ceiling Assembly U-Factor:\",\n\nTable5b[[#This Row],[Lookup Table Pt1]]&\"_\"&Table5b[[#This Row],[Component_Lookup]])\n))))","v":"IECC2009_OU_Floor"},{"$f":"IF(Table5b[[#This Row],[Lookup Table Pt2]]=\"Slab Insulation R-Value:\",1,\nIF(Table5b[[#This Row],[Lookup Table Pt2]]=\"Slab Insulation Depth (ft):\",2,\nIF(Table5b[[#This Row],[Lookup Table Pt2]]=\"Basement Wall Continuous Insulation R-Value:\",3,\nIF(Table5b[[#This Row],[Lookup Table Pt2]]=\"Floor Assembly U-Factor:\",4,\nIF(Table5b[[#This Row],[Lookup Table Pt2]]=\"Wall Assembly U-Factor:\",5,\nIF(Table5b[[#This Row],[Lookup Table Pt2]]=\"Ceiling Assembly U-Factor:\",6,\n\nIF(Table5b[[#This Row],[Building Component]]=\"Above-Grade Wall\",1,\nIF(Table5b[[#This Row],[Building Component]]=\"Ceiling\",2,\nIF(Table5b[[#This Row],[Building Component]]=\"Floor\",3,\nIF(Table5b[[#This Row],[Building Component]]=\"Basement Wall\",4,\nIF(Table5b[[#This Row],[Building Component]]=\"On-Grade & Below Grade Slab\",5,\n\nIF(Table5b[[#This Row],[Component Type\n(N/A for Prescriptive Path Dwelling Unit)]]=\"Insulation entirely above deck\",1,\nIF(Table5b[[#This Row],[Component Type\n(N/A for Prescriptive Path Dwelling Unit)]]=\"Metal buildings\",2,\nIF(Table5b[[#This Row],[Component Type\n(N/A for Prescriptive Path Dwelling Unit)]]=\"Attic and other\",3,\n\nIF(Table5b[[#This Row],[Component Type\n(N/A for Prescriptive Path Dwelling Unit)]]=\"Mass\",1,\nIF(Table5b[[#This Row],[Component Type\n(N/A for Prescriptive Path Dwelling Unit)]]=\"Metal building\",2,\nIF(Table5b[[#This Row],[Component Type\n(N/A for Prescriptive Path Dwelling Unit)]]=\"Metal framed\",3,\nIF(Table5b[[#This Row],[Component Type\n(N/A for Prescriptive Path Dwelling Unit)]]=\"Wood framed and other\",4,\n\nIF(Table5b[[#This Row],[Component Type\n(N/A for Prescriptive Path Dwelling Unit)]]=\"Below grade wall\",1,\n\nIF(Table5b[[#This Row],[Component Type\n(N/A for Prescriptive Path Dwelling Unit)]]=\"Mass\",1,\nIF(Table5b[[#This Row],[Component Type\n(N/A for Prescriptive Path Dwelling Unit)]]=\"Joist/framing\",2,\n\nIF(Table5b[[#This Row],[Component Type\n(N/A for Prescriptive Path Dwelling Unit)]]=\"Unheated slabs\",1,\nIF(Table5b[[#This Row],[Component Type\n(N/A for Prescriptive Path Dwelling Unit)]]=\"Heated slabs\",2,\n\nIF(Table5b[[#This Row],[Component Type\n(N/A for Prescriptive Path Dwelling Unit)]]=\"Swinging\",1,\nIF(Table5b[[#This Row],[Component Type\n(N/A for Prescriptive Path Dwelling Unit)]]=\"Roll-up or sliding\",2,\n\n\"ADD IN IECC TABLE INDEX VALUES\")))))))))))))))))))))))))","v":1},5]
[null,null,"Common","Slab-on-Grade Floors","Unheated slabs",null,{"$f":"IFERROR(IF(AND($F$4=\"Version 1.2 OR+WA\",OR($I$4=\"CZ 1\",$I$4=\"CZ 2\",$I$4=\"CZ 3\",$I$4=\"CZ 4\",$I$4=\"CZ 7\",$I$4=\"CZ 8\")),\"N/A - Update CZ\",\n\nIF(Table5b[[#This Row],[Lookup Table Pt1]]=\"ESRefDesign_InsulationU_V1\",INDEX(INDIRECT(Table5b[[#This Row],[Lookup Table Pt1]]),Table5b[[#This Row],[Row Index]],Table5b[[#This Row],[Column Index]]),\nIF(Table5b[[#This Row],[Lookup Table Pt1]]=\"ESRefDesign_InsulationU_V11\",INDEX(INDIRECT(Table5b[[#This Row],[Lookup Table Pt1]]),Table5b[[#This Row],[Row Index]],Table5b[[#This Row],[Column Index]]),\nIF(Table5b[[#This Row],[Lookup Table Pt1]]=\"ESRefDesign_InsulationU_V12\",INDEX(INDIRECT(Table5b[[#This Row],[Lookup Table Pt1]]),Table5b[[#This Row],[Row Index]],2),\n\nIF(Table5b[[#This Row],[Lookup Table Pt1]]=\"IECC2009_RU\",INDEX(INDIRECT(Table5b[[#This Row],[Lookup Table Pt2]]),Table5b[[#This Row],[Row Index]],Table5b[[#This Row],[Column Index]]),\nIF(Table5b[[#This Row],[Lookup Table Pt1]]=\"IECC2009_OU\",INDEX(INDIRECT(Table5b[[#This Row],[Lookup Table Pt2]]),Table5b[[#This Row],[Row Index]],Table5b[[#This Row],[Column Index]]),\n\nIF(Table5b[[#This Row],[Lookup Table Pt1]]=\"IECC2012_RU\",INDEX(INDIRECT(Table5b[[#This Row],[Lookup Table Pt2]]),Table5b[[#This Row],[Row Index]],Table5b[[#This Row],[Column Index]]),\nIF(Table5b[[#This Row],[Lookup Table Pt1]]=\"IECC2012_OU\",INDEX(INDIRECT(Table5b[[#This Row],[Lookup Table Pt2]]),Table5b[[#This Row],[Row Index]],Table5b[[#This Row],[Column Index]]),\n\n\"\")))))))),\"\")","v":"F-0.730"},{"$f":"IFERROR(\nIF(LEFT(Table5b[[#This Row],[ENERGY STAR Requirement Values]],2)=\"U-\",Table5b[[#This Row],[ENERGY STAR Requirement Values]],\n\nIF(OR(Table5b[[#This Row],[Building Component]]=\"Slab Insulation\",Table5b[[#This Row],[Building Component]]=\"Slab-On-Grade Floor\",Table5b[[#This Row],[Building Component]]=\"Slab-On-Grade Floors\",Table5b[[#This Row],[Building Component]]=\"On-Grade & Below Grade Slab\",Table5b[[#This Row],[Building Component]]=\"Slab-on-Grade Floors\",Table5b[[#This Row],[Building Component]]=\"Slab-on-Grade Floor\"),\"\",\n\nIF(OR(Table5b[[#This Row],[ENERGY STAR Requirement Values]]=\"R-0\",Table5b[[#This Row],[ENERGY STAR Requirement Values]]=0,Table5b[[#This Row],[ENERGY STAR Requirement Values]]=\"C-1.140\"),\"U-0.36\",\nIF(OR(Table5b[[#This Row],[ENERGY STAR Requirement Values]]=\"R-7.5\",Table5b[[#This Row],[ENERGY STAR Requirement Values]]=7.5,Table5b[[#This Row],[ENERGY STAR Requirement Values]]=\"C-0.119\"),\"U-0.072\",\nIF(OR(Table5b[[#This Row],[ENERGY STAR Requirement Values]]=\"R-10\",Table5b[[#This Row],[ENERGY STAR Requirement Values]]=10,Table5b[[#This Row],[ENERGY STAR Requirement Values]]=\"C-0.092\"),\"U-0.059\",\nIF(OR(Table5b[[#This Row],[ENERGY STAR Requirement Values]]=\"R-15\",Table5b[[#This Row],[ENERGY STAR Requirement Values]]=15,Table5b[[#This Row],[ENERGY STAR Requirement Values]]=\"R-15 continuous or R-21 cavity\"),\"U-0.05\",\nIF(OR(Table5b[[#This Row],[ENERGY STAR Requirement Values]]=\"R-12.5\",Table5b[[#This Row],[ENERGY STAR Requirement Values]]=12.5,Table5b[[#This Row],[ENERGY STAR Requirement Values]]=\"C-0.075\"),\"U-0.054\",\nIF(OR(Table5b[[#This Row],[ENERGY STAR Requirement Values]]=\"R-21\",Table5b[[#This Row],[ENERGY STAR Requirement Values]]=21),\"U-0.056\",\nIF(OR(Table5b[[#This Row],[ENERGY STAR Requirement Values]]=\"R-38\",Table5b[[#This Row],[ENERGY STAR Requirement Values]]=38),\"U-0.028\",\nIF(OR(Table5b[[#This Row],[ENERGY STAR Requirement Values]]=\"R-49\",Table5b[[#This Row],[ENERGY STAR Requirement Values]]=49),\"U-0.026\",\n\nIF(LEFT(Table5b[[#This Row],[ENERGY STAR Requirement Values]],2)=\"F-\",\"\",\n\nIF(LEFT(Table5b[[#This Row],[ENERGY STAR Requirement Values]],1)=\"0\",CONCATENATE(\"U-\",Table5b[[#This Row],[ENERGY STAR Requirement Values]]),\n\nTable5b[[#This Row],[ENERGY STAR Requirement Values]])))))))))))),\"\")","v":""},null,null,null,null,null,null,null,null,{"$f":"IF(AND(Table5b[[#This Row],[Dwelling or Common?]]=\"Dwelling\",$D$4=\"Prescriptive\",OR($F$4=\"Version 1\", $F$4=\"Version 1.1\")),\"BuildingComponents_ESRefList\",\nIF(AND(Table5b[[#This Row],[Dwelling or Common?]]=\"Dwelling\",$D$4=\"Prescriptive\",$F$4=\"Version 1.2 OR+WA\"),\"BuildingComponents_ESRefListV12\",\nIF(Table5b[[#This Row],[Dwelling or Common?]]=\"Dwelling\",\"BuildingComponents_IECCList\",\n\nIF(AND(Table5b[[#This Row],[Dwelling or Common?]]=\"Common\",$F$4=\"Version 1.2 OR+WA\",OR($D$4=\"Prescriptive\",$D$4=\"ERI\",$D$4=\"Title 24 - Dwelling Unit Models\")),\"BuildingComponents_ESRefListV12\",\n\nIF(AND(Table5b[[#This Row],[Dwelling or Common?]]=\"Common\",$D$4=\"Prescriptive\"),\"BuildingComponents_IECCList\",\nIF(AND(Table5b[[#This Row],[Dwelling or Common?]]=\"Common\",OR($D$4=\"ERI\",$D$4=\"Title 24 - Dwelling Unit Models\")),\"BuildingComponents_IECCList\",\n\nIF(AND(Table5b[[#This Row],[Dwelling or Common?]]=\"Common\",OR($D$4=\"ASHRAE\",$D$4=\"Title 24 - Whole Building Models\")),\"BuildingComponents_IECCList\",\n\"\")))))))","v":"BuildingComponents_IECCList"},{"$f":"IF(OR(Table5b[[#This Row],[Building_Component_Lookup]]=\"BuildingComponents_ESRefList\",Table5b[[#This Row],[Building_Component_Lookup]]=\"BuildingComponents_ESRefListV12\"),\"ESRefNoCom\",\nIF(Table5b[[#This Row],[Building Component]]=\"Roofs\",\"Roof\",\nIF(Table5b[[#This Row],[Building Component]]=\"Walls, Above Grade\",\"WallAboveGrade\",\nIF(Table5b[[#This Row],[Building Component]]=\"Walls, Below Grade\",\"WallBelowGrade\",\nIF(Table5b[[#This Row],[Building Component]]=\"Floors\",\"Floor\",\nIF(Table5b[[#This Row],[Building Component]]=\"Slab-on-Grade Floors\",\"SlabOnGradeFloor\",\nIF(Table5b[[#This Row],[Building Component]]=\"Opaque Doors\",\"OpaqueDoor\",\"\")))))))","v":"SlabOnGradeFloor"},{"$f":"IF(AND(Table5b[[#This Row],[Dwelling or Common?]]=\"Dwelling\",$F$4=\"Version 1\",$D$4=\"Prescriptive\"),\"ESRefDesign_InsulationU_V1\",\nIF(AND(Table5b[[#This Row],[Dwelling or Common?]]=\"Dwelling\",$F$4=\"Version 1.1\",$D$4=\"Prescriptive\"),\"ESRefDesign_InsulationU_V11\",\nIF(AND(Table5b[[#This Row],[Dwelling or Common?]]=\"Dwelling\",$F$4=\"Version 1.2 OR+WA\",$D$4=\"Prescriptive\"),\"ESRefDesign_InsulationU_V12\",\n\nIF(AND(Table5b[[#This Row],[Dwelling or Common?]]=\"Dwelling\",OR($F$4=\"Version 1\",$F$4=\"Version 1.1\",$F$4=\"Version 1.2 OR+WA\"),OR($D$4=\"ERI\",$D$4=\"ASHRAE\",$D$4=\"Title 24 - Whole Building Models\",$D$4=\"Title 24 - Dwelling Unit Models\")),\"IECC2009_RU\",\n\nIF(AND(Table5b[[#This Row],[Dwelling or Common?]]=\"Common\",$F$4=\"Version 1\",OR($D$4=\"Prescriptive\",$D$4=\"ERI\",$D$4=\"Title 24 - Dwelling Unit Models\",)),\"IECC2009_OU\",\nIF(AND(Table5b[[#This Row],[Dwelling or Common?]]=\"Common\",$F$4=\"Version 1.1\",OR($D$4=\"Prescriptive\",$D$4=\"ERI\",$D$4=\"Title 24 - Dwelling Unit Models\")),\"IECC2012_OU\",\nIF(AND(Table5b[[#This Row],[Dwelling or Common?]]=\"Common\",$F$4=\"Version 1.2 OR+WA\",OR($D$4=\"Prescriptive\",$D$4=\"ERI\",$D$4=\"Title 24 - Dwelling Unit Models\")),\"ESRefDesign_InsulationU_V12\",\n\nIF(AND(Table5b[[#This Row],[Dwelling or Common?]]=\"Common\",OR($D$4=\"ASHRAE\",$D$4=\"Title 24 - Whole Building Models\")),\"IECC2009_OU\",\n\n\"\"))))))))","v":"IECC2009_OU"},{"$f":"IF(Table5b[[#This Row],[Building Component]]=\"Slab Insulation\",\"Slab Insulation R-Value:\",\nIF(Table5b[[#This Row],[Building Component]]=\"Basement Wall Continuous Insulation\",\"Basement Wall Continuous Insulation R-Value:\",\nIF(Table5b[[#This Row],[Building Component]]=\"Floor Assembly\", \"Floor Assembly U-Factor:\",\nIF(Table5b[[#This Row],[Building Component]]=\"Wall Assembly\", \"Wall Assembly U-Factor:\",\nIF(Table5b[[#This Row],[Building Component]]=\"Ceiling Assembly\", \"Ceiling Assembly U-Factor:\",\n\nTable5b[[#This Row],[Lookup Table Pt1]]&\"_\"&Table5b[[#This Row],[Component_Lookup]])\n))))","v":"IECC2009_OU_SlabOnGradeFloor"},{"$f":"IF(Table5b[[#This Row],[Lookup Table Pt2]]=\"Slab Insulation R-Value:\",1,\nIF(Table5b[[#This Row],[Lookup Table Pt2]]=\"Slab Insulation Depth (ft):\",2,\nIF(Table5b[[#This Row],[Lookup Table Pt2]]=\"Basement Wall Continuous Insulation R-Value:\",3,\nIF(Table5b[[#This Row],[Lookup Table Pt2]]=\"Floor Assembly U-Factor:\",4,\nIF(Table5b[[#This Row],[Lookup Table Pt2]]=\"Wall Assembly U-Factor:\",5,\nIF(Table5b[[#This Row],[Lookup Table Pt2]]=\"Ceiling Assembly U-Factor:\",6,\n\nIF(Table5b[[#This Row],[Building Component]]=\"Above-Grade Wall\",1,\nIF(Table5b[[#This Row],[Building Component]]=\"Ceiling\",2,\nIF(Table5b[[#This Row],[Building Component]]=\"Floor\",3,\nIF(Table5b[[#This Row],[Building Component]]=\"Basement Wall\",4,\nIF(Table5b[[#This Row],[Building Component]]=\"On-Grade & Below Grade Slab\",5,\n\nIF(Table5b[[#This Row],[Component Type\n(N/A for Prescriptive Path Dwelling Unit)]]=\"Insulation entirely above deck\",1,\nIF(Table5b[[#This Row],[Component Type\n(N/A for Prescriptive Path Dwelling Unit)]]=\"Metal buildings\",2,\nIF(Table5b[[#This Row],[Component Type\n(N/A for Prescriptive Path Dwelling Unit)]]=\"Attic and other\",3,\n\nIF(Table5b[[#This Row],[Component Type\n(N/A for Prescriptive Path Dwelling Unit)]]=\"Mass\",1,\nIF(Table5b[[#This Row],[Component Type\n(N/A for Prescriptive Path Dwelling Unit)]]=\"Metal building\",2,\nIF(Table5b[[#This Row],[Component Type\n(N/A for Prescriptive Path Dwelling Unit)]]=\"Metal framed\",3,\nIF(Table5b[[#This Row],[Component Type\n(N/A for Prescriptive Path Dwelling Unit)]]=\"Wood framed and other\",4,\n\nIF(Table5b[[#This Row],[Component Type\n(N/A for Prescriptive Path Dwelling Unit)]]=\"Below grade wall\",1,\n\nIF(Table5b[[#This Row],[Component Type\n(N/A for Prescriptive Path Dwelling Unit)]]=\"Mass\",1,\nIF(Table5b[[#This Row],[Component Type\n(N/A for Prescriptive Path Dwelling Unit)]]=\"Joist/framing\",2,\n\nIF(Table5b[[#This Row],[Component Type\n(N/A for Prescriptive Path Dwelling Unit)]]=\"Unheated slabs\",1,\nIF(Table5b[[#This Row],[Component Type\n(N/A for Prescriptive Path Dwelling Unit)]]=\"Heated slabs\",2,\n\nIF(Table5b[[#This Row],[Component Type\n(N/A for Prescriptive Path Dwelling Unit)]]=\"Swinging\",1,\nIF(Table5b[[#This Row],[Component Type\n(N/A for Prescriptive Path Dwelling Unit)]]=\"Roll-up or sliding\",2,\n\n\"ADD IN IECC TABLE INDEX VALUES\")))))))))))))))))))))))))","v":1},5]
[null,null,null,null,null,null,{"$f":"IFERROR(IF(AND($F$4=\"Version 1.2 OR+WA\",OR($I$4=\"CZ 1\",$I$4=\"CZ 2\",$I$4=\"CZ 3\",$I$4=\"CZ 4\",$I$4=\"CZ 7\",$I$4=\"CZ 8\")),\"N/A - Update CZ\",\n\nIF(Table5b[[#This Row],[Lookup Table Pt1]]=\"ESRefDesign_InsulationU_V1\",INDEX(INDIRECT(Table5b[[#This Row],[Lookup Table Pt1]]),Table5b[[#This Row],[Row Index]],Table5b[[#This Row],[Column Index]]),\nIF(Table5b[[#This Row],[Lookup Table Pt1]]=\"ESRefDesign_InsulationU_V11\",INDEX(INDIRECT(Table5b[[#This Row],[Lookup Table Pt1]]),Table5b[[#This Row],[Row Index]],Table5b[[#This Row],[Column Index]]),\nIF(Table5b[[#This Row],[Lookup Table Pt1]]=\"ESRefDesign_InsulationU_V12\",INDEX(INDIRECT(Table5b[[#This Row],[Lookup Table Pt1]]),Table5b[[#This Row],[Row Index]],2),\n\nIF(Table5b[[#This Row],[Lookup Table Pt1]]=\"IECC2009_RU\",INDEX(INDIRECT(Table5b[[#This Row],[Lookup Table Pt2]]),Table5b[[#This Row],[Row Index]],Table5b[[#This Row],[Column Index]]),\nIF(Table5b[[#This Row],[Lookup Table Pt1]]=\"IECC2009_OU\",INDEX(INDIRECT(Table5b[[#This Row],[Lookup Table Pt2]]),Table5b[[#This Row],[Row Index]],Table5b[[#This Row],[Column Index]]),\n\nIF(Table5b[[#This Row],[Lookup Table Pt1]]=\"IECC2012_RU\",INDEX(INDIRECT(Table5b[[#This Row],[Lookup Table Pt2]]),Table5b[[#This Row],[Row Index]],Table5b[[#This Row],[Column Index]]),\nIF(Table5b[[#This Row],[Lookup Table Pt1]]=\"IECC2012_OU\",INDEX(INDIRECT(Table5b[[#This Row],[Lookup Table Pt2]]),Table5b[[#This Row],[Row Index]],Table5b[[#This Row],[Column Index]]),\n\n\"\")))))))),\"\")","v":""},{"$f":"IFERROR(\nIF(LEFT(Table5b[[#This Row],[ENERGY STAR Requirement Values]],2)=\"U-\",Table5b[[#This Row],[ENERGY STAR Requirement Values]],\n\nIF(OR(Table5b[[#This Row],[Building Component]]=\"Slab Insulation\",Table5b[[#This Row],[Building Component]]=\"Slab-On-Grade Floor\",Table5b[[#This Row],[Building Component]]=\"Slab-On-Grade Floors\",Table5b[[#This Row],[Building Component]]=\"On-Grade & Below Grade Slab\",Table5b[[#This Row],[Building Component]]=\"Slab-on-Grade Floors\",Table5b[[#This Row],[Building Component]]=\"Slab-on-Grade Floor\"),\"\",\n\nIF(OR(Table5b[[#This Row],[ENERGY STAR Requirement Values]]=\"R-0\",Table5b[[#This Row],[ENERGY STAR Requirement Values]]=0,Table5b[[#This Row],[ENERGY STAR Requirement Values]]=\"C-1.140\"),\"U-0.36\",\nIF(OR(Table5b[[#This Row],[ENERGY STAR Requirement Values]]=\"R-7.5\",Table5b[[#This Row],[ENERGY STAR Requirement Values]]=7.5,Table5b[[#This Row],[ENERGY STAR Requirement Values]]=\"C-0.119\"),\"U-0.072\",\nIF(OR(Table5b[[#This Row],[ENERGY STAR Requirement Values]]=\"R-10\",Table5b[[#This Row],[ENERGY STAR Requirement Values]]=10,Table5b[[#This Row],[ENERGY STAR Requirement Values]]=\"C-0.092\"),\"U-0.059\",\nIF(OR(Table5b[[#This Row],[ENERGY STAR Requirement Values]]=\"R-15\",Table5b[[#This Row],[ENERGY STAR Requirement Values]]=15,Table5b[[#This Row],[ENERGY STAR Requirement Values]]=\"R-15 continuous or R-21 cavity\"),\"U-0.05\",\nIF(OR(Table5b[[#This Row],[ENERGY STAR Requirement Values]]=\"R-12.5\",Table5b[[#This Row],[ENERGY STAR Requirement Values]]=12.5,Table5b[[#This Row],[ENERGY STAR Requirement Values]]=\"C-0.075\"),\"U-0.054\",\nIF(OR(Table5b[[#This Row],[ENERGY STAR Requirement Values]]=\"R-21\",Table5b[[#This Row],[ENERGY STAR Requirement Values]]=21),\"U-0.056\",\nIF(OR(Table5b[[#This Row],[ENERGY STAR Requirement Values]]=\"R-38\",Table5b[[#This Row],[ENERGY STAR Requirement Values]]=38),\"U-0.028\",\nIF(OR(Table5b[[#This Row],[ENERGY STAR Requirement Values]]=\"R-49\",Table5b[[#This Row],[ENERGY STAR Requirement Values]]=49),\"U-0.026\",\n\nIF(LEFT(Table5b[[#This Row],[ENERGY STAR Requirement Values]],2)=\"F-\",\"\",\n\nIF(LEFT(Table5b[[#This Row],[ENERGY STAR Requirement Values]],1)=\"0\",CONCATENATE(\"U-\",Table5b[[#This Row],[ENERGY STAR Requirement Values]]),\n\nTable5b[[#This Row],[ENERGY STAR Requirement Values]])))))))))))),\"\")","v":""},null,null,null,null,null,null,null,null,{"$f":"IF(AND(Table5b[[#This Row],[Dwelling or Common?]]=\"Dwelling\",$D$4=\"Prescriptive\",OR($F$4=\"Version 1\", $F$4=\"Version 1.1\")),\"BuildingComponents_ESRefList\",\nIF(AND(Table5b[[#This Row],[Dwelling or Common?]]=\"Dwelling\",$D$4=\"Prescriptive\",$F$4=\"Version 1.2 OR+WA\"),\"BuildingComponents_ESRefListV12\",\nIF(Table5b[[#This Row],[Dwelling or Common?]]=\"Dwelling\",\"BuildingComponents_IECCList\",\n\nIF(AND(Table5b[[#This Row],[Dwelling or Common?]]=\"Common\",$F$4=\"Version 1.2 OR+WA\",OR($D$4=\"Prescriptive\",$D$4=\"ERI\",$D$4=\"Title 24 - Dwelling Unit Models\")),\"BuildingComponents_ESRefListV12\",\n\nIF(AND(Table5b[[#This Row],[Dwelling or Common?]]=\"Common\",$D$4=\"Prescriptive\"),\"BuildingComponents_IECCList\",\nIF(AND(Table5b[[#This Row],[Dwelling or Common?]]=\"Common\",OR($D$4=\"ERI\",$D$4=\"Title 24 - Dwelling Unit Models\")),\"BuildingComponents_IECCList\",\n\nIF(AND(Table5b[[#This Row],[Dwelling or Common?]]=\"Common\",OR($D$4=\"ASHRAE\",$D$4=\"Title 24 - Whole Building Models\")),\"BuildingComponents_IECCList\",\n\"\")))))))","v":""},{"$f":"IF(OR(Table5b[[#This Row],[Building_Component_Lookup]]=\"BuildingComponents_ESRefList\",Table5b[[#This Row],[Building_Component_Lookup]]=\"BuildingComponents_ESRefListV12\"),\"ESRefNoCom\",\nIF(Table5b[[#This Row],[Building Component]]=\"Roofs\",\"Roof\",\nIF(Table5b[[#This Row],[Building Component]]=\"Walls, Above Grade\",\"WallAboveGrade\",\nIF(Table5b[[#This Row],[Building Component]]=\"Walls, Below Grade\",\"WallBelowGrade\",\nIF(Table5b[[#This Row],[Building Component]]=\"Floors\",\"Floor\",\nIF(Table5b[[#This Row],[Building Component]]=\"Slab-on-Grade Floors\",\"SlabOnGradeFloor\",\nIF(Table5b[[#This Row],[Building Component]]=\"Opaque Doors\",\"OpaqueDoor\",\"\")))))))","v":""},{"$f":"IF(AND(Table5b[[#This Row],[Dwelling or Common?]]=\"Dwelling\",$F$4=\"Version 1\",$D$4=\"Prescriptive\"),\"ESRefDesign_InsulationU_V1\",\nIF(AND(Table5b[[#This Row],[Dwelling or Common?]]=\"Dwelling\",$F$4=\"Version 1.1\",$D$4=\"Prescriptive\"),\"ESRefDesign_InsulationU_V11\",\nIF(AND(Table5b[[#This Row],[Dwelling or Common?]]=\"Dwelling\",$F$4=\"Version 1.2 OR+WA\",$D$4=\"Prescriptive\"),\"ESRefDesign_InsulationU_V12\",\n\nIF(AND(Table5b[[#This Row],[Dwelling or Common?]]=\"Dwelling\",OR($F$4=\"Version 1\",$F$4=\"Version 1.1\",$F$4=\"Version 1.2 OR+WA\"),OR($D$4=\"ERI\",$D$4=\"ASHRAE\",$D$4=\"Title 24 - Whole Building Models\",$D$4=\"Title 24 - Dwelling Unit Models\")),\"IECC2009_RU\",\n\nIF(AND(Table5b[[#This Row],[Dwelling or Common?]]=\"Common\",$F$4=\"Version 1\",OR($D$4=\"Prescriptive\",$D$4=\"ERI\",$D$4=\"Title 24 - Dwelling Unit Models\",)),\"IECC2009_OU\",\nIF(AND(Table5b[[#This Row],[Dwelling or Common?]]=\"Common\",$F$4=\"Version 1.1\",OR($D$4=\"Prescriptive\",$D$4=\"ERI\",$D$4=\"Title 24 - Dwelling Unit Models\")),\"IECC2012_OU\",\nIF(AND(Table5b[[#This Row],[Dwelling or Common?]]=\"Common\",$F$4=\"Version 1.2 OR+WA\",OR($D$4=\"Prescriptive\",$D$4=\"ERI\",$D$4=\"Title 24 - Dwelling Unit Models\")),\"ESRefDesign_InsulationU_V12\",\n\nIF(AND(Table5b[[#This Row],[Dwelling or Common?]]=\"Common\",OR($D$4=\"ASHRAE\",$D$4=\"Title 24 - Whole Building Models\")),\"IECC2009_OU\",\n\n\"\"))))))))","v":""},{"$f":"IF(Table5b[[#This Row],[Building Component]]=\"Slab Insulation\",\"Slab Insulation R-Value:\",\nIF(Table5b[[#This Row],[Building Component]]=\"Basement Wall Continuous Insulation\",\"Basement Wall Continuous Insulation R-Value:\",\nIF(Table5b[[#This Row],[Building Component]]=\"Floor Assembly\", \"Floor Assembly U-Factor:\",\nIF(Table5b[[#This Row],[Building Component]]=\"Wall Assembly\", \"Wall Assembly U-Factor:\",\nIF(Table5b[[#This Row],[Building Component]]=\"Ceiling Assembly\", \"Ceiling Assembly U-Factor:\",\n\nTable5b[[#This Row],[Lookup Table Pt1]]&\"_\"&Table5b[[#This Row],[Component_Lookup]])\n))))","v":"_"},{"$f":"IF(Table5b[[#This Row],[Lookup Table Pt2]]=\"Slab Insulation R-Value:\",1,\nIF(Table5b[[#This Row],[Lookup Table Pt2]]=\"Slab Insulation Depth (ft):\",2,\nIF(Table5b[[#This Row],[Lookup Table Pt2]]=\"Basement Wall Continuous Insulation R-Value:\",3,\nIF(Table5b[[#This Row],[Lookup Table Pt2]]=\"Floor Assembly U-Factor:\",4,\nIF(Table5b[[#This Row],[Lookup Table Pt2]]=\"Wall Assembly U-Factor:\",5,\nIF(Table5b[[#This Row],[Lookup Table Pt2]]=\"Ceiling Assembly U-Factor:\",6,\n\nIF(Table5b[[#This Row],[Building Component]]=\"Above-Grade Wall\",1,\nIF(Table5b[[#This Row],[Building Component]]=\"Ceiling\",2,\nIF(Table5b[[#This Row],[Building Component]]=\"Floor\",3,\nIF(Table5b[[#This Row],[Building Component]]=\"Basement Wall\",4,\nIF(Table5b[[#This Row],[Building Component]]=\"On-Grade & Below Grade Slab\",5,\n\nIF(Table5b[[#This Row],[Component Type\n(N/A for Prescriptive Path Dwelling Unit)]]=\"Insulation entirely above deck\",1,\nIF(Table5b[[#This Row],[Component Type\n(N/A for Prescriptive Path Dwelling Unit)]]=\"Metal buildings\",2,\nIF(Table5b[[#This Row],[Component Type\n(N/A for Prescriptive Path Dwelling Unit)]]=\"Attic and other\",3,\n\nIF(Table5b[[#This Row],[Component Type\n(N/A for Prescriptive Path Dwelling Unit)]]=\"Mass\",1,\nIF(Table5b[[#This Row],[Component Type\n(N/A for Prescriptive Path Dwelling Unit)]]=\"Metal building\",2,\nIF(Table5b[[#This Row],[Component Type\n(N/A for Prescriptive Path Dwelling Unit)]]=\"Metal framed\",3,\nIF(Table5b[[#This Row],[Component Type\n(N/A for Prescriptive Path Dwelling Unit)]]=\"Wood framed and other\",4,\n\nIF(Table5b[[#This Row],[Component Type\n(N/A for Prescriptive Path Dwelling Unit)]]=\"Below grade wall\",1,\n\nIF(Table5b[[#This Row],[Component Type\n(N/A for Prescriptive Path Dwelling Unit)]]=\"Mass\",1,\nIF(Table5b[[#This Row],[Component Type\n(N/A for Prescriptive Path Dwelling Unit)]]=\"Joist/framing\",2,\n\nIF(Table5b[[#This Row],[Component Type\n(N/A for Prescriptive Path Dwelling Unit)]]=\"Unheated slabs\",1,\nIF(Table5b[[#This Row],[Component Type\n(N/A for Prescriptive Path Dwelling Unit)]]=\"Heated slabs\",2,\n\nIF(Table5b[[#This Row],[Component Type\n(N/A for Prescriptive Path Dwelling Unit)]]=\"Swinging\",1,\nIF(Table5b[[#This Row],[Component Type\n(N/A for Prescriptive Path Dwelling Unit)]]=\"Roll-up or sliding\",2,\n\n\"ADD IN IECC TABLE INDEX VALUES\")))))))))))))))))))))))))","v":"ADD IN IECC TABLE INDEX VALUES"},5]

{"sheet":"5c. Total UA Compliance","index":15,"n_rows":56,"n_cols":27,"rows_kept":56,"cut":false,"hidden":false,"merged":[[55,3,55,4],[43,3,43,4],[43,5,45,11],[49,5,55,11],[51,3,51,4],[53,3,53,4],[49,3,49,4],[50,3,50,4],[47,1,47,11],[44,3,44,4],[54,3,54,4],[52,3,52,4],[47,13,48,15],[29,1,29,11],[31,1,31,11],[33,3,33,4],[39,3,39,4],[37,3,37,4],[34,3,34,4],[33,5,39,11],[36,3,36,4],[38,3,38,4],[9,26,10,28],[31,13,32,15],[41,13,42,15],[1,2,1,11],[41,1,41,11],[5,5,6,9],[4,5,4,9],[4,1,4,3],[5,2,5,3],[6,2,6,3],[7,2,7,3],[35,3,35,4]]}
[]
[null,"Instructions: ","Using Tables: Complete all yellow cells prior to the Proposed Design submittal. The 'Additional Component Details' column will be blank in most instances. Apply de-rate according to the footnotes below if needed.\n\nWarning: If during the course of design or construction, the certification path changes, you will need to re-select the Building Component and Component Type drop-down options.\n\nPrior to As-Built submittal, update the Installed U-factor to match as-built conditions, if different from design. \n\nNote: All door calculations are included on the fenestration tab.\n\nPrinting: Optimized for Landscape view."]
[]
[]
[null,"Select ENERGY STAR:",null,null,null,"Total UA Meets ENERGY STAR Requirements?"]
[null,"Pathway",{"$f":"IF('Project Information'!$C$8=\"\",\"Complete Project Information Tab\",'Project Information'!$C$8)","v":"Prescriptive"},null,null,{"$f":"IF(SUM(Table5ca[Total UA])<=SUM(Table5ca[Required UA]),\"PASS\",\nIF(SUM(Table5ca[Total UA])>SUM(Table5ca[Required UA]),\"FAIL\",\n\"COMPLETE TABLE BELOW\"))","v":"FAIL"}]
[null,"Climate Zone",{"$f":"IF('Project Information'!$F$10=\"\",\"Complete Project Information Tab\",'Project Information'!$F$10)","v":"CZ 4"}]
[null,"Version",{"$f":"IF('Project Information'!$F$8=\"\",\"Complete Project Information Tab\",'Project Information'!$F$8)","v":"Version 1"}]
[]
[null,"Total UA Compliance?",null,null,null,null,null,null,null,null,null,null,null,null,null,null,null,null,null,null,null,null,null,null,null,null,"NOTES"]
[null,null,null,null,null,null,null,null,null,null,null,null,null,null,null,null,null,null,"*hide","*hide","*hide","*hide","*hide","*hide","*hide"]
[null,"Dwelling or Common?","Building Component","Component Type","Additional Component Details","Specified/Installed U-Factor","Area","Total UA","ENERGY STAR Requirement Values","Required U-factor","Required UA","Derate applied?","Description of Layers","Appendix A Table Referenced","Location\n(dwg/spec)\n(Optional)","Plan Review\n(Optional)","Inspection?\n(Optional)","Inspection Comments\n(Optional)","Building_Component_Lookup","Component_Lookup","AdditionalDetails_Lookup2","Lookup Table Pt1","Lookup Table Pt2","Row Index","Column Index"]
[null,"Dwelling","Floor Above Garage","N/A","N/A",4.7E-2,4300,{"$f":"IF(Table5ca[[#This Row],[Specified/Installed U-Factor]]*Table5ca[[#This Row],[Area]]=0,\"\",Table5ca[[#This Row],[Specified/Installed U-Factor]]*Table5ca[[#This Row],[Area]])","v":202.1},{"$f":"IFERROR(IF(AND($C$8=\"Version 1.2 OR+WA\",OR($C$7=\"CZ 1\",$C$7=\"CZ 2\",$C$7=\"CZ 3\",$C$7=\"CZ 4\",$C$7=\"CZ 7\",$C$7=\"CZ 8\")),\"N/A - Update CZ\",\n\nIF(Table5ca[[#This Row],[Building Component]]=\"Balcony\",\"0.20\",\n\nIF(OR(Table5ca[[#This Row],[Lookup Table Pt1]]=\"ESRefDesign_Insulation_V1\",Table5ca[[#This Row],[Lookup Table Pt1]]=\"ESRefDesign_Insulation_V11\",Table5ca[[#This Row],[Lookup Table Pt1]]=\"ESRefDesign_Insulation_V12\",Table5ca[[#This Row],[Lookup Table Pt1]]=\"ESRefDesign_FenestrationAW_V1\",Table5ca[[#This Row],[Lookup Table Pt1]]=\"ESRefDesign_FenestrationAW_V11\",Table5ca[[#This Row],[Lookup Table Pt1]]=\"ESRefDesign_Fenestration_V1\",Table5ca[[#This Row],[Lookup Table Pt1]]=\"ESRefDesign_Fenestration_V11\",Table5ca[[#This Row],[Lookup Table Pt1]]=\"ESRefDesign_Fenestration_V12\",Table5ca[[#This Row],[Lookup Table Pt1]]=\"ESRefDesign_FenestrationAW_V12\",Table5ca[[#This Row],[Lookup Table Pt1]]=\"IECC2009_Fenestration_NotAW_Windows\",Table5ca[[#This Row],[Lookup Table Pt1]]=\"IECC2009_Fenestration_AW_Windows\"),INDEX(INDIRECT(Table5ca[[#This Row],[Lookup Table Pt1]]),Table5ca[[#This Row],[Row Index]],Table5ca[[#This Row],[Column Index]]),\n\nINDEX(INDIRECT(Table5ca[[#This Row],[Lookup Table Pt2]]),Table5ca[[#This Row],[Row Index]],Table5ca[[#This Row],[Column Index]])))),\"\")","v":"U-0.033"},{"$f":"IFERROR(\n\nIF(LEFT(Table5ca[[#This Row],[ENERGY STAR Requirement Values]],2)=\"U-\",Table5ca[[#This Row],[ENERGY STAR Requirement Values]],\n\nIF(OR(Table5ca[[#This Row],[Building Component]]=\"Slab Insulation\",Table5ca[[#This Row],[Building Component]]=\"Slab-On-Grade Floor\",Table5ca[[#This Row],[Building Component]]=\"Slab-On-Grade Floors\",Table5ca[[#This Row],[Building Component]]=\"On-Grade & Below Grade Slab\",Table5ca[[#This Row],[Building Component]]=\"Slab-on-Grade Floors\",Table5ca[[#This Row],[Building Component]]=\"Slab-on-Grade Floor\"),\"\",\n\nIF(OR(Table5ca[[#This Row],[ENERGY STAR Requirement Values]]=\"R-0\",Table5ca[[#This Row],[ENERGY STAR Requirement Values]]=0,Table5ca[[#This Row],[ENERGY STAR Requirement Values]]=\"C-1.140\"),\"U-0.36\",\nIF(OR(Table5ca[[#This Row],[ENERGY STAR Requirement Values]]=\"R-7.5\",Table5ca[[#This Row],[ENERGY STAR Requirement Values]]=7.5,Table5ca[[#This Row],[ENERGY STAR Requirement Values]]=\"C-0.119\"),\"U-0.072\",\nIF(OR(Table5ca[[#This Row],[ENERGY STAR Requirement Values]]=\"R-10\",Table5ca[[#This Row],[ENERGY STAR Requirement Values]]=10,Table5ca[[#This Row],[ENERGY STAR Requirement Values]]=\"C-0.092\"),\"U-0.059\",\nIF(OR(Table5ca[[#This Row],[ENERGY STAR Requirement Values]]=\"R-15\",Table5ca[[#This Row],[ENERGY STAR Requirement Values]]=15,Table5ca[[#This Row],[ENERGY STAR Requirement Values]]=\"R-15 continuous or R-21 cavity\"),\"U-0.05\",\nIF(OR(Table5ca[[#This Row],[ENERGY STAR Requirement Values]]=\"R-12.5\",Table5ca[[#This Row],[ENERGY STAR Requirement Values]]=12.5,Table5ca[[#This Row],[ENERGY STAR Requirement Values]]=\"C-0.075\"),\"U-0.054\",\nIF(OR(Table5ca[[#This Row],[ENERGY STAR Requirement Values]]=\"R-21\",Table5ca[[#This Row],[ENERGY STAR Requirement Values]]=21),\"U-0.056\",\nIF(OR(Table5ca[[#This Row],[ENERGY STAR Requirement Values]]=\"R-38\",Table5ca[[#This Row],[ENERGY STAR Requirement Values]]=38),\"U-0.028\",\nIF(OR(Table5ca[[#This Row],[ENERGY STAR Requirement Values]]=\"R-49\",Table5ca[[#This Row],[ENERGY STAR Requirement Values]]=49),\"U-0.026\",\n\nIF(LEFT(Table5ca[[#This Row],[ENERGY STAR Requirement Values]],2)=\"F-\",\"\",\n\nIF(LEFT(Table5ca[[#This Row],[ENERGY STAR Requirement Values]],1)=\"0\",CONCATENATE(\"U-\",Table5ca[[#This Row],[ENERGY STAR Requirement Values]]),\n\nTable5ca[[#This Row],[ENERGY STAR Requirement Values]])))))))))))),\"\")","v":"U-0.033"},{"$f":"IFERROR(IF(Table5ca[[#This Row],[Area]]=\"\",\"\",\nIF(Table5ca[[#This Row],[Required U-factor]]=\"\",\"\",\nIFERROR(Table5ca[[#This Row],[Area]]*Table5ca[[#This Row],[Required U-factor]],RIGHT(Table5ca[[#This Row],[Required U-factor]],LEN(Table5ca[[#This Row],[Required U-factor]])-2)*Table5ca[[#This Row],[Area]]))),\"\")","v":141.9},{"$f":"IF(Table5ca[[#This Row],[Building Component]]=\"\",\"\",\nIF(OR(Table5ca[[#This Row],[Building Component]]=\"Wall, Above Grade\",Table5ca[[#This Row],[Building Component]]=\"Wall, Below Grade\"),\"If there is continuous insulation interrupted by fasteners, ensure that the U-factor has been de-rated per Footnote 24. See below for further details.\",\nIF(Table5ca[[#This Row],[Building Component]]=\"Wall Assembly\",\"Apply a derate per Footnote 6 below.\",\nIF(Table5ca[[#This Row],[Building Component]]=\"Balcony\",\"Use the table below to de-rate balconies per Footnote 21.\",\nIF(OR(Table5ca[[#This Row],[Building Component]]=\"Floor Above Garage\",Table5ca[[#This Row],[Building Component]]=\"Floor Above Garage Columns\"),\"Use the table below to De-Rate floors above garages per Footnote 22.\",\n\"Not Applicable\")))))","v":"Use the table below to De-Rate floors above garages per Footnote 22."},null,null,null,null,null,null,{"$f":"IF(AND(Table5ca[[#This Row],[Dwelling or Common?]]=\"Dwelling\",$C$6=\"Prescriptive\",$C$8=\"Version 1.2 OR+WA\"),\"BuildingComponents_ESRefListV12_UABuildingComponents\",\nIF(AND($C$8=\"Version 1.2 OR+WA\",OR($C$6=\"Prescriptive\",$C$6=\"ERI\",$C$6=\"Title 24 - Dwelling Units Models\"),Table5ca[[#This Row],[Dwelling or Common?]]=\"Common\"),\"BuildingComponents_ESRefListV12_UABuildingComponents\",\n\nIF(AND($C$6=\"Prescriptive\",Table5ca[[#This Row],[Dwelling or Common?]]=\"Dwelling\"),\"PrescriptivePath_UABuildingComponents\",\n\n\"ERI_AHSRAE_UABuildingComponents\")))","v":"PrescriptivePath_UABuildingComponents"},{"$f":"IF(AND($C$6<>\"Prescriptive\",OR(Table5ca[[#This Row],[Building Component]]=\"Floor Assembly\",Table5ca[[#This Row],[Building Component]]=\"Floor Above Garage\",Table5ca[[#This Row],[Building Component]]=\"Floor Above Garage Columns\")),\"Floor\",\nIF(AND($C$6=\"Prescriptive\",Table5ca[[#This Row],[Dwelling or Common?]]=\"Common\",OR(Table5ca[[#This Row],[Building Component]]=\"Floor Assembly\",Table5ca[[#This Row],[Building Component]]=\"Floor Above Garage\",Table5ca[[#This Row],[Building Component]]=\"Floor Above Garage Columns\")),\"Floor\",\n\nIF(Table5ca[[#This Row],[Building Component]]=\"Roofs\",\"Roof\",\nIF(Table5ca[[#This Row],[Building Component]]=\"Walls, Above Grade\",\"WallAboveGrade\",\nIF(Table5ca[[#This Row],[Building Component]]=\"Walls, Below Grade\",\"WallBelowGrade\",\nIF(AND(Table5ca[[#This Row],[Building Component]]=\"Floor Assembly\",$C$6<>\"Prescriptive\"),\"Floor\",\nIF(Table5ca[[#This Row],[Building Component]]=\"Slab-on-Grade Floors\",\"SlabOnGradeFloor\",\nIF(Table5ca[[#This Row],[Building Component]]=\"Opaque Doors\",\"OpaqueDoor\",\nIF(Table5ca[[#This Row],[Building Component]]=\"Balcony\",\"Balcony\",\nIF(AND(Table5ca[[#This Row],[Building Component]]=\"Floor Above Garage\",$C$6=\"Prescriptive\"),\"FloorAssembly\",\nIF(Table5ca[[#This Row],[Building Component]]=\"Floor Above Garage\",\"FloorAboveGarage\",\nIF(Table5ca[[#This Row],[Building Component]]=\"Wall Assembly\",\"WallAssembly\",\nIF(Table5ca[[#This Row],[Building Component]]=\"Ceiling Assembly\",\"CeilingAssembly\",\nIF(OR(Table5ca[[#This Row],[Building Component]]=\"Floor Assembly\",Table5ca[[#This Row],[Building Component]]=\"Floor Above Garage\",Table5ca[[#This Row],[Building Component]]=\"Floor Above Garage Columns\"),\"FloorAssembly\",\n\nIF(AND(Table5ca[[#This Row],[Building Component]]=\"Fenestration\",Table5ca[[#This Row],[Dwelling or Common?]]=\"Dwelling\"),\"ClassAW?\",\n\nIF(AND(Table5ca[[#This Row],[Building Component]]=\"Fenestration\",Table5ca[[#This Row],[Dwelling or Common?]]=\"Common\",OR($C$6=\"ERI\",$C$6=\"Title 24 - Dwelling Unit Models\",$C$6=\"Prescriptive\")),\"ESRefClassAW\",\nIF(AND(Table5ca[[#This Row],[Building Component]]=\"Fenestration\",Table5ca[[#This Row],[Dwelling or Common?]]=\"Common\",OR($C$6=\"ASHRAE\",$C$6=\"Title 24 - Whole Building Models\")),\"Fenestration\",\n\n\"NotApplicable\")))))))))))))))))","v":"FloorAssembly"},{"$f":"IF(AND(OR($C$6=\"ERI\",$C$6=\"Title 24 - Dwelling Unit Models\"),Table5ca[[#This Row],[Dwelling or Common?]]=\"Dwelling\",Table5ca[[#This Row],[Component Type]]=\"Class AW\"),\"Fenestration\",\nIF(AND(OR($C$6=\"ERI\",$C$6=\"Title 24 - Dwelling Unit Models\"),Table5ca[[#This Row],[Dwelling or Common?]]=\"Dwelling\",Table5ca[[#This Row],[Component Type]]=\"Not Class AW\"),\"NotApplicable\",\n\nIF(AND(OR($C$6=\"ASHRAE\",$C$6=\"Title 24 - Whole Building Models\"),Table5ca[[#This Row],[Dwelling or Common?]]=\"Dwelling\",Table5ca[[#This Row],[Component Type]]=\"Class AW\"),\"Fenestration\",\nIF(AND(OR($C$6=\"ASHRAE\",$C$6=\"Title 24 - Whole Building Models\"),Table5ca[[#This Row],[Dwelling or Common?]]=\"Dwelling\",Table5ca[[#This Row],[Component Type]]=\"Not Class AW\"),\"NotApplicable\",\n\nIF(AND($C$6=\"Prescriptive\",Table5ca[[#This Row],[Dwelling or Common?]]=\"Dwelling\",Table5ca[[#This Row],[Component Type]]=\"Class AW\"),\"ESRefClassAW\",\nIF(AND($C$6=\"Prescriptive\",Table5ca[[#This Row],[Dwelling or Common?]]=\"Dwelling\",Table5ca[[#This Row],[Component Type]]=\"Not Class AW\"),\"ESRefNotClassAW\",\n\nIF(Table5ca[[#This Row],[Component Type]]=\"Class AW\",\"Fenestration\",\n\n\"NotApplicable\")))))))","v":"NotApplicable"},{"$f":"IF(AND(Table5ca[[#This Row],[Dwelling or Common?]]=\"Dwelling\",$C$8=\"Version 1\",$C$6=\"Prescriptive\",Table5ca[[#This Row],[Building Component]]<>\"Fenestration\"),\"ESRefDesign_Insulation_V1\",\nIF(AND(Table5ca[[#This Row],[Dwelling or Common?]]=\"Dwelling\",$C$8=\"Version 1.1\",$C$6=\"Prescriptive\",Table5ca[[#This Row],[Building Component]]<>\"Fenestration\"),\"ESRefDesign_Insulation_V11\",\nIF(AND($C$8=\"Version 1.2 OR+WA\",$C$6=\"Prescriptive\",Table5ca[[#This Row],[Building Component]]<>\"Fenestration\"),\"ESRefDesign_Insulation_V12\",\n\nIF(AND(Table5ca[[#This Row],[Dwelling or Common?]]=\"Common\",$C$8=\"Version 1.2 OR+WA\",OR($C$6=\"ERI\",$C$6=\"Title 24 - Dwelling Unit Models\"),Table5ca[[#This Row],[Building Component]]<>\"Fenestration\"),\"ESRefDesign_Insulation_V12\",\nIF(AND(Table5ca[[#This Row],[Dwelling or Common?]]=\"Common\",$C$8=\"Version 1.2 OR+WA\",OR($C$6=\"ASHRAE\",$C$6=\"Title 24 - Whole Building Models\"),Table5ca[[#This Row],[Building Component]]<>\"Fenestration\"),\"IECC2009_OU\",\nIF(AND(Table5ca[[#This Row],[Dwelling or Common?]]=\"Dwelling\",$C$8=\"Version 1.2 OR+WA\",OR($C$6=\"ERI\",$C$6=\"Title 24 - Dwelling Unit Models\",$C$6=\"ASHRAE\",$C$6=\"Title 24 - Whole Building Models\"),Table5ca[[#This Row],[Building Component]]<>\"Fenestration\"),\"IECC2009_RU\",\n\nIF(AND(Table5ca[[#This Row],[Dwelling or Common?]]=\"Common\",$C$8=\"Version 1\",Table5ca[[#This Row],[Building Component]]<>\"Fenestration\"),\"IECC2009_OU\",\nIF(AND(Table5ca[[#This Row],[Dwelling or Common?]]=\"Common\",$C$8=\"Version 1.1\",OR($C$6=\"ASHRAE\",$C$6=\"Title 24 - Whole Building Models\"),Table5ca[[#This Row],[Building Component]]<>\"Fenestration\"),\"IECC2009_OU\",\nIF(AND(Table5ca[[#This Row],[Dwelling or Common?]]=\"Common\",$C$8=\"Version 1.1\",OR($C$6=\"Prescriptive\",$C$6=\"ERI\",$C$6=\"Title 24 - Dwelling Unit Models\"),Table5ca[[#This Row],[Building Component]]<>\"Fenestration\"),\"IECC2012_OU\",\n\nIF(AND(Table5ca[[#This Row],[Dwelling or Common?]]=\"Dwelling\",OR($C$8=\"Version 1\",$C$8=\"Version 1.1\",),OR($C$6=\"ERI\",$C$6=\"ASHRAE\",$C$6=\"Title 24 - Whole Building Models\",$C$6=\"Title 24 - Dwelling Unit Models\"),Table5ca[[#This Row],[Building Component]]<>\"Fenestration\"),\"IECC2009_RU\",\n\n\nIF(AND(Table5ca[[#This Row],[Building Component]]=\"Fenestration\",Table5ca[[#This Row],[Dwelling or Common?]]=\"Common\",OR($C$6=\"Prescriptive\",$C$6=\"ERI\",$C$6=\"Title 24 - Dwelling Unit Models\"),$C$8=\"Version 1\"),\"ESRefDesign_FenestrationAW_V1\",\nIF(AND(Table5ca[[#This Row],[Building Component]]=\"Fenestration\",Table5ca[[#This Row],[Dwelling or Common?]]=\"Common\",OR($C$6=\"Prescriptive\",$C$6=\"ERI\",$C$6=\"Title 24 - Dwelling Unit Models\"),$C$8=\"Version 1.1\"),\"ESRefDesign_FenestrationAW_V11\",\nIF(AND(Table5ca[[#This Row],[Building Component]]=\"Fenestration\",Table5ca[[#This Row],[Dwelling or Common?]]=\"Common\",OR($C$6=\"Prescriptive\",$C$6=\"ERI\",$C$6=\"Title 24 - Dwelling Unit Models\"),$C$8=\"Version 1.2 OR+WA\"),\"ESRefDesign_FenestrationAW_V12\",\n\nIF(AND(Table5ca[[#This Row],[Building Component]]=\"Fenestration\",Table5ca[[#This Row],[Dwelling or Common?]]=\"Common\",OR($C$6=\"ASHRAE\",$C$6=\"Title 24 - Whole Building Models\")),\"IECC2009_Fenestration_AW_Windows\",\nIF(AND(Table5ca[[#This Row],[Building Component]]=\"Fenestration\",Table5ca[[#This Row],[Dwelling or Common?]]=\"Dwelling\",Table5ca[[#This Row],[Component Type]]=\"Class AW\",OR($C$6=\"ASHRAE\",$C$6=\"Title 24 - Whole Building Models\",$C$6=\"ERI\",$C$6=\"Title 24 - Dwelling Unit Models\")),\"IECC2009_Fenestration_AW_Windows\",\n\nIF(AND(Table5ca[[#This Row],[Building Component]]=\"Fenestration\",Table5ca[[#This Row],[Dwelling or Common?]]=\"Dwelling\",$C$6=\"Prescriptive\",$C$8=\"Version 1\",Table5ca[[#This Row],[Component Type]]=\"Class AW\"),\"ESRefDesign_FenestrationAW_V1\",\nIF(AND(Table5ca[[#This Row],[Building Component]]=\"Fenestration\",Table5ca[[#This Row],[Dwelling or Common?]]=\"Dwelling\",$C$6=\"Prescriptive\",$C$8=\"Version 1.1\",Table5ca[[#This Row],[Component Type]]=\"Class AW\"),\"ESRefDesign_FenestrationAW_V11\",\nIF(AND(Table5ca[[#This Row],[Building Component]]=\"Fenestration\",Table5ca[[#This Row],[Dwelling or Common?]]=\"Dwelling\",$C$6=\"Prescriptive\",$C$8=\"Version 1.2 OR+WA\",Table5ca[[#This Row],[Component Type]]=\"Class AW\"),\"ESRefDesign_FenestrationAW_V12\",\n\nIF(AND(Table5ca[[#This Row],[Building Component]]=\"Fenestration\",Table5ca[[#This Row],[Dwelling or Common?]]=\"Dwelling\",$C$6=\"Prescriptive\",$C$8=\"Version 1\",Table5ca[[#This Row],[Component Type]]=\"Not Class AW\"),\"ESRefDesign_Fenestration_V1\",\nIF(AND(Table5ca[[#This Row],[Building Component]]=\"Fenestration\",Table5ca[[#This Row],[Dwelling or Common?]]=\"Dwelling\",$C$6=\"Prescriptive\",$C$8=\"Version 1.1\",Table5ca[[#This Row],[Component Type]]=\"Not Class AW\"),\"ESRefDesign_Fenestration_V11\",\nIF(AND(Table5ca[[#This Row],[Building Component]]=\"Fenestration\",Table5ca[[#This Row],[Dwelling or Common?]]=\"Dwelling\",$C$6=\"Prescriptive\",$C$8=\"Version 1.2 OR+WA\",Table5ca[[#This Row],[Component Type]]=\"Not Class AW\"),\"ESRefDesign_Fenestration_V12\",\n\nIF(AND(Table5ca[[#This Row],[Building Component]]=\"Fenestration\",Table5ca[[#This Row],[Dwelling or Common?]]=\"Dwelling\"),\"IECC2009_Fenestration_NotAW_Windows\",\n\n\"\"))))))))))))))))))))))","v":"ESRefDesign_Insulation_V1"},{"$f":"IF(OR(Table5ca[[#This Row],[Lookup Table Pt1]]=\"ESRefDesign_Insulation_V1\",Table5ca[[#This Row],[Lookup Table Pt1]]=\"ESRefDesign_Insulation_V11\",Table5ca[[#This Row],[Lookup Table Pt1]]=\"IECC2009_Fenestration_NotAW_Windows\",Table5ca[[#This Row],[Lookup Table Pt1]]=\"IECC2009_Fenestration_AW_Windows\",Table5ca[[#This Row],[Lookup Table Pt1]]=\"ESRefDesign_FenestrationAW_V1\",Table5ca[[#This Row],[Lookup Table Pt1]]=\"ESRefDesign_FenestrationAW_V11\",Table5ca[[#This Row],[Lookup Table Pt1]]=\"ESRefDesign_Fenestration_V1\",Table5ca[[#This Row],[Lookup Table Pt1]]=\"ESRefDesign_Fenestration_V11\"),Table5ca[[#This Row],[Lookup Table Pt1]],\n\nIF(Table5ca[[#This Row],[Component_Lookup]]=\"FloorAboveGarage\",Table5ca[[#This Row],[Lookup Table Pt1]]&\"_Floor\",\n\nTable5ca[[#This Row],[Lookup Table Pt1]]&\"_\"&Table5ca[[#This Row],[Component_Lookup]]))","v":"ESRefDesign_Insulation_V1"},{"$f":"IF(AND($C$8=\"Version 1.2 OR+WA\",$C$6=\"Prescriptive\",Table5ca[[#This Row],[Building Component]]=\"Above-Grade Wall\"),1,\nIF(AND($C$8=\"Version 1.2 OR+WA\",$C$6=\"Prescriptive\",Table5ca[[#This Row],[Building Component]]=\"Ceiling\"),2,\nIF(AND($C$8=\"Version 1.2 OR+WA\",$C$6=\"Prescriptive\",Table5ca[[#This Row],[Building Component]]=\"Basement Wall\"),4,\nIF(AND($C$8=\"Version 1.2 OR+WA\",$C$6=\"Prescriptive\",Table5ca[[#This Row],[Building Component]]=\"On-Grade & Below Grade Slab\"),5,\nIF(AND($C$8=\"Version 1.2 OR+WA\",$C$6=\"Prescriptive\",OR(Table5ca[[#This Row],[Building Component]]=\"Floor Assembly\",Table5ca[[#This Row],[Building Component]]=\"Floor Above Garage\",Table5ca[[#This Row],[Building Component]]=\"Floor Above Garage Columns\")),3,\n\nIF(AND($C$8=\"Version 1.2 OR+WA\",OR($C$6=\"Prescriptive\",$C$6=\"ERI\",$C$6=\"Title 24 - Dwelling Units Models\"),Table5ca[[#This Row],[Dwelling or Common?]]=\"Common\",Table5ca[[#This Row],[Building Component]]=\"Above-Grade Wall\"),1,\nIF(AND($C$8=\"Version 1.2 OR+WA\",OR($C$6=\"Prescriptive\",$C$6=\"ERI\",$C$6=\"Title 24 - Dwelling Units Models\"),Table5ca[[#This Row],[Dwelling or Common?]]=\"Common\",Table5ca[[#This Row],[Building Component]]=\"Ceiling\"),2,\nIF(AND($C$8=\"Version 1.2 OR+WA\",OR($C$6=\"Prescriptive\",$C$6=\"ERI\",$C$6=\"Title 24 - Dwelling Units Models\"),Table5ca[[#This Row],[Dwelling or Common?]]=\"Common\",Table5ca[[#This Row],[Building Component]]=\"Basement Wall\"),4,\nIF(AND($C$8=\"Version 1.2 OR+WA\",OR($C$6=\"Prescriptive\",$C$6=\"ERI\",$C$6=\"Title 24 - Dwelling Units Models\"),Table5ca[[#This Row],[Dwelling or Common?]]=\"Common\",Table5ca[[#This Row],[Building Component]]=\"On-Grade & Below Grade Slab\"),5,\nIF(AND($C$8=\"Version 1.2 OR+WA\",OR($C$6=\"Prescriptive\",$C$6=\"ERI\",$C$6=\"Title 24 - Dwelling Units Models\"),Table5ca[[#This Row],[Dwelling or Common?]]=\"Common\",OR(Table5ca[[#This Row],[Building Component]]=\"Floor Assembly\",Table5ca[[#This Row],[Building Component]]=\"Floor Above Garage\",Table5ca[[#This Row],[Building Component]]=\"Floor Above Garage Columns\")),3,\n\nIF(AND($C$6=\"Prescriptive\",OR($C$8=\"Version 1\",$C$8=\"Version 1.1\"),Table5ca[[#This Row],[Building Component]]=\"Basement Wall Continuous Insulation\"),3,\nIF(AND($C$6=\"Prescriptive\",OR($C$8=\"Version 1\",$C$8=\"Version 1.1\"),Table5ca[[#This Row],[Building Component]]=\"Slab Insulation\"),1,\n\nIF(OR(Table5ca[[#This Row],[Component Type]]=\"Insulation entirely above deck\",Table5ca[[#This Row],[Component Type]]=\"Mass\",Table5ca[[#This Row],[Component Type]]=\"Below grade wall\",Table5ca[[#This Row],[Component Type]]=\"Unheated slabs\",Table5ca[[#This Row],[Component Type]]=\"Floor Above Garage\"),1,\nIF(OR(Table5ca[[#This Row],[Component Type]]=\"Metal buildings\",Table5ca[[#This Row],[Component Type]]=\"Metal building\",Table5ca[[#This Row],[Component Type]]=\"Joist/framing\",Table5ca[[#This Row],[Component Type]]=\"Heated slabs\",Table5ca[[#This Row],[Component Type]]=\"Floor Above Garage\"),2,\nIF(OR(Table5ca[[#This Row],[Component Type]]=\"Attic and other\",Table5ca[[#This Row],[Component Type]]=\"Metal framed\"),3,\nIF(OR(Table5ca[[#This Row],[Component Type]]=\"Wood framed and other\",Table5ca[[#This Row],[Building Component]]=\"Floor Assembly\",Table5ca[[#This Row],[Building Component]]=\"Floor Above Garage\",Table5ca[[#This Row],[Building Component]]=\"Floor Above Garage Columns\"),4,\nIF(Table5ca[[#This Row],[Building Component]]=\"Wall Assembly\",5,\nIF(Table5ca[[#This Row],[Building Component]]=\"Ceiling Assembly\",6,\n\nIF(Table5ca[[#This Row],[Lookup Table Pt2]]=\"IECC2009_Fenestration_NotAW_Windows\",1,\nIF(AND(Table5ca[[#This Row],[Lookup Table Pt2]]=\"IECC2009_Fenestration_AW_Windows\",OR(Table5ca[[#This Row],[Additional Component Details]]=\"Non-Metal\",Table5ca[[#This Row],[Component Type]]=\"Non-Metal\")),1,\nIF(AND(Table5ca[[#This Row],[Lookup Table Pt2]]=\"IECC2009_Fenestration_AW_Windows\",OR(Table5ca[[#This Row],[Additional Component Details]]=\"Metal - Curtainwall/storefront\",Table5ca[[#This Row],[Component Type]]=\"Metal - Curtainwall/storefront\")),2,\nIF(AND(Table5ca[[#This Row],[Lookup Table Pt2]]=\"IECC2009_Fenestration_AW_Windows\",OR(Table5ca[[#This Row],[Additional Component Details]]=\"Metal - Entrance door\",Table5ca[[#This Row],[Component Type]]=\"Metal - Entrance door\")),3,\nIF(AND(Table5ca[[#This Row],[Lookup Table Pt2]]=\"IECC2009_Fenestration_AW_Windows\",OR(Table5ca[[#This Row],[Additional Component Details]]=\"Metal - Other\",Table5ca[[#This Row],[Component Type]]=\"Metal - Entrance door\")),4,\nIF(AND(Table5ca[[#This Row],[Lookup Table Pt2]]=\"IECC2009_Fenestration_AW_Windows\",Table5ca[[#This Row],[Component Type]]=\"Metal - Other\"),4,\n\nIF(AND(OR(Table5ca[[#This Row],[Lookup Table Pt1]]=\"ESRefDesign_FenestrationAW_V1\",Table5ca[[#This Row],[Lookup Table Pt1]]=\"ESRefDesign_FenestrationAW_V11\",Table5ca[[#This Row],[Lookup Table Pt1]]=\"ESRefDesign_FenestrationAW_V12\"),OR(Table5ca[[#This Row],[Component Type]]=\"Fixed\",Table5ca[[#This Row],[Additional Component Details]]=\"Fixed\")),1,\nIF(AND(OR(Table5ca[[#This Row],[Lookup Table Pt1]]=\"ESRefDesign_FenestrationAW_V1\",Table5ca[[#This Row],[Lookup Table Pt1]]=\"ESRefDesign_FenestrationAW_V11\",Table5ca[[#This Row],[Lookup Table Pt1]]=\"ESRefDesign_FenestrationAW_V12\"),OR(Table5ca[[#This Row],[Component Type]]=\"Operable\",Table5ca[[#This Row],[Additional Component Details]]=\"Operable\")),2,\n\nIF(AND(OR(Table5ca[[#This Row],[Lookup Table Pt1]]=\"ESRefDesign_Fenestration_V1\",Table5ca[[#This Row],[Lookup Table Pt1]]=\"ESRefDesign_Fenestration_V11\",Table5ca[[#This Row],[Lookup Table Pt1]]=\"ESRefDesign_Fenestration_V12\"),Table5ca[[#This Row],[Additional Component Details]]=\"Window\"),1,\nIF(AND(OR(Table5ca[[#This Row],[Lookup Table Pt1]]=\"ESRefDesign_Fenestration_V1\",Table5ca[[#This Row],[Lookup Table Pt1]]=\"ESRefDesign_Fenestration_V11\",Table5ca[[#This Row],[Lookup Table Pt1]]=\"ESRefDesign_Fenestration_V12\"),Table5ca[[#This Row],[Additional Component Details]]=\"Opaque Door\"),3,\nIF(AND(OR(Table5ca[[#This Row],[Lookup Table Pt1]]=\"ESRefDesign_Fenestration_V1\",Table5ca[[#This Row],[Lookup Table Pt1]]=\"ESRefDesign_Fenestration_V11\",Table5ca[[#This Row],[Lookup Table Pt1]]=\"ESRefDesign_Fenestration_V12\"),Table5ca[[#This Row],[Additional Component Details]]=\"≤½ lite Door\"),4,\nIF(AND(OR(Table5ca[[#This Row],[Lookup Table Pt1]]=\"ESRefDesign_Fenestration_V1\",Table5ca[[#This Row],[Lookup Table Pt1]]=\"ESRefDesign_Fenestration_V11\",Table5ca[[#This Row],[Lookup Table Pt1]]=\"ESRefDesign_Fenestration_V12\"),Table5ca[[#This Row],[Additional Component Details]]=\">½ lite Door\"),5,\n\n\n\"\"))))))))))))))))))))))))))))))","v":4},{"$f":"IF(AND($C$8=\"Version 1.2 OR+WA\",$C$6=\"Prescriptive\",Table5ca[[#This Row],[Building Component]]<>\"Fenestration\"),2,\n\nIF(AND($C$8=\"Version 1.2 OR+WA\",$C$6=\"Prescriptive\",$C$7=\"CZ 4 C\"),2,\nIF(AND($C$8=\"Version 1.2 OR+WA\",$C$6=\"Prescriptive\",$C$7=\"CZ 5\"),3,\nIF(AND($C$8=\"Version 1.2 OR+WA\",$C$6=\"Prescriptive\",$C$7=\"CZ 6\"),4,\n\nIF(AND($C$8=\"Version 1.2 OR+WA\",Table5ca[[#This Row],[Dwelling or Common?]]=\"Common\",OR($C$6=\"ERI\",$C$6=\"Title 24 - Dwelling Unit Models\"),$C$7=\"CZ 4 C\"),2,\nIF(AND($C$8=\"Version 1.2 OR+WA\",Table5ca[[#This Row],[Dwelling or Common?]]=\"Common\",OR($C$6=\"ERI\",$C$6=\"Title 24 - Dwelling Unit Models\"),$C$7=\"CZ 5\"),3,\nIF(AND($C$8=\"Version 1.2 OR+WA\",Table5ca[[#This Row],[Dwelling or Common?]]=\"Common\",OR($C$6=\"ERI\",$C$6=\"Title 24 - Dwelling Unit Models\"),$C$7=\"CZ 6\"),4,\n\nIF($C$7=\"CZ 1\",2,\nIF($C$7=\"CZ 2\",3,\nIF($C$7=\"CZ 3\",4,\nIF($C$7=\"CZ 4\",5,\nIF($C$7=\"CZ 4 C\",6,\nIF($C$7=\"CZ 5\",7,\nIF($C$7=\"CZ 6\",8,\nIF($C$7=\"CZ 7\",9,\nIF($C$7=\"CZ 8\",10,\"\"))))))))))))))))","v":5}]
[null,"Common","Floor Above Garage","Joist/framing","N/A",6.2E-2,15000,{"$f":"IF(Table5ca[[#This Row],[Specified/Installed U-Factor]]*Table5ca[[#This Row],[Area]]=0,\"\",Table5ca[[#This Row],[Specified/Installed U-Factor]]*Table5ca[[#This Row],[Area]])","v":930},{"$f":"IFERROR(IF(AND($C$8=\"Version 1.2 OR+WA\",OR($C$7=\"CZ 1\",$C$7=\"CZ 2\",$C$7=\"CZ 3\",$C$7=\"CZ 4\",$C$7=\"CZ 7\",$C$7=\"CZ 8\")),\"N/A - Update CZ\",\n\nIF(Table5ca[[#This Row],[Building Component]]=\"Balcony\",\"0.20\",\n\nIF(OR(Table5ca[[#This Row],[Lookup Table Pt1]]=\"ESRefDesign_Insulation_V1\",Table5ca[[#This Row],[Lookup Table Pt1]]=\"ESRefDesign_Insulation_V11\",Table5ca[[#This Row],[Lookup Table Pt1]]=\"ESRefDesign_Insulation_V12\",Table5ca[[#This Row],[Lookup Table Pt1]]=\"ESRefDesign_FenestrationAW_V1\",Table5ca[[#This Row],[Lookup Table Pt1]]=\"ESRefDesign_FenestrationAW_V11\",Table5ca[[#This Row],[Lookup Table Pt1]]=\"ESRefDesign_Fenestration_V1\",Table5ca[[#This Row],[Lookup Table Pt1]]=\"ESRefDesign_Fenestration_V11\",Table5ca[[#This Row],[Lookup Table Pt1]]=\"ESRefDesign_Fenestration_V12\",Table5ca[[#This Row],[Lookup Table Pt1]]=\"ESRefDesign_FenestrationAW_V12\",Table5ca[[#This Row],[Lookup Table Pt1]]=\"IECC2009_Fenestration_NotAW_Windows\",Table5ca[[#This Row],[Lookup Table Pt1]]=\"IECC2009_Fenestration_AW_Windows\"),INDEX(INDIRECT(Table5ca[[#This Row],[Lookup Table Pt1]]),Table5ca[[#This Row],[Row Index]],Table5ca[[#This Row],[Column Index]]),\n\nINDEX(INDIRECT(Table5ca[[#This Row],[Lookup Table Pt2]]),Table5ca[[#This Row],[Row Index]],Table5ca[[#This Row],[Column Index]])))),\"\")","v":"U-0.033"},{"$f":"IFERROR(\n\nIF(LEFT(Table5ca[[#This Row],[ENERGY STAR Requirement Values]],2)=\"U-\",Table5ca[[#This Row],[ENERGY STAR Requirement Values]],\n\nIF(OR(Table5ca[[#This Row],[Building Component]]=\"Slab Insulation\",Table5ca[[#This Row],[Building Component]]=\"Slab-On-Grade Floor\",Table5ca[[#This Row],[Building Component]]=\"Slab-On-Grade Floors\",Table5ca[[#This Row],[Building Component]]=\"On-Grade & Below Grade Slab\",Table5ca[[#This Row],[Building Component]]=\"Slab-on-Grade Floors\",Table5ca[[#This Row],[Building Component]]=\"Slab-on-Grade Floor\"),\"\",\n\nIF(OR(Table5ca[[#This Row],[ENERGY STAR Requirement Values]]=\"R-0\",Table5ca[[#This Row],[ENERGY STAR Requirement Values]]=0,Table5ca[[#This Row],[ENERGY STAR Requirement Values]]=\"C-1.140\"),\"U-0.36\",\nIF(OR(Table5ca[[#This Row],[ENERGY STAR Requirement Values]]=\"R-7.5\",Table5ca[[#This Row],[ENERGY STAR Requirement Values]]=7.5,Table5ca[[#This Row],[ENERGY STAR Requirement Values]]=\"C-0.119\"),\"U-0.072\",\nIF(OR(Table5ca[[#This Row],[ENERGY STAR Requirement Values]]=\"R-10\",Table5ca[[#This Row],[ENERGY STAR Requirement Values]]=10,Table5ca[[#This Row],[ENERGY STAR Requirement Values]]=\"C-0.092\"),\"U-0.059\",\nIF(OR(Table5ca[[#This Row],[ENERGY STAR Requirement Values]]=\"R-15\",Table5ca[[#This Row],[ENERGY STAR Requirement Values]]=15,Table5ca[[#This Row],[ENERGY STAR Requirement Values]]=\"R-15 continuous or R-21 cavity\"),\"U-0.05\",\nIF(OR(Table5ca[[#This Row],[ENERGY STAR Requirement Values]]=\"R-12.5\",Table5ca[[#This Row],[ENERGY STAR Requirement Values]]=12.5,Table5ca[[#This Row],[ENERGY STAR Requirement Values]]=\"C-0.075\"),\"U-0.054\",\nIF(OR(Table5ca[[#This Row],[ENERGY STAR Requirement Values]]=\"R-21\",Table5ca[[#This Row],[ENERGY STAR Requirement Values]]=21),\"U-0.056\",\nIF(OR(Table5ca[[#This Row],[ENERGY STAR Requirement Values]]=\"R-38\",Table5ca[[#This Row],[ENERGY STAR Requirement Values]]=38),\"U-0.028\",\nIF(OR(Table5ca[[#This Row],[ENERGY STAR Requirement Values]]=\"R-49\",Table5ca[[#This Row],[ENERGY STAR Requirement Values]]=49),\"U-0.026\",\n\nIF(LEFT(Table5ca[[#This Row],[ENERGY STAR Requirement Values]],2)=\"F-\",\"\",\n\nIF(LEFT(Table5ca[[#This Row],[ENERGY STAR Requirement Values]],1)=\"0\",CONCATENATE(\"U-\",Table5ca[[#This Row],[ENERGY STAR Requirement Values]]),\n\nTable5ca[[#This Row],[ENERGY STAR Requirement Values]])))))))))))),\"\")","v":"U-0.033"},{"$f":"IFERROR(IF(Table5ca[[#This Row],[Area]]=\"\",\"\",\nIF(Table5ca[[#This Row],[Required U-factor]]=\"\",\"\",\nIFERROR(Table5ca[[#This Row],[Area]]*Table5ca[[#This Row],[Required U-factor]],RIGHT(Table5ca[[#This Row],[Required U-factor]],LEN(Table5ca[[#This Row],[Required U-factor]])-2)*Table5ca[[#This Row],[Area]]))),\"\")","v":495},{"$f":"IF(Table5ca[[#This Row],[Building Component]]=\"\",\"\",\nIF(OR(Table5ca[[#This Row],[Building Component]]=\"Wall, Above Grade\",Table5ca[[#This Row],[Building Component]]=\"Wall, Below Grade\"),\"If there is continuous insulation interrupted by fasteners, ensure that the U-factor has been de-rated per Footnote 24. See below for further details.\",\nIF(Table5ca[[#This Row],[Building Component]]=\"Wall Assembly\",\"Apply a derate per Footnote 6 below.\",\nIF(Table5ca[[#This Row],[Building Component]]=\"Balcony\",\"Use the table below to de-rate balconies per Footnote 21.\",\nIF(OR(Table5ca[[#This Row],[Building Component]]=\"Floor Above Garage\",Table5ca[[#This Row],[Building Component]]=\"Floor Above Garage Columns\"),\"Use the table below to De-Rate floors above garages per Footnote 22.\",\n\"Not Applicable\")))))","v":"Use the table below to De-Rate floors above garages per Footnote 22."},null,null,null,null,null,null,{"$f":"IF(AND(Table5ca[[#This Row],[Dwelling or Common?]]=\"Dwelling\",$C$6=\"Prescriptive\",$C$8=\"Version 1.2 OR+WA\"),\"BuildingComponents_ESRefListV12_UABuildingComponents\",\nIF(AND($C$8=\"Version 1.2 OR+WA\",OR($C$6=\"Prescriptive\",$C$6=\"ERI\",$C$6=\"Title 24 - Dwelling Units Models\"),Table5ca[[#This Row],[Dwelling or Common?]]=\"Common\"),\"BuildingComponents_ESRefListV12_UABuildingComponents\",\n\nIF(AND($C$6=\"Prescriptive\",Table5ca[[#This Row],[Dwelling or Common?]]=\"Dwelling\"),\"PrescriptivePath_UABuildingComponents\",\n\n\"ERI_AHSRAE_UABuildingComponents\")))","v":"ERI_AHSRAE_UABuildingComponents"},{"$f":"IF(AND($C$6<>\"Prescriptive\",OR(Table5ca[[#This Row],[Building Component]]=\"Floor Assembly\",Table5ca[[#This Row],[Building Component]]=\"Floor Above Garage\",Table5ca[[#This Row],[Building Component]]=\"Floor Above Garage Columns\")),\"Floor\",\nIF(AND($C$6=\"Prescriptive\",Table5ca[[#This Row],[Dwelling or Common?]]=\"Common\",OR(Table5ca[[#This Row],[Building Component]]=\"Floor Assembly\",Table5ca[[#This Row],[Building Component]]=\"Floor Above Garage\",Table5ca[[#This Row],[Building Component]]=\"Floor Above Garage Columns\")),\"Floor\",\n\nIF(Table5ca[[#This Row],[Building Component]]=\"Roofs\",\"Roof\",\nIF(Table5ca[[#This Row],[Building Component]]=\"Walls, Above Grade\",\"WallAboveGrade\",\nIF(Table5ca[[#This Row],[Building Component]]=\"Walls, Below Grade\",\"WallBelowGrade\",\nIF(AND(Table5ca[[#This Row],[Building Component]]=\"Floor Assembly\",$C$6<>\"Prescriptive\"),\"Floor\",\nIF(Table5ca[[#This Row],[Building Component]]=\"Slab-on-Grade Floors\",\"SlabOnGradeFloor\",\nIF(Table5ca[[#This Row],[Building Component]]=\"Opaque Doors\",\"OpaqueDoor\",\nIF(Table5ca[[#This Row],[Building Component]]=\"Balcony\",\"Balcony\",\nIF(AND(Table5ca[[#This Row],[Building Component]]=\"Floor Above Garage\",$C$6=\"Prescriptive\"),\"FloorAssembly\",\nIF(Table5ca[[#This Row],[Building Component]]=\"Floor Above Garage\",\"FloorAboveGarage\",\nIF(Table5ca[[#This Row],[Building Component]]=\"Wall Assembly\",\"WallAssembly\",\nIF(Table5ca[[#This Row],[Building Component]]=\"Ceiling Assembly\",\"CeilingAssembly\",\nIF(OR(Table5ca[[#This Row],[Building Component]]=\"Floor Assembly\",Table5ca[[#This Row],[Building Component]]=\"Floor Above Garage\",Table5ca[[#This Row],[Building Component]]=\"Floor Above Garage Columns\"),\"FloorAssembly\",\n\nIF(AND(Table5ca[[#This Row],[Building Component]]=\"Fenestration\",Table5ca[[#This Row],[Dwelling or Common?]]=\"Dwelling\"),\"ClassAW?\",\n\nIF(AND(Table5ca[[#This Row],[Building Component]]=\"Fenestration\",Table5ca[[#This Row],[Dwelling or Common?]]=\"Common\",OR($C$6=\"ERI\",$C$6=\"Title 24 - Dwelling Unit Models\",$C$6=\"Prescriptive\")),\"ESRefClassAW\",\nIF(AND(Table5ca[[#This Row],[Building Component]]=\"Fenestration\",Table5ca[[#This Row],[Dwelling or Common?]]=\"Common\",OR($C$6=\"ASHRAE\",$C$6=\"Title 24 - Whole Building Models\")),\"Fenestration\",\n\n\"NotApplicable\")))))))))))))))))","v":"Floor"},{"$f":"IF(AND(OR($C$6=\"ERI\",$C$6=\"Title 24 - Dwelling Unit Models\"),Table5ca[[#This Row],[Dwelling or Common?]]=\"Dwelling\",Table5ca[[#This Row],[Component Type]]=\"Class AW\"),\"Fenestration\",\nIF(AND(OR($C$6=\"ERI\",$C$6=\"Title 24 - Dwelling Unit Models\"),Table5ca[[#This Row],[Dwelling or Common?]]=\"Dwelling\",Table5ca[[#This Row],[Component Type]]=\"Not Class AW\"),\"NotApplicable\",\n\nIF(AND(OR($C$6=\"ASHRAE\",$C$6=\"Title 24 - Whole Building Models\"),Table5ca[[#This Row],[Dwelling or Common?]]=\"Dwelling\",Table5ca[[#This Row],[Component Type]]=\"Class AW\"),\"Fenestration\",\nIF(AND(OR($C$6=\"ASHRAE\",$C$6=\"Title 24 - Whole Building Models\"),Table5ca[[#This Row],[Dwelling or Common?]]=\"Dwelling\",Table5ca[[#This Row],[Component Type]]=\"Not Class AW\"),\"NotApplicable\",\n\nIF(AND($C$6=\"Prescriptive\",Table5ca[[#This Row],[Dwelling or Common?]]=\"Dwelling\",Table5ca[[#This Row],[Component Type]]=\"Class AW\"),\"ESRefClassAW\",\nIF(AND($C$6=\"Prescriptive\",Table5ca[[#This Row],[Dwelling or Common?]]=\"Dwelling\",Table5ca[[#This Row],[Component Type]]=\"Not Class AW\"),\"ESRefNotClassAW\",\n\nIF(Table5ca[[#This Row],[Component Type]]=\"Class AW\",\"Fenestration\",\n\n\"NotApplicable\")))))))","v":"NotApplicable"},{"$f":"IF(AND(Table5ca[[#This Row],[Dwelling or Common?]]=\"Dwelling\",$C$8=\"Version 1\",$C$6=\"Prescriptive\",Table5ca[[#This Row],[Building Component]]<>\"Fenestration\"),\"ESRefDesign_Insulation_V1\",\nIF(AND(Table5ca[[#This Row],[Dwelling or Common?]]=\"Dwelling\",$C$8=\"Version 1.1\",$C$6=\"Prescriptive\",Table5ca[[#This Row],[Building Component]]<>\"Fenestration\"),\"ESRefDesign_Insulation_V11\",\nIF(AND($C$8=\"Version 1.2 OR+WA\",$C$6=\"Prescriptive\",Table5ca[[#This Row],[Building Component]]<>\"Fenestration\"),\"ESRefDesign_Insulation_V12\",\n\nIF(AND(Table5ca[[#This Row],[Dwelling or Common?]]=\"Common\",$C$8=\"Version 1.2 OR+WA\",OR($C$6=\"ERI\",$C$6=\"Title 24 - Dwelling Unit Models\"),Table5ca[[#This Row],[Building Component]]<>\"Fenestration\"),\"ESRefDesign_Insulation_V12\",\nIF(AND(Table5ca[[#This Row],[Dwelling or Common?]]=\"Common\",$C$8=\"Version 1.2 OR+WA\",OR($C$6=\"ASHRAE\",$C$6=\"Title 24 - Whole Building Models\"),Table5ca[[#This Row],[Building Component]]<>\"Fenestration\"),\"IECC2009_OU\",\nIF(AND(Table5ca[[#This Row],[Dwelling or Common?]]=\"Dwelling\",$C$8=\"Version 1.2 OR+WA\",OR($C$6=\"ERI\",$C$6=\"Title 24 - Dwelling Unit Models\",$C$6=\"ASHRAE\",$C$6=\"Title 24 - Whole Building Models\"),Table5ca[[#This Row],[Building Component]]<>\"Fenestration\"),\"IECC2009_RU\",\n\nIF(AND(Table5ca[[#This Row],[Dwelling or Common?]]=\"Common\",$C$8=\"Version 1\",Table5ca[[#This Row],[Building Component]]<>\"Fenestration\"),\"IECC2009_OU\",\nIF(AND(Table5ca[[#This Row],[Dwelling or Common?]]=\"Common\",$C$8=\"Version 1.1\",OR($C$6=\"ASHRAE\",$C$6=\"Title 24 - Whole Building Models\"),Table5ca[[#This Row],[Building Component]]<>\"Fenestration\"),\"IECC2009_OU\",\nIF(AND(Table5ca[[#This Row],[Dwelling or Common?]]=\"Common\",$C$8=\"Version 1.1\",OR($C$6=\"Prescriptive\",$C$6=\"ERI\",$C$6=\"Title 24 - Dwelling Unit Models\"),Table5ca[[#This Row],[Building Component]]<>\"Fenestration\"),\"IECC2012_OU\",\n\nIF(AND(Table5ca[[#This Row],[Dwelling or Common?]]=\"Dwelling\",OR($C$8=\"Version 1\",$C$8=\"Version 1.1\",),OR($C$6=\"ERI\",$C$6=\"ASHRAE\",$C$6=\"Title 24 - Whole Building Models\",$C$6=\"Title 24 - Dwelling Unit Models\"),Table5ca[[#This Row],[Building Component]]<>\"Fenestration\"),\"IECC2009_RU\",\n\n\nIF(AND(Table5ca[[#This Row],[Building Component]]=\"Fenestration\",Table5ca[[#This Row],[Dwelling or Common?]]=\"Common\",OR($C$6=\"Prescriptive\",$C$6=\"ERI\",$C$6=\"Title 24 - Dwelling Unit Models\"),$C$8=\"Version 1\"),\"ESRefDesign_FenestrationAW_V1\",\nIF(AND(Table5ca[[#This Row],[Building Component]]=\"Fenestration\",Table5ca[[#This Row],[Dwelling or Common?]]=\"Common\",OR($C$6=\"Prescriptive\",$C$6=\"ERI\",$C$6=\"Title 24 - Dwelling Unit Models\"),$C$8=\"Version 1.1\"),\"ESRefDesign_FenestrationAW_V11\",\nIF(AND(Table5ca[[#This Row],[Building Component]]=\"Fenestration\",Table5ca[[#This Row],[Dwelling or Common?]]=\"Common\",OR($C$6=\"Prescriptive\",$C$6=\"ERI\",$C$6=\"Title 24 - Dwelling Unit Models\"),$C$8=\"Version 1.2 OR+WA\"),\"ESRefDesign_FenestrationAW_V12\",\n\nIF(AND(Table5ca[[#This Row],[Building Component]]=\"Fenestration\",Table5ca[[#This Row],[Dwelling or Common?]]=\"Common\",OR($C$6=\"ASHRAE\",$C$6=\"Title 24 - Whole Building Models\")),\"IECC2009_Fenestration_AW_Windows\",\nIF(AND(Table5ca[[#This Row],[Building Component]]=\"Fenestration\",Table5ca[[#This Row],[Dwelling or Common?]]=\"Dwelling\",Table5ca[[#This Row],[Component Type]]=\"Class AW\",OR($C$6=\"ASHRAE\",$C$6=\"Title 24 - Whole Building Models\",$C$6=\"ERI\",$C$6=\"Title 24 - Dwelling Unit Models\")),\"IECC2009_Fenestration_AW_Windows\",\n\nIF(AND(Table5ca[[#This Row],[Building Component]]=\"Fenestration\",Table5ca[[#This Row],[Dwelling or Common?]]=\"Dwelling\",$C$6=\"Prescriptive\",$C$8=\"Version 1\",Table5ca[[#This Row],[Component Type]]=\"Class AW\"),\"ESRefDesign_FenestrationAW_V1\",\nIF(AND(Table5ca[[#This Row],[Building Component]]=\"Fenestration\",Table5ca[[#This Row],[Dwelling or Common?]]=\"Dwelling\",$C$6=\"Prescriptive\",$C$8=\"Version 1.1\",Table5ca[[#This Row],[Component Type]]=\"Class AW\"),\"ESRefDesign_FenestrationAW_V11\",\nIF(AND(Table5ca[[#This Row],[Building Component]]=\"Fenestration\",Table5ca[[#This Row],[Dwelling or Common?]]=\"Dwelling\",$C$6=\"Prescriptive\",$C$8=\"Version 1.2 OR+WA\",Table5ca[[#This Row],[Component Type]]=\"Class AW\"),\"ESRefDesign_FenestrationAW_V12\",\n\nIF(AND(Table5ca[[#This Row],[Building Component]]=\"Fenestration\",Table5ca[[#This Row],[Dwelling or Common?]]=\"Dwelling\",$C$6=\"Prescriptive\",$C$8=\"Version 1\",Table5ca[[#This Row],[Component Type]]=\"Not Class AW\"),\"ESRefDesign_Fenestration_V1\",\nIF(AND(Table5ca[[#This Row],[Building Component]]=\"Fenestration\",Table5ca[[#This Row],[Dwelling or Common?]]=\"Dwelling\",$C$6=\"Prescriptive\",$C$8=\"Version 1.1\",Table5ca[[#This Row],[Component Type]]=\"Not Class AW\"),\"ESRefDesign_Fenestration_V11\",\nIF(AND(Table5ca[[#This Row],[Building Component]]=\"Fenestration\",Table5ca[[#This Row],[Dwelling or Common?]]=\"Dwelling\",$C$6=\"Prescriptive\",$C$8=\"Version 1.2 OR+WA\",Table5ca[[#This Row],[Component Type]]=\"Not Class AW\"),\"ESRefDesign_Fenestration_V12\",\n\nIF(AND(Table5ca[[#This Row],[Building Component]]=\"Fenestration\",Table5ca[[#This Row],[Dwelling or Common?]]=\"Dwelling\"),\"IECC2009_Fenestration_NotAW_Windows\",\n\n\"\"))))))))))))))))))))))","v":"IECC2009_OU"},{"$f":"IF(OR(Table5ca[[#This Row],[Lookup Table Pt1]]=\"ESRefDesign_Insulation_V1\",Table5ca[[#This Row],[Lookup Table Pt1]]=\"ESRefDesign_Insulation_V11\",Table5ca[[#This Row],[Lookup Table Pt1]]=\"IECC2009_Fenestration_NotAW_Windows\",Table5ca[[#This Row],[Lookup Table Pt1]]=\"IECC2009_Fenestration_AW_Windows\",Table5ca[[#This Row],[Lookup Table Pt1]]=\"ESRefDesign_FenestrationAW_V1\",Table5ca[[#This Row],[Lookup Table Pt1]]=\"ESRefDesign_FenestrationAW_V11\",Table5ca[[#This Row],[Lookup Table Pt1]]=\"ESRefDesign_Fenestration_V1\",Table5ca[[#This Row],[Lookup Table Pt1]]=\"ESRefDesign_Fenestration_V11\"),Table5ca[[#This Row],[Lookup Table Pt1]],\n\nIF(Table5ca[[#This Row],[Component_Lookup]]=\"FloorAboveGarage\",Table5ca[[#This Row],[Lookup Table Pt1]]&\"_Floor\",\n\nTable5ca[[#This Row],[Lookup Table Pt1]]&\"_\"&Table5ca[[#This Row],[Component_Lookup]]))","v":"IECC2009_OU_Floor"},{"$f":"IF(AND($C$8=\"Version 1.2 OR+WA\",$C$6=\"Prescriptive\",Table5ca[[#This Row],[Building Component]]=\"Above-Grade Wall\"),1,\nIF(AND($C$8=\"Version 1.2 OR+WA\",$C$6=\"Prescriptive\",Table5ca[[#This Row],[Building Component]]=\"Ceiling\"),2,\nIF(AND($C$8=\"Version 1.2 OR+WA\",$C$6=\"Prescriptive\",Table5ca[[#This Row],[Building Component]]=\"Basement Wall\"),4,\nIF(AND($C$8=\"Version 1.2 OR+WA\",$C$6=\"Prescriptive\",Table5ca[[#This Row],[Building Component]]=\"On-Grade & Below Grade Slab\"),5,\nIF(AND($C$8=\"Version 1.2 OR+WA\",$C$6=\"Prescriptive\",OR(Table5ca[[#This Row],[Building Component]]=\"Floor Assembly\",Table5ca[[#This Row],[Building Component]]=\"Floor Above Garage\",Table5ca[[#This Row],[Building Component]]=\"Floor Above Garage Columns\")),3,\n\nIF(AND($C$8=\"Version 1.2 OR+WA\",OR($C$6=\"Prescriptive\",$C$6=\"ERI\",$C$6=\"Title 24 - Dwelling Units Models\"),Table5ca[[#This Row],[Dwelling or Common?]]=\"Common\",Table5ca[[#This Row],[Building Component]]=\"Above-Grade Wall\"),1,\nIF(AND($C$8=\"Version 1.2 OR+WA\",OR($C$6=\"Prescriptive\",$C$6=\"ERI\",$C$6=\"Title 24 - Dwelling Units Models\"),Table5ca[[#This Row],[Dwelling or Common?]]=\"Common\",Table5ca[[#This Row],[Building Component]]=\"Ceiling\"),2,\nIF(AND($C$8=\"Version 1.2 OR+WA\",OR($C$6=\"Prescriptive\",$C$6=\"ERI\",$C$6=\"Title 24 - Dwelling Units Models\"),Table5ca[[#This Row],[Dwelling or Common?]]=\"Common\",Table5ca[[#This Row],[Building Component]]=\"Basement Wall\"),4,\nIF(AND($C$8=\"Version 1.2 OR+WA\",OR($C$6=\"Prescriptive\",$C$6=\"ERI\",$C$6=\"Title 24 - Dwelling Units Models\"),Table5ca[[#This Row],[Dwelling or Common?]]=\"Common\",Table5ca[[#This Row],[Building Component]]=\"On-Grade & Below Grade Slab\"),5,\nIF(AND($C$8=\"Version 1.2 OR+WA\",OR($C$6=\"Prescriptive\",$C$6=\"ERI\",$C$6=\"Title 24 - Dwelling Units Models\"),Table5ca[[#This Row],[Dwelling or Common?]]=\"Common\",OR(Table5ca[[#This Row],[Building Component]]=\"Floor Assembly\",Table5ca[[#This Row],[Building Component]]=\"Floor Above Garage\",Table5ca[[#This Row],[Building Component]]=\"Floor Above Garage Columns\")),3,\n\nIF(AND($C$6=\"Prescriptive\",OR($C$8=\"Version 1\",$C$8=\"Version 1.1\"),Table5ca[[#This Row],[Building Component]]=\"Basement Wall Continuous Insulation\"),3,\nIF(AND($C$6=\"Prescriptive\",OR($C$8=\"Version 1\",$C$8=\"Version 1.1\"),Table5ca[[#This Row],[Building Component]]=\"Slab Insulation\"),1,\n\nIF(OR(Table5ca[[#This Row],[Component Type]]=\"Insulation entirely above deck\",Table5ca[[#This Row],[Component Type]]=\"Mass\",Table5ca[[#This Row],[Component Type]]=\"Below grade wall\",Table5ca[[#This Row],[Component Type]]=\"Unheated slabs\",Table5ca[[#This Row],[Component Type]]=\"Floor Above Garage\"),1,\nIF(OR(Table5ca[[#This Row],[Component Type]]=\"Metal buildings\",Table5ca[[#This Row],[Component Type]]=\"Metal building\",Table5ca[[#This Row],[Component Type]]=\"Joist/framing\",Table5ca[[#This Row],[Component Type]]=\"Heated slabs\",Table5ca[[#This Row],[Component Type]]=\"Floor Above Garage\"),2,\nIF(OR(Table5ca[[#This Row],[Component Type]]=\"Attic and other\",Table5ca[[#This Row],[Component Type]]=\"Metal framed\"),3,\nIF(OR(Table5ca[[#This Row],[Component Type]]=\"Wood framed and other\",Table5ca[[#This Row],[Building Component]]=\"Floor Assembly\",Table5ca[[#This Row],[Building Component]]=\"Floor Above Garage\",Table5ca[[#This Row],[Building Component]]=\"Floor Above Garage Columns\"),4,\nIF(Table5ca[[#This Row],[Building Component]]=\"Wall Assembly\",5,\nIF(Table5ca[[#This Row],[Building Component]]=\"Ceiling Assembly\",6,\n\nIF(Table5ca[[#This Row],[Lookup Table Pt2]]=\"IECC2009_Fenestration_NotAW_Windows\",1,\nIF(AND(Table5ca[[#This Row],[Lookup Table Pt2]]=\"IECC2009_Fenestration_AW_Windows\",OR(Table5ca[[#This Row],[Additional Component Details]]=\"Non-Metal\",Table5ca[[#This Row],[Component Type]]=\"Non-Metal\")),1,\nIF(AND(Table5ca[[#This Row],[Lookup Table Pt2]]=\"IECC2009_Fenestration_AW_Windows\",OR(Table5ca[[#This Row],[Additional Component Details]]=\"Metal - Curtainwall/storefront\",Table5ca[[#This Row],[Component Type]]=\"Metal - Curtainwall/storefront\")),2,\nIF(AND(Table5ca[[#This Row],[Lookup Table Pt2]]=\"IECC2009_Fenestration_AW_Windows\",OR(Table5ca[[#This Row],[Additional Component Details]]=\"Metal - Entrance door\",Table5ca[[#This Row],[Component Type]]=\"Metal - Entrance door\")),3,\nIF(AND(Table5ca[[#This Row],[Lookup Table Pt2]]=\"IECC2009_Fenestration_AW_Windows\",OR(Table5ca[[#This Row],[Additional Component Details]]=\"Metal - Other\",Table5ca[[#This Row],[Component Type]]=\"Metal - Entrance door\")),4,\nIF(AND(Table5ca[[#This Row],[Lookup Table Pt2]]=\"IECC2009_Fenestration_AW_Windows\",Table5ca[[#This Row],[Component Type]]=\"Metal - Other\"),4,\n\nIF(AND(OR(Table5ca[[#This Row],[Lookup Table Pt1]]=\"ESRefDesign_FenestrationAW_V1\",Table5ca[[#This Row],[Lookup Table Pt1]]=\"ESRefDesign_FenestrationAW_V11\",Table5ca[[#This Row],[Lookup Table Pt1]]=\"ESRefDesign_FenestrationAW_V12\"),OR(Table5ca[[#This Row],[Component Type]]=\"Fixed\",Table5ca[[#This Row],[Additional Component Details]]=\"Fixed\")),1,\nIF(AND(OR(Table5ca[[#This Row],[Lookup Table Pt1]]=\"ESRefDesign_FenestrationAW_V1\",Table5ca[[#This Row],[Lookup Table Pt1]]=\"ESRefDesign_FenestrationAW_V11\",Table5ca[[#This Row],[Lookup Table Pt1]]=\"ESRefDesign_FenestrationAW_V12\"),OR(Table5ca[[#This Row],[Component Type]]=\"Operable\",Table5ca[[#This Row],[Additional Component Details]]=\"Operable\")),2,\n\nIF(AND(OR(Table5ca[[#This Row],[Lookup Table Pt1]]=\"ESRefDesign_Fenestration_V1\",Table5ca[[#This Row],[Lookup Table Pt1]]=\"ESRefDesign_Fenestration_V11\",Table5ca[[#This Row],[Lookup Table Pt1]]=\"ESRefDesign_Fenestration_V12\"),Table5ca[[#This Row],[Additional Component Details]]=\"Window\"),1,\nIF(AND(OR(Table5ca[[#This Row],[Lookup Table Pt1]]=\"ESRefDesign_Fenestration_V1\",Table5ca[[#This Row],[Lookup Table Pt1]]=\"ESRefDesign_Fenestration_V11\",Table5ca[[#This Row],[Lookup Table Pt1]]=\"ESRefDesign_Fenestration_V12\"),Table5ca[[#This Row],[Additional Component Details]]=\"Opaque Door\"),3,\nIF(AND(OR(Table5ca[[#This Row],[Lookup Table Pt1]]=\"ESRefDesign_Fenestration_V1\",Table5ca[[#This Row],[Lookup Table Pt1]]=\"ESRefDesign_Fenestration_V11\",Table5ca[[#This Row],[Lookup Table Pt1]]=\"ESRefDesign_Fenestration_V12\"),Table5ca[[#This Row],[Additional Component Details]]=\"≤½ lite Door\"),4,\nIF(AND(OR(Table5ca[[#This Row],[Lookup Table Pt1]]=\"ESRefDesign_Fenestration_V1\",Table5ca[[#This Row],[Lookup Table Pt1]]=\"ESRefDesign_Fenestration_V11\",Table5ca[[#This Row],[Lookup Table Pt1]]=\"ESRefDesign_Fenestration_V12\"),Table5ca[[#This Row],[Additional Component Details]]=\">½ lite Door\"),5,\n\n\n\"\"))))))))))))))))))))))))))))))","v":2},{"$f":"IF(AND($C$8=\"Version 1.2 OR+WA\",$C$6=\"Prescriptive\",Table5ca[[#This Row],[Building Component]]<>\"Fenestration\"),2,\n\nIF(AND($C$8=\"Version 1.2 OR+WA\",$C$6=\"Prescriptive\",$C$7=\"CZ 4 C\"),2,\nIF(AND($C$8=\"Version 1.2 OR+WA\",$C$6=\"Prescriptive\",$C$7=\"CZ 5\"),3,\nIF(AND($C$8=\"Version 1.2 OR+WA\",$C$6=\"Prescriptive\",$C$7=\"CZ 6\"),4,\n\nIF(AND($C$8=\"Version 1.2 OR+WA\",Table5ca[[#This Row],[Dwelling or Common?]]=\"Common\",OR($C$6=\"ERI\",$C$6=\"Title 24 - Dwelling Unit Models\"),$C$7=\"CZ 4 C\"),2,\nIF(AND($C$8=\"Version 1.2 OR+WA\",Table5ca[[#This Row],[Dwelling or Common?]]=\"Common\",OR($C$6=\"ERI\",$C$6=\"Title 24 - Dwelling Unit Models\"),$C$7=\"CZ 5\"),3,\nIF(AND($C$8=\"Version 1.2 OR+WA\",Table5ca[[#This Row],[Dwelling or Common?]]=\"Common\",OR($C$6=\"ERI\",$C$6=\"Title 24 - Dwelling Unit Models\"),$C$7=\"CZ 6\"),4,\n\nIF($C$7=\"CZ 1\",2,\nIF($C$7=\"CZ 2\",3,\nIF($C$7=\"CZ 3\",4,\nIF($C$7=\"CZ 4\",5,\nIF($C$7=\"CZ 4 C\",6,\nIF($C$7=\"CZ 5\",7,\nIF($C$7=\"CZ 6\",8,\nIF($C$7=\"CZ 7\",9,\nIF($C$7=\"CZ 8\",10,\"\"))))))))))))))))","v":5}]
[null,"Dwelling","Floor Above Garage Columns","N/A","N/A",5.8999999999999997E-2,2800,{"$f":"IF(Table5ca[[#This Row],[Specified/Installed U-Factor]]*Table5ca[[#This Row],[Area]]=0,\"\",Table5ca[[#This Row],[Specified/Installed U-Factor]]*Table5ca[[#This Row],[Area]])","v":165.2},{"$f":"IFERROR(IF(AND($C$8=\"Version 1.2 OR+WA\",OR($C$7=\"CZ 1\",$C$7=\"CZ 2\",$C$7=\"CZ 3\",$C$7=\"CZ 4\",$C$7=\"CZ 7\",$C$7=\"CZ 8\")),\"N/A - Update CZ\",\n\nIF(Table5ca[[#This Row],[Building Component]]=\"Balcony\",\"0.20\",\n\nIF(OR(Table5ca[[#This Row],[Lookup Table Pt1]]=\"ESRefDesign_Insulation_V1\",Table5ca[[#This Row],[Lookup Table Pt1]]=\"ESRefDesign_Insulation_V11\",Table5ca[[#This Row],[Lookup Table Pt1]]=\"ESRefDesign_Insulation_V12\",Table5ca[[#This Row],[Lookup Table Pt1]]=\"ESRefDesign_FenestrationAW_V1\",Table5ca[[#This Row],[Lookup Table Pt1]]=\"ESRefDesign_FenestrationAW_V11\",Table5ca[[#This Row],[Lookup Table Pt1]]=\"ESRefDesign_Fenestration_V1\",Table5ca[[#This Row],[Lookup Table Pt1]]=\"ESRefDesign_Fenestration_V11\",Table5ca[[#This Row],[Lookup Table Pt1]]=\"ESRefDesign_Fenestration_V12\",Table5ca[[#This Row],[Lookup Table Pt1]]=\"ESRefDesign_FenestrationAW_V12\",Table5ca[[#This Row],[Lookup Table Pt1]]=\"IECC2009_Fenestration_NotAW_Windows\",Table5ca[[#This Row],[Lookup Table Pt1]]=\"IECC2009_Fenestration_AW_Windows\"),INDEX(INDIRECT(Table5ca[[#This Row],[Lookup Table Pt1]]),Table5ca[[#This Row],[Row Index]],Table5ca[[#This Row],[Column Index]]),\n\nINDEX(INDIRECT(Table5ca[[#This Row],[Lookup Table Pt2]]),Table5ca[[#This Row],[Row Index]],Table5ca[[#This Row],[Column Index]])))),\"\")","v":"U-0.033"},{"$f":"IFERROR(\n\nIF(LEFT(Table5ca[[#This Row],[ENERGY STAR Requirement Values]],2)=\"U-\",Table5ca[[#This Row],[ENERGY STAR Requirement Values]],\n\nIF(OR(Table5ca[[#This Row],[Building Component]]=\"Slab Insulation\",Table5ca[[#This Row],[Building Component]]=\"Slab-On-Grade Floor\",Table5ca[[#This Row],[Building Component]]=\"Slab-On-Grade Floors\",Table5ca[[#This Row],[Building Component]]=\"On-Grade & Below Grade Slab\",Table5ca[[#This Row],[Building Component]]=\"Slab-on-Grade Floors\",Table5ca[[#This Row],[Building Component]]=\"Slab-on-Grade Floor\"),\"\",\n\nIF(OR(Table5ca[[#This Row],[ENERGY STAR Requirement Values]]=\"R-0\",Table5ca[[#This Row],[ENERGY STAR Requirement Values]]=0,Table5ca[[#This Row],[ENERGY STAR Requirement Values]]=\"C-1.140\"),\"U-0.36\",\nIF(OR(Table5ca[[#This Row],[ENERGY STAR Requirement Values]]=\"R-7.5\",Table5ca[[#This Row],[ENERGY STAR Requirement Values]]=7.5,Table5ca[[#This Row],[ENERGY STAR Requirement Values]]=\"C-0.119\"),\"U-0.072\",\nIF(OR(Table5ca[[#This Row],[ENERGY STAR Requirement Values]]=\"R-10\",Table5ca[[#This Row],[ENERGY STAR Requirement Values]]=10,Table5ca[[#This Row],[ENERGY STAR Requirement Values]]=\"C-0.092\"),\"U-0.059\",\nIF(OR(Table5ca[[#This Row],[ENERGY STAR Requirement Values]]=\"R-15\",Table5ca[[#This Row],[ENERGY STAR Requirement Values]]=15,Table5ca[[#This Row],[ENERGY STAR Requirement Values]]=\"R-15 continuous or R-21 cavity\"),\"U-0.05\",\nIF(OR(Table5ca[[#This Row],[ENERGY STAR Requirement Values]]=\"R-12.5\",Table5ca[[#This Row],[ENERGY STAR Requirement Values]]=12.5,Table5ca[[#This Row],[ENERGY STAR Requirement Values]]=\"C-0.075\"),\"U-0.054\",\nIF(OR(Table5ca[[#This Row],[ENERGY STAR Requirement Values]]=\"R-21\",Table5ca[[#This Row],[ENERGY STAR Requirement Values]]=21),\"U-0.056\",\nIF(OR(Table5ca[[#This Row],[ENERGY STAR Requirement Values]]=\"R-38\",Table5ca[[#This Row],[ENERGY STAR Requirement Values]]=38),\"U-0.028\",\nIF(OR(Table5ca[[#This Row],[ENERGY STAR Requirement Values]]=\"R-49\",Table5ca[[#This Row],[ENERGY STAR Requirement Values]]=49),\"U-0.026\",\n\nIF(LEFT(Table5ca[[#This Row],[ENERGY STAR Requirement Values]],2)=\"F-\",\"\",\n\nIF(LEFT(Table5ca[[#This Row],[ENERGY STAR Requirement Values]],1)=\"0\",CONCATENATE(\"U-\",Table5ca[[#This Row],[ENERGY STAR Requirement Values]]),\n\nTable5ca[[#This Row],[ENERGY STAR Requirement Values]])))))))))))),\"\")","v":"U-0.033"},{"$f":"IFERROR(IF(Table5ca[[#This Row],[Area]]=\"\",\"\",\nIF(Table5ca[[#This Row],[Required U-factor]]=\"\",\"\",\nIFERROR(Table5ca[[#This Row],[Area]]*Table5ca[[#This Row],[Required U-factor]],RIGHT(Table5ca[[#This Row],[Required U-factor]],LEN(Table5ca[[#This Row],[Required U-factor]])-2)*Table5ca[[#This Row],[Area]]))),\"\")","v":92.4},{"$f":"IF(Table5ca[[#This Row],[Building Component]]=\"\",\"\",\nIF(OR(Table5ca[[#This Row],[Building Component]]=\"Wall, Above Grade\",Table5ca[[#This Row],[Building Component]]=\"Wall, Below Grade\"),\"If there is continuous insulation interrupted by fasteners, ensure that the U-factor has been de-rated per Footnote 24. See below for further details.\",\nIF(Table5ca[[#This Row],[Building Component]]=\"Wall Assembly\",\"Apply a derate per Footnote 6 below.\",\nIF(Table5ca[[#This Row],[Building Component]]=\"Balcony\",\"Use the table below to de-rate balconies per Footnote 21.\",\nIF(OR(Table5ca[[#This Row],[Building Component]]=\"Floor Above Garage\",Table5ca[[#This Row],[Building Component]]=\"Floor Above Garage Columns\"),\"Use the table below to De-Rate floors above garages per Footnote 22.\",\n\"Not Applicable\")))))","v":"Use the table below to De-Rate floors above garages per Footnote 22."},null,null,null,null,null,null,{"$f":"IF(AND(Table5ca[[#This Row],[Dwelling or Common?]]=\"Dwelling\",$C$6=\"Prescriptive\",$C$8=\"Version 1.2 OR+WA\"),\"BuildingComponents_ESRefListV12_UABuildingComponents\",\nIF(AND($C$8=\"Version 1.2 OR+WA\",OR($C$6=\"Prescriptive\",$C$6=\"ERI\",$C$6=\"Title 24 - Dwelling Units Models\"),Table5ca[[#This Row],[Dwelling or Common?]]=\"Common\"),\"BuildingComponents_ESRefListV12_UABuildingComponents\",\n\nIF(AND($C$6=\"Prescriptive\",Table5ca[[#This Row],[Dwelling or Common?]]=\"Dwelling\"),\"PrescriptivePath_UABuildingComponents\",\n\n\"ERI_AHSRAE_UABuildingComponents\")))","v":"PrescriptivePath_UABuildingComponents"},{"$f":"IF(AND($C$6<>\"Prescriptive\",OR(Table5ca[[#This Row],[Building Component]]=\"Floor Assembly\",Table5ca[[#This Row],[Building Component]]=\"Floor Above Garage\",Table5ca[[#This Row],[Building Component]]=\"Floor Above Garage Columns\")),\"Floor\",\nIF(AND($C$6=\"Prescriptive\",Table5ca[[#This Row],[Dwelling or Common?]]=\"Common\",OR(Table5ca[[#This Row],[Building Component]]=\"Floor Assembly\",Table5ca[[#This Row],[Building Component]]=\"Floor Above Garage\",Table5ca[[#This Row],[Building Component]]=\"Floor Above Garage Columns\")),\"Floor\",\n\nIF(Table5ca[[#This Row],[Building Component]]=\"Roofs\",\"Roof\",\nIF(Table5ca[[#This Row],[Building Component]]=\"Walls, Above Grade\",\"WallAboveGrade\",\nIF(Table5ca[[#This Row],[Building Component]]=\"Walls, Below Grade\",\"WallBelowGrade\",\nIF(AND(Table5ca[[#This Row],[Building Component]]=\"Floor Assembly\",$C$6<>\"Prescriptive\"),\"Floor\",\nIF(Table5ca[[#This Row],[Building Component]]=\"Slab-on-Grade Floors\",\"SlabOnGradeFloor\",\nIF(Table5ca[[#This Row],[Building Component]]=\"Opaque Doors\",\"OpaqueDoor\",\nIF(Table5ca[[#This Row],[Building Component]]=\"Balcony\",\"Balcony\",\nIF(AND(Table5ca[[#This Row],[Building Component]]=\"Floor Above Garage\",$C$6=\"Prescriptive\"),\"FloorAssembly\",\nIF(Table5ca[[#This Row],[Building Component]]=\"Floor Above Garage\",\"FloorAboveGarage\",\nIF(Table5ca[[#This Row],[Building Component]]=\"Wall Assembly\",\"WallAssembly\",\nIF(Table5ca[[#This Row],[Building Component]]=\"Ceiling Assembly\",\"CeilingAssembly\",\nIF(OR(Table5ca[[#This Row],[Building Component]]=\"Floor Assembly\",Table5ca[[#This Row],[Building Component]]=\"Floor Above Garage\",Table5ca[[#This Row],[Building Component]]=\"Floor Above Garage Columns\"),\"FloorAssembly\",\n\nIF(AND(Table5ca[[#This Row],[Building Component]]=\"Fenestration\",Table5ca[[#This Row],[Dwelling or Common?]]=\"Dwelling\"),\"ClassAW?\",\n\nIF(AND(Table5ca[[#This Row],[Building Component]]=\"Fenestration\",Table5ca[[#This Row],[Dwelling or Common?]]=\"Common\",OR($C$6=\"ERI\",$C$6=\"Title 24 - Dwelling Unit Models\",$C$6=\"Prescriptive\")),\"ESRefClassAW\",\nIF(AND(Table5ca[[#This Row],[Building Component]]=\"Fenestration\",Table5ca[[#This Row],[Dwelling or Common?]]=\"Common\",OR($C$6=\"ASHRAE\",$C$6=\"Title 24 - Whole Building Models\")),\"Fenestration\",\n\n\"NotApplicable\")))))))))))))))))","v":"FloorAssembly"},{"$f":"IF(AND(OR($C$6=\"ERI\",$C$6=\"Title 24 - Dwelling Unit Models\"),Table5ca[[#This Row],[Dwelling or Common?]]=\"Dwelling\",Table5ca[[#This Row],[Component Type]]=\"Class AW\"),\"Fenestration\",\nIF(AND(OR($C$6=\"ERI\",$C$6=\"Title 24 - Dwelling Unit Models\"),Table5ca[[#This Row],[Dwelling or Common?]]=\"Dwelling\",Table5ca[[#This Row],[Component Type]]=\"Not Class AW\"),\"NotApplicable\",\n\nIF(AND(OR($C$6=\"ASHRAE\",$C$6=\"Title 24 - Whole Building Models\"),Table5ca[[#This Row],[Dwelling or Common?]]=\"Dwelling\",Table5ca[[#This Row],[Component Type]]=\"Class AW\"),\"Fenestration\",\nIF(AND(OR($C$6=\"ASHRAE\",$C$6=\"Title 24 - Whole Building Models\"),Table5ca[[#This Row],[Dwelling or Common?]]=\"Dwelling\",Table5ca[[#This Row],[Component Type]]=\"Not Class AW\"),\"NotApplicable\",\n\nIF(AND($C$6=\"Prescriptive\",Table5ca[[#This Row],[Dwelling or Common?]]=\"Dwelling\",Table5ca[[#This Row],[Component Type]]=\"Class AW\"),\"ESRefClassAW\",\nIF(AND($C$6=\"Prescriptive\",Table5ca[[#This Row],[Dwelling or Common?]]=\"Dwelling\",Table5ca[[#This Row],[Component Type]]=\"Not Class AW\"),\"ESRefNotClassAW\",\n\nIF(Table5ca[[#This Row],[Component Type]]=\"Class AW\",\"Fenestration\",\n\n\"NotApplicable\")))))))","v":"NotApplicable"},{"$f":"IF(AND(Table5ca[[#This Row],[Dwelling or Common?]]=\"Dwelling\",$C$8=\"Version 1\",$C$6=\"Prescriptive\",Table5ca[[#This Row],[Building Component]]<>\"Fenestration\"),\"ESRefDesign_Insulation_V1\",\nIF(AND(Table5ca[[#This Row],[Dwelling or Common?]]=\"Dwelling\",$C$8=\"Version 1.1\",$C$6=\"Prescriptive\",Table5ca[[#This Row],[Building Component]]<>\"Fenestration\"),\"ESRefDesign_Insulation_V11\",\nIF(AND($C$8=\"Version 1.2 OR+WA\",$C$6=\"Prescriptive\",Table5ca[[#This Row],[Building Component]]<>\"Fenestration\"),\"ESRefDesign_Insulation_V12\",\n\nIF(AND(Table5ca[[#This Row],[Dwelling or Common?]]=\"Common\",$C$8=\"Version 1.2 OR+WA\",OR($C$6=\"ERI\",$C$6=\"Title 24 - Dwelling Unit Models\"),Table5ca[[#This Row],[Building Component]]<>\"Fenestration\"),\"ESRefDesign_Insulation_V12\",\nIF(AND(Table5ca[[#This Row],[Dwelling or Common?]]=\"Common\",$C$8=\"Version 1.2 OR+WA\",OR($C$6=\"ASHRAE\",$C$6=\"Title 24 - Whole Building Models\"),Table5ca[[#This Row],[Building Component]]<>\"Fenestration\"),\"IECC2009_OU\",\nIF(AND(Table5ca[[#This Row],[Dwelling or Common?]]=\"Dwelling\",$C$8=\"Version 1.2 OR+WA\",OR($C$6=\"ERI\",$C$6=\"Title 24 - Dwelling Unit Models\",$C$6=\"ASHRAE\",$C$6=\"Title 24 - Whole Building Models\"),Table5ca[[#This Row],[Building Component]]<>\"Fenestration\"),\"IECC2009_RU\",\n\nIF(AND(Table5ca[[#This Row],[Dwelling or Common?]]=\"Common\",$C$8=\"Version 1\",Table5ca[[#This Row],[Building Component]]<>\"Fenestration\"),\"IECC2009_OU\",\nIF(AND(Table5ca[[#This Row],[Dwelling or Common?]]=\"Common\",$C$8=\"Version 1.1\",OR($C$6=\"ASHRAE\",$C$6=\"Title 24 - Whole Building Models\"),Table5ca[[#This Row],[Building Component]]<>\"Fenestration\"),\"IECC2009_OU\",\nIF(AND(Table5ca[[#This Row],[Dwelling or Common?]]=\"Common\",$C$8=\"Version 1.1\",OR($C$6=\"Prescriptive\",$C$6=\"ERI\",$C$6=\"Title 24 - Dwelling Unit Models\"),Table5ca[[#This Row],[Building Component]]<>\"Fenestration\"),\"IECC2012_OU\",\n\nIF(AND(Table5ca[[#This Row],[Dwelling or Common?]]=\"Dwelling\",OR($C$8=\"Version 1\",$C$8=\"Version 1.1\",),OR($C$6=\"ERI\",$C$6=\"ASHRAE\",$C$6=\"Title 24 - Whole Building Models\",$C$6=\"Title 24 - Dwelling Unit Models\"),Table5ca[[#This Row],[Building Component]]<>\"Fenestration\"),\"IECC2009_RU\",\n\n\nIF(AND(Table5ca[[#This Row],[Building Component]]=\"Fenestration\",Table5ca[[#This Row],[Dwelling or Common?]]=\"Common\",OR($C$6=\"Prescriptive\",$C$6=\"ERI\",$C$6=\"Title 24 - Dwelling Unit Models\"),$C$8=\"Version 1\"),\"ESRefDesign_FenestrationAW_V1\",\nIF(AND(Table5ca[[#This Row],[Building Component]]=\"Fenestration\",Table5ca[[#This Row],[Dwelling or Common?]]=\"Common\",OR($C$6=\"Prescriptive\",$C$6=\"ERI\",$C$6=\"Title 24 - Dwelling Unit Models\"),$C$8=\"Version 1.1\"),\"ESRefDesign_FenestrationAW_V11\",\nIF(AND(Table5ca[[#This Row],[Building Component]]=\"Fenestration\",Table5ca[[#This Row],[Dwelling or Common?]]=\"Common\",OR($C$6=\"Prescriptive\",$C$6=\"ERI\",$C$6=\"Title 24 - Dwelling Unit Models\"),$C$8=\"Version 1.2 OR+WA\"),\"ESRefDesign_FenestrationAW_V12\",\n\nIF(AND(Table5ca[[#This Row],[Building Component]]=\"Fenestration\",Table5ca[[#This Row],[Dwelling or Common?]]=\"Common\",OR($C$6=\"ASHRAE\",$C$6=\"Title 24 - Whole Building Models\")),\"IECC2009_Fenestration_AW_Windows\",\nIF(AND(Table5ca[[#This Row],[Building Component]]=\"Fenestration\",Table5ca[[#This Row],[Dwelling or Common?]]=\"Dwelling\",Table5ca[[#This Row],[Component Type]]=\"Class AW\",OR($C$6=\"ASHRAE\",$C$6=\"Title 24 - Whole Building Models\",$C$6=\"ERI\",$C$6=\"Title 24 - Dwelling Unit Models\")),\"IECC2009_Fenestration_AW_Windows\",\n\nIF(AND(Table5ca[[#This Row],[Building Component]]=\"Fenestration\",Table5ca[[#This Row],[Dwelling or Common?]]=\"Dwelling\",$C$6=\"Prescriptive\",$C$8=\"Version 1\",Table5ca[[#This Row],[Component Type]]=\"Class AW\"),\"ESRefDesign_FenestrationAW_V1\",\nIF(AND(Table5ca[[#This Row],[Building Component]]=\"Fenestration\",Table5ca[[#This Row],[Dwelling or Common?]]=\"Dwelling\",$C$6=\"Prescriptive\",$C$8=\"Version 1.1\",Table5ca[[#This Row],[Component Type]]=\"Class AW\"),\"ESRefDesign_FenestrationAW_V11\",\nIF(AND(Table5ca[[#This Row],[Building Component]]=\"Fenestration\",Table5ca[[#This Row],[Dwelling or Common?]]=\"Dwelling\",$C$6=\"Prescriptive\",$C$8=\"Version 1.2 OR+WA\",Table5ca[[#This Row],[Component Type]]=\"Class AW\"),\"ESRefDesign_FenestrationAW_V12\",\n\nIF(AND(Table5ca[[#This Row],[Building Component]]=\"Fenestration\",Table5ca[[#This Row],[Dwelling or Common?]]=\"Dwelling\",$C$6=\"Prescriptive\",$C$8=\"Version 1\",Table5ca[[#This Row],[Component Type]]=\"Not Class AW\"),\"ESRefDesign_Fenestration_V1\",\nIF(AND(Table5ca[[#This Row],[Building Component]]=\"Fenestration\",Table5ca[[#This Row],[Dwelling or Common?]]=\"Dwelling\",$C$6=\"Prescriptive\",$C$8=\"Version 1.1\",Table5ca[[#This Row],[Component Type]]=\"Not Class AW\"),\"ESRefDesign_Fenestration_V11\",\nIF(AND(Table5ca[[#This Row],[Building Component]]=\"Fenestration\",Table5ca[[#This Row],[Dwelling or Common?]]=\"Dwelling\",$C$6=\"Prescriptive\",$C$8=\"Version 1.2 OR+WA\",Table5ca[[#This Row],[Component Type]]=\"Not Class AW\"),\"ESRefDesign_Fenestration_V12\",\n\nIF(AND(Table5ca[[#This Row],[Building Component]]=\"Fenestration\",Table5ca[[#This Row],[Dwelling or Common?]]=\"Dwelling\"),\"IECC2009_Fenestration_NotAW_Windows\",\n\n\"\"))))))))))))))))))))))","v":"ESRefDesign_Insulation_V1"},{"$f":"IF(OR(Table5ca[[#This Row],[Lookup Table Pt1]]=\"ESRefDesign_Insulation_V1\",Table5ca[[#This Row],[Lookup Table Pt1]]=\"ESRefDesign_Insulation_V11\",Table5ca[[#This Row],[Lookup Table Pt1]]=\"IECC2009_Fenestration_NotAW_Windows\",Table5ca[[#This Row],[Lookup Table Pt1]]=\"IECC2009_Fenestration_AW_Windows\",Table5ca[[#This Row],[Lookup Table Pt1]]=\"ESRefDesign_FenestrationAW_V1\",Table5ca[[#This Row],[Lookup Table Pt1]]=\"ESRefDesign_FenestrationAW_V11\",Table5ca[[#This Row],[Lookup Table Pt1]]=\"ESRefDesign_Fenestration_V1\",Table5ca[[#This Row],[Lookup Table Pt1]]=\"ESRefDesign_Fenestration_V11\"),Table5ca[[#This Row],[Lookup Table Pt1]],\n\nIF(Table5ca[[#This Row],[Component_Lookup]]=\"FloorAboveGarage\",Table5ca[[#This Row],[Lookup Table Pt1]]&\"_Floor\",\n\nTable5ca[[#This Row],[Lookup Table Pt1]]&\"_\"&Table5ca[[#This Row],[Component_Lookup]]))","v":"ESRefDesign_Insulation_V1"},{"$f":"IF(AND($C$8=\"Version 1.2 OR+WA\",$C$6=\"Prescriptive\",Table5ca[[#This Row],[Building Component]]=\"Above-Grade Wall\"),1,\nIF(AND($C$8=\"Version 1.2 OR+WA\",$C$6=\"Prescriptive\",Table5ca[[#This Row],[Building Component]]=\"Ceiling\"),2,\nIF(AND($C$8=\"Version 1.2 OR+WA\",$C$6=\"Prescriptive\",Table5ca[[#This Row],[Building Component]]=\"Basement Wall\"),4,\nIF(AND($C$8=\"Version 1.2 OR+WA\",$C$6=\"Prescriptive\",Table5ca[[#This Row],[Building Component]]=\"On-Grade & Below Grade Slab\"),5,\nIF(AND($C$8=\"Version 1.2 OR+WA\",$C$6=\"Prescriptive\",OR(Table5ca[[#This Row],[Building Component]]=\"Floor Assembly\",Table5ca[[#This Row],[Building Component]]=\"Floor Above Garage\",Table5ca[[#This Row],[Building Component]]=\"Floor Above Garage Columns\")),3,\n\nIF(AND($C$8=\"Version 1.2 OR+WA\",OR($C$6=\"Prescriptive\",$C$6=\"ERI\",$C$6=\"Title 24 - Dwelling Units Models\"),Table5ca[[#This Row],[Dwelling or Common?]]=\"Common\",Table5ca[[#This Row],[Building Component]]=\"Above-Grade Wall\"),1,\nIF(AND($C$8=\"Version 1.2 OR+WA\",OR($C$6=\"Prescriptive\",$C$6=\"ERI\",$C$6=\"Title 24 - Dwelling Units Models\"),Table5ca[[#This Row],[Dwelling or Common?]]=\"Common\",Table5ca[[#This Row],[Building Component]]=\"Ceiling\"),2,\nIF(AND($C$8=\"Version 1.2 OR+WA\",OR($C$6=\"Prescriptive\",$C$6=\"ERI\",$C$6=\"Title 24 - Dwelling Units Models\"),Table5ca[[#This Row],[Dwelling or Common?]]=\"Common\",Table5ca[[#This Row],[Building Component]]=\"Basement Wall\"),4,\nIF(AND($C$8=\"Version 1.2 OR+WA\",OR($C$6=\"Prescriptive\",$C$6=\"ERI\",$C$6=\"Title 24 - Dwelling Units Models\"),Table5ca[[#This Row],[Dwelling or Common?]]=\"Common\",Table5ca[[#This Row],[Building Component]]=\"On-Grade & Below Grade Slab\"),5,\nIF(AND($C$8=\"Version 1.2 OR+WA\",OR($C$6=\"Prescriptive\",$C$6=\"ERI\",$C$6=\"Title 24 - Dwelling Units Models\"),Table5ca[[#This Row],[Dwelling or Common?]]=\"Common\",OR(Table5ca[[#This Row],[Building Component]]=\"Floor Assembly\",Table5ca[[#This Row],[Building Component]]=\"Floor Above Garage\",Table5ca[[#This Row],[Building Component]]=\"Floor Above Garage Columns\")),3,\n\nIF(AND($C$6=\"Prescriptive\",OR($C$8=\"Version 1\",$C$8=\"Version 1.1\"),Table5ca[[#This Row],[Building Component]]=\"Basement Wall Continuous Insulation\"),3,\nIF(AND($C$6=\"Prescriptive\",OR($C$8=\"Version 1\",$C$8=\"Version 1.1\"),Table5ca[[#This Row],[Building Component]]=\"Slab Insulation\"),1,\n\nIF(OR(Table5ca[[#This Row],[Component Type]]=\"Insulation entirely above deck\",Table5ca[[#This Row],[Component Type]]=\"Mass\",Table5ca[[#This Row],[Component Type]]=\"Below grade wall\",Table5ca[[#This Row],[Component Type]]=\"Unheated slabs\",Table5ca[[#This Row],[Component Type]]=\"Floor Above Garage\"),1,\nIF(OR(Table5ca[[#This Row],[Component Type]]=\"Metal buildings\",Table5ca[[#This Row],[Component Type]]=\"Metal building\",Table5ca[[#This Row],[Component Type]]=\"Joist/framing\",Table5ca[[#This Row],[Component Type]]=\"Heated slabs\",Table5ca[[#This Row],[Component Type]]=\"Floor Above Garage\"),2,\nIF(OR(Table5ca[[#This Row],[Component Type]]=\"Attic and other\",Table5ca[[#This Row],[Component Type]]=\"Metal framed\"),3,\nIF(OR(Table5ca[[#This Row],[Component Type]]=\"Wood framed and other\",Table5ca[[#This Row],[Building Component]]=\"Floor Assembly\",Table5ca[[#This Row],[Building Component]]=\"Floor Above Garage\",Table5ca[[#This Row],[Building Component]]=\"Floor Above Garage Columns\"),4,\nIF(Table5ca[[#This Row],[Building Component]]=\"Wall Assembly\",5,\nIF(Table5ca[[#This Row],[Building Component]]=\"Ceiling Assembly\",6,\n\nIF(Table5ca[[#This Row],[Lookup Table Pt2]]=\"IECC2009_Fenestration_NotAW_Windows\",1,\nIF(AND(Table5ca[[#This Row],[Lookup Table Pt2]]=\"IECC2009_Fenestration_AW_Windows\",OR(Table5ca[[#This Row],[Additional Component Details]]=\"Non-Metal\",Table5ca[[#This Row],[Component Type]]=\"Non-Metal\")),1,\nIF(AND(Table5ca[[#This Row],[Lookup Table Pt2]]=\"IECC2009_Fenestration_AW_Windows\",OR(Table5ca[[#This Row],[Additional Component Details]]=\"Metal - Curtainwall/storefront\",Table5ca[[#This Row],[Component Type]]=\"Metal - Curtainwall/storefront\")),2,\nIF(AND(Table5ca[[#This Row],[Lookup Table Pt2]]=\"IECC2009_Fenestration_AW_Windows\",OR(Table5ca[[#This Row],[Additional Component Details]]=\"Metal - Entrance door\",Table5ca[[#This Row],[Component Type]]=\"Metal - Entrance door\")),3,\nIF(AND(Table5ca[[#This Row],[Lookup Table Pt2]]=\"IECC2009_Fenestration_AW_Windows\",OR(Table5ca[[#This Row],[Additional Component Details]]=\"Metal - Other\",Table5ca[[#This Row],[Component Type]]=\"Metal - Entrance door\")),4,\nIF(AND(Table5ca[[#This Row],[Lookup Table Pt2]]=\"IECC2009_Fenestration_AW_Windows\",Table5ca[[#This Row],[Component Type]]=\"Metal - Other\"),4,\n\nIF(AND(OR(Table5ca[[#This Row],[Lookup Table Pt1]]=\"ESRefDesign_FenestrationAW_V1\",Table5ca[[#This Row],[Lookup Table Pt1]]=\"ESRefDesign_FenestrationAW_V11\",Table5ca[[#This Row],[Lookup Table Pt1]]=\"ESRefDesign_FenestrationAW_V12\"),OR(Table5ca[[#This Row],[Component Type]]=\"Fixed\",Table5ca[[#This Row],[Additional Component Details]]=\"Fixed\")),1,\nIF(AND(OR(Table5ca[[#This Row],[Lookup Table Pt1]]=\"ESRefDesign_FenestrationAW_V1\",Table5ca[[#This Row],[Lookup Table Pt1]]=\"ESRefDesign_FenestrationAW_V11\",Table5ca[[#This Row],[Lookup Table Pt1]]=\"ESRefDesign_FenestrationAW_V12\"),OR(Table5ca[[#This Row],[Component Type]]=\"Operable\",Table5ca[[#This Row],[Additional Component Details]]=\"Operable\")),2,\n\nIF(AND(OR(Table5ca[[#This Row],[Lookup Table Pt1]]=\"ESRefDesign_Fenestration_V1\",Table5ca[[#This Row],[Lookup Table Pt1]]=\"ESRefDesign_Fenestration_V11\",Table5ca[[#This Row],[Lookup Table Pt1]]=\"ESRefDesign_Fenestration_V12\"),Table5ca[[#This Row],[Additional Component Details]]=\"Window\"),1,\nIF(AND(OR(Table5ca[[#This Row],[Lookup Table Pt1]]=\"ESRefDesign_Fenestration_V1\",Table5ca[[#This Row],[Lookup Table Pt1]]=\"ESRefDesign_Fenestration_V11\",Table5ca[[#This Row],[Lookup Table Pt1]]=\"ESRefDesign_Fenestration_V12\"),Table5ca[[#This Row],[Additional Component Details]]=\"Opaque Door\"),3,\nIF(AND(OR(Table5ca[[#This Row],[Lookup Table Pt1]]=\"ESRefDesign_Fenestration_V1\",Table5ca[[#This Row],[Lookup Table Pt1]]=\"ESRefDesign_Fenestration_V11\",Table5ca[[#This Row],[Lookup Table Pt1]]=\"ESRefDesign_Fenestration_V12\"),Table5ca[[#This Row],[Additional Component Details]]=\"≤½ lite Door\"),4,\nIF(AND(OR(Table5ca[[#This Row],[Lookup Table Pt1]]=\"ESRefDesign_Fenestration_V1\",Table5ca[[#This Row],[Lookup Table Pt1]]=\"ESRefDesign_Fenestration_V11\",Table5ca[[#This Row],[Lookup Table Pt1]]=\"ESRefDesign_Fenestration_V12\"),Table5ca[[#This Row],[Additional Component Details]]=\">½ lite Door\"),5,\n\n\n\"\"))))))))))))))))))))))))))))))","v":4},{"$f":"IF(AND($C$8=\"Version 1.2 OR+WA\",$C$6=\"Prescriptive\",Table5ca[[#This Row],[Building Component]]<>\"Fenestration\"),2,\n\nIF(AND($C$8=\"Version 1.2 OR+WA\",$C$6=\"Prescriptive\",$C$7=\"CZ 4 C\"),2,\nIF(AND($C$8=\"Version 1.2 OR+WA\",$C$6=\"Prescriptive\",$C$7=\"CZ 5\"),3,\nIF(AND($C$8=\"Version 1.2 OR+WA\",$C$6=\"Prescriptive\",$C$7=\"CZ 6\"),4,\n\nIF(AND($C$8=\"Version 1.2 OR+WA\",Table5ca[[#This Row],[Dwelling or Common?]]=\"Common\",OR($C$6=\"ERI\",$C$6=\"Title 24 - Dwelling Unit Models\"),$C$7=\"CZ 4 C\"),2,\nIF(AND($C$8=\"Version 1.2 OR+WA\",Table5ca[[#This Row],[Dwelling or Common?]]=\"Common\",OR($C$6=\"ERI\",$C$6=\"Title 24 - Dwelling Unit Models\"),$C$7=\"CZ 5\"),3,\nIF(AND($C$8=\"Version 1.2 OR+WA\",Table5ca[[#This Row],[Dwelling or Common?]]=\"Common\",OR($C$6=\"ERI\",$C$6=\"Title 24 - Dwelling Unit Models\"),$C$7=\"CZ 6\"),4,\n\nIF($C$7=\"CZ 1\",2,\nIF($C$7=\"CZ 2\",3,\nIF($C$7=\"CZ 3\",4,\nIF($C$7=\"CZ 4\",5,\nIF($C$7=\"CZ 4 C\",6,\nIF($C$7=\"CZ 5\",7,\nIF($C$7=\"CZ 6\",8,\nIF($C$7=\"CZ 7\",9,\nIF($C$7=\"CZ 8\",10,\"\"))))))))))))))))","v":5}]
[null,"Dwelling","Wall Assembly","N/A","N/A",0.45,19300,{"$f":"IF(Table5ca[[#This Row],[Specified/Installed U-Factor]]*Table5ca[[#This Row],[Area]]=0,\"\",Table5ca[[#This Row],[Specified/Installed U-Factor]]*Table5ca[[#This Row],[Area]])","v":8685},{"$f":"IFERROR(IF(AND($C$8=\"Version 1.2 OR+WA\",OR($C$7=\"CZ 1\",$C$7=\"CZ 2\",$C$7=\"CZ 3\",$C$7=\"CZ 4\",$C$7=\"CZ 7\",$C$7=\"CZ 8\")),\"N/A - Update CZ\",\n\nIF(Table5ca[[#This Row],[Building Component]]=\"Balcony\",\"0.20\",\n\nIF(OR(Table5ca[[#This Row],[Lookup Table Pt1]]=\"ESRefDesign_Insulation_V1\",Table5ca[[#This Row],[Lookup Table Pt1]]=\"ESRefDesign_Insulation_V11\",Table5ca[[#This Row],[Lookup Table Pt1]]=\"ESRefDesign_Insulation_V12\",Table5ca[[#This Row],[Lookup Table Pt1]]=\"ESRefDesign_FenestrationAW_V1\",Table5ca[[#This Row],[Lookup Table Pt1]]=\"ESRefDesign_FenestrationAW_V11\",Table5ca[[#This Row],[Lookup Table Pt1]]=\"ESRefDesign_Fenestration_V1\",Table5ca[[#This Row],[Lookup Table Pt1]]=\"ESRefDesign_Fenestration_V11\",Table5ca[[#This Row],[Lookup Table Pt1]]=\"ESRefDesign_Fenestration_V12\",Table5ca[[#This Row],[Lookup Table Pt1]]=\"ESRefDesign_FenestrationAW_V12\",Table5ca[[#This Row],[Lookup Table Pt1]]=\"IECC2009_Fenestration_NotAW_Windows\",Table5ca[[#This Row],[Lookup Table Pt1]]=\"IECC2009_Fenestration_AW_Windows\"),INDEX(INDIRECT(Table5ca[[#This Row],[Lookup Table Pt1]]),Table5ca[[#This Row],[Row Index]],Table5ca[[#This Row],[Column Index]]),\n\nINDEX(INDIRECT(Table5ca[[#This Row],[Lookup Table Pt2]]),Table5ca[[#This Row],[Row Index]],Table5ca[[#This Row],[Column Index]])))),\"\")","v":"U-0.089"},{"$f":"IFERROR(\n\nIF(LEFT(Table5ca[[#This Row],[ENERGY STAR Requirement Values]],2)=\"U-\",Table5ca[[#This Row],[ENERGY STAR Requirement Values]],\n\nIF(OR(Table5ca[[#This Row],[Building Component]]=\"Slab Insulation\",Table5ca[[#This Row],[Building Component]]=\"Slab-On-Grade Floor\",Table5ca[[#This Row],[Building Component]]=\"Slab-On-Grade Floors\",Table5ca[[#This Row],[Building Component]]=\"On-Grade & Below Grade Slab\",Table5ca[[#This Row],[Building Component]]=\"Slab-on-Grade Floors\",Table5ca[[#This Row],[Building Component]]=\"Slab-on-Grade Floor\"),\"\",\n\nIF(OR(Table5ca[[#This Row],[ENERGY STAR Requirement Values]]=\"R-0\",Table5ca[[#This Row],[ENERGY STAR Requirement Values]]=0,Table5ca[[#This Row],[ENERGY STAR Requirement Values]]=\"C-1.140\"),\"U-0.36\",\nIF(OR(Table5ca[[#This Row],[ENERGY STAR Requirement Values]]=\"R-7.5\",Table5ca[[#This Row],[ENERGY STAR Requirement Values]]=7.5,Table5ca[[#This Row],[ENERGY STAR Requirement Values]]=\"C-0.119\"),\"U-0.072\",\nIF(OR(Table5ca[[#This Row],[ENERGY STAR Requirement Values]]=\"R-10\",Table5ca[[#This Row],[ENERGY STAR Requirement Values]]=10,Table5ca[[#This Row],[ENERGY STAR Requirement Values]]=\"C-0.092\"),\"U-0.059\",\nIF(OR(Table5ca[[#This Row],[ENERGY STAR Requirement Values]]=\"R-15\",Table5ca[[#This Row],[ENERGY STAR Requirement Values]]=15,Table5ca[[#This Row],[ENERGY STAR Requirement Values]]=\"R-15 continuous or R-21 cavity\"),\"U-0.05\",\nIF(OR(Table5ca[[#This Row],[ENERGY STAR Requirement Values]]=\"R-12.5\",Table5ca[[#This Row],[ENERGY STAR Requirement Values]]=12.5,Table5ca[[#This Row],[ENERGY STAR Requirement Values]]=\"C-0.075\"),\"U-0.054\",\nIF(OR(Table5ca[[#This Row],[ENERGY STAR Requirement Values]]=\"R-21\",Table5ca[[#This Row],[ENERGY STAR Requirement Values]]=21),\"U-0.056\",\nIF(OR(Table5ca[[#This Row],[ENERGY STAR Requirement Values]]=\"R-38\",Table5ca[[#This Row],[ENERGY STAR Requirement Values]]=38),\"U-0.028\",\nIF(OR(Table5ca[[#This Row],[ENERGY STAR Requirement Values]]=\"R-49\",Table5ca[[#This Row],[ENERGY STAR Requirement Values]]=49),\"U-0.026\",\n\nIF(LEFT(Table5ca[[#This Row],[ENERGY STAR Requirement Values]],2)=\"F-\",\"\",\n\nIF(LEFT(Table5ca[[#This Row],[ENERGY STAR Requirement Values]],1)=\"0\",CONCATENATE(\"U-\",Table5ca[[#This Row],[ENERGY STAR Requirement Values]]),\n\nTable5ca[[#This Row],[ENERGY STAR Requirement Values]])))))))))))),\"\")","v":"U-0.089"},{"$f":"IFERROR(IF(Table5ca[[#This Row],[Area]]=\"\",\"\",\nIF(Table5ca[[#This Row],[Required U-factor]]=\"\",\"\",\nIFERROR(Table5ca[[#This Row],[Area]]*Table5ca[[#This Row],[Required U-factor]],RIGHT(Table5ca[[#This Row],[Required U-factor]],LEN(Table5ca[[#This Row],[Required U-factor]])-2)*Table5ca[[#This Row],[Area]]))),\"\")","v":1717.6999999999998},{"$f":"IF(Table5ca[[#This Row],[Building Component]]=\"\",\"\",\nIF(OR(Table5ca[[#This Row],[Building Component]]=\"Wall, Above Grade\",Table5ca[[#This Row],[Building Component]]=\"Wall, Below Grade\"),\"If there is continuous insulation interrupted by fasteners, ensure that the U-factor has been de-rated per Footnote 24. See below for further details.\",\nIF(Table5ca[[#This Row],[Building Component]]=\"Wall Assembly\",\"Apply a derate per Footnote 6 below.\",\nIF(Table5ca[[#This Row],[Building Component]]=\"Balcony\",\"Use the table below to de-rate balconies per Footnote 21.\",\nIF(OR(Table5ca[[#This Row],[Building Component]]=\"Floor Above Garage\",Table5ca[[#This Row],[Building Component]]=\"Floor Above Garage Columns\"),\"Use the table below to De-Rate floors above garages per Footnote 22.\",\n\"Not Applicable\")))))","v":"Apply a derate per Footnote 6 below."},null,null,null,null,null,null,{"$f":"IF(AND(Table5ca[[#This Row],[Dwelling or Common?]]=\"Dwelling\",$C$6=\"Prescriptive\",$C$8=\"Version 1.2 OR+WA\"),\"BuildingComponents_ESRefListV12_UABuildingComponents\",\nIF(AND($C$8=\"Version 1.2 OR+WA\",OR($C$6=\"Prescriptive\",$C$6=\"ERI\",$C$6=\"Title 24 - Dwelling Units Models\"),Table5ca[[#This Row],[Dwelling or Common?]]=\"Common\"),\"BuildingComponents_ESRefListV12_UABuildingComponents\",\n\nIF(AND($C$6=\"Prescriptive\",Table5ca[[#This Row],[Dwelling or Common?]]=\"Dwelling\"),\"PrescriptivePath_UABuildingComponents\",\n\n\"ERI_AHSRAE_UABuildingComponents\")))","v":"PrescriptivePath_UABuildingComponents"},{"$f":"IF(AND($C$6<>\"Prescriptive\",OR(Table5ca[[#This Row],[Building Component]]=\"Floor Assembly\",Table5ca[[#This Row],[Building Component]]=\"Floor Above Garage\",Table5ca[[#This Row],[Building Component]]=\"Floor Above Garage Columns\")),\"Floor\",\nIF(AND($C$6=\"Prescriptive\",Table5ca[[#This Row],[Dwelling or Common?]]=\"Common\",OR(Table5ca[[#This Row],[Building Component]]=\"Floor Assembly\",Table5ca[[#This Row],[Building Component]]=\"Floor Above Garage\",Table5ca[[#This Row],[Building Component]]=\"Floor Above Garage Columns\")),\"Floor\",\n\nIF(Table5ca[[#This Row],[Building Component]]=\"Roofs\",\"Roof\",\nIF(Table5ca[[#This Row],[Building Component]]=\"Walls, Above Grade\",\"WallAboveGrade\",\nIF(Table5ca[[#This Row],[Building Component]]=\"Walls, Below Grade\",\"WallBelowGrade\",\nIF(AND(Table5ca[[#This Row],[Building Component]]=\"Floor Assembly\",$C$6<>\"Prescriptive\"),\"Floor\",\nIF(Table5ca[[#This Row],[Building Component]]=\"Slab-on-Grade Floors\",\"SlabOnGradeFloor\",\nIF(Table5ca[[#This Row],[Building Component]]=\"Opaque Doors\",\"OpaqueDoor\",\nIF(Table5ca[[#This Row],[Building Component]]=\"Balcony\",\"Balcony\",\nIF(AND(Table5ca[[#This Row],[Building Component]]=\"Floor Above Garage\",$C$6=\"Prescriptive\"),\"FloorAssembly\",\nIF(Table5ca[[#This Row],[Building Component]]=\"Floor Above Garage\",\"FloorAboveGarage\",\nIF(Table5ca[[#This Row],[Building Component]]=\"Wall Assembly\",\"WallAssembly\",\nIF(Table5ca[[#This Row],[Building Component]]=\"Ceiling Assembly\",\"CeilingAssembly\",\nIF(OR(Table5ca[[#This Row],[Building Component]]=\"Floor Assembly\",Table5ca[[#This Row],[Building Component]]=\"Floor Above Garage\",Table5ca[[#This Row],[Building Component]]=\"Floor Above Garage Columns\"),\"FloorAssembly\",\n\nIF(AND(Table5ca[[#This Row],[Building Component]]=\"Fenestration\",Table5ca[[#This Row],[Dwelling or Common?]]=\"Dwelling\"),\"ClassAW?\",\n\nIF(AND(Table5ca[[#This Row],[Building Component]]=\"Fenestration\",Table5ca[[#This Row],[Dwelling or Common?]]=\"Common\",OR($C$6=\"ERI\",$C$6=\"Title 24 - Dwelling Unit Models\",$C$6=\"Prescriptive\")),\"ESRefClassAW\",\nIF(AND(Table5ca[[#This Row],[Building Component]]=\"Fenestration\",Table5ca[[#This Row],[Dwelling or Common?]]=\"Common\",OR($C$6=\"ASHRAE\",$C$6=\"Title 24 - Whole Building Models\")),\"Fenestration\",\n\n\"NotApplicable\")))))))))))))))))","v":"WallAssembly"},{"$f":"IF(AND(OR($C$6=\"ERI\",$C$6=\"Title 24 - Dwelling Unit Models\"),Table5ca[[#This Row],[Dwelling or Common?]]=\"Dwelling\",Table5ca[[#This Row],[Component Type]]=\"Class AW\"),\"Fenestration\",\nIF(AND(OR($C$6=\"ERI\",$C$6=\"Title 24 - Dwelling Unit Models\"),Table5ca[[#This Row],[Dwelling or Common?]]=\"Dwelling\",Table5ca[[#This Row],[Component Type]]=\"Not Class AW\"),\"NotApplicable\",\n\nIF(AND(OR($C$6=\"ASHRAE\",$C$6=\"Title 24 - Whole Building Models\"),Table5ca[[#This Row],[Dwelling or Common?]]=\"Dwelling\",Table5ca[[#This Row],[Component Type]]=\"Class AW\"),\"Fenestration\",\nIF(AND(OR($C$6=\"ASHRAE\",$C$6=\"Title 24 - Whole Building Models\"),Table5ca[[#This Row],[Dwelling or Common?]]=\"Dwelling\",Table5ca[[#This Row],[Component Type]]=\"Not Class AW\"),\"NotApplicable\",\n\nIF(AND($C$6=\"Prescriptive\",Table5ca[[#This Row],[Dwelling or Common?]]=\"Dwelling\",Table5ca[[#This Row],[Component Type]]=\"Class AW\"),\"ESRefClassAW\",\nIF(AND($C$6=\"Prescriptive\",Table5ca[[#This Row],[Dwelling or Common?]]=\"Dwelling\",Table5ca[[#This Row],[Component Type]]=\"Not Class AW\"),\"ESRefNotClassAW\",\n\nIF(Table5ca[[#This Row],[Component Type]]=\"Class AW\",\"Fenestration\",\n\n\"NotApplicable\")))))))","v":"NotApplicable"},{"$f":"IF(AND(Table5ca[[#This Row],[Dwelling or Common?]]=\"Dwelling\",$C$8=\"Version 1\",$C$6=\"Prescriptive\",Table5ca[[#This Row],[Building Component]]<>\"Fenestration\"),\"ESRefDesign_Insulation_V1\",\nIF(AND(Table5ca[[#This Row],[Dwelling or Common?]]=\"Dwelling\",$C$8=\"Version 1.1\",$C$6=\"Prescriptive\",Table5ca[[#This Row],[Building Component]]<>\"Fenestration\"),\"ESRefDesign_Insulation_V11\",\nIF(AND($C$8=\"Version 1.2 OR+WA\",$C$6=\"Prescriptive\",Table5ca[[#This Row],[Building Component]]<>\"Fenestration\"),\"ESRefDesign_Insulation_V12\",\n\nIF(AND(Table5ca[[#This Row],[Dwelling or Common?]]=\"Common\",$C$8=\"Version 1.2 OR+WA\",OR($C$6=\"ERI\",$C$6=\"Title 24 - Dwelling Unit Models\"),Table5ca[[#This Row],[Building Component]]<>\"Fenestration\"),\"ESRefDesign_Insulation_V12\",\nIF(AND(Table5ca[[#This Row],[Dwelling or Common?]]=\"Common\",$C$8=\"Version 1.2 OR+WA\",OR($C$6=\"ASHRAE\",$C$6=\"Title 24 - Whole Building Models\"),Table5ca[[#This Row],[Building Component]]<>\"Fenestration\"),\"IECC2009_OU\",\nIF(AND(Table5ca[[#This Row],[Dwelling or Common?]]=\"Dwelling\",$C$8=\"Version 1.2 OR+WA\",OR($C$6=\"ERI\",$C$6=\"Title 24 - Dwelling Unit Models\",$C$6=\"ASHRAE\",$C$6=\"Title 24 - Whole Building Models\"),Table5ca[[#This Row],[Building Component]]<>\"Fenestration\"),\"IECC2009_RU\",\n\nIF(AND(Table5ca[[#This Row],[Dwelling or Common?]]=\"Common\",$C$8=\"Version 1\",Table5ca[[#This Row],[Building Component]]<>\"Fenestration\"),\"IECC2009_OU\",\nIF(AND(Table5ca[[#This Row],[Dwelling or Common?]]=\"Common\",$C$8=\"Version 1.1\",OR($C$6=\"ASHRAE\",$C$6=\"Title 24 - Whole Building Models\"),Table5ca[[#This Row],[Building Component]]<>\"Fenestration\"),\"IECC2009_OU\",\nIF(AND(Table5ca[[#This Row],[Dwelling or Common?]]=\"Common\",$C$8=\"Version 1.1\",OR($C$6=\"Prescriptive\",$C$6=\"ERI\",$C$6=\"Title 24 - Dwelling Unit Models\"),Table5ca[[#This Row],[Building Component]]<>\"Fenestration\"),\"IECC2012_OU\",\n\nIF(AND(Table5ca[[#This Row],[Dwelling or Common?]]=\"Dwelling\",OR($C$8=\"Version 1\",$C$8=\"Version 1.1\",),OR($C$6=\"ERI\",$C$6=\"ASHRAE\",$C$6=\"Title 24 - Whole Building Models\",$C$6=\"Title 24 - Dwelling Unit Models\"),Table5ca[[#This Row],[Building Component]]<>\"Fenestration\"),\"IECC2009_RU\",\n\n\nIF(AND(Table5ca[[#This Row],[Building Component]]=\"Fenestration\",Table5ca[[#This Row],[Dwelling or Common?]]=\"Common\",OR($C$6=\"Prescriptive\",$C$6=\"ERI\",$C$6=\"Title 24 - Dwelling Unit Models\"),$C$8=\"Version 1\"),\"ESRefDesign_FenestrationAW_V1\",\nIF(AND(Table5ca[[#This Row],[Building Component]]=\"Fenestration\",Table5ca[[#This Row],[Dwelling or Common?]]=\"Common\",OR($C$6=\"Prescriptive\",$C$6=\"ERI\",$C$6=\"Title 24 - Dwelling Unit Models\"),$C$8=\"Version 1.1\"),\"ESRefDesign_FenestrationAW_V11\",\nIF(AND(Table5ca[[#This Row],[Building Component]]=\"Fenestration\",Table5ca[[#This Row],[Dwelling or Common?]]=\"Common\",OR($C$6=\"Prescriptive\",$C$6=\"ERI\",$C$6=\"Title 24 - Dwelling Unit Models\"),$C$8=\"Version 1.2 OR+WA\"),\"ESRefDesign_FenestrationAW_V12\",\n\nIF(AND(Table5ca[[#This Row],[Building Component]]=\"Fenestration\",Table5ca[[#This Row],[Dwelling or Common?]]=\"Common\",OR($C$6=\"ASHRAE\",$C$6=\"Title 24 - Whole Building Models\")),\"IECC2009_Fenestration_AW_Windows\",\nIF(AND(Table5ca[[#This Row],[Building Component]]=\"Fenestration\",Table5ca[[#This Row],[Dwelling or Common?]]=\"Dwelling\",Table5ca[[#This Row],[Component Type]]=\"Class AW\",OR($C$6=\"ASHRAE\",$C$6=\"Title 24 - Whole Building Models\",$C$6=\"ERI\",$C$6=\"Title 24 - Dwelling Unit Models\")),\"IECC2009_Fenestration_AW_Windows\",\n\nIF(AND(Table5ca[[#This Row],[Building Component]]=\"Fenestration\",Table5ca[[#This Row],[Dwelling or Common?]]=\"Dwelling\",$C$6=\"Prescriptive\",$C$8=\"Version 1\",Table5ca[[#This Row],[Component Type]]=\"Class AW\"),\"ESRefDesign_FenestrationAW_V1\",\nIF(AND(Table5ca[[#This Row],[Building Component]]=\"Fenestration\",Table5ca[[#This Row],[Dwelling or Common?]]=\"Dwelling\",$C$6=\"Prescriptive\",$C$8=\"Version 1.1\",Table5ca[[#This Row],[Component Type]]=\"Class AW\"),\"ESRefDesign_FenestrationAW_V11\",\nIF(AND(Table5ca[[#This Row],[Building Component]]=\"Fenestration\",Table5ca[[#This Row],[Dwelling or Common?]]=\"Dwelling\",$C$6=\"Prescriptive\",$C$8=\"Version 1.2 OR+WA\",Table5ca[[#This Row],[Component Type]]=\"Class AW\"),\"ESRefDesign_FenestrationAW_V12\",\n\nIF(AND(Table5ca[[#This Row],[Building Component]]=\"Fenestration\",Table5ca[[#This Row],[Dwelling or Common?]]=\"Dwelling\",$C$6=\"Prescriptive\",$C$8=\"Version 1\",Table5ca[[#This Row],[Component Type]]=\"Not Class AW\"),\"ESRefDesign_Fenestration_V1\",\nIF(AND(Table5ca[[#This Row],[Building Component]]=\"Fenestration\",Table5ca[[#This Row],[Dwelling or Common?]]=\"Dwelling\",$C$6=\"Prescriptive\",$C$8=\"Version 1.1\",Table5ca[[#This Row],[Component Type]]=\"Not Class AW\"),\"ESRefDesign_Fenestration_V11\",\nIF(AND(Table5ca[[#This Row],[Building Component]]=\"Fenestration\",Table5ca[[#This Row],[Dwelling or Common?]]=\"Dwelling\",$C$6=\"Prescriptive\",$C$8=\"Version 1.2 OR+WA\",Table5ca[[#This Row],[Component Type]]=\"Not Class AW\"),\"ESRefDesign_Fenestration_V12\",\n\nIF(AND(Table5ca[[#This Row],[Building Component]]=\"Fenestration\",Table5ca[[#This Row],[Dwelling or Common?]]=\"Dwelling\"),\"IECC2009_Fenestration_NotAW_Windows\",\n\n\"\"))))))))))))))))))))))","v":"ESRefDesign_Insulation_V1"},{"$f":"IF(OR(Table5ca[[#This Row],[Lookup Table Pt1]]=\"ESRefDesign_Insulation_V1\",Table5ca[[#This Row],[Lookup Table Pt1]]=\"ESRefDesign_Insulation_V11\",Table5ca[[#This Row],[Lookup Table Pt1]]=\"IECC2009_Fenestration_NotAW_Windows\",Table5ca[[#This Row],[Lookup Table Pt1]]=\"IECC2009_Fenestration_AW_Windows\",Table5ca[[#This Row],[Lookup Table Pt1]]=\"ESRefDesign_FenestrationAW_V1\",Table5ca[[#This Row],[Lookup Table Pt1]]=\"ESRefDesign_FenestrationAW_V11\",Table5ca[[#This Row],[Lookup Table Pt1]]=\"ESRefDesign_Fenestration_V1\",Table5ca[[#This Row],[Lookup Table Pt1]]=\"ESRefDesign_Fenestration_V11\"),Table5ca[[#This Row],[Lookup Table Pt1]],\n\nIF(Table5ca[[#This Row],[Component_Lookup]]=\"FloorAboveGarage\",Table5ca[[#This Row],[Lookup Table Pt1]]&\"_Floor\",\n\nTable5ca[[#This Row],[Lookup Table Pt1]]&\"_\"&Table5ca[[#This Row],[Component_Lookup]]))","v":"ESRefDesign_Insulation_V1"},{"$f":"IF(AND($C$8=\"Version 1.2 OR+WA\",$C$6=\"Prescriptive\",Table5ca[[#This Row],[Building Component]]=\"Above-Grade Wall\"),1,\nIF(AND($C$8=\"Version 1.2 OR+WA\",$C$6=\"Prescriptive\",Table5ca[[#This Row],[Building Component]]=\"Ceiling\"),2,\nIF(AND($C$8=\"Version 1.2 OR+WA\",$C$6=\"Prescriptive\",Table5ca[[#This Row],[Building Component]]=\"Basement Wall\"),4,\nIF(AND($C$8=\"Version 1.2 OR+WA\",$C$6=\"Prescriptive\",Table5ca[[#This Row],[Building Component]]=\"On-Grade & Below Grade Slab\"),5,\nIF(AND($C$8=\"Version 1.2 OR+WA\",$C$6=\"Prescriptive\",OR(Table5ca[[#This Row],[Building Component]]=\"Floor Assembly\",Table5ca[[#This Row],[Building Component]]=\"Floor Above Garage\",Table5ca[[#This Row],[Building Component]]=\"Floor Above Garage Columns\")),3,\n\nIF(AND($C$8=\"Version 1.2 OR+WA\",OR($C$6=\"Prescriptive\",$C$6=\"ERI\",$C$6=\"Title 24 - Dwelling Units Models\"),Table5ca[[#This Row],[Dwelling or Common?]]=\"Common\",Table5ca[[#This Row],[Building Component]]=\"Above-Grade Wall\"),1,\nIF(AND($C$8=\"Version 1.2 OR+WA\",OR($C$6=\"Prescriptive\",$C$6=\"ERI\",$C$6=\"Title 24 - Dwelling Units Models\"),Table5ca[[#This Row],[Dwelling or Common?]]=\"Common\",Table5ca[[#This Row],[Building Component]]=\"Ceiling\"),2,\nIF(AND($C$8=\"Version 1.2 OR+WA\",OR($C$6=\"Prescriptive\",$C$6=\"ERI\",$C$6=\"Title 24 - Dwelling Units Models\"),Table5ca[[#This Row],[Dwelling or Common?]]=\"Common\",Table5ca[[#This Row],[Building Component]]=\"Basement Wall\"),4,\nIF(AND($C$8=\"Version 1.2 OR+WA\",OR($C$6=\"Prescriptive\",$C$6=\"ERI\",$C$6=\"Title 24 - Dwelling Units Models\"),Table5ca[[#This Row],[Dwelling or Common?]]=\"Common\",Table5ca[[#This Row],[Building Component]]=\"On-Grade & Below Grade Slab\"),5,\nIF(AND($C$8=\"Version 1.2 OR+WA\",OR($C$6=\"Prescriptive\",$C$6=\"ERI\",$C$6=\"Title 24 - Dwelling Units Models\"),Table5ca[[#This Row],[Dwelling or Common?]]=\"Common\",OR(Table5ca[[#This Row],[Building Component]]=\"Floor Assembly\",Table5ca[[#This Row],[Building Component]]=\"Floor Above Garage\",Table5ca[[#This Row],[Building Component]]=\"Floor Above Garage Columns\")),3,\n\nIF(AND($C$6=\"Prescriptive\",OR($C$8=\"Version 1\",$C$8=\"Version 1.1\"),Table5ca[[#This Row],[Building Component]]=\"Basement Wall Continuous Insulation\"),3,\nIF(AND($C$6=\"Prescriptive\",OR($C$8=\"Version 1\",$C$8=\"Version 1.1\"),Table5ca[[#This Row],[Building Component]]=\"Slab Insulation\"),1,\n\nIF(OR(Table5ca[[#This Row],[Component Type]]=\"Insulation entirely above deck\",Table5ca[[#This Row],[Component Type]]=\"Mass\",Table5ca[[#This Row],[Component Type]]=\"Below grade wall\",Table5ca[[#This Row],[Component Type]]=\"Unheated slabs\",Table5ca[[#This Row],[Component Type]]=\"Floor Above Garage\"),1,\nIF(OR(Table5ca[[#This Row],[Component Type]]=\"Metal buildings\",Table5ca[[#This Row],[Component Type]]=\"Metal building\",Table5ca[[#This Row],[Component Type]]=\"Joist/framing\",Table5ca[[#This Row],[Component Type]]=\"Heated slabs\",Table5ca[[#This Row],[Component Type]]=\"Floor Above Garage\"),2,\nIF(OR(Table5ca[[#This Row],[Component Type]]=\"Attic and other\",Table5ca[[#This Row],[Component Type]]=\"Metal framed\"),3,\nIF(OR(Table5ca[[#This Row],[Component Type]]=\"Wood framed and other\",Table5ca[[#This Row],[Building Component]]=\"Floor Assembly\",Table5ca[[#This Row],[Building Component]]=\"Floor Above Garage\",Table5ca[[#This Row],[Building Component]]=\"Floor Above Garage Columns\"),4,\nIF(Table5ca[[#This Row],[Building Component]]=\"Wall Assembly\",5,\nIF(Table5ca[[#This Row],[Building Component]]=\"Ceiling Assembly\",6,\n\nIF(Table5ca[[#This Row],[Lookup Table Pt2]]=\"IECC2009_Fenestration_NotAW_Windows\",1,\nIF(AND(Table5ca[[#This Row],[Lookup Table Pt2]]=\"IECC2009_Fenestration_AW_Windows\",OR(Table5ca[[#This Row],[Additional Component Details]]=\"Non-Metal\",Table5ca[[#This Row],[Component Type]]=\"Non-Metal\")),1,\nIF(AND(Table5ca[[#This Row],[Lookup Table Pt2]]=\"IECC2009_Fenestration_AW_Windows\",OR(Table5ca[[#This Row],[Additional Component Details]]=\"Metal - Curtainwall/storefront\",Table5ca[[#This Row],[Component Type]]=\"Metal - Curtainwall/storefront\")),2,\nIF(AND(Table5ca[[#This Row],[Lookup Table Pt2]]=\"IECC2009_Fenestration_AW_Windows\",OR(Table5ca[[#This Row],[Additional Component Details]]=\"Metal - Entrance door\",Table5ca[[#This Row],[Component Type]]=\"Metal - Entrance door\")),3,\nIF(AND(Table5ca[[#This Row],[Lookup Table Pt2]]=\"IECC2009_Fenestration_AW_Windows\",OR(Table5ca[[#This Row],[Additional Component Details]]=\"Metal - Other\",Table5ca[[#This Row],[Component Type]]=\"Metal - Entrance door\")),4,\nIF(AND(Table5ca[[#This Row],[Lookup Table Pt2]]=\"IECC2009_Fenestration_AW_Windows\",Table5ca[[#This Row],[Component Type]]=\"Metal - Other\"),4,\n\nIF(AND(OR(Table5ca[[#This Row],[Lookup Table Pt1]]=\"ESRefDesign_FenestrationAW_V1\",Table5ca[[#This Row],[Lookup Table Pt1]]=\"ESRefDesign_FenestrationAW_V11\",Table5ca[[#This Row],[Lookup Table Pt1]]=\"ESRefDesign_FenestrationAW_V12\"),OR(Table5ca[[#This Row],[Component Type]]=\"Fixed\",Table5ca[[#This Row],[Additional Component Details]]=\"Fixed\")),1,\nIF(AND(OR(Table5ca[[#This Row],[Lookup Table Pt1]]=\"ESRefDesign_FenestrationAW_V1\",Table5ca[[#This Row],[Lookup Table Pt1]]=\"ESRefDesign_FenestrationAW_V11\",Table5ca[[#This Row],[Lookup Table Pt1]]=\"ESRefDesign_FenestrationAW_V12\"),OR(Table5ca[[#This Row],[Component Type]]=\"Operable\",Table5ca[[#This Row],[Additional Component Details]]=\"Operable\")),2,\n\nIF(AND(OR(Table5ca[[#This Row],[Lookup Table Pt1]]=\"ESRefDesign_Fenestration_V1\",Table5ca[[#This Row],[Lookup Table Pt1]]=\"ESRefDesign_Fenestration_V11\",Table5ca[[#This Row],[Lookup Table Pt1]]=\"ESRefDesign_Fenestration_V12\"),Table5ca[[#This Row],[Additional Component Details]]=\"Window\"),1,\nIF(AND(OR(Table5ca[[#This Row],[Lookup Table Pt1]]=\"ESRefDesign_Fenestration_V1\",Table5ca[[#This Row],[Lookup Table Pt1]]=\"ESRefDesign_Fenestration_V11\",Table5ca[[#This Row],[Lookup Table Pt1]]=\"ESRefDesign_Fenestration_V12\"),Table5ca[[#This Row],[Additional Component Details]]=\"Opaque Door\"),3,\nIF(AND(OR(Table5ca[[#This Row],[Lookup Table Pt1]]=\"ESRefDesign_Fenestration_V1\",Table5ca[[#This Row],[Lookup Table Pt1]]=\"ESRefDesign_Fenestration_V11\",Table5ca[[#This Row],[Lookup Table Pt1]]=\"ESRefDesign_Fenestration_V12\"),Table5ca[[#This Row],[Additional Component Details]]=\"≤½ lite Door\"),4,\nIF(AND(OR(Table5ca[[#This Row],[Lookup Table Pt1]]=\"ESRefDesign_Fenestration_V1\",Table5ca[[#This Row],[Lookup Table Pt1]]=\"ESRefDesign_Fenestration_V11\",Table5ca[[#This Row],[Lookup Table Pt1]]=\"ESRefDesign_Fenestration_V12\"),Table5ca[[#This Row],[Additional Component Details]]=\">½ lite Door\"),5,\n\n\n\"\"))))))))))))))))))))))))))))))","v":5},{"$f":"IF(AND($C$8=\"Version 1.2 OR+WA\",$C$6=\"Prescriptive\",Table5ca[[#This Row],[Building Component]]<>\"Fenestration\"),2,\n\nIF(AND($C$8=\"Version 1.2 OR+WA\",$C$6=\"Prescriptive\",$C$7=\"CZ 4 C\"),2,\nIF(AND($C$8=\"Version 1.2 OR+WA\",$C$6=\"Prescriptive\",$C$7=\"CZ 5\"),3,\nIF(AND($C$8=\"Version 1.2 OR+WA\",$C$6=\"Prescriptive\",$C$7=\"CZ 6\"),4,\n\nIF(AND($C$8=\"Version 1.2 OR+WA\",Table5ca[[#This Row],[Dwelling or Common?]]=\"Common\",OR($C$6=\"ERI\",$C$6=\"Title 24 - Dwelling Unit Models\"),$C$7=\"CZ 4 C\"),2,\nIF(AND($C$8=\"Version 1.2 OR+WA\",Table5ca[[#This Row],[Dwelling or Common?]]=\"Common\",OR($C$6=\"ERI\",$C$6=\"Title 24 - Dwelling Unit Models\"),$C$7=\"CZ 5\"),3,\nIF(AND($C$8=\"Version 1.2 OR+WA\",Table5ca[[#This Row],[Dwelling or Common?]]=\"Common\",OR($C$6=\"ERI\",$C$6=\"Title 24 - Dwelling Unit Models\"),$C$7=\"CZ 6\"),4,\n\nIF($C$7=\"CZ 1\",2,\nIF($C$7=\"CZ 2\",3,\nIF($C$7=\"CZ 3\",4,\nIF($C$7=\"CZ 4\",5,\nIF($C$7=\"CZ 4 C\",6,\nIF($C$7=\"CZ 5\",7,\nIF($C$7=\"CZ 6\",8,\nIF($C$7=\"CZ 7\",9,\nIF($C$7=\"CZ 8\",10,\"\"))))))))))))))))","v":5}]
[null,"Common","Walls, Above Grade","Metal framed","N/A",0.42,2800,{"$f":"IF(Table5ca[[#This Row],[Specified/Installed U-Factor]]*Table5ca[[#This Row],[Area]]=0,\"\",Table5ca[[#This Row],[Specified/Installed U-Factor]]*Table5ca[[#This Row],[Area]])","v":1176},{"$f":"IFERROR(IF(AND($C$8=\"Version 1.2 OR+WA\",OR($C$7=\"CZ 1\",$C$7=\"CZ 2\",$C$7=\"CZ 3\",$C$7=\"CZ 4\",$C$7=\"CZ 7\",$C$7=\"CZ 8\")),\"N/A - Update CZ\",\n\nIF(Table5ca[[#This Row],[Building Component]]=\"Balcony\",\"0.20\",\n\nIF(OR(Table5ca[[#This Row],[Lookup Table Pt1]]=\"ESRefDesign_Insulation_V1\",Table5ca[[#This Row],[Lookup Table Pt1]]=\"ESRefDesign_Insulation_V11\",Table5ca[[#This Row],[Lookup Table Pt1]]=\"ESRefDesign_Insulation_V12\",Table5ca[[#This Row],[Lookup Table Pt1]]=\"ESRefDesign_FenestrationAW_V1\",Table5ca[[#This Row],[Lookup Table Pt1]]=\"ESRefDesign_FenestrationAW_V11\",Table5ca[[#This Row],[Lookup Table Pt1]]=\"ESRefDesign_Fenestration_V1\",Table5ca[[#This Row],[Lookup Table Pt1]]=\"ESRefDesign_Fenestration_V11\",Table5ca[[#This Row],[Lookup Table Pt1]]=\"ESRefDesign_Fenestration_V12\",Table5ca[[#This Row],[Lookup Table Pt1]]=\"ESRefDesign_FenestrationAW_V12\",Table5ca[[#This Row],[Lookup Table Pt1]]=\"IECC2009_Fenestration_NotAW_Windows\",Table5ca[[#This Row],[Lookup Table Pt1]]=\"IECC2009_Fenestration_AW_Windows\"),INDEX(INDIRECT(Table5ca[[#This Row],[Lookup Table Pt1]]),Table5ca[[#This Row],[Row Index]],Table5ca[[#This Row],[Column Index]]),\n\nINDEX(INDIRECT(Table5ca[[#This Row],[Lookup Table Pt2]]),Table5ca[[#This Row],[Row Index]],Table5ca[[#This Row],[Column Index]])))),\"\")","v":"U-0.064"},{"$f":"IFERROR(\n\nIF(LEFT(Table5ca[[#This Row],[ENERGY STAR Requirement Values]],2)=\"U-\",Table5ca[[#This Row],[ENERGY STAR Requirement Values]],\n\nIF(OR(Table5ca[[#This Row],[Building Component]]=\"Slab Insulation\",Table5ca[[#This Row],[Building Component]]=\"Slab-On-Grade Floor\",Table5ca[[#This Row],[Building Component]]=\"Slab-On-Grade Floors\",Table5ca[[#This Row],[Building Component]]=\"On-Grade & Below Grade Slab\",Table5ca[[#This Row],[Building Component]]=\"Slab-on-Grade Floors\",Table5ca[[#This Row],[Building Component]]=\"Slab-on-Grade Floor\"),\"\",\n\nIF(OR(Table5ca[[#This Row],[ENERGY STAR Requirement Values]]=\"R-0\",Table5ca[[#This Row],[ENERGY STAR Requirement Values]]=0,Table5ca[[#This Row],[ENERGY STAR Requirement Values]]=\"C-1.140\"),\"U-0.36\",\nIF(OR(Table5ca[[#This Row],[ENERGY STAR Requirement Values]]=\"R-7.5\",Table5ca[[#This Row],[ENERGY STAR Requirement Values]]=7.5,Table5ca[[#This Row],[ENERGY STAR Requirement Values]]=\"C-0.119\"),\"U-0.072\",\nIF(OR(Table5ca[[#This Row],[ENERGY STAR Requirement Values]]=\"R-10\",Table5ca[[#This Row],[ENERGY STAR Requirement Values]]=10,Table5ca[[#This Row],[ENERGY STAR Requirement Values]]=\"C-0.092\"),\"U-0.059\",\nIF(OR(Table5ca[[#This Row],[ENERGY STAR Requirement Values]]=\"R-15\",Table5ca[[#This Row],[ENERGY STAR Requirement Values]]=15,Table5ca[[#This Row],[ENERGY STAR Requirement Values]]=\"R-15 continuous or R-21 cavity\"),\"U-0.05\",\nIF(OR(Table5ca[[#This Row],[ENERGY STAR Requirement Values]]=\"R-12.5\",Table5ca[[#This Row],[ENERGY STAR Requirement Values]]=12.5,Table5ca[[#This Row],[ENERGY STAR Requirement Values]]=\"C-0.075\"),\"U-0.054\",\nIF(OR(Table5ca[[#This Row],[ENERGY STAR Requirement Values]]=\"R-21\",Table5ca[[#This Row],[ENERGY STAR Requirement Values]]=21),\"U-0.056\",\nIF(OR(Table5ca[[#This Row],[ENERGY STAR Requirement Values]]=\"R-38\",Table5ca[[#This Row],[ENERGY STAR Requirement Values]]=38),\"U-0.028\",\nIF(OR(Table5ca[[#This Row],[ENERGY STAR Requirement Values]]=\"R-49\",Table5ca[[#This Row],[ENERGY STAR Requirement Values]]=49),\"U-0.026\",\n\nIF(LEFT(Table5ca[[#This Row],[ENERGY STAR Requirement Values]],2)=\"F-\",\"\",\n\nIF(LEFT(Table5ca[[#This Row],[ENERGY STAR Requirement Values]],1)=\"0\",CONCATENATE(\"U-\",Table5ca[[#This Row],[ENERGY STAR Requirement Values]]),\n\nTable5ca[[#This Row],[ENERGY STAR Requirement Values]])))))))))))),\"\")","v":"U-0.064"},{"$f":"IFERROR(IF(Table5ca[[#This Row],[Area]]=\"\",\"\",\nIF(Table5ca[[#This Row],[Required U-factor]]=\"\",\"\",\nIFERROR(Table5ca[[#This Row],[Area]]*Table5ca[[#This Row],[Required U-factor]],RIGHT(Table5ca[[#This Row],[Required U-factor]],LEN(Table5ca[[#This Row],[Required U-factor]])-2)*Table5ca[[#This Row],[Area]]))),\"\")","v":179.20000000000002},{"$f":"IF(Table5ca[[#This Row],[Building Component]]=\"\",\"\",\nIF(OR(Table5ca[[#This Row],[Building Component]]=\"Wall, Above Grade\",Table5ca[[#This Row],[Building Component]]=\"Wall, Below Grade\"),\"If there is continuous insulation interrupted by fasteners, ensure that the U-factor has been de-rated per Footnote 24. See below for further details.\",\nIF(Table5ca[[#This Row],[Building Component]]=\"Wall Assembly\",\"Apply a derate per Footnote 6 below.\",\nIF(Table5ca[[#This Row],[Building Component]]=\"Balcony\",\"Use the table below to de-rate balconies per Footnote 21.\",\nIF(OR(Table5ca[[#This Row],[Building Component]]=\"Floor Above Garage\",Table5ca[[#This Row],[Building Component]]=\"Floor Above Garage Columns\"),\"Use the table below to De-Rate floors above garages per Footnote 22.\",\n\"Not Applicable\")))))","v":"Not Applicable"},null,null,null,null,null,null,{"$f":"IF(AND(Table5ca[[#This Row],[Dwelling or Common?]]=\"Dwelling\",$C$6=\"Prescriptive\",$C$8=\"Version 1.2 OR+WA\"),\"BuildingComponents_ESRefListV12_UABuildingComponents\",\nIF(AND($C$8=\"Version 1.2 OR+WA\",OR($C$6=\"Prescriptive\",$C$6=\"ERI\",$C$6=\"Title 24 - Dwelling Units Models\"),Table5ca[[#This Row],[Dwelling or Common?]]=\"Common\"),\"BuildingComponents_ESRefListV12_UABuildingComponents\",\n\nIF(AND($C$6=\"Prescriptive\",Table5ca[[#This Row],[Dwelling or Common?]]=\"Dwelling\"),\"PrescriptivePath_UABuildingComponents\",\n\n\"ERI_AHSRAE_UABuildingComponents\")))","v":"ERI_AHSRAE_UABuildingComponents"},{"$f":"IF(AND($C$6<>\"Prescriptive\",OR(Table5ca[[#This Row],[Building Component]]=\"Floor Assembly\",Table5ca[[#This Row],[Building Component]]=\"Floor Above Garage\",Table5ca[[#This Row],[Building Component]]=\"Floor Above Garage Columns\")),\"Floor\",\nIF(AND($C$6=\"Prescriptive\",Table5ca[[#This Row],[Dwelling or Common?]]=\"Common\",OR(Table5ca[[#This Row],[Building Component]]=\"Floor Assembly\",Table5ca[[#This Row],[Building Component]]=\"Floor Above Garage\",Table5ca[[#This Row],[Building Component]]=\"Floor Above Garage Columns\")),\"Floor\",\n\nIF(Table5ca[[#This Row],[Building Component]]=\"Roofs\",\"Roof\",\nIF(Table5ca[[#This Row],[Building Component]]=\"Walls, Above Grade\",\"WallAboveGrade\",\nIF(Table5ca[[#This Row],[Building Component]]=\"Walls, Below Grade\",\"WallBelowGrade\",\nIF(AND(Table5ca[[#This Row],[Building Component]]=\"Floor Assembly\",$C$6<>\"Prescriptive\"),\"Floor\",\nIF(Table5ca[[#This Row],[Building Component]]=\"Slab-on-Grade Floors\",\"SlabOnGradeFloor\",\nIF(Table5ca[[#This Row],[Building Component]]=\"Opaque Doors\",\"OpaqueDoor\",\nIF(Table5ca[[#This Row],[Building Component]]=\"Balcony\",\"Balcony\",\nIF(AND(Table5ca[[#This Row],[Building Component]]=\"Floor Above Garage\",$C$6=\"Prescriptive\"),\"FloorAssembly\",\nIF(Table5ca[[#This Row],[Building Component]]=\"Floor Above Garage\",\"FloorAboveGarage\",\nIF(Table5ca[[#This Row],[Building Component]]=\"Wall Assembly\",\"WallAssembly\",\nIF(Table5ca[[#This Row],[Building Component]]=\"Ceiling Assembly\",\"CeilingAssembly\",\nIF(OR(Table5ca[[#This Row],[Building Component]]=\"Floor Assembly\",Table5ca[[#This Row],[Building Component]]=\"Floor Above Garage\",Table5ca[[#This Row],[Building Component]]=\"Floor Above Garage Columns\"),\"FloorAssembly\",\n\nIF(AND(Table5ca[[#This Row],[Building Component]]=\"Fenestration\",Table5ca[[#This Row],[Dwelling or Common?]]=\"Dwelling\"),\"ClassAW?\",\n\nIF(AND(Table5ca[[#This Row],[Building Component]]=\"Fenestration\",Table5ca[[#This Row],[Dwelling or Common?]]=\"Common\",OR($C$6=\"ERI\",$C$6=\"Title 24 - Dwelling Unit Models\",$C$6=\"Prescriptive\")),\"ESRefClassAW\",\nIF(AND(Table5ca[[#This Row],[Building Component]]=\"Fenestration\",Table5ca[[#This Row],[Dwelling or Common?]]=\"Common\",OR($C$6=\"ASHRAE\",$C$6=\"Title 24 - Whole Building Models\")),\"Fenestration\",\n\n\"NotApplicable\")))))))))))))))))","v":"WallAboveGrade"},{"$f":"IF(AND(OR($C$6=\"ERI\",$C$6=\"Title 24 - Dwelling Unit Models\"),Table5ca[[#This Row],[Dwelling or Common?]]=\"Dwelling\",Table5ca[[#This Row],[Component Type]]=\"Class AW\"),\"Fenestration\",\nIF(AND(OR($C$6=\"ERI\",$C$6=\"Title 24 - Dwelling Unit Models\"),Table5ca[[#This Row],[Dwelling or Common?]]=\"Dwelling\",Table5ca[[#This Row],[Component Type]]=\"Not Class AW\"),\"NotApplicable\",\n\nIF(AND(OR($C$6=\"ASHRAE\",$C$6=\"Title 24 - Whole Building Models\"),Table5ca[[#This Row],[Dwelling or Common?]]=\"Dwelling\",Table5ca[[#This Row],[Component Type]]=\"Class AW\"),\"Fenestration\",\nIF(AND(OR($C$6=\"ASHRAE\",$C$6=\"Title 24 - Whole Building Models\"),Table5ca[[#This Row],[Dwelling or Common?]]=\"Dwelling\",Table5ca[[#This Row],[Component Type]]=\"Not Class AW\"),\"NotApplicable\",\n\nIF(AND($C$6=\"Prescriptive\",Table5ca[[#This Row],[Dwelling or Common?]]=\"Dwelling\",Table5ca[[#This Row],[Component Type]]=\"Class AW\"),\"ESRefClassAW\",\nIF(AND($C$6=\"Prescriptive\",Table5ca[[#This Row],[Dwelling or Common?]]=\"Dwelling\",Table5ca[[#This Row],[Component Type]]=\"Not Class AW\"),\"ESRefNotClassAW\",\n\nIF(Table5ca[[#This Row],[Component Type]]=\"Class AW\",\"Fenestration\",\n\n\"NotApplicable\")))))))","v":"NotApplicable"},{"$f":"IF(AND(Table5ca[[#This Row],[Dwelling or Common?]]=\"Dwelling\",$C$8=\"Version 1\",$C$6=\"Prescriptive\",Table5ca[[#This Row],[Building Component]]<>\"Fenestration\"),\"ESRefDesign_Insulation_V1\",\nIF(AND(Table5ca[[#This Row],[Dwelling or Common?]]=\"Dwelling\",$C$8=\"Version 1.1\",$C$6=\"Prescriptive\",Table5ca[[#This Row],[Building Component]]<>\"Fenestration\"),\"ESRefDesign_Insulation_V11\",\nIF(AND($C$8=\"Version 1.2 OR+WA\",$C$6=\"Prescriptive\",Table5ca[[#This Row],[Building Component]]<>\"Fenestration\"),\"ESRefDesign_Insulation_V12\",\n\nIF(AND(Table5ca[[#This Row],[Dwelling or Common?]]=\"Common\",$C$8=\"Version 1.2 OR+WA\",OR($C$6=\"ERI\",$C$6=\"Title 24 - Dwelling Unit Models\"),Table5ca[[#This Row],[Building Component]]<>\"Fenestration\"),\"ESRefDesign_Insulation_V12\",\nIF(AND(Table5ca[[#This Row],[Dwelling or Common?]]=\"Common\",$C$8=\"Version 1.2 OR+WA\",OR($C$6=\"ASHRAE\",$C$6=\"Title 24 - Whole Building Models\"),Table5ca[[#This Row],[Building Component]]<>\"Fenestration\"),\"IECC2009_OU\",\nIF(AND(Table5ca[[#This Row],[Dwelling or Common?]]=\"Dwelling\",$C$8=\"Version 1.2 OR+WA\",OR($C$6=\"ERI\",$C$6=\"Title 24 - Dwelling Unit Models\",$C$6=\"ASHRAE\",$C$6=\"Title 24 - Whole Building Models\"),Table5ca[[#This Row],[Building Component]]<>\"Fenestration\"),\"IECC2009_RU\",\n\nIF(AND(Table5ca[[#This Row],[Dwelling or Common?]]=\"Common\",$C$8=\"Version 1\",Table5ca[[#This Row],[Building Component]]<>\"Fenestration\"),\"IECC2009_OU\",\nIF(AND(Table5ca[[#This Row],[Dwelling or Common?]]=\"Common\",$C$8=\"Version 1.1\",OR($C$6=\"ASHRAE\",$C$6=\"Title 24 - Whole Building Models\"),Table5ca[[#This Row],[Building Component]]<>\"Fenestration\"),\"IECC2009_OU\",\nIF(AND(Table5ca[[#This Row],[Dwelling or Common?]]=\"Common\",$C$8=\"Version 1.1\",OR($C$6=\"Prescriptive\",$C$6=\"ERI\",$C$6=\"Title 24 - Dwelling Unit Models\"),Table5ca[[#This Row],[Building Component]]<>\"Fenestration\"),\"IECC2012_OU\",\n\nIF(AND(Table5ca[[#This Row],[Dwelling or Common?]]=\"Dwelling\",OR($C$8=\"Version 1\",$C$8=\"Version 1.1\",),OR($C$6=\"ERI\",$C$6=\"ASHRAE\",$C$6=\"Title 24 - Whole Building Models\",$C$6=\"Title 24 - Dwelling Unit Models\"),Table5ca[[#This Row],[Building Component]]<>\"Fenestration\"),\"IECC2009_RU\",\n\n\nIF(AND(Table5ca[[#This Row],[Building Component]]=\"Fenestration\",Table5ca[[#This Row],[Dwelling or Common?]]=\"Common\",OR($C$6=\"Prescriptive\",$C$6=\"ERI\",$C$6=\"Title 24 - Dwelling Unit Models\"),$C$8=\"Version 1\"),\"ESRefDesign_FenestrationAW_V1\",\nIF(AND(Table5ca[[#This Row],[Building Component]]=\"Fenestration\",Table5ca[[#This Row],[Dwelling or Common?]]=\"Common\",OR($C$6=\"Prescriptive\",$C$6=\"ERI\",$C$6=\"Title 24 - Dwelling Unit Models\"),$C$8=\"Version 1.1\"),\"ESRefDesign_FenestrationAW_V11\",\nIF(AND(Table5ca[[#This Row],[Building Component]]=\"Fenestration\",Table5ca[[#This Row],[Dwelling or Common?]]=\"Common\",OR($C$6=\"Prescriptive\",$C$6=\"ERI\",$C$6=\"Title 24 - Dwelling Unit Models\"),$C$8=\"Version 1.2 OR+WA\"),\"ESRefDesign_FenestrationAW_V12\",\n\nIF(AND(Table5ca[[#This Row],[Building Component]]=\"Fenestration\",Table5ca[[#This Row],[Dwelling or Common?]]=\"Common\",OR($C$6=\"ASHRAE\",$C$6=\"Title 24 - Whole Building Models\")),\"IECC2009_Fenestration_AW_Windows\",\nIF(AND(Table5ca[[#This Row],[Building Component]]=\"Fenestration\",Table5ca[[#This Row],[Dwelling or Common?]]=\"Dwelling\",Table5ca[[#This Row],[Component Type]]=\"Class AW\",OR($C$6=\"ASHRAE\",$C$6=\"Title 24 - Whole Building Models\",$C$6=\"ERI\",$C$6=\"Title 24 - Dwelling Unit Models\")),\"IECC2009_Fenestration_AW_Windows\",\n\nIF(AND(Table5ca[[#This Row],[Building Component]]=\"Fenestration\",Table5ca[[#This Row],[Dwelling or Common?]]=\"Dwelling\",$C$6=\"Prescriptive\",$C$8=\"Version 1\",Table5ca[[#This Row],[Component Type]]=\"Class AW\"),\"ESRefDesign_FenestrationAW_V1\",\nIF(AND(Table5ca[[#This Row],[Building Component]]=\"Fenestration\",Table5ca[[#This Row],[Dwelling or Common?]]=\"Dwelling\",$C$6=\"Prescriptive\",$C$8=\"Version 1.1\",Table5ca[[#This Row],[Component Type]]=\"Class AW\"),\"ESRefDesign_FenestrationAW_V11\",\nIF(AND(Table5ca[[#This Row],[Building Component]]=\"Fenestration\",Table5ca[[#This Row],[Dwelling or Common?]]=\"Dwelling\",$C$6=\"Prescriptive\",$C$8=\"Version 1.2 OR+WA\",Table5ca[[#This Row],[Component Type]]=\"Class AW\"),\"ESRefDesign_FenestrationAW_V12\",\n\nIF(AND(Table5ca[[#This Row],[Building Component]]=\"Fenestration\",Table5ca[[#This Row],[Dwelling or Common?]]=\"Dwelling\",$C$6=\"Prescriptive\",$C$8=\"Version 1\",Table5ca[[#This Row],[Component Type]]=\"Not Class AW\"),\"ESRefDesign_Fenestration_V1\",\nIF(AND(Table5ca[[#This Row],[Building Component]]=\"Fenestration\",Table5ca[[#This Row],[Dwelling or Common?]]=\"Dwelling\",$C$6=\"Prescriptive\",$C$8=\"Version 1.1\",Table5ca[[#This Row],[Component Type]]=\"Not Class AW\"),\"ESRefDesign_Fenestration_V11\",\nIF(AND(Table5ca[[#This Row],[Building Component]]=\"Fenestration\",Table5ca[[#This Row],[Dwelling or Common?]]=\"Dwelling\",$C$6=\"Prescriptive\",$C$8=\"Version 1.2 OR+WA\",Table5ca[[#This Row],[Component Type]]=\"Not Class AW\"),\"ESRefDesign_Fenestration_V12\",\n\nIF(AND(Table5ca[[#This Row],[Building Component]]=\"Fenestration\",Table5ca[[#This Row],[Dwelling or Common?]]=\"Dwelling\"),\"IECC2009_Fenestration_NotAW_Windows\",\n\n\"\"))))))))))))))))))))))","v":"IECC2009_OU"},{"$f":"IF(OR(Table5ca[[#This Row],[Lookup Table Pt1]]=\"ESRefDesign_Insulation_V1\",Table5ca[[#This Row],[Lookup Table Pt1]]=\"ESRefDesign_Insulation_V11\",Table5ca[[#This Row],[Lookup Table Pt1]]=\"IECC2009_Fenestration_NotAW_Windows\",Table5ca[[#This Row],[Lookup Table Pt1]]=\"IECC2009_Fenestration_AW_Windows\",Table5ca[[#This Row],[Lookup Table Pt1]]=\"ESRefDesign_FenestrationAW_V1\",Table5ca[[#This Row],[Lookup Table Pt1]]=\"ESRefDesign_FenestrationAW_V11\",Table5ca[[#This Row],[Lookup Table Pt1]]=\"ESRefDesign_Fenestration_V1\",Table5ca[[#This Row],[Lookup Table Pt1]]=\"ESRefDesign_Fenestration_V11\"),Table5ca[[#This Row],[Lookup Table Pt1]],\n\nIF(Table5ca[[#This Row],[Component_Lookup]]=\"FloorAboveGarage\",Table5ca[[#This Row],[Lookup Table Pt1]]&\"_Floor\",\n\nTable5ca[[#This Row],[Lookup Table Pt1]]&\"_\"&Table5ca[[#This Row],[Component_Lookup]]))","v":"IECC2009_OU_WallAboveGrade"},{"$f":"IF(AND($C$8=\"Version 1.2 OR+WA\",$C$6=\"Prescriptive\",Table5ca[[#This Row],[Building Component]]=\"Above-Grade Wall\"),1,\nIF(AND($C$8=\"Version 1.2 OR+WA\",$C$6=\"Prescriptive\",Table5ca[[#This Row],[Building Component]]=\"Ceiling\"),2,\nIF(AND($C$8=\"Version 1.2 OR+WA\",$C$6=\"Prescriptive\",Table5ca[[#This Row],[Building Component]]=\"Basement Wall\"),4,\nIF(AND($C$8=\"Version 1.2 OR+WA\",$C$6=\"Prescriptive\",Table5ca[[#This Row],[Building Component]]=\"On-Grade & Below Grade Slab\"),5,\nIF(AND($C$8=\"Version 1.2 OR+WA\",$C$6=\"Prescriptive\",OR(Table5ca[[#This Row],[Building Component]]=\"Floor Assembly\",Table5ca[[#This Row],[Building Component]]=\"Floor Above Garage\",Table5ca[[#This Row],[Building Component]]=\"Floor Above Garage Columns\")),3,\n\nIF(AND($C$8=\"Version 1.2 OR+WA\",OR($C$6=\"Prescriptive\",$C$6=\"ERI\",$C$6=\"Title 24 - Dwelling Units Models\"),Table5ca[[#This Row],[Dwelling or Common?]]=\"Common\",Table5ca[[#This Row],[Building Component]]=\"Above-Grade Wall\"),1,\nIF(AND($C$8=\"Version 1.2 OR+WA\",OR($C$6=\"Prescriptive\",$C$6=\"ERI\",$C$6=\"Title 24 - Dwelling Units Models\"),Table5ca[[#This Row],[Dwelling or Common?]]=\"Common\",Table5ca[[#This Row],[Building Component]]=\"Ceiling\"),2,\nIF(AND($C$8=\"Version 1.2 OR+WA\",OR($C$6=\"Prescriptive\",$C$6=\"ERI\",$C$6=\"Title 24 - Dwelling Units Models\"),Table5ca[[#This Row],[Dwelling or Common?]]=\"Common\",Table5ca[[#This Row],[Building Component]]=\"Basement Wall\"),4,\nIF(AND($C$8=\"Version 1.2 OR+WA\",OR($C$6=\"Prescriptive\",$C$6=\"ERI\",$C$6=\"Title 24 - Dwelling Units Models\"),Table5ca[[#This Row],[Dwelling or Common?]]=\"Common\",Table5ca[[#This Row],[Building Component]]=\"On-Grade & Below Grade Slab\"),5,\nIF(AND($C$8=\"Version 1.2 OR+WA\",OR($C$6=\"Prescriptive\",$C$6=\"ERI\",$C$6=\"Title 24 - Dwelling Units Models\"),Table5ca[[#This Row],[Dwelling or Common?]]=\"Common\",OR(Table5ca[[#This Row],[Building Component]]=\"Floor Assembly\",Table5ca[[#This Row],[Building Component]]=\"Floor Above Garage\",Table5ca[[#This Row],[Building Component]]=\"Floor Above Garage Columns\")),3,\n\nIF(AND($C$6=\"Prescriptive\",OR($C$8=\"Version 1\",$C$8=\"Version 1.1\"),Table5ca[[#This Row],[Building Component]]=\"Basement Wall Continuous Insulation\"),3,\nIF(AND($C$6=\"Prescriptive\",OR($C$8=\"Version 1\",$C$8=\"Version 1.1\"),Table5ca[[#This Row],[Building Component]]=\"Slab Insulation\"),1,\n\nIF(OR(Table5ca[[#This Row],[Component Type]]=\"Insulation entirely above deck\",Table5ca[[#This Row],[Component Type]]=\"Mass\",Table5ca[[#This Row],[Component Type]]=\"Below grade wall\",Table5ca[[#This Row],[Component Type]]=\"Unheated slabs\",Table5ca[[#This Row],[Component Type]]=\"Floor Above Garage\"),1,\nIF(OR(Table5ca[[#This Row],[Component Type]]=\"Metal buildings\",Table5ca[[#This Row],[Component Type]]=\"Metal building\",Table5ca[[#This Row],[Component Type]]=\"Joist/framing\",Table5ca[[#This Row],[Component Type]]=\"Heated slabs\",Table5ca[[#This Row],[Component Type]]=\"Floor Above Garage\"),2,\nIF(OR(Table5ca[[#This Row],[Component Type]]=\"Attic and other\",Table5ca[[#This Row],[Component Type]]=\"Metal framed\"),3,\nIF(OR(Table5ca[[#This Row],[Component Type]]=\"Wood framed and other\",Table5ca[[#This Row],[Building Component]]=\"Floor Assembly\",Table5ca[[#This Row],[Building Component]]=\"Floor Above Garage\",Table5ca[[#This Row],[Building Component]]=\"Floor Above Garage Columns\"),4,\nIF(Table5ca[[#This Row],[Building Component]]=\"Wall Assembly\",5,\nIF(Table5ca[[#This Row],[Building Component]]=\"Ceiling Assembly\",6,\n\nIF(Table5ca[[#This Row],[Lookup Table Pt2]]=\"IECC2009_Fenestration_NotAW_Windows\",1,\nIF(AND(Table5ca[[#This Row],[Lookup Table Pt2]]=\"IECC2009_Fenestration_AW_Windows\",OR(Table5ca[[#This Row],[Additional Component Details]]=\"Non-Metal\",Table5ca[[#This Row],[Component Type]]=\"Non-Metal\")),1,\nIF(AND(Table5ca[[#This Row],[Lookup Table Pt2]]=\"IECC2009_Fenestration_AW_Windows\",OR(Table5ca[[#This Row],[Additional Component Details]]=\"Metal - Curtainwall/storefront\",Table5ca[[#This Row],[Component Type]]=\"Metal - Curtainwall/storefront\")),2,\nIF(AND(Table5ca[[#This Row],[Lookup Table Pt2]]=\"IECC2009_Fenestration_AW_Windows\",OR(Table5ca[[#This Row],[Additional Component Details]]=\"Metal - Entrance door\",Table5ca[[#This Row],[Component Type]]=\"Metal - Entrance door\")),3,\nIF(AND(Table5ca[[#This Row],[Lookup Table Pt2]]=\"IECC2009_Fenestration_AW_Windows\",OR(Table5ca[[#This Row],[Additional Component Details]]=\"Metal - Other\",Table5ca[[#This Row],[Component Type]]=\"Metal - Entrance door\")),4,\nIF(AND(Table5ca[[#This Row],[Lookup Table Pt2]]=\"IECC2009_Fenestration_AW_Windows\",Table5ca[[#This Row],[Component Type]]=\"Metal - Other\"),4,\n\nIF(AND(OR(Table5ca[[#This Row],[Lookup Table Pt1]]=\"ESRefDesign_FenestrationAW_V1\",Table5ca[[#This Row],[Lookup Table Pt1]]=\"ESRefDesign_FenestrationAW_V11\",Table5ca[[#This Row],[Lookup Table Pt1]]=\"ESRefDesign_FenestrationAW_V12\"),OR(Table5ca[[#This Row],[Component Type]]=\"Fixed\",Table5ca[[#This Row],[Additional Component Details]]=\"Fixed\")),1,\nIF(AND(OR(Table5ca[[#This Row],[Lookup Table Pt1]]=\"ESRefDesign_FenestrationAW_V1\",Table5ca[[#This Row],[Lookup Table Pt1]]=\"ESRefDesign_FenestrationAW_V11\",Table5ca[[#This Row],[Lookup Table Pt1]]=\"ESRefDesign_FenestrationAW_V12\"),OR(Table5ca[[#This Row],[Component Type]]=\"Operable\",Table5ca[[#This Row],[Additional Component Details]]=\"Operable\")),2,\n\nIF(AND(OR(Table5ca[[#This Row],[Lookup Table Pt1]]=\"ESRefDesign_Fenestration_V1\",Table5ca[[#This Row],[Lookup Table Pt1]]=\"ESRefDesign_Fenestration_V11\",Table5ca[[#This Row],[Lookup Table Pt1]]=\"ESRefDesign_Fenestration_V12\"),Table5ca[[#This Row],[Additional Component Details]]=\"Window\"),1,\nIF(AND(OR(Table5ca[[#This Row],[Lookup Table Pt1]]=\"ESRefDesign_Fenestration_V1\",Table5ca[[#This Row],[Lookup Table Pt1]]=\"ESRefDesign_Fenestration_V11\",Table5ca[[#This Row],[Lookup Table Pt1]]=\"ESRefDesign_Fenestration_V12\"),Table5ca[[#This Row],[Additional Component Details]]=\"Opaque Door\"),3,\nIF(AND(OR(Table5ca[[#This Row],[Lookup Table Pt1]]=\"ESRefDesign_Fenestration_V1\",Table5ca[[#This Row],[Lookup Table Pt1]]=\"ESRefDesign_Fenestration_V11\",Table5ca[[#This Row],[Lookup Table Pt1]]=\"ESRefDesign_Fenestration_V12\"),Table5ca[[#This Row],[Additional Component Details]]=\"≤½ lite Door\"),4,\nIF(AND(OR(Table5ca[[#This Row],[Lookup Table Pt1]]=\"ESRefDesign_Fenestration_V1\",Table5ca[[#This Row],[Lookup Table Pt1]]=\"ESRefDesign_Fenestration_V11\",Table5ca[[#This Row],[Lookup Table Pt1]]=\"ESRefDesign_Fenestration_V12\"),Table5ca[[#This Row],[Additional Component Details]]=\">½ lite Door\"),5,\n\n\n\"\"))))))))))))))))))))))))))))))","v":3},{"$f":"IF(AND($C$8=\"Version 1.2 OR+WA\",$C$6=\"Prescriptive\",Table5ca[[#This Row],[Building Component]]<>\"Fenestration\"),2,\n\nIF(AND($C$8=\"Version 1.2 OR+WA\",$C$6=\"Prescriptive\",$C$7=\"CZ 4 C\"),2,\nIF(AND($C$8=\"Version 1.2 OR+WA\",$C$6=\"Prescriptive\",$C$7=\"CZ 5\"),3,\nIF(AND($C$8=\"Version 1.2 OR+WA\",$C$6=\"Prescriptive\",$C$7=\"CZ 6\"),4,\n\nIF(AND($C$8=\"Version 1.2 OR+WA\",Table5ca[[#This Row],[Dwelling or Common?]]=\"Common\",OR($C$6=\"ERI\",$C$6=\"Title 24 - Dwelling Unit Models\"),$C$7=\"CZ 4 C\"),2,\nIF(AND($C$8=\"Version 1.2 OR+WA\",Table5ca[[#This Row],[Dwelling or Common?]]=\"Common\",OR($C$6=\"ERI\",$C$6=\"Title 24 - Dwelling Unit Models\"),$C$7=\"CZ 5\"),3,\nIF(AND($C$8=\"Version 1.2 OR+WA\",Table5ca[[#This Row],[Dwelling or Common?]]=\"Common\",OR($C$6=\"ERI\",$C$6=\"Title 24 - Dwelling Unit Models\"),$C$7=\"CZ 6\"),4,\n\nIF($C$7=\"CZ 1\",2,\nIF($C$7=\"CZ 2\",3,\nIF($C$7=\"CZ 3\",4,\nIF($C$7=\"CZ 4\",5,\nIF($C$7=\"CZ 4 C\",6,\nIF($C$7=\"CZ 5\",7,\nIF($C$7=\"CZ 6\",8,\nIF($C$7=\"CZ 7\",9,\nIF($C$7=\"CZ 8\",10,\"\"))))))))))))))))","v":5}]
[null,null,null,null,null,null,null,{"$f":"IF(Table5ca[[#This Row],[Specified/Installed U-Factor]]*Table5ca[[#This Row],[Area]]=0,\"\",Table5ca[[#This Row],[Specified/Installed U-Factor]]*Table5ca[[#This Row],[Area]])","v":""},{"$f":"IFERROR(IF(AND($C$8=\"Version 1.2 OR+WA\",OR($C$7=\"CZ 1\",$C$7=\"CZ 2\",$C$7=\"CZ 3\",$C$7=\"CZ 4\",$C$7=\"CZ 7\",$C$7=\"CZ 8\")),\"N/A - Update CZ\",\n\nIF(Table5ca[[#This Row],[Building Component]]=\"Balcony\",\"0.20\",\n\nIF(OR(Table5ca[[#This Row],[Lookup Table Pt1]]=\"ESRefDesign_Insulation_V1\",Table5ca[[#This Row],[Lookup Table Pt1]]=\"ESRefDesign_Insulation_V11\",Table5ca[[#This Row],[Lookup Table Pt1]]=\"ESRefDesign_Insulation_V12\",Table5ca[[#This Row],[Lookup Table Pt1]]=\"ESRefDesign_FenestrationAW_V1\",Table5ca[[#This Row],[Lookup Table Pt1]]=\"ESRefDesign_FenestrationAW_V11\",Table5ca[[#This Row],[Lookup Table Pt1]]=\"ESRefDesign_Fenestration_V1\",Table5ca[[#This Row],[Lookup Table Pt1]]=\"ESRefDesign_Fenestration_V11\",Table5ca[[#This Row],[Lookup Table Pt1]]=\"ESRefDesign_Fenestration_V12\",Table5ca[[#This Row],[Lookup Table Pt1]]=\"ESRefDesign_FenestrationAW_V12\",Table5ca[[#This Row],[Lookup Table Pt1]]=\"IECC2009_Fenestration_NotAW_Windows\",Table5ca[[#This Row],[Lookup Table Pt1]]=\"IECC2009_Fenestration_AW_Windows\"),INDEX(INDIRECT(Table5ca[[#This Row],[Lookup Table Pt1]]),Table5ca[[#This Row],[Row Index]],Table5ca[[#This Row],[Column Index]]),\n\nINDEX(INDIRECT(Table5ca[[#This Row],[Lookup Table Pt2]]),Table5ca[[#This Row],[Row Index]],Table5ca[[#This Row],[Column Index]])))),\"\")","v":""},{"$f":"IFERROR(\n\nIF(LEFT(Table5ca[[#This Row],[ENERGY STAR Requirement Values]],2)=\"U-\",Table5ca[[#This Row],[ENERGY STAR Requirement Values]],\n\nIF(OR(Table5ca[[#This Row],[Building Component]]=\"Slab Insulation\",Table5ca[[#This Row],[Building Component]]=\"Slab-On-Grade Floor\",Table5ca[[#This Row],[Building Component]]=\"Slab-On-Grade Floors\",Table5ca[[#This Row],[Building Component]]=\"On-Grade & Below Grade Slab\",Table5ca[[#This Row],[Building Component]]=\"Slab-on-Grade Floors\",Table5ca[[#This Row],[Building Component]]=\"Slab-on-Grade Floor\"),\"\",\n\nIF(OR(Table5ca[[#This Row],[ENERGY STAR Requirement Values]]=\"R-0\",Table5ca[[#This Row],[ENERGY STAR Requirement Values]]=0,Table5ca[[#This Row],[ENERGY STAR Requirement Values]]=\"C-1.140\"),\"U-0.36\",\nIF(OR(Table5ca[[#This Row],[ENERGY STAR Requirement Values]]=\"R-7.5\",Table5ca[[#This Row],[ENERGY STAR Requirement Values]]=7.5,Table5ca[[#This Row],[ENERGY STAR Requirement Values]]=\"C-0.119\"),\"U-0.072\",\nIF(OR(Table5ca[[#This Row],[ENERGY STAR Requirement Values]]=\"R-10\",Table5ca[[#This Row],[ENERGY STAR Requirement Values]]=10,Table5ca[[#This Row],[ENERGY STAR Requirement Values]]=\"C-0.092\"),\"U-0.059\",\nIF(OR(Table5ca[[#This Row],[ENERGY STAR Requirement Values]]=\"R-15\",Table5ca[[#This Row],[ENERGY STAR Requirement Values]]=15,Table5ca[[#This Row],[ENERGY STAR Requirement Values]]=\"R-15 continuous or R-21 cavity\"),\"U-0.05\",\nIF(OR(Table5ca[[#This Row],[ENERGY STAR Requirement Values]]=\"R-12.5\",Table5ca[[#This Row],[ENERGY STAR Requirement Values]]=12.5,Table5ca[[#This Row],[ENERGY STAR Requirement Values]]=\"C-0.075\"),\"U-0.054\",\nIF(OR(Table5ca[[#This Row],[ENERGY STAR Requirement Values]]=\"R-21\",Table5ca[[#This Row],[ENERGY STAR Requirement Values]]=21),\"U-0.056\",\nIF(OR(Table5ca[[#This Row],[ENERGY STAR Requirement Values]]=\"R-38\",Table5ca[[#This Row],[ENERGY STAR Requirement Values]]=38),\"U-0.028\",\nIF(OR(Table5ca[[#This Row],[ENERGY STAR Requirement Values]]=\"R-49\",Table5ca[[#This Row],[ENERGY STAR Requirement Values]]=49),\"U-0.026\",\n\nIF(LEFT(Table5ca[[#This Row],[ENERGY STAR Requirement Values]],2)=\"F-\",\"\",\n\nIF(LEFT(Table5ca[[#This Row],[ENERGY STAR Requirement Values]],1)=\"0\",CONCATENATE(\"U-\",Table5ca[[#This Row],[ENERGY STAR Requirement Values]]),\n\nTable5ca[[#This Row],[ENERGY STAR Requirement Values]])))))))))))),\"\")","v":""},{"$f":"IFERROR(IF(Table5ca[[#This Row],[Area]]=\"\",\"\",\nIF(Table5ca[[#This Row],[Required U-factor]]=\"\",\"\",\nIFERROR(Table5ca[[#This Row],[Area]]*Table5ca[[#This Row],[Required U-factor]],RIGHT(Table5ca[[#This Row],[Required U-factor]],LEN(Table5ca[[#This Row],[Required U-factor]])-2)*Table5ca[[#This Row],[Area]]))),\"\")","v":""},{"$f":"IF(Table5ca[[#This Row],[Building Component]]=\"\",\"\",\nIF(OR(Table5ca[[#This Row],[Building Component]]=\"Wall, Above Grade\",Table5ca[[#This Row],[Building Component]]=\"Wall, Below Grade\"),\"If there is continuous insulation interrupted by fasteners, ensure that the U-factor has been de-rated per Footnote 24. See below for further details.\",\nIF(Table5ca[[#This Row],[Building Component]]=\"Wall Assembly\",\"Apply a derate per Footnote 6 below.\",\nIF(Table5ca[[#This Row],[Building Component]]=\"Balcony\",\"Use the table below to de-rate balconies per Footnote 21.\",\nIF(OR(Table5ca[[#This Row],[Building Component]]=\"Floor Above Garage\",Table5ca[[#This Row],[Building Component]]=\"Floor Above Garage Columns\"),\"Use the table below to De-Rate floors above garages per Footnote 22.\",\n\"Not Applicable\")))))","v":""},null,null,null,null,null,null,{"$f":"IF(AND(Table5ca[[#This Row],[Dwelling or Common?]]=\"Dwelling\",$C$6=\"Prescriptive\",$C$8=\"Version 1.2 OR+WA\"),\"BuildingComponents_ESRefListV12_UABuildingComponents\",\nIF(AND($C$8=\"Version 1.2 OR+WA\",OR($C$6=\"Prescriptive\",$C$6=\"ERI\",$C$6=\"Title 24 - Dwelling Units Models\"),Table5ca[[#This Row],[Dwelling or Common?]]=\"Common\"),\"BuildingComponents_ESRefListV12_UABuildingComponents\",\n\nIF(AND($C$6=\"Prescriptive\",Table5ca[[#This Row],[Dwelling or Common?]]=\"Dwelling\"),\"PrescriptivePath_UABuildingComponents\",\n\n\"ERI_AHSRAE_UABuildingComponents\")))","v":"ERI_AHSRAE_UABuildingComponents"},{"$f":"IF(AND($C$6<>\"Prescriptive\",OR(Table5ca[[#This Row],[Building Component]]=\"Floor Assembly\",Table5ca[[#This Row],[Building Component]]=\"Floor Above Garage\",Table5ca[[#This Row],[Building Component]]=\"Floor Above Garage Columns\")),\"Floor\",\nIF(AND($C$6=\"Prescriptive\",Table5ca[[#This Row],[Dwelling or Common?]]=\"Common\",OR(Table5ca[[#This Row],[Building Component]]=\"Floor Assembly\",Table5ca[[#This Row],[Building Component]]=\"Floor Above Garage\",Table5ca[[#This Row],[Building Component]]=\"Floor Above Garage Columns\")),\"Floor\",\n\nIF(Table5ca[[#This Row],[Building Component]]=\"Roofs\",\"Roof\",\nIF(Table5ca[[#This Row],[Building Component]]=\"Walls, Above Grade\",\"WallAboveGrade\",\nIF(Table5ca[[#This Row],[Building Component]]=\"Walls, Below Grade\",\"WallBelowGrade\",\nIF(AND(Table5ca[[#This Row],[Building Component]]=\"Floor Assembly\",$C$6<>\"Prescriptive\"),\"Floor\",\nIF(Table5ca[[#This Row],[Building Component]]=\"Slab-on-Grade Floors\",\"SlabOnGradeFloor\",\nIF(Table5ca[[#This Row],[Building Component]]=\"Opaque Doors\",\"OpaqueDoor\",\nIF(Table5ca[[#This Row],[Building Component]]=\"Balcony\",\"Balcony\",\nIF(AND(Table5ca[[#This Row],[Building Component]]=\"Floor Above Garage\",$C$6=\"Prescriptive\"),\"FloorAssembly\",\nIF(Table5ca[[#This Row],[Building Component]]=\"Floor Above Garage\",\"FloorAboveGarage\",\nIF(Table5ca[[#This Row],[Building Component]]=\"Wall Assembly\",\"WallAssembly\",\nIF(Table5ca[[#This Row],[Building Component]]=\"Ceiling Assembly\",\"CeilingAssembly\",\nIF(OR(Table5ca[[#This Row],[Building Component]]=\"Floor Assembly\",Table5ca[[#This Row],[Building Component]]=\"Floor Above Garage\",Table5ca[[#This Row],[Building Component]]=\"Floor Above Garage Columns\"),\"FloorAssembly\",\n\nIF(AND(Table5ca[[#This Row],[Building Component]]=\"Fenestration\",Table5ca[[#This Row],[Dwelling or Common?]]=\"Dwelling\"),\"ClassAW?\",\n\nIF(AND(Table5ca[[#This Row],[Building Component]]=\"Fenestration\",Table5ca[[#This Row],[Dwelling or Common?]]=\"Common\",OR($C$6=\"ERI\",$C$6=\"Title 24 - Dwelling Unit Models\",$C$6=\"Prescriptive\")),\"ESRefClassAW\",\nIF(AND(Table5ca[[#This Row],[Building Component]]=\"Fenestration\",Table5ca[[#This Row],[Dwelling or Common?]]=\"Common\",OR($C$6=\"ASHRAE\",$C$6=\"Title 24 - Whole Building Models\")),\"Fenestration\",\n\n\"NotApplicable\")))))))))))))))))","v":"NotApplicable"},{"$f":"IF(AND(OR($C$6=\"ERI\",$C$6=\"Title 24 - Dwelling Unit Models\"),Table5ca[[#This Row],[Dwelling or Common?]]=\"Dwelling\",Table5ca[[#This Row],[Component Type]]=\"Class AW\"),\"Fenestration\",\nIF(AND(OR($C$6=\"ERI\",$C$6=\"Title 24 - Dwelling Unit Models\"),Table5ca[[#This Row],[Dwelling or Common?]]=\"Dwelling\",Table5ca[[#This Row],[Component Type]]=\"Not Class AW\"),\"NotApplicable\",\n\nIF(AND(OR($C$6=\"ASHRAE\",$C$6=\"Title 24 - Whole Building Models\"),Table5ca[[#This Row],[Dwelling or Common?]]=\"Dwelling\",Table5ca[[#This Row],[Component Type]]=\"Class AW\"),\"Fenestration\",\nIF(AND(OR($C$6=\"ASHRAE\",$C$6=\"Title 24 - Whole Building Models\"),Table5ca[[#This Row],[Dwelling or Common?]]=\"Dwelling\",Table5ca[[#This Row],[Component Type]]=\"Not Class AW\"),\"NotApplicable\",\n\nIF(AND($C$6=\"Prescriptive\",Table5ca[[#This Row],[Dwelling or Common?]]=\"Dwelling\",Table5ca[[#This Row],[Component Type]]=\"Class AW\"),\"ESRefClassAW\",\nIF(AND($C$6=\"Prescriptive\",Table5ca[[#This Row],[Dwelling or Common?]]=\"Dwelling\",Table5ca[[#This Row],[Component Type]]=\"Not Class AW\"),\"ESRefNotClassAW\",\n\nIF(Table5ca[[#This Row],[Component Type]]=\"Class AW\",\"Fenestration\",\n\n\"NotApplicable\")))))))","v":"NotApplicable"},{"$f":"IF(AND(Table5ca[[#This Row],[Dwelling or Common?]]=\"Dwelling\",$C$8=\"Version 1\",$C$6=\"Prescriptive\",Table5ca[[#This Row],[Building Component]]<>\"Fenestration\"),\"ESRefDesign_Insulation_V1\",\nIF(AND(Table5ca[[#This Row],[Dwelling or Common?]]=\"Dwelling\",$C$8=\"Version 1.1\",$C$6=\"Prescriptive\",Table5ca[[#This Row],[Building Component]]<>\"Fenestration\"),\"ESRefDesign_Insulation_V11\",\nIF(AND($C$8=\"Version 1.2 OR+WA\",$C$6=\"Prescriptive\",Table5ca[[#This Row],[Building Component]]<>\"Fenestration\"),\"ESRefDesign_Insulation_V12\",\n\nIF(AND(Table5ca[[#This Row],[Dwelling or Common?]]=\"Common\",$C$8=\"Version 1.2 OR+WA\",OR($C$6=\"ERI\",$C$6=\"Title 24 - Dwelling Unit Models\"),Table5ca[[#This Row],[Building Component]]<>\"Fenestration\"),\"ESRefDesign_Insulation_V12\",\nIF(AND(Table5ca[[#This Row],[Dwelling or Common?]]=\"Common\",$C$8=\"Version 1.2 OR+WA\",OR($C$6=\"ASHRAE\",$C$6=\"Title 24 - Whole Building Models\"),Table5ca[[#This Row],[Building Component]]<>\"Fenestration\"),\"IECC2009_OU\",\nIF(AND(Table5ca[[#This Row],[Dwelling or Common?]]=\"Dwelling\",$C$8=\"Version 1.2 OR+WA\",OR($C$6=\"ERI\",$C$6=\"Title 24 - Dwelling Unit Models\",$C$6=\"ASHRAE\",$C$6=\"Title 24 - Whole Building Models\"),Table5ca[[#This Row],[Building Component]]<>\"Fenestration\"),\"IECC2009_RU\",\n\nIF(AND(Table5ca[[#This Row],[Dwelling or Common?]]=\"Common\",$C$8=\"Version 1\",Table5ca[[#This Row],[Building Component]]<>\"Fenestration\"),\"IECC2009_OU\",\nIF(AND(Table5ca[[#This Row],[Dwelling or Common?]]=\"Common\",$C$8=\"Version 1.1\",OR($C$6=\"ASHRAE\",$C$6=\"Title 24 - Whole Building Models\"),Table5ca[[#This Row],[Building Component]]<>\"Fenestration\"),\"IECC2009_OU\",\nIF(AND(Table5ca[[#This Row],[Dwelling or Common?]]=\"Common\",$C$8=\"Version 1.1\",OR($C$6=\"Prescriptive\",$C$6=\"ERI\",$C$6=\"Title 24 - Dwelling Unit Models\"),Table5ca[[#This Row],[Building Component]]<>\"Fenestration\"),\"IECC2012_OU\",\n\nIF(AND(Table5ca[[#This Row],[Dwelling or Common?]]=\"Dwelling\",OR($C$8=\"Version 1\",$C$8=\"Version 1.1\",),OR($C$6=\"ERI\",$C$6=\"ASHRAE\",$C$6=\"Title 24 - Whole Building Models\",$C$6=\"Title 24 - Dwelling Unit Models\"),Table5ca[[#This Row],[Building Component]]<>\"Fenestration\"),\"IECC2009_RU\",\n\n\nIF(AND(Table5ca[[#This Row],[Building Component]]=\"Fenestration\",Table5ca[[#This Row],[Dwelling or Common?]]=\"Common\",OR($C$6=\"Prescriptive\",$C$6=\"ERI\",$C$6=\"Title 24 - Dwelling Unit Models\"),$C$8=\"Version 1\"),\"ESRefDesign_FenestrationAW_V1\",\nIF(AND(Table5ca[[#This Row],[Building Component]]=\"Fenestration\",Table5ca[[#This Row],[Dwelling or Common?]]=\"Common\",OR($C$6=\"Prescriptive\",$C$6=\"ERI\",$C$6=\"Title 24 - Dwelling Unit Models\"),$C$8=\"Version 1.1\"),\"ESRefDesign_FenestrationAW_V11\",\nIF(AND(Table5ca[[#This Row],[Building Component]]=\"Fenestration\",Table5ca[[#This Row],[Dwelling or Common?]]=\"Common\",OR($C$6=\"Prescriptive\",$C$6=\"ERI\",$C$6=\"Title 24 - Dwelling Unit Models\"),$C$8=\"Version 1.2 OR+WA\"),\"ESRefDesign_FenestrationAW_V12\",\n\nIF(AND(Table5ca[[#This Row],[Building Component]]=\"Fenestration\",Table5ca[[#This Row],[Dwelling or Common?]]=\"Common\",OR($C$6=\"ASHRAE\",$C$6=\"Title 24 - Whole Building Models\")),\"IECC2009_Fenestration_AW_Windows\",\nIF(AND(Table5ca[[#This Row],[Building Component]]=\"Fenestration\",Table5ca[[#This Row],[Dwelling or Common?]]=\"Dwelling\",Table5ca[[#This Row],[Component Type]]=\"Class AW\",OR($C$6=\"ASHRAE\",$C$6=\"Title 24 - Whole Building Models\",$C$6=\"ERI\",$C$6=\"Title 24 - Dwelling Unit Models\")),\"IECC2009_Fenestration_AW_Windows\",\n\nIF(AND(Table5ca[[#This Row],[Building Component]]=\"Fenestration\",Table5ca[[#This Row],[Dwelling or Common?]]=\"Dwelling\",$C$6=\"Prescriptive\",$C$8=\"Version 1\",Table5ca[[#This Row],[Component Type]]=\"Class AW\"),\"ESRefDesign_FenestrationAW_V1\",\nIF(AND(Table5ca[[#This Row],[Building Component]]=\"Fenestration\",Table5ca[[#This Row],[Dwelling or Common?]]=\"Dwelling\",$C$6=\"Prescriptive\",$C$8=\"Version 1.1\",Table5ca[[#This Row],[Component Type]]=\"Class AW\"),\"ESRefDesign_FenestrationAW_V11\",\nIF(AND(Table5ca[[#This Row],[Building Component]]=\"Fenestration\",Table5ca[[#This Row],[Dwelling or Common?]]=\"Dwelling\",$C$6=\"Prescriptive\",$C$8=\"Version 1.2 OR+WA\",Table5ca[[#This Row],[Component Type]]=\"Class AW\"),\"ESRefDesign_FenestrationAW_V12\",\n\nIF(AND(Table5ca[[#This Row],[Building Component]]=\"Fenestration\",Table5ca[[#This Row],[Dwelling or Common?]]=\"Dwelling\",$C$6=\"Prescriptive\",$C$8=\"Version 1\",Table5ca[[#This Row],[Component Type]]=\"Not Class AW\"),\"ESRefDesign_Fenestration_V1\",\nIF(AND(Table5ca[[#This Row],[Building Component]]=\"Fenestration\",Table5ca[[#This Row],[Dwelling or Common?]]=\"Dwelling\",$C$6=\"Prescriptive\",$C$8=\"Version 1.1\",Table5ca[[#This Row],[Component Type]]=\"Not Class AW\"),\"ESRefDesign_Fenestration_V11\",\nIF(AND(Table5ca[[#This Row],[Building Component]]=\"Fenestration\",Table5ca[[#This Row],[Dwelling or Common?]]=\"Dwelling\",$C$6=\"Prescriptive\",$C$8=\"Version 1.2 OR+WA\",Table5ca[[#This Row],[Component Type]]=\"Not Class AW\"),\"ESRefDesign_Fenestration_V12\",\n\nIF(AND(Table5ca[[#This Row],[Building Component]]=\"Fenestration\",Table5ca[[#This Row],[Dwelling or Common?]]=\"Dwelling\"),\"IECC2009_Fenestration_NotAW_Windows\",\n\n\"\"))))))))))))))))))))))","v":""},{"$f":"IF(OR(Table5ca[[#This Row],[Lookup Table Pt1]]=\"ESRefDesign_Insulation_V1\",Table5ca[[#This Row],[Lookup Table Pt1]]=\"ESRefDesign_Insulation_V11\",Table5ca[[#This Row],[Lookup Table Pt1]]=\"IECC2009_Fenestration_NotAW_Windows\",Table5ca[[#This Row],[Lookup Table Pt1]]=\"IECC2009_Fenestration_AW_Windows\",Table5ca[[#This Row],[Lookup Table Pt1]]=\"ESRefDesign_FenestrationAW_V1\",Table5ca[[#This Row],[Lookup Table Pt1]]=\"ESRefDesign_FenestrationAW_V11\",Table5ca[[#This Row],[Lookup Table Pt1]]=\"ESRefDesign_Fenestration_V1\",Table5ca[[#This Row],[Lookup Table Pt1]]=\"ESRefDesign_Fenestration_V11\"),Table5ca[[#This Row],[Lookup Table Pt1]],\n\nIF(Table5ca[[#This Row],[Component_Lookup]]=\"FloorAboveGarage\",Table5ca[[#This Row],[Lookup Table Pt1]]&\"_Floor\",\n\nTable5ca[[#This Row],[Lookup Table Pt1]]&\"_\"&Table5ca[[#This Row],[Component_Lookup]]))","v":"_NotApplicable"},{"$f":"IF(AND($C$8=\"Version 1.2 OR+WA\",$C$6=\"Prescriptive\",Table5ca[[#This Row],[Building Component]]=\"Above-Grade Wall\"),1,\nIF(AND($C$8=\"Version 1.2 OR+WA\",$C$6=\"Prescriptive\",Table5ca[[#This Row],[Building Component]]=\"Ceiling\"),2,\nIF(AND($C$8=\"Version 1.2 OR+WA\",$C$6=\"Prescriptive\",Table5ca[[#This Row],[Building Component]]=\"Basement Wall\"),4,\nIF(AND($C$8=\"Version 1.2 OR+WA\",$C$6=\"Prescriptive\",Table5ca[[#This Row],[Building Component]]=\"On-Grade & Below Grade Slab\"),5,\nIF(AND($C$8=\"Version 1.2 OR+WA\",$C$6=\"Prescriptive\",OR(Table5ca[[#This Row],[Building Component]]=\"Floor Assembly\",Table5ca[[#This Row],[Building Component]]=\"Floor Above Garage\",Table5ca[[#This Row],[Building Component]]=\"Floor Above Garage Columns\")),3,\n\nIF(AND($C$8=\"Version 1.2 OR+WA\",OR($C$6=\"Prescriptive\",$C$6=\"ERI\",$C$6=\"Title 24 - Dwelling Units Models\"),Table5ca[[#This Row],[Dwelling or Common?]]=\"Common\",Table5ca[[#This Row],[Building Component]]=\"Above-Grade Wall\"),1,\nIF(AND($C$8=\"Version 1.2 OR+WA\",OR($C$6=\"Prescriptive\",$C$6=\"ERI\",$C$6=\"Title 24 - Dwelling Units Models\"),Table5ca[[#This Row],[Dwelling or Common?]]=\"Common\",Table5ca[[#This Row],[Building Component]]=\"Ceiling\"),2,\nIF(AND($C$8=\"Version 1.2 OR+WA\",OR($C$6=\"Prescriptive\",$C$6=\"ERI\",$C$6=\"Title 24 - Dwelling Units Models\"),Table5ca[[#This Row],[Dwelling or Common?]]=\"Common\",Table5ca[[#This Row],[Building Component]]=\"Basement Wall\"),4,\nIF(AND($C$8=\"Version 1.2 OR+WA\",OR($C$6=\"Prescriptive\",$C$6=\"ERI\",$C$6=\"Title 24 - Dwelling Units Models\"),Table5ca[[#This Row],[Dwelling or Common?]]=\"Common\",Table5ca[[#This Row],[Building Component]]=\"On-Grade & Below Grade Slab\"),5,\nIF(AND($C$8=\"Version 1.2 OR+WA\",OR($C$6=\"Prescriptive\",$C$6=\"ERI\",$C$6=\"Title 24 - Dwelling Units Models\"),Table5ca[[#This Row],[Dwelling or Common?]]=\"Common\",OR(Table5ca[[#This Row],[Building Component]]=\"Floor Assembly\",Table5ca[[#This Row],[Building Component]]=\"Floor Above Garage\",Table5ca[[#This Row],[Building Component]]=\"Floor Above Garage Columns\")),3,\n\nIF(AND($C$6=\"Prescriptive\",OR($C$8=\"Version 1\",$C$8=\"Version 1.1\"),Table5ca[[#This Row],[Building Component]]=\"Basement Wall Continuous Insulation\"),3,\nIF(AND($C$6=\"Prescriptive\",OR($C$8=\"Version 1\",$C$8=\"Version 1.1\"),Table5ca[[#This Row],[Building Component]]=\"Slab Insulation\"),1,\n\nIF(OR(Table5ca[[#This Row],[Component Type]]=\"Insulation entirely above deck\",Table5ca[[#This Row],[Component Type]]=\"Mass\",Table5ca[[#This Row],[Component Type]]=\"Below grade wall\",Table5ca[[#This Row],[Component Type]]=\"Unheated slabs\",Table5ca[[#This Row],[Component Type]]=\"Floor Above Garage\"),1,\nIF(OR(Table5ca[[#This Row],[Component Type]]=\"Metal buildings\",Table5ca[[#This Row],[Component Type]]=\"Metal building\",Table5ca[[#This Row],[Component Type]]=\"Joist/framing\",Table5ca[[#This Row],[Component Type]]=\"Heated slabs\",Table5ca[[#This Row],[Component Type]]=\"Floor Above Garage\"),2,\nIF(OR(Table5ca[[#This Row],[Component Type]]=\"Attic and other\",Table5ca[[#This Row],[Component Type]]=\"Metal framed\"),3,\nIF(OR(Table5ca[[#This Row],[Component Type]]=\"Wood framed and other\",Table5ca[[#This Row],[Building Component]]=\"Floor Assembly\",Table5ca[[#This Row],[Building Component]]=\"Floor Above Garage\",Table5ca[[#This Row],[Building Component]]=\"Floor Above Garage Columns\"),4,\nIF(Table5ca[[#This Row],[Building Component]]=\"Wall Assembly\",5,\nIF(Table5ca[[#This Row],[Building Component]]=\"Ceiling Assembly\",6,\n\nIF(Table5ca[[#This Row],[Lookup Table Pt2]]=\"IECC2009_Fenestration_NotAW_Windows\",1,\nIF(AND(Table5ca[[#This Row],[Lookup Table Pt2]]=\"IECC2009_Fenestration_AW_Windows\",OR(Table5ca[[#This Row],[Additional Component Details]]=\"Non-Metal\",Table5ca[[#This Row],[Component Type]]=\"Non-Metal\")),1,\nIF(AND(Table5ca[[#This Row],[Lookup Table Pt2]]=\"IECC2009_Fenestration_AW_Windows\",OR(Table5ca[[#This Row],[Additional Component Details]]=\"Metal - Curtainwall/storefront\",Table5ca[[#This Row],[Component Type]]=\"Metal - Curtainwall/storefront\")),2,\nIF(AND(Table5ca[[#This Row],[Lookup Table Pt2]]=\"IECC2009_Fenestration_AW_Windows\",OR(Table5ca[[#This Row],[Additional Component Details]]=\"Metal - Entrance door\",Table5ca[[#This Row],[Component Type]]=\"Metal - Entrance door\")),3,\nIF(AND(Table5ca[[#This Row],[Lookup Table Pt2]]=\"IECC2009_Fenestration_AW_Windows\",OR(Table5ca[[#This Row],[Additional Component Details]]=\"Metal - Other\",Table5ca[[#This Row],[Component Type]]=\"Metal - Entrance door\")),4,\nIF(AND(Table5ca[[#This Row],[Lookup Table Pt2]]=\"IECC2009_Fenestration_AW_Windows\",Table5ca[[#This Row],[Component Type]]=\"Metal - Other\"),4,\n\nIF(AND(OR(Table5ca[[#This Row],[Lookup Table Pt1]]=\"ESRefDesign_FenestrationAW_V1\",Table5ca[[#This Row],[Lookup Table Pt1]]=\"ESRefDesign_FenestrationAW_V11\",Table5ca[[#This Row],[Lookup Table Pt1]]=\"ESRefDesign_FenestrationAW_V12\"),OR(Table5ca[[#This Row],[Component Type]]=\"Fixed\",Table5ca[[#This Row],[Additional Component Details]]=\"Fixed\")),1,\nIF(AND(OR(Table5ca[[#This Row],[Lookup Table Pt1]]=\"ESRefDesign_FenestrationAW_V1\",Table5ca[[#This Row],[Lookup Table Pt1]]=\"ESRefDesign_FenestrationAW_V11\",Table5ca[[#This Row],[Lookup Table Pt1]]=\"ESRefDesign_FenestrationAW_V12\"),OR(Table5ca[[#This Row],[Component Type]]=\"Operable\",Table5ca[[#This Row],[Additional Component Details]]=\"Operable\")),2,\n\nIF(AND(OR(Table5ca[[#This Row],[Lookup Table Pt1]]=\"ESRefDesign_Fenestration_V1\",Table5ca[[#This Row],[Lookup Table Pt1]]=\"ESRefDesign_Fenestration_V11\",Table5ca[[#This Row],[Lookup Table Pt1]]=\"ESRefDesign_Fenestration_V12\"),Table5ca[[#This Row],[Additional Component Details]]=\"Window\"),1,\nIF(AND(OR(Table5ca[[#This Row],[Lookup Table Pt1]]=\"ESRefDesign_Fenestration_V1\",Table5ca[[#This Row],[Lookup Table Pt1]]=\"ESRefDesign_Fenestration_V11\",Table5ca[[#This Row],[Lookup Table Pt1]]=\"ESRefDesign_Fenestration_V12\"),Table5ca[[#This Row],[Additional Component Details]]=\"Opaque Door\"),3,\nIF(AND(OR(Table5ca[[#This Row],[Lookup Table Pt1]]=\"ESRefDesign_Fenestration_V1\",Table5ca[[#This Row],[Lookup Table Pt1]]=\"ESRefDesign_Fenestration_V11\",Table5ca[[#This Row],[Lookup Table Pt1]]=\"ESRefDesign_Fenestration_V12\"),Table5ca[[#This Row],[Additional Component Details]]=\"≤½ lite Door\"),4,\nIF(AND(OR(Table5ca[[#This Row],[Lookup Table Pt1]]=\"ESRefDesign_Fenestration_V1\",Table5ca[[#This Row],[Lookup Table Pt1]]=\"ESRefDesign_Fenestration_V11\",Table5ca[[#This Row],[Lookup Table Pt1]]=\"ESRefDesign_Fenestration_V12\"),Table5ca[[#This Row],[Additional Component Details]]=\">½ lite Door\"),5,\n\n\n\"\"))))))))))))))))))))))))))))))","v":""},{"$f":"IF(AND($C$8=\"Version 1.2 OR+WA\",$C$6=\"Prescriptive\",Table5ca[[#This Row],[Building Component]]<>\"Fenestration\"),2,\n\nIF(AND($C$8=\"Version 1.2 OR+WA\",$C$6=\"Prescriptive\",$C$7=\"CZ 4 C\"),2,\nIF(AND($C$8=\"Version 1.2 OR+WA\",$C$6=\"Prescriptive\",$C$7=\"CZ 5\"),3,\nIF(AND($C$8=\"Version 1.2 OR+WA\",$C$6=\"Prescriptive\",$C$7=\"CZ 6\"),4,\n\nIF(AND($C$8=\"Version 1.2 OR+WA\",Table5ca[[#This Row],[Dwelling or Common?]]=\"Common\",OR($C$6=\"ERI\",$C$6=\"Title 24 - Dwelling Unit Models\"),$C$7=\"CZ 4 C\"),2,\nIF(AND($C$8=\"Version 1.2 OR+WA\",Table5ca[[#This Row],[Dwelling or Common?]]=\"Common\",OR($C$6=\"ERI\",$C$6=\"Title 24 - Dwelling Unit Models\"),$C$7=\"CZ 5\"),3,\nIF(AND($C$8=\"Version 1.2 OR+WA\",Table5ca[[#This Row],[Dwelling or Common?]]=\"Common\",OR($C$6=\"ERI\",$C$6=\"Title 24 - Dwelling Unit Models\"),$C$7=\"CZ 6\"),4,\n\nIF($C$7=\"CZ 1\",2,\nIF($C$7=\"CZ 2\",3,\nIF($C$7=\"CZ 3\",4,\nIF($C$7=\"CZ 4\",5,\nIF($C$7=\"CZ 4 C\",6,\nIF($C$7=\"CZ 5\",7,\nIF($C$7=\"CZ 6\",8,\nIF($C$7=\"CZ 7\",9,\nIF($C$7=\"CZ 8\",10,\"\"))))))))))))))))","v":5}]
[null,null,null,null,null,null,null,{"$f":"IF(Table5ca[[#This Row],[Specified/Installed U-Factor]]*Table5ca[[#This Row],[Area]]=0,\"\",Table5ca[[#This Row],[Specified/Installed U-Factor]]*Table5ca[[#This Row],[Area]])","v":""},{"$f":"IFERROR(IF(AND($C$8=\"Version 1.2 OR+WA\",OR($C$7=\"CZ 1\",$C$7=\"CZ 2\",$C$7=\"CZ 3\",$C$7=\"CZ 4\",$C$7=\"CZ 7\",$C$7=\"CZ 8\")),\"N/A - Update CZ\",\n\nIF(Table5ca[[#This Row],[Building Component]]=\"Balcony\",\"0.20\",\n\nIF(OR(Table5ca[[#This Row],[Lookup Table Pt1]]=\"ESRefDesign_Insulation_V1\",Table5ca[[#This Row],[Lookup Table Pt1]]=\"ESRefDesign_Insulation_V11\",Table5ca[[#This Row],[Lookup Table Pt1]]=\"ESRefDesign_Insulation_V12\",Table5ca[[#This Row],[Lookup Table Pt1]]=\"ESRefDesign_FenestrationAW_V1\",Table5ca[[#This Row],[Lookup Table Pt1]]=\"ESRefDesign_FenestrationAW_V11\",Table5ca[[#This Row],[Lookup Table Pt1]]=\"ESRefDesign_Fenestration_V1\",Table5ca[[#This Row],[Lookup Table Pt1]]=\"ESRefDesign_Fenestration_V11\",Table5ca[[#This Row],[Lookup Table Pt1]]=\"ESRefDesign_Fenestration_V12\",Table5ca[[#This Row],[Lookup Table Pt1]]=\"ESRefDesign_FenestrationAW_V12\",Table5ca[[#This Row],[Lookup Table Pt1]]=\"IECC2009_Fenestration_NotAW_Windows\",Table5ca[[#This Row],[Lookup Table Pt1]]=\"IECC2009_Fenestration_AW_Windows\"),INDEX(INDIRECT(Table5ca[[#This Row],[Lookup Table Pt1]]),Table5ca[[#This Row],[Row Index]],Table5ca[[#This Row],[Column Index]]),\n\nINDEX(INDIRECT(Table5ca[[#This Row],[Lookup Table Pt2]]),Table5ca[[#This Row],[Row Index]],Table5ca[[#This Row],[Column Index]])))),\"\")","v":""},{"$f":"IFERROR(\n\nIF(LEFT(Table5ca[[#This Row],[ENERGY STAR Requirement Values]],2)=\"U-\",Table5ca[[#This Row],[ENERGY STAR Requirement Values]],\n\nIF(OR(Table5ca[[#This Row],[Building Component]]=\"Slab Insulation\",Table5ca[[#This Row],[Building Component]]=\"Slab-On-Grade Floor\",Table5ca[[#This Row],[Building Component]]=\"Slab-On-Grade Floors\",Table5ca[[#This Row],[Building Component]]=\"On-Grade & Below Grade Slab\",Table5ca[[#This Row],[Building Component]]=\"Slab-on-Grade Floors\",Table5ca[[#This Row],[Building Component]]=\"Slab-on-Grade Floor\"),\"\",\n\nIF(OR(Table5ca[[#This Row],[ENERGY STAR Requirement Values]]=\"R-0\",Table5ca[[#This Row],[ENERGY STAR Requirement Values]]=0,Table5ca[[#This Row],[ENERGY STAR Requirement Values]]=\"C-1.140\"),\"U-0.36\",\nIF(OR(Table5ca[[#This Row],[ENERGY STAR Requirement Values]]=\"R-7.5\",Table5ca[[#This Row],[ENERGY STAR Requirement Values]]=7.5,Table5ca[[#This Row],[ENERGY STAR Requirement Values]]=\"C-0.119\"),\"U-0.072\",\nIF(OR(Table5ca[[#This Row],[ENERGY STAR Requirement Values]]=\"R-10\",Table5ca[[#This Row],[ENERGY STAR Requirement Values]]=10,Table5ca[[#This Row],[ENERGY STAR Requirement Values]]=\"C-0.092\"),\"U-0.059\",\nIF(OR(Table5ca[[#This Row],[ENERGY STAR Requirement Values]]=\"R-15\",Table5ca[[#This Row],[ENERGY STAR Requirement Values]]=15,Table5ca[[#This Row],[ENERGY STAR Requirement Values]]=\"R-15 continuous or R-21 cavity\"),\"U-0.05\",\nIF(OR(Table5ca[[#This Row],[ENERGY STAR Requirement Values]]=\"R-12.5\",Table5ca[[#This Row],[ENERGY STAR Requirement Values]]=12.5,Table5ca[[#This Row],[ENERGY STAR Requirement Values]]=\"C-0.075\"),\"U-0.054\",\nIF(OR(Table5ca[[#This Row],[ENERGY STAR Requirement Values]]=\"R-21\",Table5ca[[#This Row],[ENERGY STAR Requirement Values]]=21),\"U-0.056\",\nIF(OR(Table5ca[[#This Row],[ENERGY STAR Requirement Values]]=\"R-38\",Table5ca[[#This Row],[ENERGY STAR Requirement Values]]=38),\"U-0.028\",\nIF(OR(Table5ca[[#This Row],[ENERGY STAR Requirement Values]]=\"R-49\",Table5ca[[#This Row],[ENERGY STAR Requirement Values]]=49),\"U-0.026\",\n\nIF(LEFT(Table5ca[[#This Row],[ENERGY STAR Requirement Values]],2)=\"F-\",\"\",\n\nIF(LEFT(Table5ca[[#This Row],[ENERGY STAR Requirement Values]],1)=\"0\",CONCATENATE(\"U-\",Table5ca[[#This Row],[ENERGY STAR Requirement Values]]),\n\nTable5ca[[#This Row],[ENERGY STAR Requirement Values]])))))))))))),\"\")","v":""},{"$f":"IFERROR(IF(Table5ca[[#This Row],[Area]]=\"\",\"\",\nIF(Table5ca[[#This Row],[Required U-factor]]=\"\",\"\",\nIFERROR(Table5ca[[#This Row],[Area]]*Table5ca[[#This Row],[Required U-factor]],RIGHT(Table5ca[[#This Row],[Required U-factor]],LEN(Table5ca[[#This Row],[Required U-factor]])-2)*Table5ca[[#This Row],[Area]]))),\"\")","v":""},{"$f":"IF(Table5ca[[#This Row],[Building Component]]=\"\",\"\",\nIF(OR(Table5ca[[#This Row],[Building Component]]=\"Wall, Above Grade\",Table5ca[[#This Row],[Building Component]]=\"Wall, Below Grade\"),\"If there is continuous insulation interrupted by fasteners, ensure that the U-factor has been de-rated per Footnote 24. See below for further details.\",\nIF(Table5ca[[#This Row],[Building Component]]=\"Wall Assembly\",\"Apply a derate per Footnote 6 below.\",\nIF(Table5ca[[#This Row],[Building Component]]=\"Balcony\",\"Use the table below to de-rate balconies per Footnote 21.\",\nIF(OR(Table5ca[[#This Row],[Building Component]]=\"Floor Above Garage\",Table5ca[[#This Row],[Building Component]]=\"Floor Above Garage Columns\"),\"Use the table below to De-Rate floors above garages per Footnote 22.\",\n\"Not Applicable\")))))","v":""},null,null,null,null,null,null,{"$f":"IF(AND(Table5ca[[#This Row],[Dwelling or Common?]]=\"Dwelling\",$C$6=\"Prescriptive\",$C$8=\"Version 1.2 OR+WA\"),\"BuildingComponents_ESRefListV12_UABuildingComponents\",\nIF(AND($C$8=\"Version 1.2 OR+WA\",OR($C$6=\"Prescriptive\",$C$6=\"ERI\",$C$6=\"Title 24 - Dwelling Units Models\"),Table5ca[[#This Row],[Dwelling or Common?]]=\"Common\"),\"BuildingComponents_ESRefListV12_UABuildingComponents\",\n\nIF(AND($C$6=\"Prescriptive\",Table5ca[[#This Row],[Dwelling or Common?]]=\"Dwelling\"),\"PrescriptivePath_UABuildingComponents\",\n\n\"ERI_AHSRAE_UABuildingComponents\")))","v":"ERI_AHSRAE_UABuildingComponents"},{"$f":"IF(AND($C$6<>\"Prescriptive\",OR(Table5ca[[#This Row],[Building Component]]=\"Floor Assembly\",Table5ca[[#This Row],[Building Component]]=\"Floor Above Garage\",Table5ca[[#This Row],[Building Component]]=\"Floor Above Garage Columns\")),\"Floor\",\nIF(AND($C$6=\"Prescriptive\",Table5ca[[#This Row],[Dwelling or Common?]]=\"Common\",OR(Table5ca[[#This Row],[Building Component]]=\"Floor Assembly\",Table5ca[[#This Row],[Building Component]]=\"Floor Above Garage\",Table5ca[[#This Row],[Building Component]]=\"Floor Above Garage Columns\")),\"Floor\",\n\nIF(Table5ca[[#This Row],[Building Component]]=\"Roofs\",\"Roof\",\nIF(Table5ca[[#This Row],[Building Component]]=\"Walls, Above Grade\",\"WallAboveGrade\",\nIF(Table5ca[[#This Row],[Building Component]]=\"Walls, Below Grade\",\"WallBelowGrade\",\nIF(AND(Table5ca[[#This Row],[Building Component]]=\"Floor Assembly\",$C$6<>\"Prescriptive\"),\"Floor\",\nIF(Table5ca[[#This Row],[Building Component]]=\"Slab-on-Grade Floors\",\"SlabOnGradeFloor\",\nIF(Table5ca[[#This Row],[Building Component]]=\"Opaque Doors\",\"OpaqueDoor\",\nIF(Table5ca[[#This Row],[Building Component]]=\"Balcony\",\"Balcony\",\nIF(AND(Table5ca[[#This Row],[Building Component]]=\"Floor Above Garage\",$C$6=\"Prescriptive\"),\"FloorAssembly\",\nIF(Table5ca[[#This Row],[Building Component]]=\"Floor Above Garage\",\"FloorAboveGarage\",\nIF(Table5ca[[#This Row],[Building Component]]=\"Wall Assembly\",\"WallAssembly\",\nIF(Table5ca[[#This Row],[Building Component]]=\"Ceiling Assembly\",\"CeilingAssembly\",\nIF(OR(Table5ca[[#This Row],[Building Component]]=\"Floor Assembly\",Table5ca[[#This Row],[Building Component]]=\"Floor Above Garage\",Table5ca[[#This Row],[Building Component]]=\"Floor Above Garage Columns\"),\"FloorAssembly\",\n\nIF(AND(Table5ca[[#This Row],[Building Component]]=\"Fenestration\",Table5ca[[#This Row],[Dwelling or Common?]]=\"Dwelling\"),\"ClassAW?\",\n\nIF(AND(Table5ca[[#This Row],[Building Component]]=\"Fenestration\",Table5ca[[#This Row],[Dwelling or Common?]]=\"Common\",OR($C$6=\"ERI\",$C$6=\"Title 24 - Dwelling Unit Models\",$C$6=\"Prescriptive\")),\"ESRefClassAW\",\nIF(AND(Table5ca[[#This Row],[Building Component]]=\"Fenestration\",Table5ca[[#This Row],[Dwelling or Common?]]=\"Common\",OR($C$6=\"ASHRAE\",$C$6=\"Title 24 - Whole Building Models\")),\"Fenestration\",\n\n\"NotApplicable\")))))))))))))))))","v":"NotApplicable"},{"$f":"IF(AND(OR($C$6=\"ERI\",$C$6=\"Title 24 - Dwelling Unit Models\"),Table5ca[[#This Row],[Dwelling or Common?]]=\"Dwelling\",Table5ca[[#This Row],[Component Type]]=\"Class AW\"),\"Fenestration\",\nIF(AND(OR($C$6=\"ERI\",$C$6=\"Title 24 - Dwelling Unit Models\"),Table5ca[[#This Row],[Dwelling or Common?]]=\"Dwelling\",Table5ca[[#This Row],[Component Type]]=\"Not Class AW\"),\"NotApplicable\",\n\nIF(AND(OR($C$6=\"ASHRAE\",$C$6=\"Title 24 - Whole Building Models\"),Table5ca[[#This Row],[Dwelling or Common?]]=\"Dwelling\",Table5ca[[#This Row],[Component Type]]=\"Class AW\"),\"Fenestration\",\nIF(AND(OR($C$6=\"ASHRAE\",$C$6=\"Title 24 - Whole Building Models\"),Table5ca[[#This Row],[Dwelling or Common?]]=\"Dwelling\",Table5ca[[#This Row],[Component Type]]=\"Not Class AW\"),\"NotApplicable\",\n\nIF(AND($C$6=\"Prescriptive\",Table5ca[[#This Row],[Dwelling or Common?]]=\"Dwelling\",Table5ca[[#This Row],[Component Type]]=\"Class AW\"),\"ESRefClassAW\",\nIF(AND($C$6=\"Prescriptive\",Table5ca[[#This Row],[Dwelling or Common?]]=\"Dwelling\",Table5ca[[#This Row],[Component Type]]=\"Not Class AW\"),\"ESRefNotClassAW\",\n\nIF(Table5ca[[#This Row],[Component Type]]=\"Class AW\",\"Fenestration\",\n\n\"NotApplicable\")))))))","v":"NotApplicable"},{"$f":"IF(AND(Table5ca[[#This Row],[Dwelling or Common?]]=\"Dwelling\",$C$8=\"Version 1\",$C$6=\"Prescriptive\",Table5ca[[#This Row],[Building Component]]<>\"Fenestration\"),\"ESRefDesign_Insulation_V1\",\nIF(AND(Table5ca[[#This Row],[Dwelling or Common?]]=\"Dwelling\",$C$8=\"Version 1.1\",$C$6=\"Prescriptive\",Table5ca[[#This Row],[Building Component]]<>\"Fenestration\"),\"ESRefDesign_Insulation_V11\",\nIF(AND($C$8=\"Version 1.2 OR+WA\",$C$6=\"Prescriptive\",Table5ca[[#This Row],[Building Component]]<>\"Fenestration\"),\"ESRefDesign_Insulation_V12\",\n\nIF(AND(Table5ca[[#This Row],[Dwelling or Common?]]=\"Common\",$C$8=\"Version 1.2 OR+WA\",OR($C$6=\"ERI\",$C$6=\"Title 24 - Dwelling Unit Models\"),Table5ca[[#This Row],[Building Component]]<>\"Fenestration\"),\"ESRefDesign_Insulation_V12\",\nIF(AND(Table5ca[[#This Row],[Dwelling or Common?]]=\"Common\",$C$8=\"Version 1.2 OR+WA\",OR($C$6=\"ASHRAE\",$C$6=\"Title 24 - Whole Building Models\"),Table5ca[[#This Row],[Building Component]]<>\"Fenestration\"),\"IECC2009_OU\",\nIF(AND(Table5ca[[#This Row],[Dwelling or Common?]]=\"Dwelling\",$C$8=\"Version 1.2 OR+WA\",OR($C$6=\"ERI\",$C$6=\"Title 24 - Dwelling Unit Models\",$C$6=\"ASHRAE\",$C$6=\"Title 24 - Whole Building Models\"),Table5ca[[#This Row],[Building Component]]<>\"Fenestration\"),\"IECC2009_RU\",\n\nIF(AND(Table5ca[[#This Row],[Dwelling or Common?]]=\"Common\",$C$8=\"Version 1\",Table5ca[[#This Row],[Building Component]]<>\"Fenestration\"),\"IECC2009_OU\",\nIF(AND(Table5ca[[#This Row],[Dwelling or Common?]]=\"Common\",$C$8=\"Version 1.1\",OR($C$6=\"ASHRAE\",$C$6=\"Title 24 - Whole Building Models\"),Table5ca[[#This Row],[Building Component]]<>\"Fenestration\"),\"IECC2009_OU\",\nIF(AND(Table5ca[[#This Row],[Dwelling or Common?]]=\"Common\",$C$8=\"Version 1.1\",OR($C$6=\"Prescriptive\",$C$6=\"ERI\",$C$6=\"Title 24 - Dwelling Unit Models\"),Table5ca[[#This Row],[Building Component]]<>\"Fenestration\"),\"IECC2012_OU\",\n\nIF(AND(Table5ca[[#This Row],[Dwelling or Common?]]=\"Dwelling\",OR($C$8=\"Version 1\",$C$8=\"Version 1.1\",),OR($C$6=\"ERI\",$C$6=\"ASHRAE\",$C$6=\"Title 24 - Whole Building Models\",$C$6=\"Title 24 - Dwelling Unit Models\"),Table5ca[[#This Row],[Building Component]]<>\"Fenestration\"),\"IECC2009_RU\",\n\n\nIF(AND(Table5ca[[#This Row],[Building Component]]=\"Fenestration\",Table5ca[[#This Row],[Dwelling or Common?]]=\"Common\",OR($C$6=\"Prescriptive\",$C$6=\"ERI\",$C$6=\"Title 24 - Dwelling Unit Models\"),$C$8=\"Version 1\"),\"ESRefDesign_FenestrationAW_V1\",\nIF(AND(Table5ca[[#This Row],[Building Component]]=\"Fenestration\",Table5ca[[#This Row],[Dwelling or Common?]]=\"Common\",OR($C$6=\"Prescriptive\",$C$6=\"ERI\",$C$6=\"Title 24 - Dwelling Unit Models\"),$C$8=\"Version 1.1\"),\"ESRefDesign_FenestrationAW_V11\",\nIF(AND(Table5ca[[#This Row],[Building Component]]=\"Fenestration\",Table5ca[[#This Row],[Dwelling or Common?]]=\"Common\",OR($C$6=\"Prescriptive\",$C$6=\"ERI\",$C$6=\"Title 24 - Dwelling Unit Models\"),$C$8=\"Version 1.2 OR+WA\"),\"ESRefDesign_FenestrationAW_V12\",\n\nIF(AND(Table5ca[[#This Row],[Building Component]]=\"Fenestration\",Table5ca[[#This Row],[Dwelling or Common?]]=\"Common\",OR($C$6=\"ASHRAE\",$C$6=\"Title 24 - Whole Building Models\")),\"IECC2009_Fenestration_AW_Windows\",\nIF(AND(Table5ca[[#This Row],[Building Component]]=\"Fenestration\",Table5ca[[#This Row],[Dwelling or Common?]]=\"Dwelling\",Table5ca[[#This Row],[Component Type]]=\"Class AW\",OR($C$6=\"ASHRAE\",$C$6=\"Title 24 - Whole Building Models\",$C$6=\"ERI\",$C$6=\"Title 24 - Dwelling Unit Models\")),\"IECC2009_Fenestration_AW_Windows\",\n\nIF(AND(Table5ca[[#This Row],[Building Component]]=\"Fenestration\",Table5ca[[#This Row],[Dwelling or Common?]]=\"Dwelling\",$C$6=\"Prescriptive\",$C$8=\"Version 1\",Table5ca[[#This Row],[Component Type]]=\"Class AW\"),\"ESRefDesign_FenestrationAW_V1\",\nIF(AND(Table5ca[[#This Row],[Building Component]]=\"Fenestration\",Table5ca[[#This Row],[Dwelling or Common?]]=\"Dwelling\",$C$6=\"Prescriptive\",$C$8=\"Version 1.1\",Table5ca[[#This Row],[Component Type]]=\"Class AW\"),\"ESRefDesign_FenestrationAW_V11\",\nIF(AND(Table5ca[[#This Row],[Building Component]]=\"Fenestration\",Table5ca[[#This Row],[Dwelling or Common?]]=\"Dwelling\",$C$6=\"Prescriptive\",$C$8=\"Version 1.2 OR+WA\",Table5ca[[#This Row],[Component Type]]=\"Class AW\"),\"ESRefDesign_FenestrationAW_V12\",\n\nIF(AND(Table5ca[[#This Row],[Building Component]]=\"Fenestration\",Table5ca[[#This Row],[Dwelling or Common?]]=\"Dwelling\",$C$6=\"Prescriptive\",$C$8=\"Version 1\",Table5ca[[#This Row],[Component Type]]=\"Not Class AW\"),\"ESRefDesign_Fenestration_V1\",\nIF(AND(Table5ca[[#This Row],[Building Component]]=\"Fenestration\",Table5ca[[#This Row],[Dwelling or Common?]]=\"Dwelling\",$C$6=\"Prescriptive\",$C$8=\"Version 1.1\",Table5ca[[#This Row],[Component Type]]=\"Not Class AW\"),\"ESRefDesign_Fenestration_V11\",\nIF(AND(Table5ca[[#This Row],[Building Component]]=\"Fenestration\",Table5ca[[#This Row],[Dwelling or Common?]]=\"Dwelling\",$C$6=\"Prescriptive\",$C$8=\"Version 1.2 OR+WA\",Table5ca[[#This Row],[Component Type]]=\"Not Class AW\"),\"ESRefDesign_Fenestration_V12\",\n\nIF(AND(Table5ca[[#This Row],[Building Component]]=\"Fenestration\",Table5ca[[#This Row],[Dwelling or Common?]]=\"Dwelling\"),\"IECC2009_Fenestration_NotAW_Windows\",\n\n\"\"))))))))))))))))))))))","v":""},{"$f":"IF(OR(Table5ca[[#This Row],[Lookup Table Pt1]]=\"ESRefDesign_Insulation_V1\",Table5ca[[#This Row],[Lookup Table Pt1]]=\"ESRefDesign_Insulation_V11\",Table5ca[[#This Row],[Lookup Table Pt1]]=\"IECC2009_Fenestration_NotAW_Windows\",Table5ca[[#This Row],[Lookup Table Pt1]]=\"IECC2009_Fenestration_AW_Windows\",Table5ca[[#This Row],[Lookup Table Pt1]]=\"ESRefDesign_FenestrationAW_V1\",Table5ca[[#This Row],[Lookup Table Pt1]]=\"ESRefDesign_FenestrationAW_V11\",Table5ca[[#This Row],[Lookup Table Pt1]]=\"ESRefDesign_Fenestration_V1\",Table5ca[[#This Row],[Lookup Table Pt1]]=\"ESRefDesign_Fenestration_V11\"),Table5ca[[#This Row],[Lookup Table Pt1]],\n\nIF(Table5ca[[#This Row],[Component_Lookup]]=\"FloorAboveGarage\",Table5ca[[#This Row],[Lookup Table Pt1]]&\"_Floor\",\n\nTable5ca[[#This Row],[Lookup Table Pt1]]&\"_\"&Table5ca[[#This Row],[Component_Lookup]]))","v":"_NotApplicable"},{"$f":"IF(AND($C$8=\"Version 1.2 OR+WA\",$C$6=\"Prescriptive\",Table5ca[[#This Row],[Building Component]]=\"Above-Grade Wall\"),1,\nIF(AND($C$8=\"Version 1.2 OR+WA\",$C$6=\"Prescriptive\",Table5ca[[#This Row],[Building Component]]=\"Ceiling\"),2,\nIF(AND($C$8=\"Version 1.2 OR+WA\",$C$6=\"Prescriptive\",Table5ca[[#This Row],[Building Component]]=\"Basement Wall\"),4,\nIF(AND($C$8=\"Version 1.2 OR+WA\",$C$6=\"Prescriptive\",Table5ca[[#This Row],[Building Component]]=\"On-Grade & Below Grade Slab\"),5,\nIF(AND($C$8=\"Version 1.2 OR+WA\",$C$6=\"Prescriptive\",OR(Table5ca[[#This Row],[Building Component]]=\"Floor Assembly\",Table5ca[[#This Row],[Building Component]]=\"Floor Above Garage\",Table5ca[[#This Row],[Building Component]]=\"Floor Above Garage Columns\")),3,\n\nIF(AND($C$8=\"Version 1.2 OR+WA\",OR($C$6=\"Prescriptive\",$C$6=\"ERI\",$C$6=\"Title 24 - Dwelling Units Models\"),Table5ca[[#This Row],[Dwelling or Common?]]=\"Common\",Table5ca[[#This Row],[Building Component]]=\"Above-Grade Wall\"),1,\nIF(AND($C$8=\"Version 1.2 OR+WA\",OR($C$6=\"Prescriptive\",$C$6=\"ERI\",$C$6=\"Title 24 - Dwelling Units Models\"),Table5ca[[#This Row],[Dwelling or Common?]]=\"Common\",Table5ca[[#This Row],[Building Component]]=\"Ceiling\"),2,\nIF(AND($C$8=\"Version 1.2 OR+WA\",OR($C$6=\"Prescriptive\",$C$6=\"ERI\",$C$6=\"Title 24 - Dwelling Units Models\"),Table5ca[[#This Row],[Dwelling or Common?]]=\"Common\",Table5ca[[#This Row],[Building Component]]=\"Basement Wall\"),4,\nIF(AND($C$8=\"Version 1.2 OR+WA\",OR($C$6=\"Prescriptive\",$C$6=\"ERI\",$C$6=\"Title 24 - Dwelling Units Models\"),Table5ca[[#This Row],[Dwelling or Common?]]=\"Common\",Table5ca[[#This Row],[Building Component]]=\"On-Grade & Below Grade Slab\"),5,\nIF(AND($C$8=\"Version 1.2 OR+WA\",OR($C$6=\"Prescriptive\",$C$6=\"ERI\",$C$6=\"Title 24 - Dwelling Units Models\"),Table5ca[[#This Row],[Dwelling or Common?]]=\"Common\",OR(Table5ca[[#This Row],[Building Component]]=\"Floor Assembly\",Table5ca[[#This Row],[Building Component]]=\"Floor Above Garage\",Table5ca[[#This Row],[Building Component]]=\"Floor Above Garage Columns\")),3,\n\nIF(AND($C$6=\"Prescriptive\",OR($C$8=\"Version 1\",$C$8=\"Version 1.1\"),Table5ca[[#This Row],[Building Component]]=\"Basement Wall Continuous Insulation\"),3,\nIF(AND($C$6=\"Prescriptive\",OR($C$8=\"Version 1\",$C$8=\"Version 1.1\"),Table5ca[[#This Row],[Building Component]]=\"Slab Insulation\"),1,\n\nIF(OR(Table5ca[[#This Row],[Component Type]]=\"Insulation entirely above deck\",Table5ca[[#This Row],[Component Type]]=\"Mass\",Table5ca[[#This Row],[Component Type]]=\"Below grade wall\",Table5ca[[#This Row],[Component Type]]=\"Unheated slabs\",Table5ca[[#This Row],[Component Type]]=\"Floor Above Garage\"),1,\nIF(OR(Table5ca[[#This Row],[Component Type]]=\"Metal buildings\",Table5ca[[#This Row],[Component Type]]=\"Metal building\",Table5ca[[#This Row],[Component Type]]=\"Joist/framing\",Table5ca[[#This Row],[Component Type]]=\"Heated slabs\",Table5ca[[#This Row],[Component Type]]=\"Floor Above Garage\"),2,\nIF(OR(Table5ca[[#This Row],[Component Type]]=\"Attic and other\",Table5ca[[#This Row],[Component Type]]=\"Metal framed\"),3,\nIF(OR(Table5ca[[#This Row],[Component Type]]=\"Wood framed and other\",Table5ca[[#This Row],[Building Component]]=\"Floor Assembly\",Table5ca[[#This Row],[Building Component]]=\"Floor Above Garage\",Table5ca[[#This Row],[Building Component]]=\"Floor Above Garage Columns\"),4,\nIF(Table5ca[[#This Row],[Building Component]]=\"Wall Assembly\",5,\nIF(Table5ca[[#This Row],[Building Component]]=\"Ceiling Assembly\",6,\n\nIF(Table5ca[[#This Row],[Lookup Table Pt2]]=\"IECC2009_Fenestration_NotAW_Windows\",1,\nIF(AND(Table5ca[[#This Row],[Lookup Table Pt2]]=\"IECC2009_Fenestration_AW_Windows\",OR(Table5ca[[#This Row],[Additional Component Details]]=\"Non-Metal\",Table5ca[[#This Row],[Component Type]]=\"Non-Metal\")),1,\nIF(AND(Table5ca[[#This Row],[Lookup Table Pt2]]=\"IECC2009_Fenestration_AW_Windows\",OR(Table5ca[[#This Row],[Additional Component Details]]=\"Metal - Curtainwall/storefront\",Table5ca[[#This Row],[Component Type]]=\"Metal - Curtainwall/storefront\")),2,\nIF(AND(Table5ca[[#This Row],[Lookup Table Pt2]]=\"IECC2009_Fenestration_AW_Windows\",OR(Table5ca[[#This Row],[Additional Component Details]]=\"Metal - Entrance door\",Table5ca[[#This Row],[Component Type]]=\"Metal - Entrance door\")),3,\nIF(AND(Table5ca[[#This Row],[Lookup Table Pt2]]=\"IECC2009_Fenestration_AW_Windows\",OR(Table5ca[[#This Row],[Additional Component Details]]=\"Metal - Other\",Table5ca[[#This Row],[Component Type]]=\"Metal - Entrance door\")),4,\nIF(AND(Table5ca[[#This Row],[Lookup Table Pt2]]=\"IECC2009_Fenestration_AW_Windows\",Table5ca[[#This Row],[Component Type]]=\"Metal - Other\"),4,\n\nIF(AND(OR(Table5ca[[#This Row],[Lookup Table Pt1]]=\"ESRefDesign_FenestrationAW_V1\",Table5ca[[#This Row],[Lookup Table Pt1]]=\"ESRefDesign_FenestrationAW_V11\",Table5ca[[#This Row],[Lookup Table Pt1]]=\"ESRefDesign_FenestrationAW_V12\"),OR(Table5ca[[#This Row],[Component Type]]=\"Fixed\",Table5ca[[#This Row],[Additional Component Details]]=\"Fixed\")),1,\nIF(AND(OR(Table5ca[[#This Row],[Lookup Table Pt1]]=\"ESRefDesign_FenestrationAW_V1\",Table5ca[[#This Row],[Lookup Table Pt1]]=\"ESRefDesign_FenestrationAW_V11\",Table5ca[[#This Row],[Lookup Table Pt1]]=\"ESRefDesign_FenestrationAW_V12\"),OR(Table5ca[[#This Row],[Component Type]]=\"Operable\",Table5ca[[#This Row],[Additional Component Details]]=\"Operable\")),2,\n\nIF(AND(OR(Table5ca[[#This Row],[Lookup Table Pt1]]=\"ESRefDesign_Fenestration_V1\",Table5ca[[#This Row],[Lookup Table Pt1]]=\"ESRefDesign_Fenestration_V11\",Table5ca[[#This Row],[Lookup Table Pt1]]=\"ESRefDesign_Fenestration_V12\"),Table5ca[[#This Row],[Additional Component Details]]=\"Window\"),1,\nIF(AND(OR(Table5ca[[#This Row],[Lookup Table Pt1]]=\"ESRefDesign_Fenestration_V1\",Table5ca[[#This Row],[Lookup Table Pt1]]=\"ESRefDesign_Fenestration_V11\",Table5ca[[#This Row],[Lookup Table Pt1]]=\"ESRefDesign_Fenestration_V12\"),Table5ca[[#This Row],[Additional Component Details]]=\"Opaque Door\"),3,\nIF(AND(OR(Table5ca[[#This Row],[Lookup Table Pt1]]=\"ESRefDesign_Fenestration_V1\",Table5ca[[#This Row],[Lookup Table Pt1]]=\"ESRefDesign_Fenestration_V11\",Table5ca[[#This Row],[Lookup Table Pt1]]=\"ESRefDesign_Fenestration_V12\"),Table5ca[[#This Row],[Additional Component Details]]=\"≤½ lite Door\"),4,\nIF(AND(OR(Table5ca[[#This Row],[Lookup Table Pt1]]=\"ESRefDesign_Fenestration_V1\",Table5ca[[#This Row],[Lookup Table Pt1]]=\"ESRefDesign_Fenestration_V11\",Table5ca[[#This Row],[Lookup Table Pt1]]=\"ESRefDesign_Fenestration_V12\"),Table5ca[[#This Row],[Additional Component Details]]=\">½ lite Door\"),5,\n\n\n\"\"))))))))))))))))))))))))))))))","v":""},{"$f":"IF(AND($C$8=\"Version 1.2 OR+WA\",$C$6=\"Prescriptive\",Table5ca[[#This Row],[Building Component]]<>\"Fenestration\"),2,\n\nIF(AND($C$8=\"Version 1.2 OR+WA\",$C$6=\"Prescriptive\",$C$7=\"CZ 4 C\"),2,\nIF(AND($C$8=\"Version 1.2 OR+WA\",$C$6=\"Prescriptive\",$C$7=\"CZ 5\"),3,\nIF(AND($C$8=\"Version 1.2 OR+WA\",$C$6=\"Prescriptive\",$C$7=\"CZ 6\"),4,\n\nIF(AND($C$8=\"Version 1.2 OR+WA\",Table5ca[[#This Row],[Dwelling or Common?]]=\"Common\",OR($C$6=\"ERI\",$C$6=\"Title 24 - Dwelling Unit Models\"),$C$7=\"CZ 4 C\"),2,\nIF(AND($C$8=\"Version 1.2 OR+WA\",Table5ca[[#This Row],[Dwelling or Common?]]=\"Common\",OR($C$6=\"ERI\",$C$6=\"Title 24 - Dwelling Unit Models\"),$C$7=\"CZ 5\"),3,\nIF(AND($C$8=\"Version 1.2 OR+WA\",Table5ca[[#This Row],[Dwelling or Common?]]=\"Common\",OR($C$6=\"ERI\",$C$6=\"Title 24 - Dwelling Unit Models\"),$C$7=\"CZ 6\"),4,\n\nIF($C$7=\"CZ 1\",2,\nIF($C$7=\"CZ 2\",3,\nIF($C$7=\"CZ 3\",4,\nIF($C$7=\"CZ 4\",5,\nIF($C$7=\"CZ 4 C\",6,\nIF($C$7=\"CZ 5\",7,\nIF($C$7=\"CZ 6\",8,\nIF($C$7=\"CZ 7\",9,\nIF($C$7=\"CZ 8\",10,\"\"))))))))))))))))","v":5}]
[null,null,null,null,null,null,null,{"$f":"IF(Table5ca[[#This Row],[Specified/Installed U-Factor]]*Table5ca[[#This Row],[Area]]=0,\"\",Table5ca[[#This Row],[Specified/Installed U-Factor]]*Table5ca[[#This Row],[Area]])","v":""},{"$f":"IFERROR(IF(AND($C$8=\"Version 1.2 OR+WA\",OR($C$7=\"CZ 1\",$C$7=\"CZ 2\",$C$7=\"CZ 3\",$C$7=\"CZ 4\",$C$7=\"CZ 7\",$C$7=\"CZ 8\")),\"N/A - Update CZ\",\n\nIF(Table5ca[[#This Row],[Building Component]]=\"Balcony\",\"0.20\",\n\nIF(OR(Table5ca[[#This Row],[Lookup Table Pt1]]=\"ESRefDesign_Insulation_V1\",Table5ca[[#This Row],[Lookup Table Pt1]]=\"ESRefDesign_Insulation_V11\",Table5ca[[#This Row],[Lookup Table Pt1]]=\"ESRefDesign_Insulation_V12\",Table5ca[[#This Row],[Lookup Table Pt1]]=\"ESRefDesign_FenestrationAW_V1\",Table5ca[[#This Row],[Lookup Table Pt1]]=\"ESRefDesign_FenestrationAW_V11\",Table5ca[[#This Row],[Lookup Table Pt1]]=\"ESRefDesign_Fenestration_V1\",Table5ca[[#This Row],[Lookup Table Pt1]]=\"ESRefDesign_Fenestration_V11\",Table5ca[[#This Row],[Lookup Table Pt1]]=\"ESRefDesign_Fenestration_V12\",Table5ca[[#This Row],[Lookup Table Pt1]]=\"ESRefDesign_FenestrationAW_V12\",Table5ca[[#This Row],[Lookup Table Pt1]]=\"IECC2009_Fenestration_NotAW_Windows\",Table5ca[[#This Row],[Lookup Table Pt1]]=\"IECC2009_Fenestration_AW_Windows\"),INDEX(INDIRECT(Table5ca[[#This Row],[Lookup Table Pt1]]),Table5ca[[#This Row],[Row Index]],Table5ca[[#This Row],[Column Index]]),\n\nINDEX(INDIRECT(Table5ca[[#This Row],[Lookup Table Pt2]]),Table5ca[[#This Row],[Row Index]],Table5ca[[#This Row],[Column Index]])))),\"\")","v":""},{"$f":"IFERROR(\n\nIF(LEFT(Table5ca[[#This Row],[ENERGY STAR Requirement Values]],2)=\"U-\",Table5ca[[#This Row],[ENERGY STAR Requirement Values]],\n\nIF(OR(Table5ca[[#This Row],[Building Component]]=\"Slab Insulation\",Table5ca[[#This Row],[Building Component]]=\"Slab-On-Grade Floor\",Table5ca[[#This Row],[Building Component]]=\"Slab-On-Grade Floors\",Table5ca[[#This Row],[Building Component]]=\"On-Grade & Below Grade Slab\",Table5ca[[#This Row],[Building Component]]=\"Slab-on-Grade Floors\",Table5ca[[#This Row],[Building Component]]=\"Slab-on-Grade Floor\"),\"\",\n\nIF(OR(Table5ca[[#This Row],[ENERGY STAR Requirement Values]]=\"R-0\",Table5ca[[#This Row],[ENERGY STAR Requirement Values]]=0,Table5ca[[#This Row],[ENERGY STAR Requirement Values]]=\"C-1.140\"),\"U-0.36\",\nIF(OR(Table5ca[[#This Row],[ENERGY STAR Requirement Values]]=\"R-7.5\",Table5ca[[#This Row],[ENERGY STAR Requirement Values]]=7.5,Table5ca[[#This Row],[ENERGY STAR Requirement Values]]=\"C-0.119\"),\"U-0.072\",\nIF(OR(Table5ca[[#This Row],[ENERGY STAR Requirement Values]]=\"R-10\",Table5ca[[#This Row],[ENERGY STAR Requirement Values]]=10,Table5ca[[#This Row],[ENERGY STAR Requirement Values]]=\"C-0.092\"),\"U-0.059\",\nIF(OR(Table5ca[[#This Row],[ENERGY STAR Requirement Values]]=\"R-15\",Table5ca[[#This Row],[ENERGY STAR Requirement Values]]=15,Table5ca[[#This Row],[ENERGY STAR Requirement Values]]=\"R-15 continuous or R-21 cavity\"),\"U-0.05\",\nIF(OR(Table5ca[[#This Row],[ENERGY STAR Requirement Values]]=\"R-12.5\",Table5ca[[#This Row],[ENERGY STAR Requirement Values]]=12.5,Table5ca[[#This Row],[ENERGY STAR Requirement Values]]=\"C-0.075\"),\"U-0.054\",\nIF(OR(Table5ca[[#This Row],[ENERGY STAR Requirement Values]]=\"R-21\",Table5ca[[#This Row],[ENERGY STAR Requirement Values]]=21),\"U-0.056\",\nIF(OR(Table5ca[[#This Row],[ENERGY STAR Requirement Values]]=\"R-38\",Table5ca[[#This Row],[ENERGY STAR Requirement Values]]=38),\"U-0.028\",\nIF(OR(Table5ca[[#This Row],[ENERGY STAR Requirement Values]]=\"R-49\",Table5ca[[#This Row],[ENERGY STAR Requirement Values]]=49),\"U-0.026\",\n\nIF(LEFT(Table5ca[[#This Row],[ENERGY STAR Requirement Values]],2)=\"F-\",\"\",\n\nIF(LEFT(Table5ca[[#This Row],[ENERGY STAR Requirement Values]],1)=\"0\",CONCATENATE(\"U-\",Table5ca[[#This Row],[ENERGY STAR Requirement Values]]),\n\nTable5ca[[#This Row],[ENERGY STAR Requirement Values]])))))))))))),\"\")","v":""},{"$f":"IFERROR(IF(Table5ca[[#This Row],[Area]]=\"\",\"\",\nIF(Table5ca[[#This Row],[Required U-factor]]=\"\",\"\",\nIFERROR(Table5ca[[#This Row],[Area]]*Table5ca[[#This Row],[Required U-factor]],RIGHT(Table5ca[[#This Row],[Required U-factor]],LEN(Table5ca[[#This Row],[Required U-factor]])-2)*Table5ca[[#This Row],[Area]]))),\"\")","v":""},{"$f":"IF(Table5ca[[#This Row],[Building Component]]=\"\",\"\",\nIF(OR(Table5ca[[#This Row],[Building Component]]=\"Wall, Above Grade\",Table5ca[[#This Row],[Building Component]]=\"Wall, Below Grade\"),\"If there is continuous insulation interrupted by fasteners, ensure that the U-factor has been de-rated per Footnote 24. See below for further details.\",\nIF(Table5ca[[#This Row],[Building Component]]=\"Wall Assembly\",\"Apply a derate per Footnote 6 below.\",\nIF(Table5ca[[#This Row],[Building Component]]=\"Balcony\",\"Use the table below to de-rate balconies per Footnote 21.\",\nIF(OR(Table5ca[[#This Row],[Building Component]]=\"Floor Above Garage\",Table5ca[[#This Row],[Building Component]]=\"Floor Above Garage Columns\"),\"Use the table below to De-Rate floors above garages per Footnote 22.\",\n\"Not Applicable\")))))","v":""},null,null,null,null,null,null,{"$f":"IF(AND(Table5ca[[#This Row],[Dwelling or Common?]]=\"Dwelling\",$C$6=\"Prescriptive\",$C$8=\"Version 1.2 OR+WA\"),\"BuildingComponents_ESRefListV12_UABuildingComponents\",\nIF(AND($C$8=\"Version 1.2 OR+WA\",OR($C$6=\"Prescriptive\",$C$6=\"ERI\",$C$6=\"Title 24 - Dwelling Units Models\"),Table5ca[[#This Row],[Dwelling or Common?]]=\"Common\"),\"BuildingComponents_ESRefListV12_UABuildingComponents\",\n\nIF(AND($C$6=\"Prescriptive\",Table5ca[[#This Row],[Dwelling or Common?]]=\"Dwelling\"),\"PrescriptivePath_UABuildingComponents\",\n\n\"ERI_AHSRAE_UABuildingComponents\")))","v":"ERI_AHSRAE_UABuildingComponents"},{"$f":"IF(AND($C$6<>\"Prescriptive\",OR(Table5ca[[#This Row],[Building Component]]=\"Floor Assembly\",Table5ca[[#This Row],[Building Component]]=\"Floor Above Garage\",Table5ca[[#This Row],[Building Component]]=\"Floor Above Garage Columns\")),\"Floor\",\nIF(AND($C$6=\"Prescriptive\",Table5ca[[#This Row],[Dwelling or Common?]]=\"Common\",OR(Table5ca[[#This Row],[Building Component]]=\"Floor Assembly\",Table5ca[[#This Row],[Building Component]]=\"Floor Above Garage\",Table5ca[[#This Row],[Building Component]]=\"Floor Above Garage Columns\")),\"Floor\",\n\nIF(Table5ca[[#This Row],[Building Component]]=\"Roofs\",\"Roof\",\nIF(Table5ca[[#This Row],[Building Component]]=\"Walls, Above Grade\",\"WallAboveGrade\",\nIF(Table5ca[[#This Row],[Building Component]]=\"Walls, Below Grade\",\"WallBelowGrade\",\nIF(AND(Table5ca[[#This Row],[Building Component]]=\"Floor Assembly\",$C$6<>\"Prescriptive\"),\"Floor\",\nIF(Table5ca[[#This Row],[Building Component]]=\"Slab-on-Grade Floors\",\"SlabOnGradeFloor\",\nIF(Table5ca[[#This Row],[Building Component]]=\"Opaque Doors\",\"OpaqueDoor\",\nIF(Table5ca[[#This Row],[Building Component]]=\"Balcony\",\"Balcony\",\nIF(AND(Table5ca[[#This Row],[Building Component]]=\"Floor Above Garage\",$C$6=\"Prescriptive\"),\"FloorAssembly\",\nIF(Table5ca[[#This Row],[Building Component]]=\"Floor Above Garage\",\"FloorAboveGarage\",\nIF(Table5ca[[#This Row],[Building Component]]=\"Wall Assembly\",\"WallAssembly\",\nIF(Table5ca[[#This Row],[Building Component]]=\"Ceiling Assembly\",\"CeilingAssembly\",\nIF(OR(Table5ca[[#This Row],[Building Component]]=\"Floor Assembly\",Table5ca[[#This Row],[Building Component]]=\"Floor Above Garage\",Table5ca[[#This Row],[Building Component]]=\"Floor Above Garage Columns\"),\"FloorAssembly\",\n\nIF(AND(Table5ca[[#This Row],[Building Component]]=\"Fenestration\",Table5ca[[#This Row],[Dwelling or Common?]]=\"Dwelling\"),\"ClassAW?\",\n\nIF(AND(Table5ca[[#This Row],[Building Component]]=\"Fenestration\",Table5ca[[#This Row],[Dwelling or Common?]]=\"Common\",OR($C$6=\"ERI\",$C$6=\"Title 24 - Dwelling Unit Models\",$C$6=\"Prescriptive\")),\"ESRefClassAW\",\nIF(AND(Table5ca[[#This Row],[Building Component]]=\"Fenestration\",Table5ca[[#This Row],[Dwelling or Common?]]=\"Common\",OR($C$6=\"ASHRAE\",$C$6=\"Title 24 - Whole Building Models\")),\"Fenestration\",\n\n\"NotApplicable\")))))))))))))))))","v":"NotApplicable"},{"$f":"IF(AND(OR($C$6=\"ERI\",$C$6=\"Title 24 - Dwelling Unit Models\"),Table5ca[[#This Row],[Dwelling or Common?]]=\"Dwelling\",Table5ca[[#This Row],[Component Type]]=\"Class AW\"),\"Fenestration\",\nIF(AND(OR($C$6=\"ERI\",$C$6=\"Title 24 - Dwelling Unit Models\"),Table5ca[[#This Row],[Dwelling or Common?]]=\"Dwelling\",Table5ca[[#This Row],[Component Type]]=\"Not Class AW\"),\"NotApplicable\",\n\nIF(AND(OR($C$6=\"ASHRAE\",$C$6=\"Title 24 - Whole Building Models\"),Table5ca[[#This Row],[Dwelling or Common?]]=\"Dwelling\",Table5ca[[#This Row],[Component Type]]=\"Class AW\"),\"Fenestration\",\nIF(AND(OR($C$6=\"ASHRAE\",$C$6=\"Title 24 - Whole Building Models\"),Table5ca[[#This Row],[Dwelling or Common?]]=\"Dwelling\",Table5ca[[#This Row],[Component Type]]=\"Not Class AW\"),\"NotApplicable\",\n\nIF(AND($C$6=\"Prescriptive\",Table5ca[[#This Row],[Dwelling or Common?]]=\"Dwelling\",Table5ca[[#This Row],[Component Type]]=\"Class AW\"),\"ESRefClassAW\",\nIF(AND($C$6=\"Prescriptive\",Table5ca[[#This Row],[Dwelling or Common?]]=\"Dwelling\",Table5ca[[#This Row],[Component Type]]=\"Not Class AW\"),\"ESRefNotClassAW\",\n\nIF(Table5ca[[#This Row],[Component Type]]=\"Class AW\",\"Fenestration\",\n\n\"NotApplicable\")))))))","v":"NotApplicable"},{"$f":"IF(AND(Table5ca[[#This Row],[Dwelling or Common?]]=\"Dwelling\",$C$8=\"Version 1\",$C$6=\"Prescriptive\",Table5ca[[#This Row],[Building Component]]<>\"Fenestration\"),\"ESRefDesign_Insulation_V1\",\nIF(AND(Table5ca[[#This Row],[Dwelling or Common?]]=\"Dwelling\",$C$8=\"Version 1.1\",$C$6=\"Prescriptive\",Table5ca[[#This Row],[Building Component]]<>\"Fenestration\"),\"ESRefDesign_Insulation_V11\",\nIF(AND($C$8=\"Version 1.2 OR+WA\",$C$6=\"Prescriptive\",Table5ca[[#This Row],[Building Component]]<>\"Fenestration\"),\"ESRefDesign_Insulation_V12\",\n\nIF(AND(Table5ca[[#This Row],[Dwelling or Common?]]=\"Common\",$C$8=\"Version 1.2 OR+WA\",OR($C$6=\"ERI\",$C$6=\"Title 24 - Dwelling Unit Models\"),Table5ca[[#This Row],[Building Component]]<>\"Fenestration\"),\"ESRefDesign_Insulation_V12\",\nIF(AND(Table5ca[[#This Row],[Dwelling or Common?]]=\"Common\",$C$8=\"Version 1.2 OR+WA\",OR($C$6=\"ASHRAE\",$C$6=\"Title 24 - Whole Building Models\"),Table5ca[[#This Row],[Building Component]]<>\"Fenestration\"),\"IECC2009_OU\",\nIF(AND(Table5ca[[#This Row],[Dwelling or Common?]]=\"Dwelling\",$C$8=\"Version 1.2 OR+WA\",OR($C$6=\"ERI\",$C$6=\"Title 24 - Dwelling Unit Models\",$C$6=\"ASHRAE\",$C$6=\"Title 24 - Whole Building Models\"),Table5ca[[#This Row],[Building Component]]<>\"Fenestration\"),\"IECC2009_RU\",\n\nIF(AND(Table5ca[[#This Row],[Dwelling or Common?]]=\"Common\",$C$8=\"Version 1\",Table5ca[[#This Row],[Building Component]]<>\"Fenestration\"),\"IECC2009_OU\",\nIF(AND(Table5ca[[#This Row],[Dwelling or Common?]]=\"Common\",$C$8=\"Version 1.1\",OR($C$6=\"ASHRAE\",$C$6=\"Title 24 - Whole Building Models\"),Table5ca[[#This Row],[Building Component]]<>\"Fenestration\"),\"IECC2009_OU\",\nIF(AND(Table5ca[[#This Row],[Dwelling or Common?]]=\"Common\",$C$8=\"Version 1.1\",OR($C$6=\"Prescriptive\",$C$6=\"ERI\",$C$6=\"Title 24 - Dwelling Unit Models\"),Table5ca[[#This Row],[Building Component]]<>\"Fenestration\"),\"IECC2012_OU\",\n\nIF(AND(Table5ca[[#This Row],[Dwelling or Common?]]=\"Dwelling\",OR($C$8=\"Version 1\",$C$8=\"Version 1.1\",),OR($C$6=\"ERI\",$C$6=\"ASHRAE\",$C$6=\"Title 24 - Whole Building Models\",$C$6=\"Title 24 - Dwelling Unit Models\"),Table5ca[[#This Row],[Building Component]]<>\"Fenestration\"),\"IECC2009_RU\",\n\n\nIF(AND(Table5ca[[#This Row],[Building Component]]=\"Fenestration\",Table5ca[[#This Row],[Dwelling or Common?]]=\"Common\",OR($C$6=\"Prescriptive\",$C$6=\"ERI\",$C$6=\"Title 24 - Dwelling Unit Models\"),$C$8=\"Version 1\"),\"ESRefDesign_FenestrationAW_V1\",\nIF(AND(Table5ca[[#This Row],[Building Component]]=\"Fenestration\",Table5ca[[#This Row],[Dwelling or Common?]]=\"Common\",OR($C$6=\"Prescriptive\",$C$6=\"ERI\",$C$6=\"Title 24 - Dwelling Unit Models\"),$C$8=\"Version 1.1\"),\"ESRefDesign_FenestrationAW_V11\",\nIF(AND(Table5ca[[#This Row],[Building Component]]=\"Fenestration\",Table5ca[[#This Row],[Dwelling or Common?]]=\"Common\",OR($C$6=\"Prescriptive\",$C$6=\"ERI\",$C$6=\"Title 24 - Dwelling Unit Models\"),$C$8=\"Version 1.2 OR+WA\"),\"ESRefDesign_FenestrationAW_V12\",\n\nIF(AND(Table5ca[[#This Row],[Building Component]]=\"Fenestration\",Table5ca[[#This Row],[Dwelling or Common?]]=\"Common\",OR($C$6=\"ASHRAE\",$C$6=\"Title 24 - Whole Building Models\")),\"IECC2009_Fenestration_AW_Windows\",\nIF(AND(Table5ca[[#This Row],[Building Component]]=\"Fenestration\",Table5ca[[#This Row],[Dwelling or Common?]]=\"Dwelling\",Table5ca[[#This Row],[Component Type]]=\"Class AW\",OR($C$6=\"ASHRAE\",$C$6=\"Title 24 - Whole Building Models\",$C$6=\"ERI\",$C$6=\"Title 24 - Dwelling Unit Models\")),\"IECC2009_Fenestration_AW_Windows\",\n\nIF(AND(Table5ca[[#This Row],[Building Component]]=\"Fenestration\",Table5ca[[#This Row],[Dwelling or Common?]]=\"Dwelling\",$C$6=\"Prescriptive\",$C$8=\"Version 1\",Table5ca[[#This Row],[Component Type]]=\"Class AW\"),\"ESRefDesign_FenestrationAW_V1\",\nIF(AND(Table5ca[[#This Row],[Building Component]]=\"Fenestration\",Table5ca[[#This Row],[Dwelling or Common?]]=\"Dwelling\",$C$6=\"Prescriptive\",$C$8=\"Version 1.1\",Table5ca[[#This Row],[Component Type]]=\"Class AW\"),\"ESRefDesign_FenestrationAW_V11\",\nIF(AND(Table5ca[[#This Row],[Building Component]]=\"Fenestration\",Table5ca[[#This Row],[Dwelling or Common?]]=\"Dwelling\",$C$6=\"Prescriptive\",$C$8=\"Version 1.2 OR+WA\",Table5ca[[#This Row],[Component Type]]=\"Class AW\"),\"ESRefDesign_FenestrationAW_V12\",\n\nIF(AND(Table5ca[[#This Row],[Building Component]]=\"Fenestration\",Table5ca[[#This Row],[Dwelling or Common?]]=\"Dwelling\",$C$6=\"Prescriptive\",$C$8=\"Version 1\",Table5ca[[#This Row],[Component Type]]=\"Not Class AW\"),\"ESRefDesign_Fenestration_V1\",\nIF(AND(Table5ca[[#This Row],[Building Component]]=\"Fenestration\",Table5ca[[#This Row],[Dwelling or Common?]]=\"Dwelling\",$C$6=\"Prescriptive\",$C$8=\"Version 1.1\",Table5ca[[#This Row],[Component Type]]=\"Not Class AW\"),\"ESRefDesign_Fenestration_V11\",\nIF(AND(Table5ca[[#This Row],[Building Component]]=\"Fenestration\",Table5ca[[#This Row],[Dwelling or Common?]]=\"Dwelling\",$C$6=\"Prescriptive\",$C$8=\"Version 1.2 OR+WA\",Table5ca[[#This Row],[Component Type]]=\"Not Class AW\"),\"ESRefDesign_Fenestration_V12\",\n\nIF(AND(Table5ca[[#This Row],[Building Component]]=\"Fenestration\",Table5ca[[#This Row],[Dwelling or Common?]]=\"Dwelling\"),\"IECC2009_Fenestration_NotAW_Windows\",\n\n\"\"))))))))))))))))))))))","v":""},{"$f":"IF(OR(Table5ca[[#This Row],[Lookup Table Pt1]]=\"ESRefDesign_Insulation_V1\",Table5ca[[#This Row],[Lookup Table Pt1]]=\"ESRefDesign_Insulation_V11\",Table5ca[[#This Row],[Lookup Table Pt1]]=\"IECC2009_Fenestration_NotAW_Windows\",Table5ca[[#This Row],[Lookup Table Pt1]]=\"IECC2009_Fenestration_AW_Windows\",Table5ca[[#This Row],[Lookup Table Pt1]]=\"ESRefDesign_FenestrationAW_V1\",Table5ca[[#This Row],[Lookup Table Pt1]]=\"ESRefDesign_FenestrationAW_V11\",Table5ca[[#This Row],[Lookup Table Pt1]]=\"ESRefDesign_Fenestration_V1\",Table5ca[[#This Row],[Lookup Table Pt1]]=\"ESRefDesign_Fenestration_V11\"),Table5ca[[#This Row],[Lookup Table Pt1]],\n\nIF(Table5ca[[#This Row],[Component_Lookup]]=\"FloorAboveGarage\",Table5ca[[#This Row],[Lookup Table Pt1]]&\"_Floor\",\n\nTable5ca[[#This Row],[Lookup Table Pt1]]&\"_\"&Table5ca[[#This Row],[Component_Lookup]]))","v":"_NotApplicable"},{"$f":"IF(AND($C$8=\"Version 1.2 OR+WA\",$C$6=\"Prescriptive\",Table5ca[[#This Row],[Building Component]]=\"Above-Grade Wall\"),1,\nIF(AND($C$8=\"Version 1.2 OR+WA\",$C$6=\"Prescriptive\",Table5ca[[#This Row],[Building Component]]=\"Ceiling\"),2,\nIF(AND($C$8=\"Version 1.2 OR+WA\",$C$6=\"Prescriptive\",Table5ca[[#This Row],[Building Component]]=\"Basement Wall\"),4,\nIF(AND($C$8=\"Version 1.2 OR+WA\",$C$6=\"Prescriptive\",Table5ca[[#This Row],[Building Component]]=\"On-Grade & Below Grade Slab\"),5,\nIF(AND($C$8=\"Version 1.2 OR+WA\",$C$6=\"Prescriptive\",OR(Table5ca[[#This Row],[Building Component]]=\"Floor Assembly\",Table5ca[[#This Row],[Building Component]]=\"Floor Above Garage\",Table5ca[[#This Row],[Building Component]]=\"Floor Above Garage Columns\")),3,\n\nIF(AND($C$8=\"Version 1.2 OR+WA\",OR($C$6=\"Prescriptive\",$C$6=\"ERI\",$C$6=\"Title 24 - Dwelling Units Models\"),Table5ca[[#This Row],[Dwelling or Common?]]=\"Common\",Table5ca[[#This Row],[Building Component]]=\"Above-Grade Wall\"),1,\nIF(AND($C$8=\"Version 1.2 OR+WA\",OR($C$6=\"Prescriptive\",$C$6=\"ERI\",$C$6=\"Title 24 - Dwelling Units Models\"),Table5ca[[#This Row],[Dwelling or Common?]]=\"Common\",Table5ca[[#This Row],[Building Component]]=\"Ceiling\"),2,\nIF(AND($C$8=\"Version 1.2 OR+WA\",OR($C$6=\"Prescriptive\",$C$6=\"ERI\",$C$6=\"Title 24 - Dwelling Units Models\"),Table5ca[[#This Row],[Dwelling or Common?]]=\"Common\",Table5ca[[#This Row],[Building Component]]=\"Basement Wall\"),4,\nIF(AND($C$8=\"Version 1.2 OR+WA\",OR($C$6=\"Prescriptive\",$C$6=\"ERI\",$C$6=\"Title 24 - Dwelling Units Models\"),Table5ca[[#This Row],[Dwelling or Common?]]=\"Common\",Table5ca[[#This Row],[Building Component]]=\"On-Grade & Below Grade Slab\"),5,\nIF(AND($C$8=\"Version 1.2 OR+WA\",OR($C$6=\"Prescriptive\",$C$6=\"ERI\",$C$6=\"Title 24 - Dwelling Units Models\"),Table5ca[[#This Row],[Dwelling or Common?]]=\"Common\",OR(Table5ca[[#This Row],[Building Component]]=\"Floor Assembly\",Table5ca[[#This Row],[Building Component]]=\"Floor Above Garage\",Table5ca[[#This Row],[Building Component]]=\"Floor Above Garage Columns\")),3,\n\nIF(AND($C$6=\"Prescriptive\",OR($C$8=\"Version 1\",$C$8=\"Version 1.1\"),Table5ca[[#This Row],[Building Component]]=\"Basement Wall Continuous Insulation\"),3,\nIF(AND($C$6=\"Prescriptive\",OR($C$8=\"Version 1\",$C$8=\"Version 1.1\"),Table5ca[[#This Row],[Building Component]]=\"Slab Insulation\"),1,\n\nIF(OR(Table5ca[[#This Row],[Component Type]]=\"Insulation entirely above deck\",Table5ca[[#This Row],[Component Type]]=\"Mass\",Table5ca[[#This Row],[Component Type]]=\"Below grade wall\",Table5ca[[#This Row],[Component Type]]=\"Unheated slabs\",Table5ca[[#This Row],[Component Type]]=\"Floor Above Garage\"),1,\nIF(OR(Table5ca[[#This Row],[Component Type]]=\"Metal buildings\",Table5ca[[#This Row],[Component Type]]=\"Metal building\",Table5ca[[#This Row],[Component Type]]=\"Joist/framing\",Table5ca[[#This Row],[Component Type]]=\"Heated slabs\",Table5ca[[#This Row],[Component Type]]=\"Floor Above Garage\"),2,\nIF(OR(Table5ca[[#This Row],[Component Type]]=\"Attic and other\",Table5ca[[#This Row],[Component Type]]=\"Metal framed\"),3,\nIF(OR(Table5ca[[#This Row],[Component Type]]=\"Wood framed and other\",Table5ca[[#This Row],[Building Component]]=\"Floor Assembly\",Table5ca[[#This Row],[Building Component]]=\"Floor Above Garage\",Table5ca[[#This Row],[Building Component]]=\"Floor Above Garage Columns\"),4,\nIF(Table5ca[[#This Row],[Building Component]]=\"Wall Assembly\",5,\nIF(Table5ca[[#This Row],[Building Component]]=\"Ceiling Assembly\",6,\n\nIF(Table5ca[[#This Row],[Lookup Table Pt2]]=\"IECC2009_Fenestration_NotAW_Windows\",1,\nIF(AND(Table5ca[[#This Row],[Lookup Table Pt2]]=\"IECC2009_Fenestration_AW_Windows\",OR(Table5ca[[#This Row],[Additional Component Details]]=\"Non-Metal\",Table5ca[[#This Row],[Component Type]]=\"Non-Metal\")),1,\nIF(AND(Table5ca[[#This Row],[Lookup Table Pt2]]=\"IECC2009_Fenestration_AW_Windows\",OR(Table5ca[[#This Row],[Additional Component Details]]=\"Metal - Curtainwall/storefront\",Table5ca[[#This Row],[Component Type]]=\"Metal - Curtainwall/storefront\")),2,\nIF(AND(Table5ca[[#This Row],[Lookup Table Pt2]]=\"IECC2009_Fenestration_AW_Windows\",OR(Table5ca[[#This Row],[Additional Component Details]]=\"Metal - Entrance door\",Table5ca[[#This Row],[Component Type]]=\"Metal - Entrance door\")),3,\nIF(AND(Table5ca[[#This Row],[Lookup Table Pt2]]=\"IECC2009_Fenestration_AW_Windows\",OR(Table5ca[[#This Row],[Additional Component Details]]=\"Metal - Other\",Table5ca[[#This Row],[Component Type]]=\"Metal - Entrance door\")),4,\nIF(AND(Table5ca[[#This Row],[Lookup Table Pt2]]=\"IECC2009_Fenestration_AW_Windows\",Table5ca[[#This Row],[Component Type]]=\"Metal - Other\"),4,\n\nIF(AND(OR(Table5ca[[#This Row],[Lookup Table Pt1]]=\"ESRefDesign_FenestrationAW_V1\",Table5ca[[#This Row],[Lookup Table Pt1]]=\"ESRefDesign_FenestrationAW_V11\",Table5ca[[#This Row],[Lookup Table Pt1]]=\"ESRefDesign_FenestrationAW_V12\"),OR(Table5ca[[#This Row],[Component Type]]=\"Fixed\",Table5ca[[#This Row],[Additional Component Details]]=\"Fixed\")),1,\nIF(AND(OR(Table5ca[[#This Row],[Lookup Table Pt1]]=\"ESRefDesign_FenestrationAW_V1\",Table5ca[[#This Row],[Lookup Table Pt1]]=\"ESRefDesign_FenestrationAW_V11\",Table5ca[[#This Row],[Lookup Table Pt1]]=\"ESRefDesign_FenestrationAW_V12\"),OR(Table5ca[[#This Row],[Component Type]]=\"Operable\",Table5ca[[#This Row],[Additional Component Details]]=\"Operable\")),2,\n\nIF(AND(OR(Table5ca[[#This Row],[Lookup Table Pt1]]=\"ESRefDesign_Fenestration_V1\",Table5ca[[#This Row],[Lookup Table Pt1]]=\"ESRefDesign_Fenestration_V11\",Table5ca[[#This Row],[Lookup Table Pt1]]=\"ESRefDesign_Fenestration_V12\"),Table5ca[[#This Row],[Additional Component Details]]=\"Window\"),1,\nIF(AND(OR(Table5ca[[#This Row],[Lookup Table Pt1]]=\"ESRefDesign_Fenestration_V1\",Table5ca[[#This Row],[Lookup Table Pt1]]=\"ESRefDesign_Fenestration_V11\",Table5ca[[#This Row],[Lookup Table Pt1]]=\"ESRefDesign_Fenestration_V12\"),Table5ca[[#This Row],[Additional Component Details]]=\"Opaque Door\"),3,\nIF(AND(OR(Table5ca[[#This Row],[Lookup Table Pt1]]=\"ESRefDesign_Fenestration_V1\",Table5ca[[#This Row],[Lookup Table Pt1]]=\"ESRefDesign_Fenestration_V11\",Table5ca[[#This Row],[Lookup Table Pt1]]=\"ESRefDesign_Fenestration_V12\"),Table5ca[[#This Row],[Additional Component Details]]=\"≤½ lite Door\"),4,\nIF(AND(OR(Table5ca[[#This Row],[Lookup Table Pt1]]=\"ESRefDesign_Fenestration_V1\",Table5ca[[#This Row],[Lookup Table Pt1]]=\"ESRefDesign_Fenestration_V11\",Table5ca[[#This Row],[Lookup Table Pt1]]=\"ESRefDesign_Fenestration_V12\"),Table5ca[[#This Row],[Additional Component Details]]=\">½ lite Door\"),5,\n\n\n\"\"))))))))))))))))))))))))))))))","v":""},{"$f":"IF(AND($C$8=\"Version 1.2 OR+WA\",$C$6=\"Prescriptive\",Table5ca[[#This Row],[Building Component]]<>\"Fenestration\"),2,\n\nIF(AND($C$8=\"Version 1.2 OR+WA\",$C$6=\"Prescriptive\",$C$7=\"CZ 4 C\"),2,\nIF(AND($C$8=\"Version 1.2 OR+WA\",$C$6=\"Prescriptive\",$C$7=\"CZ 5\"),3,\nIF(AND($C$8=\"Version 1.2 OR+WA\",$C$6=\"Prescriptive\",$C$7=\"CZ 6\"),4,\n\nIF(AND($C$8=\"Version 1.2 OR+WA\",Table5ca[[#This Row],[Dwelling or Common?]]=\"Common\",OR($C$6=\"ERI\",$C$6=\"Title 24 - Dwelling Unit Models\"),$C$7=\"CZ 4 C\"),2,\nIF(AND($C$8=\"Version 1.2 OR+WA\",Table5ca[[#This Row],[Dwelling or Common?]]=\"Common\",OR($C$6=\"ERI\",$C$6=\"Title 24 - Dwelling Unit Models\"),$C$7=\"CZ 5\"),3,\nIF(AND($C$8=\"Version 1.2 OR+WA\",Table5ca[[#This Row],[Dwelling or Common?]]=\"Common\",OR($C$6=\"ERI\",$C$6=\"Title 24 - Dwelling Unit Models\"),$C$7=\"CZ 6\"),4,\n\nIF($C$7=\"CZ 1\",2,\nIF($C$7=\"CZ 2\",3,\nIF($C$7=\"CZ 3\",4,\nIF($C$7=\"CZ 4\",5,\nIF($C$7=\"CZ 4 C\",6,\nIF($C$7=\"CZ 5\",7,\nIF($C$7=\"CZ 6\",8,\nIF($C$7=\"CZ 7\",9,\nIF($C$7=\"CZ 8\",10,\"\"))))))))))))))))","v":5}]
[null,null,null,null,null,null,null,{"$f":"IF(Table5ca[[#This Row],[Specified/Installed U-Factor]]*Table5ca[[#This Row],[Area]]=0,\"\",Table5ca[[#This Row],[Specified/Installed U-Factor]]*Table5ca[[#This Row],[Area]])","v":""},{"$f":"IFERROR(IF(AND($C$8=\"Version 1.2 OR+WA\",OR($C$7=\"CZ 1\",$C$7=\"CZ 2\",$C$7=\"CZ 3\",$C$7=\"CZ 4\",$C$7=\"CZ 7\",$C$7=\"CZ 8\")),\"N/A - Update CZ\",\n\nIF(Table5ca[[#This Row],[Building Component]]=\"Balcony\",\"0.20\",\n\nIF(OR(Table5ca[[#This Row],[Lookup Table Pt1]]=\"ESRefDesign_Insulation_V1\",Table5ca[[#This Row],[Lookup Table Pt1]]=\"ESRefDesign_Insulation_V11\",Table5ca[[#This Row],[Lookup Table Pt1]]=\"ESRefDesign_Insulation_V12\",Table5ca[[#This Row],[Lookup Table Pt1]]=\"ESRefDesign_FenestrationAW_V1\",Table5ca[[#This Row],[Lookup Table Pt1]]=\"ESRefDesign_FenestrationAW_V11\",Table5ca[[#This Row],[Lookup Table Pt1]]=\"ESRefDesign_Fenestration_V1\",Table5ca[[#This Row],[Lookup Table Pt1]]=\"ESRefDesign_Fenestration_V11\",Table5ca[[#This Row],[Lookup Table Pt1]]=\"ESRefDesign_Fenestration_V12\",Table5ca[[#This Row],[Lookup Table Pt1]]=\"ESRefDesign_FenestrationAW_V12\",Table5ca[[#This Row],[Lookup Table Pt1]]=\"IECC2009_Fenestration_NotAW_Windows\",Table5ca[[#This Row],[Lookup Table Pt1]]=\"IECC2009_Fenestration_AW_Windows\"),INDEX(INDIRECT(Table5ca[[#This Row],[Lookup Table Pt1]]),Table5ca[[#This Row],[Row Index]],Table5ca[[#This Row],[Column Index]]),\n\nINDEX(INDIRECT(Table5ca[[#This Row],[Lookup Table Pt2]]),Table5ca[[#This Row],[Row Index]],Table5ca[[#This Row],[Column Index]])))),\"\")","v":""},{"$f":"IFERROR(\n\nIF(LEFT(Table5ca[[#This Row],[ENERGY STAR Requirement Values]],2)=\"U-\",Table5ca[[#This Row],[ENERGY STAR Requirement Values]],\n\nIF(OR(Table5ca[[#This Row],[Building Component]]=\"Slab Insulation\",Table5ca[[#This Row],[Building Component]]=\"Slab-On-Grade Floor\",Table5ca[[#This Row],[Building Component]]=\"Slab-On-Grade Floors\",Table5ca[[#This Row],[Building Component]]=\"On-Grade & Below Grade Slab\",Table5ca[[#This Row],[Building Component]]=\"Slab-on-Grade Floors\",Table5ca[[#This Row],[Building Component]]=\"Slab-on-Grade Floor\"),\"\",\n\nIF(OR(Table5ca[[#This Row],[ENERGY STAR Requirement Values]]=\"R-0\",Table5ca[[#This Row],[ENERGY STAR Requirement Values]]=0,Table5ca[[#This Row],[ENERGY STAR Requirement Values]]=\"C-1.140\"),\"U-0.36\",\nIF(OR(Table5ca[[#This Row],[ENERGY STAR Requirement Values]]=\"R-7.5\",Table5ca[[#This Row],[ENERGY STAR Requirement Values]]=7.5,Table5ca[[#This Row],[ENERGY STAR Requirement Values]]=\"C-0.119\"),\"U-0.072\",\nIF(OR(Table5ca[[#This Row],[ENERGY STAR Requirement Values]]=\"R-10\",Table5ca[[#This Row],[ENERGY STAR Requirement Values]]=10,Table5ca[[#This Row],[ENERGY STAR Requirement Values]]=\"C-0.092\"),\"U-0.059\",\nIF(OR(Table5ca[[#This Row],[ENERGY STAR Requirement Values]]=\"R-15\",Table5ca[[#This Row],[ENERGY STAR Requirement Values]]=15,Table5ca[[#This Row],[ENERGY STAR Requirement Values]]=\"R-15 continuous or R-21 cavity\"),\"U-0.05\",\nIF(OR(Table5ca[[#This Row],[ENERGY STAR Requirement Values]]=\"R-12.5\",Table5ca[[#This Row],[ENERGY STAR Requirement Values]]=12.5,Table5ca[[#This Row],[ENERGY STAR Requirement Values]]=\"C-0.075\"),\"U-0.054\",\nIF(OR(Table5ca[[#This Row],[ENERGY STAR Requirement Values]]=\"R-21\",Table5ca[[#This Row],[ENERGY STAR Requirement Values]]=21),\"U-0.056\",\nIF(OR(Table5ca[[#This Row],[ENERGY STAR Requirement Values]]=\"R-38\",Table5ca[[#This Row],[ENERGY STAR Requirement Values]]=38),\"U-0.028\",\nIF(OR(Table5ca[[#This Row],[ENERGY STAR Requirement Values]]=\"R-49\",Table5ca[[#This Row],[ENERGY STAR Requirement Values]]=49),\"U-0.026\",\n\nIF(LEFT(Table5ca[[#This Row],[ENERGY STAR Requirement Values]],2)=\"F-\",\"\",\n\nIF(LEFT(Table5ca[[#This Row],[ENERGY STAR Requirement Values]],1)=\"0\",CONCATENATE(\"U-\",Table5ca[[#This Row],[ENERGY STAR Requirement Values]]),\n\nTable5ca[[#This Row],[ENERGY STAR Requirement Values]])))))))))))),\"\")","v":""},{"$f":"IFERROR(IF(Table5ca[[#This Row],[Area]]=\"\",\"\",\nIF(Table5ca[[#This Row],[Required U-factor]]=\"\",\"\",\nIFERROR(Table5ca[[#This Row],[Area]]*Table5ca[[#This Row],[Required U-factor]],RIGHT(Table5ca[[#This Row],[Required U-factor]],LEN(Table5ca[[#This Row],[Required U-factor]])-2)*Table5ca[[#This Row],[Area]]))),\"\")","v":""},{"$f":"IF(Table5ca[[#This Row],[Building Component]]=\"\",\"\",\nIF(OR(Table5ca[[#This Row],[Building Component]]=\"Wall, Above Grade\",Table5ca[[#This Row],[Building Component]]=\"Wall, Below Grade\"),\"If there is continuous insulation interrupted by fasteners, ensure that the U-factor has been de-rated per Footnote 24. See below for further details.\",\nIF(Table5ca[[#This Row],[Building Component]]=\"Wall Assembly\",\"Apply a derate per Footnote 6 below.\",\nIF(Table5ca[[#This Row],[Building Component]]=\"Balcony\",\"Use the table below to de-rate balconies per Footnote 21.\",\nIF(OR(Table5ca[[#This Row],[Building Component]]=\"Floor Above Garage\",Table5ca[[#This Row],[Building Component]]=\"Floor Above Garage Columns\"),\"Use the table below to De-Rate floors above garages per Footnote 22.\",\n\"Not Applicable\")))))","v":""},null,null,null,null,null,null,{"$f":"IF(AND(Table5ca[[#This Row],[Dwelling or Common?]]=\"Dwelling\",$C$6=\"Prescriptive\",$C$8=\"Version 1.2 OR+WA\"),\"BuildingComponents_ESRefListV12_UABuildingComponents\",\nIF(AND($C$8=\"Version 1.2 OR+WA\",OR($C$6=\"Prescriptive\",$C$6=\"ERI\",$C$6=\"Title 24 - Dwelling Units Models\"),Table5ca[[#This Row],[Dwelling or Common?]]=\"Common\"),\"BuildingComponents_ESRefListV12_UABuildingComponents\",\n\nIF(AND($C$6=\"Prescriptive\",Table5ca[[#This Row],[Dwelling or Common?]]=\"Dwelling\"),\"PrescriptivePath_UABuildingComponents\",\n\n\"ERI_AHSRAE_UABuildingComponents\")))","v":"ERI_AHSRAE_UABuildingComponents"},{"$f":"IF(AND($C$6<>\"Prescriptive\",OR(Table5ca[[#This Row],[Building Component]]=\"Floor Assembly\",Table5ca[[#This Row],[Building Component]]=\"Floor Above Garage\",Table5ca[[#This Row],[Building Component]]=\"Floor Above Garage Columns\")),\"Floor\",\nIF(AND($C$6=\"Prescriptive\",Table5ca[[#This Row],[Dwelling or Common?]]=\"Common\",OR(Table5ca[[#This Row],[Building Component]]=\"Floor Assembly\",Table5ca[[#This Row],[Building Component]]=\"Floor Above Garage\",Table5ca[[#This Row],[Building Component]]=\"Floor Above Garage Columns\")),\"Floor\",\n\nIF(Table5ca[[#This Row],[Building Component]]=\"Roofs\",\"Roof\",\nIF(Table5ca[[#This Row],[Building Component]]=\"Walls, Above Grade\",\"WallAboveGrade\",\nIF(Table5ca[[#This Row],[Building Component]]=\"Walls, Below Grade\",\"WallBelowGrade\",\nIF(AND(Table5ca[[#This Row],[Building Component]]=\"Floor Assembly\",$C$6<>\"Prescriptive\"),\"Floor\",\nIF(Table5ca[[#This Row],[Building Component]]=\"Slab-on-Grade Floors\",\"SlabOnGradeFloor\",\nIF(Table5ca[[#This Row],[Building Component]]=\"Opaque Doors\",\"OpaqueDoor\",\nIF(Table5ca[[#This Row],[Building Component]]=\"Balcony\",\"Balcony\",\nIF(AND(Table5ca[[#This Row],[Building Component]]=\"Floor Above Garage\",$C$6=\"Prescriptive\"),\"FloorAssembly\",\nIF(Table5ca[[#This Row],[Building Component]]=\"Floor Above Garage\",\"FloorAboveGarage\",\nIF(Table5ca[[#This Row],[Building Component]]=\"Wall Assembly\",\"WallAssembly\",\nIF(Table5ca[[#This Row],[Building Component]]=\"Ceiling Assembly\",\"CeilingAssembly\",\nIF(OR(Table5ca[[#This Row],[Building Component]]=\"Floor Assembly\",Table5ca[[#This Row],[Building Component]]=\"Floor Above Garage\",Table5ca[[#This Row],[Building Component]]=\"Floor Above Garage Columns\"),\"FloorAssembly\",\n\nIF(AND(Table5ca[[#This Row],[Building Component]]=\"Fenestration\",Table5ca[[#This Row],[Dwelling or Common?]]=\"Dwelling\"),\"ClassAW?\",\n\nIF(AND(Table5ca[[#This Row],[Building Component]]=\"Fenestration\",Table5ca[[#This Row],[Dwelling or Common?]]=\"Common\",OR($C$6=\"ERI\",$C$6=\"Title 24 - Dwelling Unit Models\",$C$6=\"Prescriptive\")),\"ESRefClassAW\",\nIF(AND(Table5ca[[#This Row],[Building Component]]=\"Fenestration\",Table5ca[[#This Row],[Dwelling or Common?]]=\"Common\",OR($C$6=\"ASHRAE\",$C$6=\"Title 24 - Whole Building Models\")),\"Fenestration\",\n\n\"NotApplicable\")))))))))))))))))","v":"NotApplicable"},{"$f":"IF(AND(OR($C$6=\"ERI\",$C$6=\"Title 24 - Dwelling Unit Models\"),Table5ca[[#This Row],[Dwelling or Common?]]=\"Dwelling\",Table5ca[[#This Row],[Component Type]]=\"Class AW\"),\"Fenestration\",\nIF(AND(OR($C$6=\"ERI\",$C$6=\"Title 24 - Dwelling Unit Models\"),Table5ca[[#This Row],[Dwelling or Common?]]=\"Dwelling\",Table5ca[[#This Row],[Component Type]]=\"Not Class AW\"),\"NotApplicable\",\n\nIF(AND(OR($C$6=\"ASHRAE\",$C$6=\"Title 24 - Whole Building Models\"),Table5ca[[#This Row],[Dwelling or Common?]]=\"Dwelling\",Table5ca[[#This Row],[Component Type]]=\"Class AW\"),\"Fenestration\",\nIF(AND(OR($C$6=\"ASHRAE\",$C$6=\"Title 24 - Whole Building Models\"),Table5ca[[#This Row],[Dwelling or Common?]]=\"Dwelling\",Table5ca[[#This Row],[Component Type]]=\"Not Class AW\"),\"NotApplicable\",\n\nIF(AND($C$6=\"Prescriptive\",Table5ca[[#This Row],[Dwelling or Common?]]=\"Dwelling\",Table5ca[[#This Row],[Component Type]]=\"Class AW\"),\"ESRefClassAW\",\nIF(AND($C$6=\"Prescriptive\",Table5ca[[#This Row],[Dwelling or Common?]]=\"Dwelling\",Table5ca[[#This Row],[Component Type]]=\"Not Class AW\"),\"ESRefNotClassAW\",\n\nIF(Table5ca[[#This Row],[Component Type]]=\"Class AW\",\"Fenestration\",\n\n\"NotApplicable\")))))))","v":"NotApplicable"},{"$f":"IF(AND(Table5ca[[#This Row],[Dwelling or Common?]]=\"Dwelling\",$C$8=\"Version 1\",$C$6=\"Prescriptive\",Table5ca[[#This Row],[Building Component]]<>\"Fenestration\"),\"ESRefDesign_Insulation_V1\",\nIF(AND(Table5ca[[#This Row],[Dwelling or Common?]]=\"Dwelling\",$C$8=\"Version 1.1\",$C$6=\"Prescriptive\",Table5ca[[#This Row],[Building Component]]<>\"Fenestration\"),\"ESRefDesign_Insulation_V11\",\nIF(AND($C$8=\"Version 1.2 OR+WA\",$C$6=\"Prescriptive\",Table5ca[[#This Row],[Building Component]]<>\"Fenestration\"),\"ESRefDesign_Insulation_V12\",\n\nIF(AND(Table5ca[[#This Row],[Dwelling or Common?]]=\"Common\",$C$8=\"Version 1.2 OR+WA\",OR($C$6=\"ERI\",$C$6=\"Title 24 - Dwelling Unit Models\"),Table5ca[[#This Row],[Building Component]]<>\"Fenestration\"),\"ESRefDesign_Insulation_V12\",\nIF(AND(Table5ca[[#This Row],[Dwelling or Common?]]=\"Common\",$C$8=\"Version 1.2 OR+WA\",OR($C$6=\"ASHRAE\",$C$6=\"Title 24 - Whole Building Models\"),Table5ca[[#This Row],[Building Component]]<>\"Fenestration\"),\"IECC2009_OU\",\nIF(AND(Table5ca[[#This Row],[Dwelling or Common?]]=\"Dwelling\",$C$8=\"Version 1.2 OR+WA\",OR($C$6=\"ERI\",$C$6=\"Title 24 - Dwelling Unit Models\",$C$6=\"ASHRAE\",$C$6=\"Title 24 - Whole Building Models\"),Table5ca[[#This Row],[Building Component]]<>\"Fenestration\"),\"IECC2009_RU\",\n\nIF(AND(Table5ca[[#This Row],[Dwelling or Common?]]=\"Common\",$C$8=\"Version 1\",Table5ca[[#This Row],[Building Component]]<>\"Fenestration\"),\"IECC2009_OU\",\nIF(AND(Table5ca[[#This Row],[Dwelling or Common?]]=\"Common\",$C$8=\"Version 1.1\",OR($C$6=\"ASHRAE\",$C$6=\"Title 24 - Whole Building Models\"),Table5ca[[#This Row],[Building Component]]<>\"Fenestration\"),\"IECC2009_OU\",\nIF(AND(Table5ca[[#This Row],[Dwelling or Common?]]=\"Common\",$C$8=\"Version 1.1\",OR($C$6=\"Prescriptive\",$C$6=\"ERI\",$C$6=\"Title 24 - Dwelling Unit Models\"),Table5ca[[#This Row],[Building Component]]<>\"Fenestration\"),\"IECC2012_OU\",\n\nIF(AND(Table5ca[[#This Row],[Dwelling or Common?]]=\"Dwelling\",OR($C$8=\"Version 1\",$C$8=\"Version 1.1\",),OR($C$6=\"ERI\",$C$6=\"ASHRAE\",$C$6=\"Title 24 - Whole Building Models\",$C$6=\"Title 24 - Dwelling Unit Models\"),Table5ca[[#This Row],[Building Component]]<>\"Fenestration\"),\"IECC2009_RU\",\n\n\nIF(AND(Table5ca[[#This Row],[Building Component]]=\"Fenestration\",Table5ca[[#This Row],[Dwelling or Common?]]=\"Common\",OR($C$6=\"Prescriptive\",$C$6=\"ERI\",$C$6=\"Title 24 - Dwelling Unit Models\"),$C$8=\"Version 1\"),\"ESRefDesign_FenestrationAW_V1\",\nIF(AND(Table5ca[[#This Row],[Building Component]]=\"Fenestration\",Table5ca[[#This Row],[Dwelling or Common?]]=\"Common\",OR($C$6=\"Prescriptive\",$C$6=\"ERI\",$C$6=\"Title 24 - Dwelling Unit Models\"),$C$8=\"Version 1.1\"),\"ESRefDesign_FenestrationAW_V11\",\nIF(AND(Table5ca[[#This Row],[Building Component]]=\"Fenestration\",Table5ca[[#This Row],[Dwelling or Common?]]=\"Common\",OR($C$6=\"Prescriptive\",$C$6=\"ERI\",$C$6=\"Title 24 - Dwelling Unit Models\"),$C$8=\"Version 1.2 OR+WA\"),\"ESRefDesign_FenestrationAW_V12\",\n\nIF(AND(Table5ca[[#This Row],[Building Component]]=\"Fenestration\",Table5ca[[#This Row],[Dwelling or Common?]]=\"Common\",OR($C$6=\"ASHRAE\",$C$6=\"Title 24 - Whole Building Models\")),\"IECC2009_Fenestration_AW_Windows\",\nIF(AND(Table5ca[[#This Row],[Building Component]]=\"Fenestration\",Table5ca[[#This Row],[Dwelling or Common?]]=\"Dwelling\",Table5ca[[#This Row],[Component Type]]=\"Class AW\",OR($C$6=\"ASHRAE\",$C$6=\"Title 24 - Whole Building Models\",$C$6=\"ERI\",$C$6=\"Title 24 - Dwelling Unit Models\")),\"IECC2009_Fenestration_AW_Windows\",\n\nIF(AND(Table5ca[[#This Row],[Building Component]]=\"Fenestration\",Table5ca[[#This Row],[Dwelling or Common?]]=\"Dwelling\",$C$6=\"Prescriptive\",$C$8=\"Version 1\",Table5ca[[#This Row],[Component Type]]=\"Class AW\"),\"ESRefDesign_FenestrationAW_V1\",\nIF(AND(Table5ca[[#This Row],[Building Component]]=\"Fenestration\",Table5ca[[#This Row],[Dwelling or Common?]]=\"Dwelling\",$C$6=\"Prescriptive\",$C$8=\"Version 1.1\",Table5ca[[#This Row],[Component Type]]=\"Class AW\"),\"ESRefDesign_FenestrationAW_V11\",\nIF(AND(Table5ca[[#This Row],[Building Component]]=\"Fenestration\",Table5ca[[#This Row],[Dwelling or Common?]]=\"Dwelling\",$C$6=\"Prescriptive\",$C$8=\"Version 1.2 OR+WA\",Table5ca[[#This Row],[Component Type]]=\"Class AW\"),\"ESRefDesign_FenestrationAW_V12\",\n\nIF(AND(Table5ca[[#This Row],[Building Component]]=\"Fenestration\",Table5ca[[#This Row],[Dwelling or Common?]]=\"Dwelling\",$C$6=\"Prescriptive\",$C$8=\"Version 1\",Table5ca[[#This Row],[Component Type]]=\"Not Class AW\"),\"ESRefDesign_Fenestration_V1\",\nIF(AND(Table5ca[[#This Row],[Building Component]]=\"Fenestration\",Table5ca[[#This Row],[Dwelling or Common?]]=\"Dwelling\",$C$6=\"Prescriptive\",$C$8=\"Version 1.1\",Table5ca[[#This Row],[Component Type]]=\"Not Class AW\"),\"ESRefDesign_Fenestration_V11\",\nIF(AND(Table5ca[[#This Row],[Building Component]]=\"Fenestration\",Table5ca[[#This Row],[Dwelling or Common?]]=\"Dwelling\",$C$6=\"Prescriptive\",$C$8=\"Version 1.2 OR+WA\",Table5ca[[#This Row],[Component Type]]=\"Not Class AW\"),\"ESRefDesign_Fenestration_V12\",\n\nIF(AND(Table5ca[[#This Row],[Building Component]]=\"Fenestration\",Table5ca[[#This Row],[Dwelling or Common?]]=\"Dwelling\"),\"IECC2009_Fenestration_NotAW_Windows\",\n\n\"\"))))))))))))))))))))))","v":""},{"$f":"IF(OR(Table5ca[[#This Row],[Lookup Table Pt1]]=\"ESRefDesign_Insulation_V1\",Table5ca[[#This Row],[Lookup Table Pt1]]=\"ESRefDesign_Insulation_V11\",Table5ca[[#This Row],[Lookup Table Pt1]]=\"IECC2009_Fenestration_NotAW_Windows\",Table5ca[[#This Row],[Lookup Table Pt1]]=\"IECC2009_Fenestration_AW_Windows\",Table5ca[[#This Row],[Lookup Table Pt1]]=\"ESRefDesign_FenestrationAW_V1\",Table5ca[[#This Row],[Lookup Table Pt1]]=\"ESRefDesign_FenestrationAW_V11\",Table5ca[[#This Row],[Lookup Table Pt1]]=\"ESRefDesign_Fenestration_V1\",Table5ca[[#This Row],[Lookup Table Pt1]]=\"ESRefDesign_Fenestration_V11\"),Table5ca[[#This Row],[Lookup Table Pt1]],\n\nIF(Table5ca[[#This Row],[Component_Lookup]]=\"FloorAboveGarage\",Table5ca[[#This Row],[Lookup Table Pt1]]&\"_Floor\",\n\nTable5ca[[#This Row],[Lookup Table Pt1]]&\"_\"&Table5ca[[#This Row],[Component_Lookup]]))","v":"_NotApplicable"},{"$f":"IF(AND($C$8=\"Version 1.2 OR+WA\",$C$6=\"Prescriptive\",Table5ca[[#This Row],[Building Component]]=\"Above-Grade Wall\"),1,\nIF(AND($C$8=\"Version 1.2 OR+WA\",$C$6=\"Prescriptive\",Table5ca[[#This Row],[Building Component]]=\"Ceiling\"),2,\nIF(AND($C$8=\"Version 1.2 OR+WA\",$C$6=\"Prescriptive\",Table5ca[[#This Row],[Building Component]]=\"Basement Wall\"),4,\nIF(AND($C$8=\"Version 1.2 OR+WA\",$C$6=\"Prescriptive\",Table5ca[[#This Row],[Building Component]]=\"On-Grade & Below Grade Slab\"),5,\nIF(AND($C$8=\"Version 1.2 OR+WA\",$C$6=\"Prescriptive\",OR(Table5ca[[#This Row],[Building Component]]=\"Floor Assembly\",Table5ca[[#This Row],[Building Component]]=\"Floor Above Garage\",Table5ca[[#This Row],[Building Component]]=\"Floor Above Garage Columns\")),3,\n\nIF(AND($C$8=\"Version 1.2 OR+WA\",OR($C$6=\"Prescriptive\",$C$6=\"ERI\",$C$6=\"Title 24 - Dwelling Units Models\"),Table5ca[[#This Row],[Dwelling or Common?]]=\"Common\",Table5ca[[#This Row],[Building Component]]=\"Above-Grade Wall\"),1,\nIF(AND($C$8=\"Version 1.2 OR+WA\",OR($C$6=\"Prescriptive\",$C$6=\"ERI\",$C$6=\"Title 24 - Dwelling Units Models\"),Table5ca[[#This Row],[Dwelling or Common?]]=\"Common\",Table5ca[[#This Row],[Building Component]]=\"Ceiling\"),2,\nIF(AND($C$8=\"Version 1.2 OR+WA\",OR($C$6=\"Prescriptive\",$C$6=\"ERI\",$C$6=\"Title 24 - Dwelling Units Models\"),Table5ca[[#This Row],[Dwelling or Common?]]=\"Common\",Table5ca[[#This Row],[Building Component]]=\"Basement Wall\"),4,\nIF(AND($C$8=\"Version 1.2 OR+WA\",OR($C$6=\"Prescriptive\",$C$6=\"ERI\",$C$6=\"Title 24 - Dwelling Units Models\"),Table5ca[[#This Row],[Dwelling or Common?]]=\"Common\",Table5ca[[#This Row],[Building Component]]=\"On-Grade & Below Grade Slab\"),5,\nIF(AND($C$8=\"Version 1.2 OR+WA\",OR($C$6=\"Prescriptive\",$C$6=\"ERI\",$C$6=\"Title 24 - Dwelling Units Models\"),Table5ca[[#This Row],[Dwelling or Common?]]=\"Common\",OR(Table5ca[[#This Row],[Building Component]]=\"Floor Assembly\",Table5ca[[#This Row],[Building Component]]=\"Floor Above Garage\",Table5ca[[#This Row],[Building Component]]=\"Floor Above Garage Columns\")),3,\n\nIF(AND($C$6=\"Prescriptive\",OR($C$8=\"Version 1\",$C$8=\"Version 1.1\"),Table5ca[[#This Row],[Building Component]]=\"Basement Wall Continuous Insulation\"),3,\nIF(AND($C$6=\"Prescriptive\",OR($C$8=\"Version 1\",$C$8=\"Version 1.1\"),Table5ca[[#This Row],[Building Component]]=\"Slab Insulation\"),1,\n\nIF(OR(Table5ca[[#This Row],[Component Type]]=\"Insulation entirely above deck\",Table5ca[[#This Row],[Component Type]]=\"Mass\",Table5ca[[#This Row],[Component Type]]=\"Below grade wall\",Table5ca[[#This Row],[Component Type]]=\"Unheated slabs\",Table5ca[[#This Row],[Component Type]]=\"Floor Above Garage\"),1,\nIF(OR(Table5ca[[#This Row],[Component Type]]=\"Metal buildings\",Table5ca[[#This Row],[Component Type]]=\"Metal building\",Table5ca[[#This Row],[Component Type]]=\"Joist/framing\",Table5ca[[#This Row],[Component Type]]=\"Heated slabs\",Table5ca[[#This Row],[Component Type]]=\"Floor Above Garage\"),2,\nIF(OR(Table5ca[[#This Row],[Component Type]]=\"Attic and other\",Table5ca[[#This Row],[Component Type]]=\"Metal framed\"),3,\nIF(OR(Table5ca[[#This Row],[Component Type]]=\"Wood framed and other\",Table5ca[[#This Row],[Building Component]]=\"Floor Assembly\",Table5ca[[#This Row],[Building Component]]=\"Floor Above Garage\",Table5ca[[#This Row],[Building Component]]=\"Floor Above Garage Columns\"),4,\nIF(Table5ca[[#This Row],[Building Component]]=\"Wall Assembly\",5,\nIF(Table5ca[[#This Row],[Building Component]]=\"Ceiling Assembly\",6,\n\nIF(Table5ca[[#This Row],[Lookup Table Pt2]]=\"IECC2009_Fenestration_NotAW_Windows\",1,\nIF(AND(Table5ca[[#This Row],[Lookup Table Pt2]]=\"IECC2009_Fenestration_AW_Windows\",OR(Table5ca[[#This Row],[Additional Component Details]]=\"Non-Metal\",Table5ca[[#This Row],[Component Type]]=\"Non-Metal\")),1,\nIF(AND(Table5ca[[#This Row],[Lookup Table Pt2]]=\"IECC2009_Fenestration_AW_Windows\",OR(Table5ca[[#This Row],[Additional Component Details]]=\"Metal - Curtainwall/storefront\",Table5ca[[#This Row],[Component Type]]=\"Metal - Curtainwall/storefront\")),2,\nIF(AND(Table5ca[[#This Row],[Lookup Table Pt2]]=\"IECC2009_Fenestration_AW_Windows\",OR(Table5ca[[#This Row],[Additional Component Details]]=\"Metal - Entrance door\",Table5ca[[#This Row],[Component Type]]=\"Metal - Entrance door\")),3,\nIF(AND(Table5ca[[#This Row],[Lookup Table Pt2]]=\"IECC2009_Fenestration_AW_Windows\",OR(Table5ca[[#This Row],[Additional Component Details]]=\"Metal - Other\",Table5ca[[#This Row],[Component Type]]=\"Metal - Entrance door\")),4,\nIF(AND(Table5ca[[#This Row],[Lookup Table Pt2]]=\"IECC2009_Fenestration_AW_Windows\",Table5ca[[#This Row],[Component Type]]=\"Metal - Other\"),4,\n\nIF(AND(OR(Table5ca[[#This Row],[Lookup Table Pt1]]=\"ESRefDesign_FenestrationAW_V1\",Table5ca[[#This Row],[Lookup Table Pt1]]=\"ESRefDesign_FenestrationAW_V11\",Table5ca[[#This Row],[Lookup Table Pt1]]=\"ESRefDesign_FenestrationAW_V12\"),OR(Table5ca[[#This Row],[Component Type]]=\"Fixed\",Table5ca[[#This Row],[Additional Component Details]]=\"Fixed\")),1,\nIF(AND(OR(Table5ca[[#This Row],[Lookup Table Pt1]]=\"ESRefDesign_FenestrationAW_V1\",Table5ca[[#This Row],[Lookup Table Pt1]]=\"ESRefDesign_FenestrationAW_V11\",Table5ca[[#This Row],[Lookup Table Pt1]]=\"ESRefDesign_FenestrationAW_V12\"),OR(Table5ca[[#This Row],[Component Type]]=\"Operable\",Table5ca[[#This Row],[Additional Component Details]]=\"Operable\")),2,\n\nIF(AND(OR(Table5ca[[#This Row],[Lookup Table Pt1]]=\"ESRefDesign_Fenestration_V1\",Table5ca[[#This Row],[Lookup Table Pt1]]=\"ESRefDesign_Fenestration_V11\",Table5ca[[#This Row],[Lookup Table Pt1]]=\"ESRefDesign_Fenestration_V12\"),Table5ca[[#This Row],[Additional Component Details]]=\"Window\"),1,\nIF(AND(OR(Table5ca[[#This Row],[Lookup Table Pt1]]=\"ESRefDesign_Fenestration_V1\",Table5ca[[#This Row],[Lookup Table Pt1]]=\"ESRefDesign_Fenestration_V11\",Table5ca[[#This Row],[Lookup Table Pt1]]=\"ESRefDesign_Fenestration_V12\"),Table5ca[[#This Row],[Additional Component Details]]=\"Opaque Door\"),3,\nIF(AND(OR(Table5ca[[#This Row],[Lookup Table Pt1]]=\"ESRefDesign_Fenestration_V1\",Table5ca[[#This Row],[Lookup Table Pt1]]=\"ESRefDesign_Fenestration_V11\",Table5ca[[#This Row],[Lookup Table Pt1]]=\"ESRefDesign_Fenestration_V12\"),Table5ca[[#This Row],[Additional Component Details]]=\"≤½ lite Door\"),4,\nIF(AND(OR(Table5ca[[#This Row],[Lookup Table Pt1]]=\"ESRefDesign_Fenestration_V1\",Table5ca[[#This Row],[Lookup Table Pt1]]=\"ESRefDesign_Fenestration_V11\",Table5ca[[#This Row],[Lookup Table Pt1]]=\"ESRefDesign_Fenestration_V12\"),Table5ca[[#This Row],[Additional Component Details]]=\">½ lite Door\"),5,\n\n\n\"\"))))))))))))))))))))))))))))))","v":""},{"$f":"IF(AND($C$8=\"Version 1.2 OR+WA\",$C$6=\"Prescriptive\",Table5ca[[#This Row],[Building Component]]<>\"Fenestration\"),2,\n\nIF(AND($C$8=\"Version 1.2 OR+WA\",$C$6=\"Prescriptive\",$C$7=\"CZ 4 C\"),2,\nIF(AND($C$8=\"Version 1.2 OR+WA\",$C$6=\"Prescriptive\",$C$7=\"CZ 5\"),3,\nIF(AND($C$8=\"Version 1.2 OR+WA\",$C$6=\"Prescriptive\",$C$7=\"CZ 6\"),4,\n\nIF(AND($C$8=\"Version 1.2 OR+WA\",Table5ca[[#This Row],[Dwelling or Common?]]=\"Common\",OR($C$6=\"ERI\",$C$6=\"Title 24 - Dwelling Unit Models\"),$C$7=\"CZ 4 C\"),2,\nIF(AND($C$8=\"Version 1.2 OR+WA\",Table5ca[[#This Row],[Dwelling or Common?]]=\"Common\",OR($C$6=\"ERI\",$C$6=\"Title 24 - Dwelling Unit Models\"),$C$7=\"CZ 5\"),3,\nIF(AND($C$8=\"Version 1.2 OR+WA\",Table5ca[[#This Row],[Dwelling or Common?]]=\"Common\",OR($C$6=\"ERI\",$C$6=\"Title 24 - Dwelling Unit Models\"),$C$7=\"CZ 6\"),4,\n\nIF($C$7=\"CZ 1\",2,\nIF($C$7=\"CZ 2\",3,\nIF($C$7=\"CZ 3\",4,\nIF($C$7=\"CZ 4\",5,\nIF($C$7=\"CZ 4 C\",6,\nIF($C$7=\"CZ 5\",7,\nIF($C$7=\"CZ 6\",8,\nIF($C$7=\"CZ 7\",9,\nIF($C$7=\"CZ 8\",10,\"\"))))))))))))))))","v":5}]
[null,null,null,null,null,null,null,{"$f":"IF(Table5ca[[#This Row],[Specified/Installed U-Factor]]*Table5ca[[#This Row],[Area]]=0,\"\",Table5ca[[#This Row],[Specified/Installed U-Factor]]*Table5ca[[#This Row],[Area]])","v":""},{"$f":"IFERROR(IF(AND($C$8=\"Version 1.2 OR+WA\",OR($C$7=\"CZ 1\",$C$7=\"CZ 2\",$C$7=\"CZ 3\",$C$7=\"CZ 4\",$C$7=\"CZ 7\",$C$7=\"CZ 8\")),\"N/A - Update CZ\",\n\nIF(Table5ca[[#This Row],[Building Component]]=\"Balcony\",\"0.20\",\n\nIF(OR(Table5ca[[#This Row],[Lookup Table Pt1]]=\"ESRefDesign_Insulation_V1\",Table5ca[[#This Row],[Lookup Table Pt1]]=\"ESRefDesign_Insulation_V11\",Table5ca[[#This Row],[Lookup Table Pt1]]=\"ESRefDesign_Insulation_V12\",Table5ca[[#This Row],[Lookup Table Pt1]]=\"ESRefDesign_FenestrationAW_V1\",Table5ca[[#This Row],[Lookup Table Pt1]]=\"ESRefDesign_FenestrationAW_V11\",Table5ca[[#This Row],[Lookup Table Pt1]]=\"ESRefDesign_Fenestration_V1\",Table5ca[[#This Row],[Lookup Table Pt1]]=\"ESRefDesign_Fenestration_V11\",Table5ca[[#This Row],[Lookup Table Pt1]]=\"ESRefDesign_Fenestration_V12\",Table5ca[[#This Row],[Lookup Table Pt1]]=\"ESRefDesign_FenestrationAW_V12\",Table5ca[[#This Row],[Lookup Table Pt1]]=\"IECC2009_Fenestration_NotAW_Windows\",Table5ca[[#This Row],[Lookup Table Pt1]]=\"IECC2009_Fenestration_AW_Windows\"),INDEX(INDIRECT(Table5ca[[#This Row],[Lookup Table Pt1]]),Table5ca[[#This Row],[Row Index]],Table5ca[[#This Row],[Column Index]]),\n\nINDEX(INDIRECT(Table5ca[[#This Row],[Lookup Table Pt2]]),Table5ca[[#This Row],[Row Index]],Table5ca[[#This Row],[Column Index]])))),\"\")","v":""},{"$f":"IFERROR(\n\nIF(LEFT(Table5ca[[#This Row],[ENERGY STAR Requirement Values]],2)=\"U-\",Table5ca[[#This Row],[ENERGY STAR Requirement Values]],\n\nIF(OR(Table5ca[[#This Row],[Building Component]]=\"Slab Insulation\",Table5ca[[#This Row],[Building Component]]=\"Slab-On-Grade Floor\",Table5ca[[#This Row],[Building Component]]=\"Slab-On-Grade Floors\",Table5ca[[#This Row],[Building Component]]=\"On-Grade & Below Grade Slab\",Table5ca[[#This Row],[Building Component]]=\"Slab-on-Grade Floors\",Table5ca[[#This Row],[Building Component]]=\"Slab-on-Grade Floor\"),\"\",\n\nIF(OR(Table5ca[[#This Row],[ENERGY STAR Requirement Values]]=\"R-0\",Table5ca[[#This Row],[ENERGY STAR Requirement Values]]=0,Table5ca[[#This Row],[ENERGY STAR Requirement Values]]=\"C-1.140\"),\"U-0.36\",\nIF(OR(Table5ca[[#This Row],[ENERGY STAR Requirement Values]]=\"R-7.5\",Table5ca[[#This Row],[ENERGY STAR Requirement Values]]=7.5,Table5ca[[#This Row],[ENERGY STAR Requirement Values]]=\"C-0.119\"),\"U-0.072\",\nIF(OR(Table5ca[[#This Row],[ENERGY STAR Requirement Values]]=\"R-10\",Table5ca[[#This Row],[ENERGY STAR Requirement Values]]=10,Table5ca[[#This Row],[ENERGY STAR Requirement Values]]=\"C-0.092\"),\"U-0.059\",\nIF(OR(Table5ca[[#This Row],[ENERGY STAR Requirement Values]]=\"R-15\",Table5ca[[#This Row],[ENERGY STAR Requirement Values]]=15,Table5ca[[#This Row],[ENERGY STAR Requirement Values]]=\"R-15 continuous or R-21 cavity\"),\"U-0.05\",\nIF(OR(Table5ca[[#This Row],[ENERGY STAR Requirement Values]]=\"R-12.5\",Table5ca[[#This Row],[ENERGY STAR Requirement Values]]=12.5,Table5ca[[#This Row],[ENERGY STAR Requirement Values]]=\"C-0.075\"),\"U-0.054\",\nIF(OR(Table5ca[[#This Row],[ENERGY STAR Requirement Values]]=\"R-21\",Table5ca[[#This Row],[ENERGY STAR Requirement Values]]=21),\"U-0.056\",\nIF(OR(Table5ca[[#This Row],[ENERGY STAR Requirement Values]]=\"R-38\",Table5ca[[#This Row],[ENERGY STAR Requirement Values]]=38),\"U-0.028\",\nIF(OR(Table5ca[[#This Row],[ENERGY STAR Requirement Values]]=\"R-49\",Table5ca[[#This Row],[ENERGY STAR Requirement Values]]=49),\"U-0.026\",\n\nIF(LEFT(Table5ca[[#This Row],[ENERGY STAR Requirement Values]],2)=\"F-\",\"\",\n\nIF(LEFT(Table5ca[[#This Row],[ENERGY STAR Requirement Values]],1)=\"0\",CONCATENATE(\"U-\",Table5ca[[#This Row],[ENERGY STAR Requirement Values]]),\n\nTable5ca[[#This Row],[ENERGY STAR Requirement Values]])))))))))))),\"\")","v":""},{"$f":"IFERROR(IF(Table5ca[[#This Row],[Area]]=\"\",\"\",\nIF(Table5ca[[#This Row],[Required U-factor]]=\"\",\"\",\nIFERROR(Table5ca[[#This Row],[Area]]*Table5ca[[#This Row],[Required U-factor]],RIGHT(Table5ca[[#This Row],[Required U-factor]],LEN(Table5ca[[#This Row],[Required U-factor]])-2)*Table5ca[[#This Row],[Area]]))),\"\")","v":""},{"$f":"IF(Table5ca[[#This Row],[Building Component]]=\"\",\"\",\nIF(OR(Table5ca[[#This Row],[Building Component]]=\"Wall, Above Grade\",Table5ca[[#This Row],[Building Component]]=\"Wall, Below Grade\"),\"If there is continuous insulation interrupted by fasteners, ensure that the U-factor has been de-rated per Footnote 24. See below for further details.\",\nIF(Table5ca[[#This Row],[Building Component]]=\"Wall Assembly\",\"Apply a derate per Footnote 6 below.\",\nIF(Table5ca[[#This Row],[Building Component]]=\"Balcony\",\"Use the table below to de-rate balconies per Footnote 21.\",\nIF(OR(Table5ca[[#This Row],[Building Component]]=\"Floor Above Garage\",Table5ca[[#This Row],[Building Component]]=\"Floor Above Garage Columns\"),\"Use the table below to De-Rate floors above garages per Footnote 22.\",\n\"Not Applicable\")))))","v":""},null,null,null,null,null,null,{"$f":"IF(AND(Table5ca[[#This Row],[Dwelling or Common?]]=\"Dwelling\",$C$6=\"Prescriptive\",$C$8=\"Version 1.2 OR+WA\"),\"BuildingComponents_ESRefListV12_UABuildingComponents\",\nIF(AND($C$8=\"Version 1.2 OR+WA\",OR($C$6=\"Prescriptive\",$C$6=\"ERI\",$C$6=\"Title 24 - Dwelling Units Models\"),Table5ca[[#This Row],[Dwelling or Common?]]=\"Common\"),\"BuildingComponents_ESRefListV12_UABuildingComponents\",\n\nIF(AND($C$6=\"Prescriptive\",Table5ca[[#This Row],[Dwelling or Common?]]=\"Dwelling\"),\"PrescriptivePath_UABuildingComponents\",\n\n\"ERI_AHSRAE_UABuildingComponents\")))","v":"ERI_AHSRAE_UABuildingComponents"},{"$f":"IF(AND($C$6<>\"Prescriptive\",OR(Table5ca[[#This Row],[Building Component]]=\"Floor Assembly\",Table5ca[[#This Row],[Building Component]]=\"Floor Above Garage\",Table5ca[[#This Row],[Building Component]]=\"Floor Above Garage Columns\")),\"Floor\",\nIF(AND($C$6=\"Prescriptive\",Table5ca[[#This Row],[Dwelling or Common?]]=\"Common\",OR(Table5ca[[#This Row],[Building Component]]=\"Floor Assembly\",Table5ca[[#This Row],[Building Component]]=\"Floor Above Garage\",Table5ca[[#This Row],[Building Component]]=\"Floor Above Garage Columns\")),\"Floor\",\n\nIF(Table5ca[[#This Row],[Building Component]]=\"Roofs\",\"Roof\",\nIF(Table5ca[[#This Row],[Building Component]]=\"Walls, Above Grade\",\"WallAboveGrade\",\nIF(Table5ca[[#This Row],[Building Component]]=\"Walls, Below Grade\",\"WallBelowGrade\",\nIF(AND(Table5ca[[#This Row],[Building Component]]=\"Floor Assembly\",$C$6<>\"Prescriptive\"),\"Floor\",\nIF(Table5ca[[#This Row],[Building Component]]=\"Slab-on-Grade Floors\",\"SlabOnGradeFloor\",\nIF(Table5ca[[#This Row],[Building Component]]=\"Opaque Doors\",\"OpaqueDoor\",\nIF(Table5ca[[#This Row],[Building Component]]=\"Balcony\",\"Balcony\",\nIF(AND(Table5ca[[#This Row],[Building Component]]=\"Floor Above Garage\",$C$6=\"Prescriptive\"),\"FloorAssembly\",\nIF(Table5ca[[#This Row],[Building Component]]=\"Floor Above Garage\",\"FloorAboveGarage\",\nIF(Table5ca[[#This Row],[Building Component]]=\"Wall Assembly\",\"WallAssembly\",\nIF(Table5ca[[#This Row],[Building Component]]=\"Ceiling Assembly\",\"CeilingAssembly\",\nIF(OR(Table5ca[[#This Row],[Building Component]]=\"Floor Assembly\",Table5ca[[#This Row],[Building Component]]=\"Floor Above Garage\",Table5ca[[#This Row],[Building Component]]=\"Floor Above Garage Columns\"),\"FloorAssembly\",\n\nIF(AND(Table5ca[[#This Row],[Building Component]]=\"Fenestration\",Table5ca[[#This Row],[Dwelling or Common?]]=\"Dwelling\"),\"ClassAW?\",\n\nIF(AND(Table5ca[[#This Row],[Building Component]]=\"Fenestration\",Table5ca[[#This Row],[Dwelling or Common?]]=\"Common\",OR($C$6=\"ERI\",$C$6=\"Title 24 - Dwelling Unit Models\",$C$6=\"Prescriptive\")),\"ESRefClassAW\",\nIF(AND(Table5ca[[#This Row],[Building Component]]=\"Fenestration\",Table5ca[[#This Row],[Dwelling or Common?]]=\"Common\",OR($C$6=\"ASHRAE\",$C$6=\"Title 24 - Whole Building Models\")),\"Fenestration\",\n\n\"NotApplicable\")))))))))))))))))","v":"NotApplicable"},{"$f":"IF(AND(OR($C$6=\"ERI\",$C$6=\"Title 24 - Dwelling Unit Models\"),Table5ca[[#This Row],[Dwelling or Common?]]=\"Dwelling\",Table5ca[[#This Row],[Component Type]]=\"Class AW\"),\"Fenestration\",\nIF(AND(OR($C$6=\"ERI\",$C$6=\"Title 24 - Dwelling Unit Models\"),Table5ca[[#This Row],[Dwelling or Common?]]=\"Dwelling\",Table5ca[[#This Row],[Component Type]]=\"Not Class AW\"),\"NotApplicable\",\n\nIF(AND(OR($C$6=\"ASHRAE\",$C$6=\"Title 24 - Whole Building Models\"),Table5ca[[#This Row],[Dwelling or Common?]]=\"Dwelling\",Table5ca[[#This Row],[Component Type]]=\"Class AW\"),\"Fenestration\",\nIF(AND(OR($C$6=\"ASHRAE\",$C$6=\"Title 24 - Whole Building Models\"),Table5ca[[#This Row],[Dwelling or Common?]]=\"Dwelling\",Table5ca[[#This Row],[Component Type]]=\"Not Class AW\"),\"NotApplicable\",\n\nIF(AND($C$6=\"Prescriptive\",Table5ca[[#This Row],[Dwelling or Common?]]=\"Dwelling\",Table5ca[[#This Row],[Component Type]]=\"Class AW\"),\"ESRefClassAW\",\nIF(AND($C$6=\"Prescriptive\",Table5ca[[#This Row],[Dwelling or Common?]]=\"Dwelling\",Table5ca[[#This Row],[Component Type]]=\"Not Class AW\"),\"ESRefNotClassAW\",\n\nIF(Table5ca[[#This Row],[Component Type]]=\"Class AW\",\"Fenestration\",\n\n\"NotApplicable\")))))))","v":"NotApplicable"},{"$f":"IF(AND(Table5ca[[#This Row],[Dwelling or Common?]]=\"Dwelling\",$C$8=\"Version 1\",$C$6=\"Prescriptive\",Table5ca[[#This Row],[Building Component]]<>\"Fenestration\"),\"ESRefDesign_Insulation_V1\",\nIF(AND(Table5ca[[#This Row],[Dwelling or Common?]]=\"Dwelling\",$C$8=\"Version 1.1\",$C$6=\"Prescriptive\",Table5ca[[#This Row],[Building Component]]<>\"Fenestration\"),\"ESRefDesign_Insulation_V11\",\nIF(AND($C$8=\"Version 1.2 OR+WA\",$C$6=\"Prescriptive\",Table5ca[[#This Row],[Building Component]]<>\"Fenestration\"),\"ESRefDesign_Insulation_V12\",\n\nIF(AND(Table5ca[[#This Row],[Dwelling or Common?]]=\"Common\",$C$8=\"Version 1.2 OR+WA\",OR($C$6=\"ERI\",$C$6=\"Title 24 - Dwelling Unit Models\"),Table5ca[[#This Row],[Building Component]]<>\"Fenestration\"),\"ESRefDesign_Insulation_V12\",\nIF(AND(Table5ca[[#This Row],[Dwelling or Common?]]=\"Common\",$C$8=\"Version 1.2 OR+WA\",OR($C$6=\"ASHRAE\",$C$6=\"Title 24 - Whole Building Models\"),Table5ca[[#This Row],[Building Component]]<>\"Fenestration\"),\"IECC2009_OU\",\nIF(AND(Table5ca[[#This Row],[Dwelling or Common?]]=\"Dwelling\",$C$8=\"Version 1.2 OR+WA\",OR($C$6=\"ERI\",$C$6=\"Title 24 - Dwelling Unit Models\",$C$6=\"ASHRAE\",$C$6=\"Title 24 - Whole Building Models\"),Table5ca[[#This Row],[Building Component]]<>\"Fenestration\"),\"IECC2009_RU\",\n\nIF(AND(Table5ca[[#This Row],[Dwelling or Common?]]=\"Common\",$C$8=\"Version 1\",Table5ca[[#This Row],[Building Component]]<>\"Fenestration\"),\"IECC2009_OU\",\nIF(AND(Table5ca[[#This Row],[Dwelling or Common?]]=\"Common\",$C$8=\"Version 1.1\",OR($C$6=\"ASHRAE\",$C$6=\"Title 24 - Whole Building Models\"),Table5ca[[#This Row],[Building Component]]<>\"Fenestration\"),\"IECC2009_OU\",\nIF(AND(Table5ca[[#This Row],[Dwelling or Common?]]=\"Common\",$C$8=\"Version 1.1\",OR($C$6=\"Prescriptive\",$C$6=\"ERI\",$C$6=\"Title 24 - Dwelling Unit Models\"),Table5ca[[#This Row],[Building Component]]<>\"Fenestration\"),\"IECC2012_OU\",\n\nIF(AND(Table5ca[[#This Row],[Dwelling or Common?]]=\"Dwelling\",OR($C$8=\"Version 1\",$C$8=\"Version 1.1\",),OR($C$6=\"ERI\",$C$6=\"ASHRAE\",$C$6=\"Title 24 - Whole Building Models\",$C$6=\"Title 24 - Dwelling Unit Models\"),Table5ca[[#This Row],[Building Component]]<>\"Fenestration\"),\"IECC2009_RU\",\n\n\nIF(AND(Table5ca[[#This Row],[Building Component]]=\"Fenestration\",Table5ca[[#This Row],[Dwelling or Common?]]=\"Common\",OR($C$6=\"Prescriptive\",$C$6=\"ERI\",$C$6=\"Title 24 - Dwelling Unit Models\"),$C$8=\"Version 1\"),\"ESRefDesign_FenestrationAW_V1\",\nIF(AND(Table5ca[[#This Row],[Building Component]]=\"Fenestration\",Table5ca[[#This Row],[Dwelling or Common?]]=\"Common\",OR($C$6=\"Prescriptive\",$C$6=\"ERI\",$C$6=\"Title 24 - Dwelling Unit Models\"),$C$8=\"Version 1.1\"),\"ESRefDesign_FenestrationAW_V11\",\nIF(AND(Table5ca[[#This Row],[Building Component]]=\"Fenestration\",Table5ca[[#This Row],[Dwelling or Common?]]=\"Common\",OR($C$6=\"Prescriptive\",$C$6=\"ERI\",$C$6=\"Title 24 - Dwelling Unit Models\"),$C$8=\"Version 1.2 OR+WA\"),\"ESRefDesign_FenestrationAW_V12\",\n\nIF(AND(Table5ca[[#This Row],[Building Component]]=\"Fenestration\",Table5ca[[#This Row],[Dwelling or Common?]]=\"Common\",OR($C$6=\"ASHRAE\",$C$6=\"Title 24 - Whole Building Models\")),\"IECC2009_Fenestration_AW_Windows\",\nIF(AND(Table5ca[[#This Row],[Building Component]]=\"Fenestration\",Table5ca[[#This Row],[Dwelling or Common?]]=\"Dwelling\",Table5ca[[#This Row],[Component Type]]=\"Class AW\",OR($C$6=\"ASHRAE\",$C$6=\"Title 24 - Whole Building Models\",$C$6=\"ERI\",$C$6=\"Title 24 - Dwelling Unit Models\")),\"IECC2009_Fenestration_AW_Windows\",\n\nIF(AND(Table5ca[[#This Row],[Building Component]]=\"Fenestration\",Table5ca[[#This Row],[Dwelling or Common?]]=\"Dwelling\",$C$6=\"Prescriptive\",$C$8=\"Version 1\",Table5ca[[#This Row],[Component Type]]=\"Class AW\"),\"ESRefDesign_FenestrationAW_V1\",\nIF(AND(Table5ca[[#This Row],[Building Component]]=\"Fenestration\",Table5ca[[#This Row],[Dwelling or Common?]]=\"Dwelling\",$C$6=\"Prescriptive\",$C$8=\"Version 1.1\",Table5ca[[#This Row],[Component Type]]=\"Class AW\"),\"ESRefDesign_FenestrationAW_V11\",\nIF(AND(Table5ca[[#This Row],[Building Component]]=\"Fenestration\",Table5ca[[#This Row],[Dwelling or Common?]]=\"Dwelling\",$C$6=\"Prescriptive\",$C$8=\"Version 1.2 OR+WA\",Table5ca[[#This Row],[Component Type]]=\"Class AW\"),\"ESRefDesign_FenestrationAW_V12\",\n\nIF(AND(Table5ca[[#This Row],[Building Component]]=\"Fenestration\",Table5ca[[#This Row],[Dwelling or Common?]]=\"Dwelling\",$C$6=\"Prescriptive\",$C$8=\"Version 1\",Table5ca[[#This Row],[Component Type]]=\"Not Class AW\"),\"ESRefDesign_Fenestration_V1\",\nIF(AND(Table5ca[[#This Row],[Building Component]]=\"Fenestration\",Table5ca[[#This Row],[Dwelling or Common?]]=\"Dwelling\",$C$6=\"Prescriptive\",$C$8=\"Version 1.1\",Table5ca[[#This Row],[Component Type]]=\"Not Class AW\"),\"ESRefDesign_Fenestration_V11\",\nIF(AND(Table5ca[[#This Row],[Building Component]]=\"Fenestration\",Table5ca[[#This Row],[Dwelling or Common?]]=\"Dwelling\",$C$6=\"Prescriptive\",$C$8=\"Version 1.2 OR+WA\",Table5ca[[#This Row],[Component Type]]=\"Not Class AW\"),\"ESRefDesign_Fenestration_V12\",\n\nIF(AND(Table5ca[[#This Row],[Building Component]]=\"Fenestration\",Table5ca[[#This Row],[Dwelling or Common?]]=\"Dwelling\"),\"IECC2009_Fenestration_NotAW_Windows\",\n\n\"\"))))))))))))))))))))))","v":""},{"$f":"IF(OR(Table5ca[[#This Row],[Lookup Table Pt1]]=\"ESRefDesign_Insulation_V1\",Table5ca[[#This Row],[Lookup Table Pt1]]=\"ESRefDesign_Insulation_V11\",Table5ca[[#This Row],[Lookup Table Pt1]]=\"IECC2009_Fenestration_NotAW_Windows\",Table5ca[[#This Row],[Lookup Table Pt1]]=\"IECC2009_Fenestration_AW_Windows\",Table5ca[[#This Row],[Lookup Table Pt1]]=\"ESRefDesign_FenestrationAW_V1\",Table5ca[[#This Row],[Lookup Table Pt1]]=\"ESRefDesign_FenestrationAW_V11\",Table5ca[[#This Row],[Lookup Table Pt1]]=\"ESRefDesign_Fenestration_V1\",Table5ca[[#This Row],[Lookup Table Pt1]]=\"ESRefDesign_Fenestration_V11\"),Table5ca[[#This Row],[Lookup Table Pt1]],\n\nIF(Table5ca[[#This Row],[Component_Lookup]]=\"FloorAboveGarage\",Table5ca[[#This Row],[Lookup Table Pt1]]&\"_Floor\",\n\nTable5ca[[#This Row],[Lookup Table Pt1]]&\"_\"&Table5ca[[#This Row],[Component_Lookup]]))","v":"_NotApplicable"},{"$f":"IF(AND($C$8=\"Version 1.2 OR+WA\",$C$6=\"Prescriptive\",Table5ca[[#This Row],[Building Component]]=\"Above-Grade Wall\"),1,\nIF(AND($C$8=\"Version 1.2 OR+WA\",$C$6=\"Prescriptive\",Table5ca[[#This Row],[Building Component]]=\"Ceiling\"),2,\nIF(AND($C$8=\"Version 1.2 OR+WA\",$C$6=\"Prescriptive\",Table5ca[[#This Row],[Building Component]]=\"Basement Wall\"),4,\nIF(AND($C$8=\"Version 1.2 OR+WA\",$C$6=\"Prescriptive\",Table5ca[[#This Row],[Building Component]]=\"On-Grade & Below Grade Slab\"),5,\nIF(AND($C$8=\"Version 1.2 OR+WA\",$C$6=\"Prescriptive\",OR(Table5ca[[#This Row],[Building Component]]=\"Floor Assembly\",Table5ca[[#This Row],[Building Component]]=\"Floor Above Garage\",Table5ca[[#This Row],[Building Component]]=\"Floor Above Garage Columns\")),3,\n\nIF(AND($C$8=\"Version 1.2 OR+WA\",OR($C$6=\"Prescriptive\",$C$6=\"ERI\",$C$6=\"Title 24 - Dwelling Units Models\"),Table5ca[[#This Row],[Dwelling or Common?]]=\"Common\",Table5ca[[#This Row],[Building Component]]=\"Above-Grade Wall\"),1,\nIF(AND($C$8=\"Version 1.2 OR+WA\",OR($C$6=\"Prescriptive\",$C$6=\"ERI\",$C$6=\"Title 24 - Dwelling Units Models\"),Table5ca[[#This Row],[Dwelling or Common?]]=\"Common\",Table5ca[[#This Row],[Building Component]]=\"Ceiling\"),2,\nIF(AND($C$8=\"Version 1.2 OR+WA\",OR($C$6=\"Prescriptive\",$C$6=\"ERI\",$C$6=\"Title 24 - Dwelling Units Models\"),Table5ca[[#This Row],[Dwelling or Common?]]=\"Common\",Table5ca[[#This Row],[Building Component]]=\"Basement Wall\"),4,\nIF(AND($C$8=\"Version 1.2 OR+WA\",OR($C$6=\"Prescriptive\",$C$6=\"ERI\",$C$6=\"Title 24 - Dwelling Units Models\"),Table5ca[[#This Row],[Dwelling or Common?]]=\"Common\",Table5ca[[#This Row],[Building Component]]=\"On-Grade & Below Grade Slab\"),5,\nIF(AND($C$8=\"Version 1.2 OR+WA\",OR($C$6=\"Prescriptive\",$C$6=\"ERI\",$C$6=\"Title 24 - Dwelling Units Models\"),Table5ca[[#This Row],[Dwelling or Common?]]=\"Common\",OR(Table5ca[[#This Row],[Building Component]]=\"Floor Assembly\",Table5ca[[#This Row],[Building Component]]=\"Floor Above Garage\",Table5ca[[#This Row],[Building Component]]=\"Floor Above Garage Columns\")),3,\n\nIF(AND($C$6=\"Prescriptive\",OR($C$8=\"Version 1\",$C$8=\"Version 1.1\"),Table5ca[[#This Row],[Building Component]]=\"Basement Wall Continuous Insulation\"),3,\nIF(AND($C$6=\"Prescriptive\",OR($C$8=\"Version 1\",$C$8=\"Version 1.1\"),Table5ca[[#This Row],[Building Component]]=\"Slab Insulation\"),1,\n\nIF(OR(Table5ca[[#This Row],[Component Type]]=\"Insulation entirely above deck\",Table5ca[[#This Row],[Component Type]]=\"Mass\",Table5ca[[#This Row],[Component Type]]=\"Below grade wall\",Table5ca[[#This Row],[Component Type]]=\"Unheated slabs\",Table5ca[[#This Row],[Component Type]]=\"Floor Above Garage\"),1,\nIF(OR(Table5ca[[#This Row],[Component Type]]=\"Metal buildings\",Table5ca[[#This Row],[Component Type]]=\"Metal building\",Table5ca[[#This Row],[Component Type]]=\"Joist/framing\",Table5ca[[#This Row],[Component Type]]=\"Heated slabs\",Table5ca[[#This Row],[Component Type]]=\"Floor Above Garage\"),2,\nIF(OR(Table5ca[[#This Row],[Component Type]]=\"Attic and other\",Table5ca[[#This Row],[Component Type]]=\"Metal framed\"),3,\nIF(OR(Table5ca[[#This Row],[Component Type]]=\"Wood framed and other\",Table5ca[[#This Row],[Building Component]]=\"Floor Assembly\",Table5ca[[#This Row],[Building Component]]=\"Floor Above Garage\",Table5ca[[#This Row],[Building Component]]=\"Floor Above Garage Columns\"),4,\nIF(Table5ca[[#This Row],[Building Component]]=\"Wall Assembly\",5,\nIF(Table5ca[[#This Row],[Building Component]]=\"Ceiling Assembly\",6,\n\nIF(Table5ca[[#This Row],[Lookup Table Pt2]]=\"IECC2009_Fenestration_NotAW_Windows\",1,\nIF(AND(Table5ca[[#This Row],[Lookup Table Pt2]]=\"IECC2009_Fenestration_AW_Windows\",OR(Table5ca[[#This Row],[Additional Component Details]]=\"Non-Metal\",Table5ca[[#This Row],[Component Type]]=\"Non-Metal\")),1,\nIF(AND(Table5ca[[#This Row],[Lookup Table Pt2]]=\"IECC2009_Fenestration_AW_Windows\",OR(Table5ca[[#This Row],[Additional Component Details]]=\"Metal - Curtainwall/storefront\",Table5ca[[#This Row],[Component Type]]=\"Metal - Curtainwall/storefront\")),2,\nIF(AND(Table5ca[[#This Row],[Lookup Table Pt2]]=\"IECC2009_Fenestration_AW_Windows\",OR(Table5ca[[#This Row],[Additional Component Details]]=\"Metal - Entrance door\",Table5ca[[#This Row],[Component Type]]=\"Metal - Entrance door\")),3,\nIF(AND(Table5ca[[#This Row],[Lookup Table Pt2]]=\"IECC2009_Fenestration_AW_Windows\",OR(Table5ca[[#This Row],[Additional Component Details]]=\"Metal - Other\",Table5ca[[#This Row],[Component Type]]=\"Metal - Entrance door\")),4,\nIF(AND(Table5ca[[#This Row],[Lookup Table Pt2]]=\"IECC2009_Fenestration_AW_Windows\",Table5ca[[#This Row],[Component Type]]=\"Metal - Other\"),4,\n\nIF(AND(OR(Table5ca[[#This Row],[Lookup Table Pt1]]=\"ESRefDesign_FenestrationAW_V1\",Table5ca[[#This Row],[Lookup Table Pt1]]=\"ESRefDesign_FenestrationAW_V11\",Table5ca[[#This Row],[Lookup Table Pt1]]=\"ESRefDesign_FenestrationAW_V12\"),OR(Table5ca[[#This Row],[Component Type]]=\"Fixed\",Table5ca[[#This Row],[Additional Component Details]]=\"Fixed\")),1,\nIF(AND(OR(Table5ca[[#This Row],[Lookup Table Pt1]]=\"ESRefDesign_FenestrationAW_V1\",Table5ca[[#This Row],[Lookup Table Pt1]]=\"ESRefDesign_FenestrationAW_V11\",Table5ca[[#This Row],[Lookup Table Pt1]]=\"ESRefDesign_FenestrationAW_V12\"),OR(Table5ca[[#This Row],[Component Type]]=\"Operable\",Table5ca[[#This Row],[Additional Component Details]]=\"Operable\")),2,\n\nIF(AND(OR(Table5ca[[#This Row],[Lookup Table Pt1]]=\"ESRefDesign_Fenestration_V1\",Table5ca[[#This Row],[Lookup Table Pt1]]=\"ESRefDesign_Fenestration_V11\",Table5ca[[#This Row],[Lookup Table Pt1]]=\"ESRefDesign_Fenestration_V12\"),Table5ca[[#This Row],[Additional Component Details]]=\"Window\"),1,\nIF(AND(OR(Table5ca[[#This Row],[Lookup Table Pt1]]=\"ESRefDesign_Fenestration_V1\",Table5ca[[#This Row],[Lookup Table Pt1]]=\"ESRefDesign_Fenestration_V11\",Table5ca[[#This Row],[Lookup Table Pt1]]=\"ESRefDesign_Fenestration_V12\"),Table5ca[[#This Row],[Additional Component Details]]=\"Opaque Door\"),3,\nIF(AND(OR(Table5ca[[#This Row],[Lookup Table Pt1]]=\"ESRefDesign_Fenestration_V1\",Table5ca[[#This Row],[Lookup Table Pt1]]=\"ESRefDesign_Fenestration_V11\",Table5ca[[#This Row],[Lookup Table Pt1]]=\"ESRefDesign_Fenestration_V12\"),Table5ca[[#This Row],[Additional Component Details]]=\"≤½ lite Door\"),4,\nIF(AND(OR(Table5ca[[#This Row],[Lookup Table Pt1]]=\"ESRefDesign_Fenestration_V1\",Table5ca[[#This Row],[Lookup Table Pt1]]=\"ESRefDesign_Fenestration_V11\",Table5ca[[#This Row],[Lookup Table Pt1]]=\"ESRefDesign_Fenestration_V12\"),Table5ca[[#This Row],[Additional Component Details]]=\">½ lite Door\"),5,\n\n\n\"\"))))))))))))))))))))))))))))))","v":""},{"$f":"IF(AND($C$8=\"Version 1.2 OR+WA\",$C$6=\"Prescriptive\",Table5ca[[#This Row],[Building Component]]<>\"Fenestration\"),2,\n\nIF(AND($C$8=\"Version 1.2 OR+WA\",$C$6=\"Prescriptive\",$C$7=\"CZ 4 C\"),2,\nIF(AND($C$8=\"Version 1.2 OR+WA\",$C$6=\"Prescriptive\",$C$7=\"CZ 5\"),3,\nIF(AND($C$8=\"Version 1.2 OR+WA\",$C$6=\"Prescriptive\",$C$7=\"CZ 6\"),4,\n\nIF(AND($C$8=\"Version 1.2 OR+WA\",Table5ca[[#This Row],[Dwelling or Common?]]=\"Common\",OR($C$6=\"ERI\",$C$6=\"Title 24 - Dwelling Unit Models\"),$C$7=\"CZ 4 C\"),2,\nIF(AND($C$8=\"Version 1.2 OR+WA\",Table5ca[[#This Row],[Dwelling or Common?]]=\"Common\",OR($C$6=\"ERI\",$C$6=\"Title 24 - Dwelling Unit Models\"),$C$7=\"CZ 5\"),3,\nIF(AND($C$8=\"Version 1.2 OR+WA\",Table5ca[[#This Row],[Dwelling or Common?]]=\"Common\",OR($C$6=\"ERI\",$C$6=\"Title 24 - Dwelling Unit Models\"),$C$7=\"CZ 6\"),4,\n\nIF($C$7=\"CZ 1\",2,\nIF($C$7=\"CZ 2\",3,\nIF($C$7=\"CZ 3\",4,\nIF($C$7=\"CZ 4\",5,\nIF($C$7=\"CZ 4 C\",6,\nIF($C$7=\"CZ 5\",7,\nIF($C$7=\"CZ 6\",8,\nIF($C$7=\"CZ 7\",9,\nIF($C$7=\"CZ 8\",10,\"\"))))))))))))))))","v":5}]
[null,null,null,null,null,null,null,{"$f":"IF(Table5ca[[#This Row],[Specified/Installed U-Factor]]*Table5ca[[#This Row],[Area]]=0,\"\",Table5ca[[#This Row],[Specified/Installed U-Factor]]*Table5ca[[#This Row],[Area]])","v":""},{"$f":"IFERROR(IF(AND($C$8=\"Version 1.2 OR+WA\",OR($C$7=\"CZ 1\",$C$7=\"CZ 2\",$C$7=\"CZ 3\",$C$7=\"CZ 4\",$C$7=\"CZ 7\",$C$7=\"CZ 8\")),\"N/A - Update CZ\",\n\nIF(Table5ca[[#This Row],[Building Component]]=\"Balcony\",\"0.20\",\n\nIF(OR(Table5ca[[#This Row],[Lookup Table Pt1]]=\"ESRefDesign_Insulation_V1\",Table5ca[[#This Row],[Lookup Table Pt1]]=\"ESRefDesign_Insulation_V11\",Table5ca[[#This Row],[Lookup Table Pt1]]=\"ESRefDesign_Insulation_V12\",Table5ca[[#This Row],[Lookup Table Pt1]]=\"ESRefDesign_FenestrationAW_V1\",Table5ca[[#This Row],[Lookup Table Pt1]]=\"ESRefDesign_FenestrationAW_V11\",Table5ca[[#This Row],[Lookup Table Pt1]]=\"ESRefDesign_Fenestration_V1\",Table5ca[[#This Row],[Lookup Table Pt1]]=\"ESRefDesign_Fenestration_V11\",Table5ca[[#This Row],[Lookup Table Pt1]]=\"ESRefDesign_Fenestration_V12\",Table5ca[[#This Row],[Lookup Table Pt1]]=\"ESRefDesign_FenestrationAW_V12\",Table5ca[[#This Row],[Lookup Table Pt1]]=\"IECC2009_Fenestration_NotAW_Windows\",Table5ca[[#This Row],[Lookup Table Pt1]]=\"IECC2009_Fenestration_AW_Windows\"),INDEX(INDIRECT(Table5ca[[#This Row],[Lookup Table Pt1]]),Table5ca[[#This Row],[Row Index]],Table5ca[[#This Row],[Column Index]]),\n\nINDEX(INDIRECT(Table5ca[[#This Row],[Lookup Table Pt2]]),Table5ca[[#This Row],[Row Index]],Table5ca[[#This Row],[Column Index]])))),\"\")","v":""},{"$f":"IFERROR(\n\nIF(LEFT(Table5ca[[#This Row],[ENERGY STAR Requirement Values]],2)=\"U-\",Table5ca[[#This Row],[ENERGY STAR Requirement Values]],\n\nIF(OR(Table5ca[[#This Row],[Building Component]]=\"Slab Insulation\",Table5ca[[#This Row],[Building Component]]=\"Slab-On-Grade Floor\",Table5ca[[#This Row],[Building Component]]=\"Slab-On-Grade Floors\",Table5ca[[#This Row],[Building Component]]=\"On-Grade & Below Grade Slab\",Table5ca[[#This Row],[Building Component]]=\"Slab-on-Grade Floors\",Table5ca[[#This Row],[Building Component]]=\"Slab-on-Grade Floor\"),\"\",\n\nIF(OR(Table5ca[[#This Row],[ENERGY STAR Requirement Values]]=\"R-0\",Table5ca[[#This Row],[ENERGY STAR Requirement Values]]=0,Table5ca[[#This Row],[ENERGY STAR Requirement Values]]=\"C-1.140\"),\"U-0.36\",\nIF(OR(Table5ca[[#This Row],[ENERGY STAR Requirement Values]]=\"R-7.5\",Table5ca[[#This Row],[ENERGY STAR Requirement Values]]=7.5,Table5ca[[#This Row],[ENERGY STAR Requirement Values]]=\"C-0.119\"),\"U-0.072\",\nIF(OR(Table5ca[[#This Row],[ENERGY STAR Requirement Values]]=\"R-10\",Table5ca[[#This Row],[ENERGY STAR Requirement Values]]=10,Table5ca[[#This Row],[ENERGY STAR Requirement Values]]=\"C-0.092\"),\"U-0.059\",\nIF(OR(Table5ca[[#This Row],[ENERGY STAR Requirement Values]]=\"R-15\",Table5ca[[#This Row],[ENERGY STAR Requirement Values]]=15,Table5ca[[#This Row],[ENERGY STAR Requirement Values]]=\"R-15 continuous or R-21 cavity\"),\"U-0.05\",\nIF(OR(Table5ca[[#This Row],[ENERGY STAR Requirement Values]]=\"R-12.5\",Table5ca[[#This Row],[ENERGY STAR Requirement Values]]=12.5,Table5ca[[#This Row],[ENERGY STAR Requirement Values]]=\"C-0.075\"),\"U-0.054\",\nIF(OR(Table5ca[[#This Row],[ENERGY STAR Requirement Values]]=\"R-21\",Table5ca[[#This Row],[ENERGY STAR Requirement Values]]=21),\"U-0.056\",\nIF(OR(Table5ca[[#This Row],[ENERGY STAR Requirement Values]]=\"R-38\",Table5ca[[#This Row],[ENERGY STAR Requirement Values]]=38),\"U-0.028\",\nIF(OR(Table5ca[[#This Row],[ENERGY STAR Requirement Values]]=\"R-49\",Table5ca[[#This Row],[ENERGY STAR Requirement Values]]=49),\"U-0.026\",\n\nIF(LEFT(Table5ca[[#This Row],[ENERGY STAR Requirement Values]],2)=\"F-\",\"\",\n\nIF(LEFT(Table5ca[[#This Row],[ENERGY STAR Requirement Values]],1)=\"0\",CONCATENATE(\"U-\",Table5ca[[#This Row],[ENERGY STAR Requirement Values]]),\n\nTable5ca[[#This Row],[ENERGY STAR Requirement Values]])))))))))))),\"\")","v":""},{"$f":"IFERROR(IF(Table5ca[[#This Row],[Area]]=\"\",\"\",\nIF(Table5ca[[#This Row],[Required U-factor]]=\"\",\"\",\nIFERROR(Table5ca[[#This Row],[Area]]*Table5ca[[#This Row],[Required U-factor]],RIGHT(Table5ca[[#This Row],[Required U-factor]],LEN(Table5ca[[#This Row],[Required U-factor]])-2)*Table5ca[[#This Row],[Area]]))),\"\")","v":""},{"$f":"IF(Table5ca[[#This Row],[Building Component]]=\"\",\"\",\nIF(OR(Table5ca[[#This Row],[Building Component]]=\"Wall, Above Grade\",Table5ca[[#This Row],[Building Component]]=\"Wall, Below Grade\"),\"If there is continuous insulation interrupted by fasteners, ensure that the U-factor has been de-rated per Footnote 24. See below for further details.\",\nIF(Table5ca[[#This Row],[Building Component]]=\"Wall Assembly\",\"Apply a derate per Footnote 6 below.\",\nIF(Table5ca[[#This Row],[Building Component]]=\"Balcony\",\"Use the table below to de-rate balconies per Footnote 21.\",\nIF(OR(Table5ca[[#This Row],[Building Component]]=\"Floor Above Garage\",Table5ca[[#This Row],[Building Component]]=\"Floor Above Garage Columns\"),\"Use the table below to De-Rate floors above garages per Footnote 22.\",\n\"Not Applicable\")))))","v":""},null,null,null,null,null,null,{"$f":"IF(AND(Table5ca[[#This Row],[Dwelling or Common?]]=\"Dwelling\",$C$6=\"Prescriptive\",$C$8=\"Version 1.2 OR+WA\"),\"BuildingComponents_ESRefListV12_UABuildingComponents\",\nIF(AND($C$8=\"Version 1.2 OR+WA\",OR($C$6=\"Prescriptive\",$C$6=\"ERI\",$C$6=\"Title 24 - Dwelling Units Models\"),Table5ca[[#This Row],[Dwelling or Common?]]=\"Common\"),\"BuildingComponents_ESRefListV12_UABuildingComponents\",\n\nIF(AND($C$6=\"Prescriptive\",Table5ca[[#This Row],[Dwelling or Common?]]=\"Dwelling\"),\"PrescriptivePath_UABuildingComponents\",\n\n\"ERI_AHSRAE_UABuildingComponents\")))","v":"ERI_AHSRAE_UABuildingComponents"},{"$f":"IF(AND($C$6<>\"Prescriptive\",OR(Table5ca[[#This Row],[Building Component]]=\"Floor Assembly\",Table5ca[[#This Row],[Building Component]]=\"Floor Above Garage\",Table5ca[[#This Row],[Building Component]]=\"Floor Above Garage Columns\")),\"Floor\",\nIF(AND($C$6=\"Prescriptive\",Table5ca[[#This Row],[Dwelling or Common?]]=\"Common\",OR(Table5ca[[#This Row],[Building Component]]=\"Floor Assembly\",Table5ca[[#This Row],[Building Component]]=\"Floor Above Garage\",Table5ca[[#This Row],[Building Component]]=\"Floor Above Garage Columns\")),\"Floor\",\n\nIF(Table5ca[[#This Row],[Building Component]]=\"Roofs\",\"Roof\",\nIF(Table5ca[[#This Row],[Building Component]]=\"Walls, Above Grade\",\"WallAboveGrade\",\nIF(Table5ca[[#This Row],[Building Component]]=\"Walls, Below Grade\",\"WallBelowGrade\",\nIF(AND(Table5ca[[#This Row],[Building Component]]=\"Floor Assembly\",$C$6<>\"Prescriptive\"),\"Floor\",\nIF(Table5ca[[#This Row],[Building Component]]=\"Slab-on-Grade Floors\",\"SlabOnGradeFloor\",\nIF(Table5ca[[#This Row],[Building Component]]=\"Opaque Doors\",\"OpaqueDoor\",\nIF(Table5ca[[#This Row],[Building Component]]=\"Balcony\",\"Balcony\",\nIF(AND(Table5ca[[#This Row],[Building Component]]=\"Floor Above Garage\",$C$6=\"Prescriptive\"),\"FloorAssembly\",\nIF(Table5ca[[#This Row],[Building Component]]=\"Floor Above Garage\",\"FloorAboveGarage\",\nIF(Table5ca[[#This Row],[Building Component]]=\"Wall Assembly\",\"WallAssembly\",\nIF(Table5ca[[#This Row],[Building Component]]=\"Ceiling Assembly\",\"CeilingAssembly\",\nIF(OR(Table5ca[[#This Row],[Building Component]]=\"Floor Assembly\",Table5ca[[#This Row],[Building Component]]=\"Floor Above Garage\",Table5ca[[#This Row],[Building Component]]=\"Floor Above Garage Columns\"),\"FloorAssembly\",\n\nIF(AND(Table5ca[[#This Row],[Building Component]]=\"Fenestration\",Table5ca[[#This Row],[Dwelling or Common?]]=\"Dwelling\"),\"ClassAW?\",\n\nIF(AND(Table5ca[[#This Row],[Building Component]]=\"Fenestration\",Table5ca[[#This Row],[Dwelling or Common?]]=\"Common\",OR($C$6=\"ERI\",$C$6=\"Title 24 - Dwelling Unit Models\",$C$6=\"Prescriptive\")),\"ESRefClassAW\",\nIF(AND(Table5ca[[#This Row],[Building Component]]=\"Fenestration\",Table5ca[[#This Row],[Dwelling or Common?]]=\"Common\",OR($C$6=\"ASHRAE\",$C$6=\"Title 24 - Whole Building Models\")),\"Fenestration\",\n\n\"NotApplicable\")))))))))))))))))","v":"NotApplicable"},{"$f":"IF(AND(OR($C$6=\"ERI\",$C$6=\"Title 24 - Dwelling Unit Models\"),Table5ca[[#This Row],[Dwelling or Common?]]=\"Dwelling\",Table5ca[[#This Row],[Component Type]]=\"Class AW\"),\"Fenestration\",\nIF(AND(OR($C$6=\"ERI\",$C$6=\"Title 24 - Dwelling Unit Models\"),Table5ca[[#This Row],[Dwelling or Common?]]=\"Dwelling\",Table5ca[[#This Row],[Component Type]]=\"Not Class AW\"),\"NotApplicable\",\n\nIF(AND(OR($C$6=\"ASHRAE\",$C$6=\"Title 24 - Whole Building Models\"),Table5ca[[#This Row],[Dwelling or Common?]]=\"Dwelling\",Table5ca[[#This Row],[Component Type]]=\"Class AW\"),\"Fenestration\",\nIF(AND(OR($C$6=\"ASHRAE\",$C$6=\"Title 24 - Whole Building Models\"),Table5ca[[#This Row],[Dwelling or Common?]]=\"Dwelling\",Table5ca[[#This Row],[Component Type]]=\"Not Class AW\"),\"NotApplicable\",\n\nIF(AND($C$6=\"Prescriptive\",Table5ca[[#This Row],[Dwelling or Common?]]=\"Dwelling\",Table5ca[[#This Row],[Component Type]]=\"Class AW\"),\"ESRefClassAW\",\nIF(AND($C$6=\"Prescriptive\",Table5ca[[#This Row],[Dwelling or Common?]]=\"Dwelling\",Table5ca[[#This Row],[Component Type]]=\"Not Class AW\"),\"ESRefNotClassAW\",\n\nIF(Table5ca[[#This Row],[Component Type]]=\"Class AW\",\"Fenestration\",\n\n\"NotApplicable\")))))))","v":"NotApplicable"},{"$f":"IF(AND(Table5ca[[#This Row],[Dwelling or Common?]]=\"Dwelling\",$C$8=\"Version 1\",$C$6=\"Prescriptive\",Table5ca[[#This Row],[Building Component]]<>\"Fenestration\"),\"ESRefDesign_Insulation_V1\",\nIF(AND(Table5ca[[#This Row],[Dwelling or Common?]]=\"Dwelling\",$C$8=\"Version 1.1\",$C$6=\"Prescriptive\",Table5ca[[#This Row],[Building Component]]<>\"Fenestration\"),\"ESRefDesign_Insulation_V11\",\nIF(AND($C$8=\"Version 1.2 OR+WA\",$C$6=\"Prescriptive\",Table5ca[[#This Row],[Building Component]]<>\"Fenestration\"),\"ESRefDesign_Insulation_V12\",\n\nIF(AND(Table5ca[[#This Row],[Dwelling or Common?]]=\"Common\",$C$8=\"Version 1.2 OR+WA\",OR($C$6=\"ERI\",$C$6=\"Title 24 - Dwelling Unit Models\"),Table5ca[[#This Row],[Building Component]]<>\"Fenestration\"),\"ESRefDesign_Insulation_V12\",\nIF(AND(Table5ca[[#This Row],[Dwelling or Common?]]=\"Common\",$C$8=\"Version 1.2 OR+WA\",OR($C$6=\"ASHRAE\",$C$6=\"Title 24 - Whole Building Models\"),Table5ca[[#This Row],[Building Component]]<>\"Fenestration\"),\"IECC2009_OU\",\nIF(AND(Table5ca[[#This Row],[Dwelling or Common?]]=\"Dwelling\",$C$8=\"Version 1.2 OR+WA\",OR($C$6=\"ERI\",$C$6=\"Title 24 - Dwelling Unit Models\",$C$6=\"ASHRAE\",$C$6=\"Title 24 - Whole Building Models\"),Table5ca[[#This Row],[Building Component]]<>\"Fenestration\"),\"IECC2009_RU\",\n\nIF(AND(Table5ca[[#This Row],[Dwelling or Common?]]=\"Common\",$C$8=\"Version 1\",Table5ca[[#This Row],[Building Component]]<>\"Fenestration\"),\"IECC2009_OU\",\nIF(AND(Table5ca[[#This Row],[Dwelling or Common?]]=\"Common\",$C$8=\"Version 1.1\",OR($C$6=\"ASHRAE\",$C$6=\"Title 24 - Whole Building Models\"),Table5ca[[#This Row],[Building Component]]<>\"Fenestration\"),\"IECC2009_OU\",\nIF(AND(Table5ca[[#This Row],[Dwelling or Common?]]=\"Common\",$C$8=\"Version 1.1\",OR($C$6=\"Prescriptive\",$C$6=\"ERI\",$C$6=\"Title 24 - Dwelling Unit Models\"),Table5ca[[#This Row],[Building Component]]<>\"Fenestration\"),\"IECC2012_OU\",\n\nIF(AND(Table5ca[[#This Row],[Dwelling or Common?]]=\"Dwelling\",OR($C$8=\"Version 1\",$C$8=\"Version 1.1\",),OR($C$6=\"ERI\",$C$6=\"ASHRAE\",$C$6=\"Title 24 - Whole Building Models\",$C$6=\"Title 24 - Dwelling Unit Models\"),Table5ca[[#This Row],[Building Component]]<>\"Fenestration\"),\"IECC2009_RU\",\n\n\nIF(AND(Table5ca[[#This Row],[Building Component]]=\"Fenestration\",Table5ca[[#This Row],[Dwelling or Common?]]=\"Common\",OR($C$6=\"Prescriptive\",$C$6=\"ERI\",$C$6=\"Title 24 - Dwelling Unit Models\"),$C$8=\"Version 1\"),\"ESRefDesign_FenestrationAW_V1\",\nIF(AND(Table5ca[[#This Row],[Building Component]]=\"Fenestration\",Table5ca[[#This Row],[Dwelling or Common?]]=\"Common\",OR($C$6=\"Prescriptive\",$C$6=\"ERI\",$C$6=\"Title 24 - Dwelling Unit Models\"),$C$8=\"Version 1.1\"),\"ESRefDesign_FenestrationAW_V11\",\nIF(AND(Table5ca[[#This Row],[Building Component]]=\"Fenestration\",Table5ca[[#This Row],[Dwelling or Common?]]=\"Common\",OR($C$6=\"Prescriptive\",$C$6=\"ERI\",$C$6=\"Title 24 - Dwelling Unit Models\"),$C$8=\"Version 1.2 OR+WA\"),\"ESRefDesign_FenestrationAW_V12\",\n\nIF(AND(Table5ca[[#This Row],[Building Component]]=\"Fenestration\",Table5ca[[#This Row],[Dwelling or Common?]]=\"Common\",OR($C$6=\"ASHRAE\",$C$6=\"Title 24 - Whole Building Models\")),\"IECC2009_Fenestration_AW_Windows\",\nIF(AND(Table5ca[[#This Row],[Building Component]]=\"Fenestration\",Table5ca[[#This Row],[Dwelling or Common?]]=\"Dwelling\",Table5ca[[#This Row],[Component Type]]=\"Class AW\",OR($C$6=\"ASHRAE\",$C$6=\"Title 24 - Whole Building Models\",$C$6=\"ERI\",$C$6=\"Title 24 - Dwelling Unit Models\")),\"IECC2009_Fenestration_AW_Windows\",\n\nIF(AND(Table5ca[[#This Row],[Building Component]]=\"Fenestration\",Table5ca[[#This Row],[Dwelling or Common?]]=\"Dwelling\",$C$6=\"Prescriptive\",$C$8=\"Version 1\",Table5ca[[#This Row],[Component Type]]=\"Class AW\"),\"ESRefDesign_FenestrationAW_V1\",\nIF(AND(Table5ca[[#This Row],[Building Component]]=\"Fenestration\",Table5ca[[#This Row],[Dwelling or Common?]]=\"Dwelling\",$C$6=\"Prescriptive\",$C$8=\"Version 1.1\",Table5ca[[#This Row],[Component Type]]=\"Class AW\"),\"ESRefDesign_FenestrationAW_V11\",\nIF(AND(Table5ca[[#This Row],[Building Component]]=\"Fenestration\",Table5ca[[#This Row],[Dwelling or Common?]]=\"Dwelling\",$C$6=\"Prescriptive\",$C$8=\"Version 1.2 OR+WA\",Table5ca[[#This Row],[Component Type]]=\"Class AW\"),\"ESRefDesign_FenestrationAW_V12\",\n\nIF(AND(Table5ca[[#This Row],[Building Component]]=\"Fenestration\",Table5ca[[#This Row],[Dwelling or Common?]]=\"Dwelling\",$C$6=\"Prescriptive\",$C$8=\"Version 1\",Table5ca[[#This Row],[Component Type]]=\"Not Class AW\"),\"ESRefDesign_Fenestration_V1\",\nIF(AND(Table5ca[[#This Row],[Building Component]]=\"Fenestration\",Table5ca[[#This Row],[Dwelling or Common?]]=\"Dwelling\",$C$6=\"Prescriptive\",$C$8=\"Version 1.1\",Table5ca[[#This Row],[Component Type]]=\"Not Class AW\"),\"ESRefDesign_Fenestration_V11\",\nIF(AND(Table5ca[[#This Row],[Building Component]]=\"Fenestration\",Table5ca[[#This Row],[Dwelling or Common?]]=\"Dwelling\",$C$6=\"Prescriptive\",$C$8=\"Version 1.2 OR+WA\",Table5ca[[#This Row],[Component Type]]=\"Not Class AW\"),\"ESRefDesign_Fenestration_V12\",\n\nIF(AND(Table5ca[[#This Row],[Building Component]]=\"Fenestration\",Table5ca[[#This Row],[Dwelling or Common?]]=\"Dwelling\"),\"IECC2009_Fenestration_NotAW_Windows\",\n\n\"\"))))))))))))))))))))))","v":""},{"$f":"IF(OR(Table5ca[[#This Row],[Lookup Table Pt1]]=\"ESRefDesign_Insulation_V1\",Table5ca[[#This Row],[Lookup Table Pt1]]=\"ESRefDesign_Insulation_V11\",Table5ca[[#This Row],[Lookup Table Pt1]]=\"IECC2009_Fenestration_NotAW_Windows\",Table5ca[[#This Row],[Lookup Table Pt1]]=\"IECC2009_Fenestration_AW_Windows\",Table5ca[[#This Row],[Lookup Table Pt1]]=\"ESRefDesign_FenestrationAW_V1\",Table5ca[[#This Row],[Lookup Table Pt1]]=\"ESRefDesign_FenestrationAW_V11\",Table5ca[[#This Row],[Lookup Table Pt1]]=\"ESRefDesign_Fenestration_V1\",Table5ca[[#This Row],[Lookup Table Pt1]]=\"ESRefDesign_Fenestration_V11\"),Table5ca[[#This Row],[Lookup Table Pt1]],\n\nIF(Table5ca[[#This Row],[Component_Lookup]]=\"FloorAboveGarage\",Table5ca[[#This Row],[Lookup Table Pt1]]&\"_Floor\",\n\nTable5ca[[#This Row],[Lookup Table Pt1]]&\"_\"&Table5ca[[#This Row],[Component_Lookup]]))","v":"_NotApplicable"},{"$f":"IF(AND($C$8=\"Version 1.2 OR+WA\",$C$6=\"Prescriptive\",Table5ca[[#This Row],[Building Component]]=\"Above-Grade Wall\"),1,\nIF(AND($C$8=\"Version 1.2 OR+WA\",$C$6=\"Prescriptive\",Table5ca[[#This Row],[Building Component]]=\"Ceiling\"),2,\nIF(AND($C$8=\"Version 1.2 OR+WA\",$C$6=\"Prescriptive\",Table5ca[[#This Row],[Building Component]]=\"Basement Wall\"),4,\nIF(AND($C$8=\"Version 1.2 OR+WA\",$C$6=\"Prescriptive\",Table5ca[[#This Row],[Building Component]]=\"On-Grade & Below Grade Slab\"),5,\nIF(AND($C$8=\"Version 1.2 OR+WA\",$C$6=\"Prescriptive\",OR(Table5ca[[#This Row],[Building Component]]=\"Floor Assembly\",Table5ca[[#This Row],[Building Component]]=\"Floor Above Garage\",Table5ca[[#This Row],[Building Component]]=\"Floor Above Garage Columns\")),3,\n\nIF(AND($C$8=\"Version 1.2 OR+WA\",OR($C$6=\"Prescriptive\",$C$6=\"ERI\",$C$6=\"Title 24 - Dwelling Units Models\"),Table5ca[[#This Row],[Dwelling or Common?]]=\"Common\",Table5ca[[#This Row],[Building Component]]=\"Above-Grade Wall\"),1,\nIF(AND($C$8=\"Version 1.2 OR+WA\",OR($C$6=\"Prescriptive\",$C$6=\"ERI\",$C$6=\"Title 24 - Dwelling Units Models\"),Table5ca[[#This Row],[Dwelling or Common?]]=\"Common\",Table5ca[[#This Row],[Building Component]]=\"Ceiling\"),2,\nIF(AND($C$8=\"Version 1.2 OR+WA\",OR($C$6=\"Prescriptive\",$C$6=\"ERI\",$C$6=\"Title 24 - Dwelling Units Models\"),Table5ca[[#This Row],[Dwelling or Common?]]=\"Common\",Table5ca[[#This Row],[Building Component]]=\"Basement Wall\"),4,\nIF(AND($C$8=\"Version 1.2 OR+WA\",OR($C$6=\"Prescriptive\",$C$6=\"ERI\",$C$6=\"Title 24 - Dwelling Units Models\"),Table5ca[[#This Row],[Dwelling or Common?]]=\"Common\",Table5ca[[#This Row],[Building Component]]=\"On-Grade & Below Grade Slab\"),5,\nIF(AND($C$8=\"Version 1.2 OR+WA\",OR($C$6=\"Prescriptive\",$C$6=\"ERI\",$C$6=\"Title 24 - Dwelling Units Models\"),Table5ca[[#This Row],[Dwelling or Common?]]=\"Common\",OR(Table5ca[[#This Row],[Building Component]]=\"Floor Assembly\",Table5ca[[#This Row],[Building Component]]=\"Floor Above Garage\",Table5ca[[#This Row],[Building Component]]=\"Floor Above Garage Columns\")),3,\n\nIF(AND($C$6=\"Prescriptive\",OR($C$8=\"Version 1\",$C$8=\"Version 1.1\"),Table5ca[[#This Row],[Building Component]]=\"Basement Wall Continuous Insulation\"),3,\nIF(AND($C$6=\"Prescriptive\",OR($C$8=\"Version 1\",$C$8=\"Version 1.1\"),Table5ca[[#This Row],[Building Component]]=\"Slab Insulation\"),1,\n\nIF(OR(Table5ca[[#This Row],[Component Type]]=\"Insulation entirely above deck\",Table5ca[[#This Row],[Component Type]]=\"Mass\",Table5ca[[#This Row],[Component Type]]=\"Below grade wall\",Table5ca[[#This Row],[Component Type]]=\"Unheated slabs\",Table5ca[[#This Row],[Component Type]]=\"Floor Above Garage\"),1,\nIF(OR(Table5ca[[#This Row],[Component Type]]=\"Metal buildings\",Table5ca[[#This Row],[Component Type]]=\"Metal building\",Table5ca[[#This Row],[Component Type]]=\"Joist/framing\",Table5ca[[#This Row],[Component Type]]=\"Heated slabs\",Table5ca[[#This Row],[Component Type]]=\"Floor Above Garage\"),2,\nIF(OR(Table5ca[[#This Row],[Component Type]]=\"Attic and other\",Table5ca[[#This Row],[Component Type]]=\"Metal framed\"),3,\nIF(OR(Table5ca[[#This Row],[Component Type]]=\"Wood framed and other\",Table5ca[[#This Row],[Building Component]]=\"Floor Assembly\",Table5ca[[#This Row],[Building Component]]=\"Floor Above Garage\",Table5ca[[#This Row],[Building Component]]=\"Floor Above Garage Columns\"),4,\nIF(Table5ca[[#This Row],[Building Component]]=\"Wall Assembly\",5,\nIF(Table5ca[[#This Row],[Building Component]]=\"Ceiling Assembly\",6,\n\nIF(Table5ca[[#This Row],[Lookup Table Pt2]]=\"IECC2009_Fenestration_NotAW_Windows\",1,\nIF(AND(Table5ca[[#This Row],[Lookup Table Pt2]]=\"IECC2009_Fenestration_AW_Windows\",OR(Table5ca[[#This Row],[Additional Component Details]]=\"Non-Metal\",Table5ca[[#This Row],[Component Type]]=\"Non-Metal\")),1,\nIF(AND(Table5ca[[#This Row],[Lookup Table Pt2]]=\"IECC2009_Fenestration_AW_Windows\",OR(Table5ca[[#This Row],[Additional Component Details]]=\"Metal - Curtainwall/storefront\",Table5ca[[#This Row],[Component Type]]=\"Metal - Curtainwall/storefront\")),2,\nIF(AND(Table5ca[[#This Row],[Lookup Table Pt2]]=\"IECC2009_Fenestration_AW_Windows\",OR(Table5ca[[#This Row],[Additional Component Details]]=\"Metal - Entrance door\",Table5ca[[#This Row],[Component Type]]=\"Metal - Entrance door\")),3,\nIF(AND(Table5ca[[#This Row],[Lookup Table Pt2]]=\"IECC2009_Fenestration_AW_Windows\",OR(Table5ca[[#This Row],[Additional Component Details]]=\"Metal - Other\",Table5ca[[#This Row],[Component Type]]=\"Metal - Entrance door\")),4,\nIF(AND(Table5ca[[#This Row],[Lookup Table Pt2]]=\"IECC2009_Fenestration_AW_Windows\",Table5ca[[#This Row],[Component Type]]=\"Metal - Other\"),4,\n\nIF(AND(OR(Table5ca[[#This Row],[Lookup Table Pt1]]=\"ESRefDesign_FenestrationAW_V1\",Table5ca[[#This Row],[Lookup Table Pt1]]=\"ESRefDesign_FenestrationAW_V11\",Table5ca[[#This Row],[Lookup Table Pt1]]=\"ESRefDesign_FenestrationAW_V12\"),OR(Table5ca[[#This Row],[Component Type]]=\"Fixed\",Table5ca[[#This Row],[Additional Component Details]]=\"Fixed\")),1,\nIF(AND(OR(Table5ca[[#This Row],[Lookup Table Pt1]]=\"ESRefDesign_FenestrationAW_V1\",Table5ca[[#This Row],[Lookup Table Pt1]]=\"ESRefDesign_FenestrationAW_V11\",Table5ca[[#This Row],[Lookup Table Pt1]]=\"ESRefDesign_FenestrationAW_V12\"),OR(Table5ca[[#This Row],[Component Type]]=\"Operable\",Table5ca[[#This Row],[Additional Component Details]]=\"Operable\")),2,\n\nIF(AND(OR(Table5ca[[#This Row],[Lookup Table Pt1]]=\"ESRefDesign_Fenestration_V1\",Table5ca[[#This Row],[Lookup Table Pt1]]=\"ESRefDesign_Fenestration_V11\",Table5ca[[#This Row],[Lookup Table Pt1]]=\"ESRefDesign_Fenestration_V12\"),Table5ca[[#This Row],[Additional Component Details]]=\"Window\"),1,\nIF(AND(OR(Table5ca[[#This Row],[Lookup Table Pt1]]=\"ESRefDesign_Fenestration_V1\",Table5ca[[#This Row],[Lookup Table Pt1]]=\"ESRefDesign_Fenestration_V11\",Table5ca[[#This Row],[Lookup Table Pt1]]=\"ESRefDesign_Fenestration_V12\"),Table5ca[[#This Row],[Additional Component Details]]=\"Opaque Door\"),3,\nIF(AND(OR(Table5ca[[#This Row],[Lookup Table Pt1]]=\"ESRefDesign_Fenestration_V1\",Table5ca[[#This Row],[Lookup Table Pt1]]=\"ESRefDesign_Fenestration_V11\",Table5ca[[#This Row],[Lookup Table Pt1]]=\"ESRefDesign_Fenestration_V12\"),Table5ca[[#This Row],[Additional Component Details]]=\"≤½ lite Door\"),4,\nIF(AND(OR(Table5ca[[#This Row],[Lookup Table Pt1]]=\"ESRefDesign_Fenestration_V1\",Table5ca[[#This Row],[Lookup Table Pt1]]=\"ESRefDesign_Fenestration_V11\",Table5ca[[#This Row],[Lookup Table Pt1]]=\"ESRefDesign_Fenestration_V12\"),Table5ca[[#This Row],[Additional Component Details]]=\">½ lite Door\"),5,\n\n\n\"\"))))))))))))))))))))))))))))))","v":""},{"$f":"IF(AND($C$8=\"Version 1.2 OR+WA\",$C$6=\"Prescriptive\",Table5ca[[#This Row],[Building Component]]<>\"Fenestration\"),2,\n\nIF(AND($C$8=\"Version 1.2 OR+WA\",$C$6=\"Prescriptive\",$C$7=\"CZ 4 C\"),2,\nIF(AND($C$8=\"Version 1.2 OR+WA\",$C$6=\"Prescriptive\",$C$7=\"CZ 5\"),3,\nIF(AND($C$8=\"Version 1.2 OR+WA\",$C$6=\"Prescriptive\",$C$7=\"CZ 6\"),4,\n\nIF(AND($C$8=\"Version 1.2 OR+WA\",Table5ca[[#This Row],[Dwelling or Common?]]=\"Common\",OR($C$6=\"ERI\",$C$6=\"Title 24 - Dwelling Unit Models\"),$C$7=\"CZ 4 C\"),2,\nIF(AND($C$8=\"Version 1.2 OR+WA\",Table5ca[[#This Row],[Dwelling or Common?]]=\"Common\",OR($C$6=\"ERI\",$C$6=\"Title 24 - Dwelling Unit Models\"),$C$7=\"CZ 5\"),3,\nIF(AND($C$8=\"Version 1.2 OR+WA\",Table5ca[[#This Row],[Dwelling or Common?]]=\"Common\",OR($C$6=\"ERI\",$C$6=\"Title 24 - Dwelling Unit Models\"),$C$7=\"CZ 6\"),4,\n\nIF($C$7=\"CZ 1\",2,\nIF($C$7=\"CZ 2\",3,\nIF($C$7=\"CZ 3\",4,\nIF($C$7=\"CZ 4\",5,\nIF($C$7=\"CZ 4 C\",6,\nIF($C$7=\"CZ 5\",7,\nIF($C$7=\"CZ 6\",8,\nIF($C$7=\"CZ 7\",9,\nIF($C$7=\"CZ 8\",10,\"\"))))))))))))))))","v":5}]
[null,null,null,null,null,null,null,{"$f":"IF(Table5ca[[#This Row],[Specified/Installed U-Factor]]*Table5ca[[#This Row],[Area]]=0,\"\",Table5ca[[#This Row],[Specified/Installed U-Factor]]*Table5ca[[#This Row],[Area]])","v":""},{"$f":"IFERROR(IF(AND($C$8=\"Version 1.2 OR+WA\",OR($C$7=\"CZ 1\",$C$7=\"CZ 2\",$C$7=\"CZ 3\",$C$7=\"CZ 4\",$C$7=\"CZ 7\",$C$7=\"CZ 8\")),\"N/A - Update CZ\",\n\nIF(Table5ca[[#This Row],[Building Component]]=\"Balcony\",\"0.20\",\n\nIF(OR(Table5ca[[#This Row],[Lookup Table Pt1]]=\"ESRefDesign_Insulation_V1\",Table5ca[[#This Row],[Lookup Table Pt1]]=\"ESRefDesign_Insulation_V11\",Table5ca[[#This Row],[Lookup Table Pt1]]=\"ESRefDesign_Insulation_V12\",Table5ca[[#This Row],[Lookup Table Pt1]]=\"ESRefDesign_FenestrationAW_V1\",Table5ca[[#This Row],[Lookup Table Pt1]]=\"ESRefDesign_FenestrationAW_V11\",Table5ca[[#This Row],[Lookup Table Pt1]]=\"ESRefDesign_Fenestration_V1\",Table5ca[[#This Row],[Lookup Table Pt1]]=\"ESRefDesign_Fenestration_V11\",Table5ca[[#This Row],[Lookup Table Pt1]]=\"ESRefDesign_Fenestration_V12\",Table5ca[[#This Row],[Lookup Table Pt1]]=\"ESRefDesign_FenestrationAW_V12\",Table5ca[[#This Row],[Lookup Table Pt1]]=\"IECC2009_Fenestration_NotAW_Windows\",Table5ca[[#This Row],[Lookup Table Pt1]]=\"IECC2009_Fenestration_AW_Windows\"),INDEX(INDIRECT(Table5ca[[#This Row],[Lookup Table Pt1]]),Table5ca[[#This Row],[Row Index]],Table5ca[[#This Row],[Column Index]]),\n\nINDEX(INDIRECT(Table5ca[[#This Row],[Lookup Table Pt2]]),Table5ca[[#This Row],[Row Index]],Table5ca[[#This Row],[Column Index]])))),\"\")","v":""},{"$f":"IFERROR(\n\nIF(LEFT(Table5ca[[#This Row],[ENERGY STAR Requirement Values]],2)=\"U-\",Table5ca[[#This Row],[ENERGY STAR Requirement Values]],\n\nIF(OR(Table5ca[[#This Row],[Building Component]]=\"Slab Insulation\",Table5ca[[#This Row],[Building Component]]=\"Slab-On-Grade Floor\",Table5ca[[#This Row],[Building Component]]=\"Slab-On-Grade Floors\",Table5ca[[#This Row],[Building Component]]=\"On-Grade & Below Grade Slab\",Table5ca[[#This Row],[Building Component]]=\"Slab-on-Grade Floors\",Table5ca[[#This Row],[Building Component]]=\"Slab-on-Grade Floor\"),\"\",\n\nIF(OR(Table5ca[[#This Row],[ENERGY STAR Requirement Values]]=\"R-0\",Table5ca[[#This Row],[ENERGY STAR Requirement Values]]=0,Table5ca[[#This Row],[ENERGY STAR Requirement Values]]=\"C-1.140\"),\"U-0.36\",\nIF(OR(Table5ca[[#This Row],[ENERGY STAR Requirement Values]]=\"R-7.5\",Table5ca[[#This Row],[ENERGY STAR Requirement Values]]=7.5,Table5ca[[#This Row],[ENERGY STAR Requirement Values]]=\"C-0.119\"),\"U-0.072\",\nIF(OR(Table5ca[[#This Row],[ENERGY STAR Requirement Values]]=\"R-10\",Table5ca[[#This Row],[ENERGY STAR Requirement Values]]=10,Table5ca[[#This Row],[ENERGY STAR Requirement Values]]=\"C-0.092\"),\"U-0.059\",\nIF(OR(Table5ca[[#This Row],[ENERGY STAR Requirement Values]]=\"R-15\",Table5ca[[#This Row],[ENERGY STAR Requirement Values]]=15,Table5ca[[#This Row],[ENERGY STAR Requirement Values]]=\"R-15 continuous or R-21 cavity\"),\"U-0.05\",\nIF(OR(Table5ca[[#This Row],[ENERGY STAR Requirement Values]]=\"R-12.5\",Table5ca[[#This Row],[ENERGY STAR Requirement Values]]=12.5,Table5ca[[#This Row],[ENERGY STAR Requirement Values]]=\"C-0.075\"),\"U-0.054\",\nIF(OR(Table5ca[[#This Row],[ENERGY STAR Requirement Values]]=\"R-21\",Table5ca[[#This Row],[ENERGY STAR Requirement Values]]=21),\"U-0.056\",\nIF(OR(Table5ca[[#This Row],[ENERGY STAR Requirement Values]]=\"R-38\",Table5ca[[#This Row],[ENERGY STAR Requirement Values]]=38),\"U-0.028\",\nIF(OR(Table5ca[[#This Row],[ENERGY STAR Requirement Values]]=\"R-49\",Table5ca[[#This Row],[ENERGY STAR Requirement Values]]=49),\"U-0.026\",\n\nIF(LEFT(Table5ca[[#This Row],[ENERGY STAR Requirement Values]],2)=\"F-\",\"\",\n\nIF(LEFT(Table5ca[[#This Row],[ENERGY STAR Requirement Values]],1)=\"0\",CONCATENATE(\"U-\",Table5ca[[#This Row],[ENERGY STAR Requirement Values]]),\n\nTable5ca[[#This Row],[ENERGY STAR Requirement Values]])))))))))))),\"\")","v":""},{"$f":"IFERROR(IF(Table5ca[[#This Row],[Area]]=\"\",\"\",\nIF(Table5ca[[#This Row],[Required U-factor]]=\"\",\"\",\nIFERROR(Table5ca[[#This Row],[Area]]*Table5ca[[#This Row],[Required U-factor]],RIGHT(Table5ca[[#This Row],[Required U-factor]],LEN(Table5ca[[#This Row],[Required U-factor]])-2)*Table5ca[[#This Row],[Area]]))),\"\")","v":""},{"$f":"IF(Table5ca[[#This Row],[Building Component]]=\"\",\"\",\nIF(OR(Table5ca[[#This Row],[Building Component]]=\"Wall, Above Grade\",Table5ca[[#This Row],[Building Component]]=\"Wall, Below Grade\"),\"If there is continuous insulation interrupted by fasteners, ensure that the U-factor has been de-rated per Footnote 24. See below for further details.\",\nIF(Table5ca[[#This Row],[Building Component]]=\"Wall Assembly\",\"Apply a derate per Footnote 6 below.\",\nIF(Table5ca[[#This Row],[Building Component]]=\"Balcony\",\"Use the table below to de-rate balconies per Footnote 21.\",\nIF(OR(Table5ca[[#This Row],[Building Component]]=\"Floor Above Garage\",Table5ca[[#This Row],[Building Component]]=\"Floor Above Garage Columns\"),\"Use the table below to De-Rate floors above garages per Footnote 22.\",\n\"Not Applicable\")))))","v":""},null,null,null,null,null,null,{"$f":"IF(AND(Table5ca[[#This Row],[Dwelling or Common?]]=\"Dwelling\",$C$6=\"Prescriptive\",$C$8=\"Version 1.2 OR+WA\"),\"BuildingComponents_ESRefListV12_UABuildingComponents\",\nIF(AND($C$8=\"Version 1.2 OR+WA\",OR($C$6=\"Prescriptive\",$C$6=\"ERI\",$C$6=\"Title 24 - Dwelling Units Models\"),Table5ca[[#This Row],[Dwelling or Common?]]=\"Common\"),\"BuildingComponents_ESRefListV12_UABuildingComponents\",\n\nIF(AND($C$6=\"Prescriptive\",Table5ca[[#This Row],[Dwelling or Common?]]=\"Dwelling\"),\"PrescriptivePath_UABuildingComponents\",\n\n\"ERI_AHSRAE_UABuildingComponents\")))","v":"ERI_AHSRAE_UABuildingComponents"},{"$f":"IF(AND($C$6<>\"Prescriptive\",OR(Table5ca[[#This Row],[Building Component]]=\"Floor Assembly\",Table5ca[[#This Row],[Building Component]]=\"Floor Above Garage\",Table5ca[[#This Row],[Building Component]]=\"Floor Above Garage Columns\")),\"Floor\",\nIF(AND($C$6=\"Prescriptive\",Table5ca[[#This Row],[Dwelling or Common?]]=\"Common\",OR(Table5ca[[#This Row],[Building Component]]=\"Floor Assembly\",Table5ca[[#This Row],[Building Component]]=\"Floor Above Garage\",Table5ca[[#This Row],[Building Component]]=\"Floor Above Garage Columns\")),\"Floor\",\n\nIF(Table5ca[[#This Row],[Building Component]]=\"Roofs\",\"Roof\",\nIF(Table5ca[[#This Row],[Building Component]]=\"Walls, Above Grade\",\"WallAboveGrade\",\nIF(Table5ca[[#This Row],[Building Component]]=\"Walls, Below Grade\",\"WallBelowGrade\",\nIF(AND(Table5ca[[#This Row],[Building Component]]=\"Floor Assembly\",$C$6<>\"Prescriptive\"),\"Floor\",\nIF(Table5ca[[#This Row],[Building Component]]=\"Slab-on-Grade Floors\",\"SlabOnGradeFloor\",\nIF(Table5ca[[#This Row],[Building Component]]=\"Opaque Doors\",\"OpaqueDoor\",\nIF(Table5ca[[#This Row],[Building Component]]=\"Balcony\",\"Balcony\",\nIF(AND(Table5ca[[#This Row],[Building Component]]=\"Floor Above Garage\",$C$6=\"Prescriptive\"),\"FloorAssembly\",\nIF(Table5ca[[#This Row],[Building Component]]=\"Floor Above Garage\",\"FloorAboveGarage\",\nIF(Table5ca[[#This Row],[Building Component]]=\"Wall Assembly\",\"WallAssembly\",\nIF(Table5ca[[#This Row],[Building Component]]=\"Ceiling Assembly\",\"CeilingAssembly\",\nIF(OR(Table5ca[[#This Row],[Building Component]]=\"Floor Assembly\",Table5ca[[#This Row],[Building Component]]=\"Floor Above Garage\",Table5ca[[#This Row],[Building Component]]=\"Floor Above Garage Columns\"),\"FloorAssembly\",\n\nIF(AND(Table5ca[[#This Row],[Building Component]]=\"Fenestration\",Table5ca[[#This Row],[Dwelling or Common?]]=\"Dwelling\"),\"ClassAW?\",\n\nIF(AND(Table5ca[[#This Row],[Building Component]]=\"Fenestration\",Table5ca[[#This Row],[Dwelling or Common?]]=\"Common\",OR($C$6=\"ERI\",$C$6=\"Title 24 - Dwelling Unit Models\",$C$6=\"Prescriptive\")),\"ESRefClassAW\",\nIF(AND(Table5ca[[#This Row],[Building Component]]=\"Fenestration\",Table5ca[[#This Row],[Dwelling or Common?]]=\"Common\",OR($C$6=\"ASHRAE\",$C$6=\"Title 24 - Whole Building Models\")),\"Fenestration\",\n\n\"NotApplicable\")))))))))))))))))","v":"NotApplicable"},{"$f":"IF(AND(OR($C$6=\"ERI\",$C$6=\"Title 24 - Dwelling Unit Models\"),Table5ca[[#This Row],[Dwelling or Common?]]=\"Dwelling\",Table5ca[[#This Row],[Component Type]]=\"Class AW\"),\"Fenestration\",\nIF(AND(OR($C$6=\"ERI\",$C$6=\"Title 24 - Dwelling Unit Models\"),Table5ca[[#This Row],[Dwelling or Common?]]=\"Dwelling\",Table5ca[[#This Row],[Component Type]]=\"Not Class AW\"),\"NotApplicable\",\n\nIF(AND(OR($C$6=\"ASHRAE\",$C$6=\"Title 24 - Whole Building Models\"),Table5ca[[#This Row],[Dwelling or Common?]]=\"Dwelling\",Table5ca[[#This Row],[Component Type]]=\"Class AW\"),\"Fenestration\",\nIF(AND(OR($C$6=\"ASHRAE\",$C$6=\"Title 24 - Whole Building Models\"),Table5ca[[#This Row],[Dwelling or Common?]]=\"Dwelling\",Table5ca[[#This Row],[Component Type]]=\"Not Class AW\"),\"NotApplicable\",\n\nIF(AND($C$6=\"Prescriptive\",Table5ca[[#This Row],[Dwelling or Common?]]=\"Dwelling\",Table5ca[[#This Row],[Component Type]]=\"Class AW\"),\"ESRefClassAW\",\nIF(AND($C$6=\"Prescriptive\",Table5ca[[#This Row],[Dwelling or Common?]]=\"Dwelling\",Table5ca[[#This Row],[Component Type]]=\"Not Class AW\"),\"ESRefNotClassAW\",\n\nIF(Table5ca[[#This Row],[Component Type]]=\"Class AW\",\"Fenestration\",\n\n\"NotApplicable\")))))))","v":"NotApplicable"},{"$f":"IF(AND(Table5ca[[#This Row],[Dwelling or Common?]]=\"Dwelling\",$C$8=\"Version 1\",$C$6=\"Prescriptive\",Table5ca[[#This Row],[Building Component]]<>\"Fenestration\"),\"ESRefDesign_Insulation_V1\",\nIF(AND(Table5ca[[#This Row],[Dwelling or Common?]]=\"Dwelling\",$C$8=\"Version 1.1\",$C$6=\"Prescriptive\",Table5ca[[#This Row],[Building Component]]<>\"Fenestration\"),\"ESRefDesign_Insulation_V11\",\nIF(AND($C$8=\"Version 1.2 OR+WA\",$C$6=\"Prescriptive\",Table5ca[[#This Row],[Building Component]]<>\"Fenestration\"),\"ESRefDesign_Insulation_V12\",\n\nIF(AND(Table5ca[[#This Row],[Dwelling or Common?]]=\"Common\",$C$8=\"Version 1.2 OR+WA\",OR($C$6=\"ERI\",$C$6=\"Title 24 - Dwelling Unit Models\"),Table5ca[[#This Row],[Building Component]]<>\"Fenestration\"),\"ESRefDesign_Insulation_V12\",\nIF(AND(Table5ca[[#This Row],[Dwelling or Common?]]=\"Common\",$C$8=\"Version 1.2 OR+WA\",OR($C$6=\"ASHRAE\",$C$6=\"Title 24 - Whole Building Models\"),Table5ca[[#This Row],[Building Component]]<>\"Fenestration\"),\"IECC2009_OU\",\nIF(AND(Table5ca[[#This Row],[Dwelling or Common?]]=\"Dwelling\",$C$8=\"Version 1.2 OR+WA\",OR($C$6=\"ERI\",$C$6=\"Title 24 - Dwelling Unit Models\",$C$6=\"ASHRAE\",$C$6=\"Title 24 - Whole Building Models\"),Table5ca[[#This Row],[Building Component]]<>\"Fenestration\"),\"IECC2009_RU\",\n\nIF(AND(Table5ca[[#This Row],[Dwelling or Common?]]=\"Common\",$C$8=\"Version 1\",Table5ca[[#This Row],[Building Component]]<>\"Fenestration\"),\"IECC2009_OU\",\nIF(AND(Table5ca[[#This Row],[Dwelling or Common?]]=\"Common\",$C$8=\"Version 1.1\",OR($C$6=\"ASHRAE\",$C$6=\"Title 24 - Whole Building Models\"),Table5ca[[#This Row],[Building Component]]<>\"Fenestration\"),\"IECC2009_OU\",\nIF(AND(Table5ca[[#This Row],[Dwelling or Common?]]=\"Common\",$C$8=\"Version 1.1\",OR($C$6=\"Prescriptive\",$C$6=\"ERI\",$C$6=\"Title 24 - Dwelling Unit Models\"),Table5ca[[#This Row],[Building Component]]<>\"Fenestration\"),\"IECC2012_OU\",\n\nIF(AND(Table5ca[[#This Row],[Dwelling or Common?]]=\"Dwelling\",OR($C$8=\"Version 1\",$C$8=\"Version 1.1\",),OR($C$6=\"ERI\",$C$6=\"ASHRAE\",$C$6=\"Title 24 - Whole Building Models\",$C$6=\"Title 24 - Dwelling Unit Models\"),Table5ca[[#This Row],[Building Component]]<>\"Fenestration\"),\"IECC2009_RU\",\n\n\nIF(AND(Table5ca[[#This Row],[Building Component]]=\"Fenestration\",Table5ca[[#This Row],[Dwelling or Common?]]=\"Common\",OR($C$6=\"Prescriptive\",$C$6=\"ERI\",$C$6=\"Title 24 - Dwelling Unit Models\"),$C$8=\"Version 1\"),\"ESRefDesign_FenestrationAW_V1\",\nIF(AND(Table5ca[[#This Row],[Building Component]]=\"Fenestration\",Table5ca[[#This Row],[Dwelling or Common?]]=\"Common\",OR($C$6=\"Prescriptive\",$C$6=\"ERI\",$C$6=\"Title 24 - Dwelling Unit Models\"),$C$8=\"Version 1.1\"),\"ESRefDesign_FenestrationAW_V11\",\nIF(AND(Table5ca[[#This Row],[Building Component]]=\"Fenestration\",Table5ca[[#This Row],[Dwelling or Common?]]=\"Common\",OR($C$6=\"Prescriptive\",$C$6=\"ERI\",$C$6=\"Title 24 - Dwelling Unit Models\"),$C$8=\"Version 1.2 OR+WA\"),\"ESRefDesign_FenestrationAW_V12\",\n\nIF(AND(Table5ca[[#This Row],[Building Component]]=\"Fenestration\",Table5ca[[#This Row],[Dwelling or Common?]]=\"Common\",OR($C$6=\"ASHRAE\",$C$6=\"Title 24 - Whole Building Models\")),\"IECC2009_Fenestration_AW_Windows\",\nIF(AND(Table5ca[[#This Row],[Building Component]]=\"Fenestration\",Table5ca[[#This Row],[Dwelling or Common?]]=\"Dwelling\",Table5ca[[#This Row],[Component Type]]=\"Class AW\",OR($C$6=\"ASHRAE\",$C$6=\"Title 24 - Whole Building Models\",$C$6=\"ERI\",$C$6=\"Title 24 - Dwelling Unit Models\")),\"IECC2009_Fenestration_AW_Windows\",\n\nIF(AND(Table5ca[[#This Row],[Building Component]]=\"Fenestration\",Table5ca[[#This Row],[Dwelling or Common?]]=\"Dwelling\",$C$6=\"Prescriptive\",$C$8=\"Version 1\",Table5ca[[#This Row],[Component Type]]=\"Class AW\"),\"ESRefDesign_FenestrationAW_V1\",\nIF(AND(Table5ca[[#This Row],[Building Component]]=\"Fenestration\",Table5ca[[#This Row],[Dwelling or Common?]]=\"Dwelling\",$C$6=\"Prescriptive\",$C$8=\"Version 1.1\",Table5ca[[#This Row],[Component Type]]=\"Class AW\"),\"ESRefDesign_FenestrationAW_V11\",\nIF(AND(Table5ca[[#This Row],[Building Component]]=\"Fenestration\",Table5ca[[#This Row],[Dwelling or Common?]]=\"Dwelling\",$C$6=\"Prescriptive\",$C$8=\"Version 1.2 OR+WA\",Table5ca[[#This Row],[Component Type]]=\"Class AW\"),\"ESRefDesign_FenestrationAW_V12\",\n\nIF(AND(Table5ca[[#This Row],[Building Component]]=\"Fenestration\",Table5ca[[#This Row],[Dwelling or Common?]]=\"Dwelling\",$C$6=\"Prescriptive\",$C$8=\"Version 1\",Table5ca[[#This Row],[Component Type]]=\"Not Class AW\"),\"ESRefDesign_Fenestration_V1\",\nIF(AND(Table5ca[[#This Row],[Building Component]]=\"Fenestration\",Table5ca[[#This Row],[Dwelling or Common?]]=\"Dwelling\",$C$6=\"Prescriptive\",$C$8=\"Version 1.1\",Table5ca[[#This Row],[Component Type]]=\"Not Class AW\"),\"ESRefDesign_Fenestration_V11\",\nIF(AND(Table5ca[[#This Row],[Building Component]]=\"Fenestration\",Table5ca[[#This Row],[Dwelling or Common?]]=\"Dwelling\",$C$6=\"Prescriptive\",$C$8=\"Version 1.2 OR+WA\",Table5ca[[#This Row],[Component Type]]=\"Not Class AW\"),\"ESRefDesign_Fenestration_V12\",\n\nIF(AND(Table5ca[[#This Row],[Building Component]]=\"Fenestration\",Table5ca[[#This Row],[Dwelling or Common?]]=\"Dwelling\"),\"IECC2009_Fenestration_NotAW_Windows\",\n\n\"\"))))))))))))))))))))))","v":""},{"$f":"IF(OR(Table5ca[[#This Row],[Lookup Table Pt1]]=\"ESRefDesign_Insulation_V1\",Table5ca[[#This Row],[Lookup Table Pt1]]=\"ESRefDesign_Insulation_V11\",Table5ca[[#This Row],[Lookup Table Pt1]]=\"IECC2009_Fenestration_NotAW_Windows\",Table5ca[[#This Row],[Lookup Table Pt1]]=\"IECC2009_Fenestration_AW_Windows\",Table5ca[[#This Row],[Lookup Table Pt1]]=\"ESRefDesign_FenestrationAW_V1\",Table5ca[[#This Row],[Lookup Table Pt1]]=\"ESRefDesign_FenestrationAW_V11\",Table5ca[[#This Row],[Lookup Table Pt1]]=\"ESRefDesign_Fenestration_V1\",Table5ca[[#This Row],[Lookup Table Pt1]]=\"ESRefDesign_Fenestration_V11\"),Table5ca[[#This Row],[Lookup Table Pt1]],\n\nIF(Table5ca[[#This Row],[Component_Lookup]]=\"FloorAboveGarage\",Table5ca[[#This Row],[Lookup Table Pt1]]&\"_Floor\",\n\nTable5ca[[#This Row],[Lookup Table Pt1]]&\"_\"&Table5ca[[#This Row],[Component_Lookup]]))","v":"_NotApplicable"},{"$f":"IF(AND($C$8=\"Version 1.2 OR+WA\",$C$6=\"Prescriptive\",Table5ca[[#This Row],[Building Component]]=\"Above-Grade Wall\"),1,\nIF(AND($C$8=\"Version 1.2 OR+WA\",$C$6=\"Prescriptive\",Table5ca[[#This Row],[Building Component]]=\"Ceiling\"),2,\nIF(AND($C$8=\"Version 1.2 OR+WA\",$C$6=\"Prescriptive\",Table5ca[[#This Row],[Building Component]]=\"Basement Wall\"),4,\nIF(AND($C$8=\"Version 1.2 OR+WA\",$C$6=\"Prescriptive\",Table5ca[[#This Row],[Building Component]]=\"On-Grade & Below Grade Slab\"),5,\nIF(AND($C$8=\"Version 1.2 OR+WA\",$C$6=\"Prescriptive\",OR(Table5ca[[#This Row],[Building Component]]=\"Floor Assembly\",Table5ca[[#This Row],[Building Component]]=\"Floor Above Garage\",Table5ca[[#This Row],[Building Component]]=\"Floor Above Garage Columns\")),3,\n\nIF(AND($C$8=\"Version 1.2 OR+WA\",OR($C$6=\"Prescriptive\",$C$6=\"ERI\",$C$6=\"Title 24 - Dwelling Units Models\"),Table5ca[[#This Row],[Dwelling or Common?]]=\"Common\",Table5ca[[#This Row],[Building Component]]=\"Above-Grade Wall\"),1,\nIF(AND($C$8=\"Version 1.2 OR+WA\",OR($C$6=\"Prescriptive\",$C$6=\"ERI\",$C$6=\"Title 24 - Dwelling Units Models\"),Table5ca[[#This Row],[Dwelling or Common?]]=\"Common\",Table5ca[[#This Row],[Building Component]]=\"Ceiling\"),2,\nIF(AND($C$8=\"Version 1.2 OR+WA\",OR($C$6=\"Prescriptive\",$C$6=\"ERI\",$C$6=\"Title 24 - Dwelling Units Models\"),Table5ca[[#This Row],[Dwelling or Common?]]=\"Common\",Table5ca[[#This Row],[Building Component]]=\"Basement Wall\"),4,\nIF(AND($C$8=\"Version 1.2 OR+WA\",OR($C$6=\"Prescriptive\",$C$6=\"ERI\",$C$6=\"Title 24 - Dwelling Units Models\"),Table5ca[[#This Row],[Dwelling or Common?]]=\"Common\",Table5ca[[#This Row],[Building Component]]=\"On-Grade & Below Grade Slab\"),5,\nIF(AND($C$8=\"Version 1.2 OR+WA\",OR($C$6=\"Prescriptive\",$C$6=\"ERI\",$C$6=\"Title 24 - Dwelling Units Models\"),Table5ca[[#This Row],[Dwelling or Common?]]=\"Common\",OR(Table5ca[[#This Row],[Building Component]]=\"Floor Assembly\",Table5ca[[#This Row],[Building Component]]=\"Floor Above Garage\",Table5ca[[#This Row],[Building Component]]=\"Floor Above Garage Columns\")),3,\n\nIF(AND($C$6=\"Prescriptive\",OR($C$8=\"Version 1\",$C$8=\"Version 1.1\"),Table5ca[[#This Row],[Building Component]]=\"Basement Wall Continuous Insulation\"),3,\nIF(AND($C$6=\"Prescriptive\",OR($C$8=\"Version 1\",$C$8=\"Version 1.1\"),Table5ca[[#This Row],[Building Component]]=\"Slab Insulation\"),1,\n\nIF(OR(Table5ca[[#This Row],[Component Type]]=\"Insulation entirely above deck\",Table5ca[[#This Row],[Component Type]]=\"Mass\",Table5ca[[#This Row],[Component Type]]=\"Below grade wall\",Table5ca[[#This Row],[Component Type]]=\"Unheated slabs\",Table5ca[[#This Row],[Component Type]]=\"Floor Above Garage\"),1,\nIF(OR(Table5ca[[#This Row],[Component Type]]=\"Metal buildings\",Table5ca[[#This Row],[Component Type]]=\"Metal building\",Table5ca[[#This Row],[Component Type]]=\"Joist/framing\",Table5ca[[#This Row],[Component Type]]=\"Heated slabs\",Table5ca[[#This Row],[Component Type]]=\"Floor Above Garage\"),2,\nIF(OR(Table5ca[[#This Row],[Component Type]]=\"Attic and other\",Table5ca[[#This Row],[Component Type]]=\"Metal framed\"),3,\nIF(OR(Table5ca[[#This Row],[Component Type]]=\"Wood framed and other\",Table5ca[[#This Row],[Building Component]]=\"Floor Assembly\",Table5ca[[#This Row],[Building Component]]=\"Floor Above Garage\",Table5ca[[#This Row],[Building Component]]=\"Floor Above Garage Columns\"),4,\nIF(Table5ca[[#This Row],[Building Component]]=\"Wall Assembly\",5,\nIF(Table5ca[[#This Row],[Building Component]]=\"Ceiling Assembly\",6,\n\nIF(Table5ca[[#This Row],[Lookup Table Pt2]]=\"IECC2009_Fenestration_NotAW_Windows\",1,\nIF(AND(Table5ca[[#This Row],[Lookup Table Pt2]]=\"IECC2009_Fenestration_AW_Windows\",OR(Table5ca[[#This Row],[Additional Component Details]]=\"Non-Metal\",Table5ca[[#This Row],[Component Type]]=\"Non-Metal\")),1,\nIF(AND(Table5ca[[#This Row],[Lookup Table Pt2]]=\"IECC2009_Fenestration_AW_Windows\",OR(Table5ca[[#This Row],[Additional Component Details]]=\"Metal - Curtainwall/storefront\",Table5ca[[#This Row],[Component Type]]=\"Metal - Curtainwall/storefront\")),2,\nIF(AND(Table5ca[[#This Row],[Lookup Table Pt2]]=\"IECC2009_Fenestration_AW_Windows\",OR(Table5ca[[#This Row],[Additional Component Details]]=\"Metal - Entrance door\",Table5ca[[#This Row],[Component Type]]=\"Metal - Entrance door\")),3,\nIF(AND(Table5ca[[#This Row],[Lookup Table Pt2]]=\"IECC2009_Fenestration_AW_Windows\",OR(Table5ca[[#This Row],[Additional Component Details]]=\"Metal - Other\",Table5ca[[#This Row],[Component Type]]=\"Metal - Entrance door\")),4,\nIF(AND(Table5ca[[#This Row],[Lookup Table Pt2]]=\"IECC2009_Fenestration_AW_Windows\",Table5ca[[#This Row],[Component Type]]=\"Metal - Other\"),4,\n\nIF(AND(OR(Table5ca[[#This Row],[Lookup Table Pt1]]=\"ESRefDesign_FenestrationAW_V1\",Table5ca[[#This Row],[Lookup Table Pt1]]=\"ESRefDesign_FenestrationAW_V11\",Table5ca[[#This Row],[Lookup Table Pt1]]=\"ESRefDesign_FenestrationAW_V12\"),OR(Table5ca[[#This Row],[Component Type]]=\"Fixed\",Table5ca[[#This Row],[Additional Component Details]]=\"Fixed\")),1,\nIF(AND(OR(Table5ca[[#This Row],[Lookup Table Pt1]]=\"ESRefDesign_FenestrationAW_V1\",Table5ca[[#This Row],[Lookup Table Pt1]]=\"ESRefDesign_FenestrationAW_V11\",Table5ca[[#This Row],[Lookup Table Pt1]]=\"ESRefDesign_FenestrationAW_V12\"),OR(Table5ca[[#This Row],[Component Type]]=\"Operable\",Table5ca[[#This Row],[Additional Component Details]]=\"Operable\")),2,\n\nIF(AND(OR(Table5ca[[#This Row],[Lookup Table Pt1]]=\"ESRefDesign_Fenestration_V1\",Table5ca[[#This Row],[Lookup Table Pt1]]=\"ESRefDesign_Fenestration_V11\",Table5ca[[#This Row],[Lookup Table Pt1]]=\"ESRefDesign_Fenestration_V12\"),Table5ca[[#This Row],[Additional Component Details]]=\"Window\"),1,\nIF(AND(OR(Table5ca[[#This Row],[Lookup Table Pt1]]=\"ESRefDesign_Fenestration_V1\",Table5ca[[#This Row],[Lookup Table Pt1]]=\"ESRefDesign_Fenestration_V11\",Table5ca[[#This Row],[Lookup Table Pt1]]=\"ESRefDesign_Fenestration_V12\"),Table5ca[[#This Row],[Additional Component Details]]=\"Opaque Door\"),3,\nIF(AND(OR(Table5ca[[#This Row],[Lookup Table Pt1]]=\"ESRefDesign_Fenestration_V1\",Table5ca[[#This Row],[Lookup Table Pt1]]=\"ESRefDesign_Fenestration_V11\",Table5ca[[#This Row],[Lookup Table Pt1]]=\"ESRefDesign_Fenestration_V12\"),Table5ca[[#This Row],[Additional Component Details]]=\"≤½ lite Door\"),4,\nIF(AND(OR(Table5ca[[#This Row],[Lookup Table Pt1]]=\"ESRefDesign_Fenestration_V1\",Table5ca[[#This Row],[Lookup Table Pt1]]=\"ESRefDesign_Fenestration_V11\",Table5ca[[#This Row],[Lookup Table Pt1]]=\"ESRefDesign_Fenestration_V12\"),Table5ca[[#This Row],[Additional Component Details]]=\">½ lite Door\"),5,\n\n\n\"\"))))))))))))))))))))))))))))))","v":""},{"$f":"IF(AND($C$8=\"Version 1.2 OR+WA\",$C$6=\"Prescriptive\",Table5ca[[#This Row],[Building Component]]<>\"Fenestration\"),2,\n\nIF(AND($C$8=\"Version 1.2 OR+WA\",$C$6=\"Prescriptive\",$C$7=\"CZ 4 C\"),2,\nIF(AND($C$8=\"Version 1.2 OR+WA\",$C$6=\"Prescriptive\",$C$7=\"CZ 5\"),3,\nIF(AND($C$8=\"Version 1.2 OR+WA\",$C$6=\"Prescriptive\",$C$7=\"CZ 6\"),4,\n\nIF(AND($C$8=\"Version 1.2 OR+WA\",Table5ca[[#This Row],[Dwelling or Common?]]=\"Common\",OR($C$6=\"ERI\",$C$6=\"Title 24 - Dwelling Unit Models\"),$C$7=\"CZ 4 C\"),2,\nIF(AND($C$8=\"Version 1.2 OR+WA\",Table5ca[[#This Row],[Dwelling or Common?]]=\"Common\",OR($C$6=\"ERI\",$C$6=\"Title 24 - Dwelling Unit Models\"),$C$7=\"CZ 5\"),3,\nIF(AND($C$8=\"Version 1.2 OR+WA\",Table5ca[[#This Row],[Dwelling or Common?]]=\"Common\",OR($C$6=\"ERI\",$C$6=\"Title 24 - Dwelling Unit Models\"),$C$7=\"CZ 6\"),4,\n\nIF($C$7=\"CZ 1\",2,\nIF($C$7=\"CZ 2\",3,\nIF($C$7=\"CZ 3\",4,\nIF($C$7=\"CZ 4\",5,\nIF($C$7=\"CZ 4 C\",6,\nIF($C$7=\"CZ 5\",7,\nIF($C$7=\"CZ 6\",8,\nIF($C$7=\"CZ 7\",9,\nIF($C$7=\"CZ 8\",10,\"\"))))))))))))))))","v":5}]
[null,null,null,null,null,null,null,{"$f":"IF(Table5ca[[#This Row],[Specified/Installed U-Factor]]*Table5ca[[#This Row],[Area]]=0,\"\",Table5ca[[#This Row],[Specified/Installed U-Factor]]*Table5ca[[#This Row],[Area]])","v":""},{"$f":"IFERROR(IF(AND($C$8=\"Version 1.2 OR+WA\",OR($C$7=\"CZ 1\",$C$7=\"CZ 2\",$C$7=\"CZ 3\",$C$7=\"CZ 4\",$C$7=\"CZ 7\",$C$7=\"CZ 8\")),\"N/A - Update CZ\",\n\nIF(Table5ca[[#This Row],[Building Component]]=\"Balcony\",\"0.20\",\n\nIF(OR(Table5ca[[#This Row],[Lookup Table Pt1]]=\"ESRefDesign_Insulation_V1\",Table5ca[[#This Row],[Lookup Table Pt1]]=\"ESRefDesign_Insulation_V11\",Table5ca[[#This Row],[Lookup Table Pt1]]=\"ESRefDesign_Insulation_V12\",Table5ca[[#This Row],[Lookup Table Pt1]]=\"ESRefDesign_FenestrationAW_V1\",Table5ca[[#This Row],[Lookup Table Pt1]]=\"ESRefDesign_FenestrationAW_V11\",Table5ca[[#This Row],[Lookup Table Pt1]]=\"ESRefDesign_Fenestration_V1\",Table5ca[[#This Row],[Lookup Table Pt1]]=\"ESRefDesign_Fenestration_V11\",Table5ca[[#This Row],[Lookup Table Pt1]]=\"ESRefDesign_Fenestration_V12\",Table5ca[[#This Row],[Lookup Table Pt1]]=\"ESRefDesign_FenestrationAW_V12\",Table5ca[[#This Row],[Lookup Table Pt1]]=\"IECC2009_Fenestration_NotAW_Windows\",Table5ca[[#This Row],[Lookup Table Pt1]]=\"IECC2009_Fenestration_AW_Windows\"),INDEX(INDIRECT(Table5ca[[#This Row],[Lookup Table Pt1]]),Table5ca[[#This Row],[Row Index]],Table5ca[[#This Row],[Column Index]]),\n\nINDEX(INDIRECT(Table5ca[[#This Row],[Lookup Table Pt2]]),Table5ca[[#This Row],[Row Index]],Table5ca[[#This Row],[Column Index]])))),\"\")","v":""},{"$f":"IFERROR(\n\nIF(LEFT(Table5ca[[#This Row],[ENERGY STAR Requirement Values]],2)=\"U-\",Table5ca[[#This Row],[ENERGY STAR Requirement Values]],\n\nIF(OR(Table5ca[[#This Row],[Building Component]]=\"Slab Insulation\",Table5ca[[#This Row],[Building Component]]=\"Slab-On-Grade Floor\",Table5ca[[#This Row],[Building Component]]=\"Slab-On-Grade Floors\",Table5ca[[#This Row],[Building Component]]=\"On-Grade & Below Grade Slab\",Table5ca[[#This Row],[Building Component]]=\"Slab-on-Grade Floors\",Table5ca[[#This Row],[Building Component]]=\"Slab-on-Grade Floor\"),\"\",\n\nIF(OR(Table5ca[[#This Row],[ENERGY STAR Requirement Values]]=\"R-0\",Table5ca[[#This Row],[ENERGY STAR Requirement Values]]=0,Table5ca[[#This Row],[ENERGY STAR Requirement Values]]=\"C-1.140\"),\"U-0.36\",\nIF(OR(Table5ca[[#This Row],[ENERGY STAR Requirement Values]]=\"R-7.5\",Table5ca[[#This Row],[ENERGY STAR Requirement Values]]=7.5,Table5ca[[#This Row],[ENERGY STAR Requirement Values]]=\"C-0.119\"),\"U-0.072\",\nIF(OR(Table5ca[[#This Row],[ENERGY STAR Requirement Values]]=\"R-10\",Table5ca[[#This Row],[ENERGY STAR Requirement Values]]=10,Table5ca[[#This Row],[ENERGY STAR Requirement Values]]=\"C-0.092\"),\"U-0.059\",\nIF(OR(Table5ca[[#This Row],[ENERGY STAR Requirement Values]]=\"R-15\",Table5ca[[#This Row],[ENERGY STAR Requirement Values]]=15,Table5ca[[#This Row],[ENERGY STAR Requirement Values]]=\"R-15 continuous or R-21 cavity\"),\"U-0.05\",\nIF(OR(Table5ca[[#This Row],[ENERGY STAR Requirement Values]]=\"R-12.5\",Table5ca[[#This Row],[ENERGY STAR Requirement Values]]=12.5,Table5ca[[#This Row],[ENERGY STAR Requirement Values]]=\"C-0.075\"),\"U-0.054\",\nIF(OR(Table5ca[[#This Row],[ENERGY STAR Requirement Values]]=\"R-21\",Table5ca[[#This Row],[ENERGY STAR Requirement Values]]=21),\"U-0.056\",\nIF(OR(Table5ca[[#This Row],[ENERGY STAR Requirement Values]]=\"R-38\",Table5ca[[#This Row],[ENERGY STAR Requirement Values]]=38),\"U-0.028\",\nIF(OR(Table5ca[[#This Row],[ENERGY STAR Requirement Values]]=\"R-49\",Table5ca[[#This Row],[ENERGY STAR Requirement Values]]=49),\"U-0.026\",\n\nIF(LEFT(Table5ca[[#This Row],[ENERGY STAR Requirement Values]],2)=\"F-\",\"\",\n\nIF(LEFT(Table5ca[[#This Row],[ENERGY STAR Requirement Values]],1)=\"0\",CONCATENATE(\"U-\",Table5ca[[#This Row],[ENERGY STAR Requirement Values]]),\n\nTable5ca[[#This Row],[ENERGY STAR Requirement Values]])))))))))))),\"\")","v":""},{"$f":"IFERROR(IF(Table5ca[[#This Row],[Area]]=\"\",\"\",\nIF(Table5ca[[#This Row],[Required U-factor]]=\"\",\"\",\nIFERROR(Table5ca[[#This Row],[Area]]*Table5ca[[#This Row],[Required U-factor]],RIGHT(Table5ca[[#This Row],[Required U-factor]],LEN(Table5ca[[#This Row],[Required U-factor]])-2)*Table5ca[[#This Row],[Area]]))),\"\")","v":""},{"$f":"IF(Table5ca[[#This Row],[Building Component]]=\"\",\"\",\nIF(OR(Table5ca[[#This Row],[Building Component]]=\"Wall, Above Grade\",Table5ca[[#This Row],[Building Component]]=\"Wall, Below Grade\"),\"If there is continuous insulation interrupted by fasteners, ensure that the U-factor has been de-rated per Footnote 24. See below for further details.\",\nIF(Table5ca[[#This Row],[Building Component]]=\"Wall Assembly\",\"Apply a derate per Footnote 6 below.\",\nIF(Table5ca[[#This Row],[Building Component]]=\"Balcony\",\"Use the table below to de-rate balconies per Footnote 21.\",\nIF(OR(Table5ca[[#This Row],[Building Component]]=\"Floor Above Garage\",Table5ca[[#This Row],[Building Component]]=\"Floor Above Garage Columns\"),\"Use the table below to De-Rate floors above garages per Footnote 22.\",\n\"Not Applicable\")))))","v":""},null,null,null,null,null,null,{"$f":"IF(AND(Table5ca[[#This Row],[Dwelling or Common?]]=\"Dwelling\",$C$6=\"Prescriptive\",$C$8=\"Version 1.2 OR+WA\"),\"BuildingComponents_ESRefListV12_UABuildingComponents\",\nIF(AND($C$8=\"Version 1.2 OR+WA\",OR($C$6=\"Prescriptive\",$C$6=\"ERI\",$C$6=\"Title 24 - Dwelling Units Models\"),Table5ca[[#This Row],[Dwelling or Common?]]=\"Common\"),\"BuildingComponents_ESRefListV12_UABuildingComponents\",\n\nIF(AND($C$6=\"Prescriptive\",Table5ca[[#This Row],[Dwelling or Common?]]=\"Dwelling\"),\"PrescriptivePath_UABuildingComponents\",\n\n\"ERI_AHSRAE_UABuildingComponents\")))","v":"ERI_AHSRAE_UABuildingComponents"},{"$f":"IF(AND($C$6<>\"Prescriptive\",OR(Table5ca[[#This Row],[Building Component]]=\"Floor Assembly\",Table5ca[[#This Row],[Building Component]]=\"Floor Above Garage\",Table5ca[[#This Row],[Building Component]]=\"Floor Above Garage Columns\")),\"Floor\",\nIF(AND($C$6=\"Prescriptive\",Table5ca[[#This Row],[Dwelling or Common?]]=\"Common\",OR(Table5ca[[#This Row],[Building Component]]=\"Floor Assembly\",Table5ca[[#This Row],[Building Component]]=\"Floor Above Garage\",Table5ca[[#This Row],[Building Component]]=\"Floor Above Garage Columns\")),\"Floor\",\n\nIF(Table5ca[[#This Row],[Building Component]]=\"Roofs\",\"Roof\",\nIF(Table5ca[[#This Row],[Building Component]]=\"Walls, Above Grade\",\"WallAboveGrade\",\nIF(Table5ca[[#This Row],[Building Component]]=\"Walls, Below Grade\",\"WallBelowGrade\",\nIF(AND(Table5ca[[#This Row],[Building Component]]=\"Floor Assembly\",$C$6<>\"Prescriptive\"),\"Floor\",\nIF(Table5ca[[#This Row],[Building Component]]=\"Slab-on-Grade Floors\",\"SlabOnGradeFloor\",\nIF(Table5ca[[#This Row],[Building Component]]=\"Opaque Doors\",\"OpaqueDoor\",\nIF(Table5ca[[#This Row],[Building Component]]=\"Balcony\",\"Balcony\",\nIF(AND(Table5ca[[#This Row],[Building Component]]=\"Floor Above Garage\",$C$6=\"Prescriptive\"),\"FloorAssembly\",\nIF(Table5ca[[#This Row],[Building Component]]=\"Floor Above Garage\",\"FloorAboveGarage\",\nIF(Table5ca[[#This Row],[Building Component]]=\"Wall Assembly\",\"WallAssembly\",\nIF(Table5ca[[#This Row],[Building Component]]=\"Ceiling Assembly\",\"CeilingAssembly\",\nIF(OR(Table5ca[[#This Row],[Building Component]]=\"Floor Assembly\",Table5ca[[#This Row],[Building Component]]=\"Floor Above Garage\",Table5ca[[#This Row],[Building Component]]=\"Floor Above Garage Columns\"),\"FloorAssembly\",\n\nIF(AND(Table5ca[[#This Row],[Building Component]]=\"Fenestration\",Table5ca[[#This Row],[Dwelling or Common?]]=\"Dwelling\"),\"ClassAW?\",\n\nIF(AND(Table5ca[[#This Row],[Building Component]]=\"Fenestration\",Table5ca[[#This Row],[Dwelling or Common?]]=\"Common\",OR($C$6=\"ERI\",$C$6=\"Title 24 - Dwelling Unit Models\",$C$6=\"Prescriptive\")),\"ESRefClassAW\",\nIF(AND(Table5ca[[#This Row],[Building Component]]=\"Fenestration\",Table5ca[[#This Row],[Dwelling or Common?]]=\"Common\",OR($C$6=\"ASHRAE\",$C$6=\"Title 24 - Whole Building Models\")),\"Fenestration\",\n\n\"NotApplicable\")))))))))))))))))","v":"NotApplicable"},{"$f":"IF(AND(OR($C$6=\"ERI\",$C$6=\"Title 24 - Dwelling Unit Models\"),Table5ca[[#This Row],[Dwelling or Common?]]=\"Dwelling\",Table5ca[[#This Row],[Component Type]]=\"Class AW\"),\"Fenestration\",\nIF(AND(OR($C$6=\"ERI\",$C$6=\"Title 24 - Dwelling Unit Models\"),Table5ca[[#This Row],[Dwelling or Common?]]=\"Dwelling\",Table5ca[[#This Row],[Component Type]]=\"Not Class AW\"),\"NotApplicable\",\n\nIF(AND(OR($C$6=\"ASHRAE\",$C$6=\"Title 24 - Whole Building Models\"),Table5ca[[#This Row],[Dwelling or Common?]]=\"Dwelling\",Table5ca[[#This Row],[Component Type]]=\"Class AW\"),\"Fenestration\",\nIF(AND(OR($C$6=\"ASHRAE\",$C$6=\"Title 24 - Whole Building Models\"),Table5ca[[#This Row],[Dwelling or Common?]]=\"Dwelling\",Table5ca[[#This Row],[Component Type]]=\"Not Class AW\"),\"NotApplicable\",\n\nIF(AND($C$6=\"Prescriptive\",Table5ca[[#This Row],[Dwelling or Common?]]=\"Dwelling\",Table5ca[[#This Row],[Component Type]]=\"Class AW\"),\"ESRefClassAW\",\nIF(AND($C$6=\"Prescriptive\",Table5ca[[#This Row],[Dwelling or Common?]]=\"Dwelling\",Table5ca[[#This Row],[Component Type]]=\"Not Class AW\"),\"ESRefNotClassAW\",\n\nIF(Table5ca[[#This Row],[Component Type]]=\"Class AW\",\"Fenestration\",\n\n\"NotApplicable\")))))))","v":"NotApplicable"},{"$f":"IF(AND(Table5ca[[#This Row],[Dwelling or Common?]]=\"Dwelling\",$C$8=\"Version 1\",$C$6=\"Prescriptive\",Table5ca[[#This Row],[Building Component]]<>\"Fenestration\"),\"ESRefDesign_Insulation_V1\",\nIF(AND(Table5ca[[#This Row],[Dwelling or Common?]]=\"Dwelling\",$C$8=\"Version 1.1\",$C$6=\"Prescriptive\",Table5ca[[#This Row],[Building Component]]<>\"Fenestration\"),\"ESRefDesign_Insulation_V11\",\nIF(AND($C$8=\"Version 1.2 OR+WA\",$C$6=\"Prescriptive\",Table5ca[[#This Row],[Building Component]]<>\"Fenestration\"),\"ESRefDesign_Insulation_V12\",\n\nIF(AND(Table5ca[[#This Row],[Dwelling or Common?]]=\"Common\",$C$8=\"Version 1.2 OR+WA\",OR($C$6=\"ERI\",$C$6=\"Title 24 - Dwelling Unit Models\"),Table5ca[[#This Row],[Building Component]]<>\"Fenestration\"),\"ESRefDesign_Insulation_V12\",\nIF(AND(Table5ca[[#This Row],[Dwelling or Common?]]=\"Common\",$C$8=\"Version 1.2 OR+WA\",OR($C$6=\"ASHRAE\",$C$6=\"Title 24 - Whole Building Models\"),Table5ca[[#This Row],[Building Component]]<>\"Fenestration\"),\"IECC2009_OU\",\nIF(AND(Table5ca[[#This Row],[Dwelling or Common?]]=\"Dwelling\",$C$8=\"Version 1.2 OR+WA\",OR($C$6=\"ERI\",$C$6=\"Title 24 - Dwelling Unit Models\",$C$6=\"ASHRAE\",$C$6=\"Title 24 - Whole Building Models\"),Table5ca[[#This Row],[Building Component]]<>\"Fenestration\"),\"IECC2009_RU\",\n\nIF(AND(Table5ca[[#This Row],[Dwelling or Common?]]=\"Common\",$C$8=\"Version 1\",Table5ca[[#This Row],[Building Component]]<>\"Fenestration\"),\"IECC2009_OU\",\nIF(AND(Table5ca[[#This Row],[Dwelling or Common?]]=\"Common\",$C$8=\"Version 1.1\",OR($C$6=\"ASHRAE\",$C$6=\"Title 24 - Whole Building Models\"),Table5ca[[#This Row],[Building Component]]<>\"Fenestration\"),\"IECC2009_OU\",\nIF(AND(Table5ca[[#This Row],[Dwelling or Common?]]=\"Common\",$C$8=\"Version 1.1\",OR($C$6=\"Prescriptive\",$C$6=\"ERI\",$C$6=\"Title 24 - Dwelling Unit Models\"),Table5ca[[#This Row],[Building Component]]<>\"Fenestration\"),\"IECC2012_OU\",\n\nIF(AND(Table5ca[[#This Row],[Dwelling or Common?]]=\"Dwelling\",OR($C$8=\"Version 1\",$C$8=\"Version 1.1\",),OR($C$6=\"ERI\",$C$6=\"ASHRAE\",$C$6=\"Title 24 - Whole Building Models\",$C$6=\"Title 24 - Dwelling Unit Models\"),Table5ca[[#This Row],[Building Component]]<>\"Fenestration\"),\"IECC2009_RU\",\n\n\nIF(AND(Table5ca[[#This Row],[Building Component]]=\"Fenestration\",Table5ca[[#This Row],[Dwelling or Common?]]=\"Common\",OR($C$6=\"Prescriptive\",$C$6=\"ERI\",$C$6=\"Title 24 - Dwelling Unit Models\"),$C$8=\"Version 1\"),\"ESRefDesign_FenestrationAW_V1\",\nIF(AND(Table5ca[[#This Row],[Building Component]]=\"Fenestration\",Table5ca[[#This Row],[Dwelling or Common?]]=\"Common\",OR($C$6=\"Prescriptive\",$C$6=\"ERI\",$C$6=\"Title 24 - Dwelling Unit Models\"),$C$8=\"Version 1.1\"),\"ESRefDesign_FenestrationAW_V11\",\nIF(AND(Table5ca[[#This Row],[Building Component]]=\"Fenestration\",Table5ca[[#This Row],[Dwelling or Common?]]=\"Common\",OR($C$6=\"Prescriptive\",$C$6=\"ERI\",$C$6=\"Title 24 - Dwelling Unit Models\"),$C$8=\"Version 1.2 OR+WA\"),\"ESRefDesign_FenestrationAW_V12\",\n\nIF(AND(Table5ca[[#This Row],[Building Component]]=\"Fenestration\",Table5ca[[#This Row],[Dwelling or Common?]]=\"Common\",OR($C$6=\"ASHRAE\",$C$6=\"Title 24 - Whole Building Models\")),\"IECC2009_Fenestration_AW_Windows\",\nIF(AND(Table5ca[[#This Row],[Building Component]]=\"Fenestration\",Table5ca[[#This Row],[Dwelling or Common?]]=\"Dwelling\",Table5ca[[#This Row],[Component Type]]=\"Class AW\",OR($C$6=\"ASHRAE\",$C$6=\"Title 24 - Whole Building Models\",$C$6=\"ERI\",$C$6=\"Title 24 - Dwelling Unit Models\")),\"IECC2009_Fenestration_AW_Windows\",\n\nIF(AND(Table5ca[[#This Row],[Building Component]]=\"Fenestration\",Table5ca[[#This Row],[Dwelling or Common?]]=\"Dwelling\",$C$6=\"Prescriptive\",$C$8=\"Version 1\",Table5ca[[#This Row],[Component Type]]=\"Class AW\"),\"ESRefDesign_FenestrationAW_V1\",\nIF(AND(Table5ca[[#This Row],[Building Component]]=\"Fenestration\",Table5ca[[#This Row],[Dwelling or Common?]]=\"Dwelling\",$C$6=\"Prescriptive\",$C$8=\"Version 1.1\",Table5ca[[#This Row],[Component Type]]=\"Class AW\"),\"ESRefDesign_FenestrationAW_V11\",\nIF(AND(Table5ca[[#This Row],[Building Component]]=\"Fenestration\",Table5ca[[#This Row],[Dwelling or Common?]]=\"Dwelling\",$C$6=\"Prescriptive\",$C$8=\"Version 1.2 OR+WA\",Table5ca[[#This Row],[Component Type]]=\"Class AW\"),\"ESRefDesign_FenestrationAW_V12\",\n\nIF(AND(Table5ca[[#This Row],[Building Component]]=\"Fenestration\",Table5ca[[#This Row],[Dwelling or Common?]]=\"Dwelling\",$C$6=\"Prescriptive\",$C$8=\"Version 1\",Table5ca[[#This Row],[Component Type]]=\"Not Class AW\"),\"ESRefDesign_Fenestration_V1\",\nIF(AND(Table5ca[[#This Row],[Building Component]]=\"Fenestration\",Table5ca[[#This Row],[Dwelling or Common?]]=\"Dwelling\",$C$6=\"Prescriptive\",$C$8=\"Version 1.1\",Table5ca[[#This Row],[Component Type]]=\"Not Class AW\"),\"ESRefDesign_Fenestration_V11\",\nIF(AND(Table5ca[[#This Row],[Building Component]]=\"Fenestration\",Table5ca[[#This Row],[Dwelling or Common?]]=\"Dwelling\",$C$6=\"Prescriptive\",$C$8=\"Version 1.2 OR+WA\",Table5ca[[#This Row],[Component Type]]=\"Not Class AW\"),\"ESRefDesign_Fenestration_V12\",\n\nIF(AND(Table5ca[[#This Row],[Building Component]]=\"Fenestration\",Table5ca[[#This Row],[Dwelling or Common?]]=\"Dwelling\"),\"IECC2009_Fenestration_NotAW_Windows\",\n\n\"\"))))))))))))))))))))))","v":""},{"$f":"IF(OR(Table5ca[[#This Row],[Lookup Table Pt1]]=\"ESRefDesign_Insulation_V1\",Table5ca[[#This Row],[Lookup Table Pt1]]=\"ESRefDesign_Insulation_V11\",Table5ca[[#This Row],[Lookup Table Pt1]]=\"IECC2009_Fenestration_NotAW_Windows\",Table5ca[[#This Row],[Lookup Table Pt1]]=\"IECC2009_Fenestration_AW_Windows\",Table5ca[[#This Row],[Lookup Table Pt1]]=\"ESRefDesign_FenestrationAW_V1\",Table5ca[[#This Row],[Lookup Table Pt1]]=\"ESRefDesign_FenestrationAW_V11\",Table5ca[[#This Row],[Lookup Table Pt1]]=\"ESRefDesign_Fenestration_V1\",Table5ca[[#This Row],[Lookup Table Pt1]]=\"ESRefDesign_Fenestration_V11\"),Table5ca[[#This Row],[Lookup Table Pt1]],\n\nIF(Table5ca[[#This Row],[Component_Lookup]]=\"FloorAboveGarage\",Table5ca[[#This Row],[Lookup Table Pt1]]&\"_Floor\",\n\nTable5ca[[#This Row],[Lookup Table Pt1]]&\"_\"&Table5ca[[#This Row],[Component_Lookup]]))","v":"_NotApplicable"},{"$f":"IF(AND($C$8=\"Version 1.2 OR+WA\",$C$6=\"Prescriptive\",Table5ca[[#This Row],[Building Component]]=\"Above-Grade Wall\"),1,\nIF(AND($C$8=\"Version 1.2 OR+WA\",$C$6=\"Prescriptive\",Table5ca[[#This Row],[Building Component]]=\"Ceiling\"),2,\nIF(AND($C$8=\"Version 1.2 OR+WA\",$C$6=\"Prescriptive\",Table5ca[[#This Row],[Building Component]]=\"Basement Wall\"),4,\nIF(AND($C$8=\"Version 1.2 OR+WA\",$C$6=\"Prescriptive\",Table5ca[[#This Row],[Building Component]]=\"On-Grade & Below Grade Slab\"),5,\nIF(AND($C$8=\"Version 1.2 OR+WA\",$C$6=\"Prescriptive\",OR(Table5ca[[#This Row],[Building Component]]=\"Floor Assembly\",Table5ca[[#This Row],[Building Component]]=\"Floor Above Garage\",Table5ca[[#This Row],[Building Component]]=\"Floor Above Garage Columns\")),3,\n\nIF(AND($C$8=\"Version 1.2 OR+WA\",OR($C$6=\"Prescriptive\",$C$6=\"ERI\",$C$6=\"Title 24 - Dwelling Units Models\"),Table5ca[[#This Row],[Dwelling or Common?]]=\"Common\",Table5ca[[#This Row],[Building Component]]=\"Above-Grade Wall\"),1,\nIF(AND($C$8=\"Version 1.2 OR+WA\",OR($C$6=\"Prescriptive\",$C$6=\"ERI\",$C$6=\"Title 24 - Dwelling Units Models\"),Table5ca[[#This Row],[Dwelling or Common?]]=\"Common\",Table5ca[[#This Row],[Building Component]]=\"Ceiling\"),2,\nIF(AND($C$8=\"Version 1.2 OR+WA\",OR($C$6=\"Prescriptive\",$C$6=\"ERI\",$C$6=\"Title 24 - Dwelling Units Models\"),Table5ca[[#This Row],[Dwelling or Common?]]=\"Common\",Table5ca[[#This Row],[Building Component]]=\"Basement Wall\"),4,\nIF(AND($C$8=\"Version 1.2 OR+WA\",OR($C$6=\"Prescriptive\",$C$6=\"ERI\",$C$6=\"Title 24 - Dwelling Units Models\"),Table5ca[[#This Row],[Dwelling or Common?]]=\"Common\",Table5ca[[#This Row],[Building Component]]=\"On-Grade & Below Grade Slab\"),5,\nIF(AND($C$8=\"Version 1.2 OR+WA\",OR($C$6=\"Prescriptive\",$C$6=\"ERI\",$C$6=\"Title 24 - Dwelling Units Models\"),Table5ca[[#This Row],[Dwelling or Common?]]=\"Common\",OR(Table5ca[[#This Row],[Building Component]]=\"Floor Assembly\",Table5ca[[#This Row],[Building Component]]=\"Floor Above Garage\",Table5ca[[#This Row],[Building Component]]=\"Floor Above Garage Columns\")),3,\n\nIF(AND($C$6=\"Prescriptive\",OR($C$8=\"Version 1\",$C$8=\"Version 1.1\"),Table5ca[[#This Row],[Building Component]]=\"Basement Wall Continuous Insulation\"),3,\nIF(AND($C$6=\"Prescriptive\",OR($C$8=\"Version 1\",$C$8=\"Version 1.1\"),Table5ca[[#This Row],[Building Component]]=\"Slab Insulation\"),1,\n\nIF(OR(Table5ca[[#This Row],[Component Type]]=\"Insulation entirely above deck\",Table5ca[[#This Row],[Component Type]]=\"Mass\",Table5ca[[#This Row],[Component Type]]=\"Below grade wall\",Table5ca[[#This Row],[Component Type]]=\"Unheated slabs\",Table5ca[[#This Row],[Component Type]]=\"Floor Above Garage\"),1,\nIF(OR(Table5ca[[#This Row],[Component Type]]=\"Metal buildings\",Table5ca[[#This Row],[Component Type]]=\"Metal building\",Table5ca[[#This Row],[Component Type]]=\"Joist/framing\",Table5ca[[#This Row],[Component Type]]=\"Heated slabs\",Table5ca[[#This Row],[Component Type]]=\"Floor Above Garage\"),2,\nIF(OR(Table5ca[[#This Row],[Component Type]]=\"Attic and other\",Table5ca[[#This Row],[Component Type]]=\"Metal framed\"),3,\nIF(OR(Table5ca[[#This Row],[Component Type]]=\"Wood framed and other\",Table5ca[[#This Row],[Building Component]]=\"Floor Assembly\",Table5ca[[#This Row],[Building Component]]=\"Floor Above Garage\",Table5ca[[#This Row],[Building Component]]=\"Floor Above Garage Columns\"),4,\nIF(Table5ca[[#This Row],[Building Component]]=\"Wall Assembly\",5,\nIF(Table5ca[[#This Row],[Building Component]]=\"Ceiling Assembly\",6,\n\nIF(Table5ca[[#This Row],[Lookup Table Pt2]]=\"IECC2009_Fenestration_NotAW_Windows\",1,\nIF(AND(Table5ca[[#This Row],[Lookup Table Pt2]]=\"IECC2009_Fenestration_AW_Windows\",OR(Table5ca[[#This Row],[Additional Component Details]]=\"Non-Metal\",Table5ca[[#This Row],[Component Type]]=\"Non-Metal\")),1,\nIF(AND(Table5ca[[#This Row],[Lookup Table Pt2]]=\"IECC2009_Fenestration_AW_Windows\",OR(Table5ca[[#This Row],[Additional Component Details]]=\"Metal - Curtainwall/storefront\",Table5ca[[#This Row],[Component Type]]=\"Metal - Curtainwall/storefront\")),2,\nIF(AND(Table5ca[[#This Row],[Lookup Table Pt2]]=\"IECC2009_Fenestration_AW_Windows\",OR(Table5ca[[#This Row],[Additional Component Details]]=\"Metal - Entrance door\",Table5ca[[#This Row],[Component Type]]=\"Metal - Entrance door\")),3,\nIF(AND(Table5ca[[#This Row],[Lookup Table Pt2]]=\"IECC2009_Fenestration_AW_Windows\",OR(Table5ca[[#This Row],[Additional Component Details]]=\"Metal - Other\",Table5ca[[#This Row],[Component Type]]=\"Metal - Entrance door\")),4,\nIF(AND(Table5ca[[#This Row],[Lookup Table Pt2]]=\"IECC2009_Fenestration_AW_Windows\",Table5ca[[#This Row],[Component Type]]=\"Metal - Other\"),4,\n\nIF(AND(OR(Table5ca[[#This Row],[Lookup Table Pt1]]=\"ESRefDesign_FenestrationAW_V1\",Table5ca[[#This Row],[Lookup Table Pt1]]=\"ESRefDesign_FenestrationAW_V11\",Table5ca[[#This Row],[Lookup Table Pt1]]=\"ESRefDesign_FenestrationAW_V12\"),OR(Table5ca[[#This Row],[Component Type]]=\"Fixed\",Table5ca[[#This Row],[Additional Component Details]]=\"Fixed\")),1,\nIF(AND(OR(Table5ca[[#This Row],[Lookup Table Pt1]]=\"ESRefDesign_FenestrationAW_V1\",Table5ca[[#This Row],[Lookup Table Pt1]]=\"ESRefDesign_FenestrationAW_V11\",Table5ca[[#This Row],[Lookup Table Pt1]]=\"ESRefDesign_FenestrationAW_V12\"),OR(Table5ca[[#This Row],[Component Type]]=\"Operable\",Table5ca[[#This Row],[Additional Component Details]]=\"Operable\")),2,\n\nIF(AND(OR(Table5ca[[#This Row],[Lookup Table Pt1]]=\"ESRefDesign_Fenestration_V1\",Table5ca[[#This Row],[Lookup Table Pt1]]=\"ESRefDesign_Fenestration_V11\",Table5ca[[#This Row],[Lookup Table Pt1]]=\"ESRefDesign_Fenestration_V12\"),Table5ca[[#This Row],[Additional Component Details]]=\"Window\"),1,\nIF(AND(OR(Table5ca[[#This Row],[Lookup Table Pt1]]=\"ESRefDesign_Fenestration_V1\",Table5ca[[#This Row],[Lookup Table Pt1]]=\"ESRefDesign_Fenestration_V11\",Table5ca[[#This Row],[Lookup Table Pt1]]=\"ESRefDesign_Fenestration_V12\"),Table5ca[[#This Row],[Additional Component Details]]=\"Opaque Door\"),3,\nIF(AND(OR(Table5ca[[#This Row],[Lookup Table Pt1]]=\"ESRefDesign_Fenestration_V1\",Table5ca[[#This Row],[Lookup Table Pt1]]=\"ESRefDesign_Fenestration_V11\",Table5ca[[#This Row],[Lookup Table Pt1]]=\"ESRefDesign_Fenestration_V12\"),Table5ca[[#This Row],[Additional Component Details]]=\"≤½ lite Door\"),4,\nIF(AND(OR(Table5ca[[#This Row],[Lookup Table Pt1]]=\"ESRefDesign_Fenestration_V1\",Table5ca[[#This Row],[Lookup Table Pt1]]=\"ESRefDesign_Fenestration_V11\",Table5ca[[#This Row],[Lookup Table Pt1]]=\"ESRefDesign_Fenestration_V12\"),Table5ca[[#This Row],[Additional Component Details]]=\">½ lite Door\"),5,\n\n\n\"\"))))))))))))))))))))))))))))))","v":""},{"$f":"IF(AND($C$8=\"Version 1.2 OR+WA\",$C$6=\"Prescriptive\",Table5ca[[#This Row],[Building Component]]<>\"Fenestration\"),2,\n\nIF(AND($C$8=\"Version 1.2 OR+WA\",$C$6=\"Prescriptive\",$C$7=\"CZ 4 C\"),2,\nIF(AND($C$8=\"Version 1.2 OR+WA\",$C$6=\"Prescriptive\",$C$7=\"CZ 5\"),3,\nIF(AND($C$8=\"Version 1.2 OR+WA\",$C$6=\"Prescriptive\",$C$7=\"CZ 6\"),4,\n\nIF(AND($C$8=\"Version 1.2 OR+WA\",Table5ca[[#This Row],[Dwelling or Common?]]=\"Common\",OR($C$6=\"ERI\",$C$6=\"Title 24 - Dwelling Unit Models\"),$C$7=\"CZ 4 C\"),2,\nIF(AND($C$8=\"Version 1.2 OR+WA\",Table5ca[[#This Row],[Dwelling or Common?]]=\"Common\",OR($C$6=\"ERI\",$C$6=\"Title 24 - Dwelling Unit Models\"),$C$7=\"CZ 5\"),3,\nIF(AND($C$8=\"Version 1.2 OR+WA\",Table5ca[[#This Row],[Dwelling or Common?]]=\"Common\",OR($C$6=\"ERI\",$C$6=\"Title 24 - Dwelling Unit Models\"),$C$7=\"CZ 6\"),4,\n\nIF($C$7=\"CZ 1\",2,\nIF($C$7=\"CZ 2\",3,\nIF($C$7=\"CZ 3\",4,\nIF($C$7=\"CZ 4\",5,\nIF($C$7=\"CZ 4 C\",6,\nIF($C$7=\"CZ 5\",7,\nIF($C$7=\"CZ 6\",8,\nIF($C$7=\"CZ 7\",9,\nIF($C$7=\"CZ 8\",10,\"\"))))))))))))))))","v":5}]
[null,null,null,null,null,null,null,{"$f":"IF(Table5ca[[#This Row],[Specified/Installed U-Factor]]*Table5ca[[#This Row],[Area]]=0,\"\",Table5ca[[#This Row],[Specified/Installed U-Factor]]*Table5ca[[#This Row],[Area]])","v":""},{"$f":"IFERROR(IF(AND($C$8=\"Version 1.2 OR+WA\",OR($C$7=\"CZ 1\",$C$7=\"CZ 2\",$C$7=\"CZ 3\",$C$7=\"CZ 4\",$C$7=\"CZ 7\",$C$7=\"CZ 8\")),\"N/A - Update CZ\",\n\nIF(Table5ca[[#This Row],[Building Component]]=\"Balcony\",\"0.20\",\n\nIF(OR(Table5ca[[#This Row],[Lookup Table Pt1]]=\"ESRefDesign_Insulation_V1\",Table5ca[[#This Row],[Lookup Table Pt1]]=\"ESRefDesign_Insulation_V11\",Table5ca[[#This Row],[Lookup Table Pt1]]=\"ESRefDesign_Insulation_V12\",Table5ca[[#This Row],[Lookup Table Pt1]]=\"ESRefDesign_FenestrationAW_V1\",Table5ca[[#This Row],[Lookup Table Pt1]]=\"ESRefDesign_FenestrationAW_V11\",Table5ca[[#This Row],[Lookup Table Pt1]]=\"ESRefDesign_Fenestration_V1\",Table5ca[[#This Row],[Lookup Table Pt1]]=\"ESRefDesign_Fenestration_V11\",Table5ca[[#This Row],[Lookup Table Pt1]]=\"ESRefDesign_Fenestration_V12\",Table5ca[[#This Row],[Lookup Table Pt1]]=\"ESRefDesign_FenestrationAW_V12\",Table5ca[[#This Row],[Lookup Table Pt1]]=\"IECC2009_Fenestration_NotAW_Windows\",Table5ca[[#This Row],[Lookup Table Pt1]]=\"IECC2009_Fenestration_AW_Windows\"),INDEX(INDIRECT(Table5ca[[#This Row],[Lookup Table Pt1]]),Table5ca[[#This Row],[Row Index]],Table5ca[[#This Row],[Column Index]]),\n\nINDEX(INDIRECT(Table5ca[[#This Row],[Lookup Table Pt2]]),Table5ca[[#This Row],[Row Index]],Table5ca[[#This Row],[Column Index]])))),\"\")","v":""},{"$f":"IFERROR(\n\nIF(LEFT(Table5ca[[#This Row],[ENERGY STAR Requirement Values]],2)=\"U-\",Table5ca[[#This Row],[ENERGY STAR Requirement Values]],\n\nIF(OR(Table5ca[[#This Row],[Building Component]]=\"Slab Insulation\",Table5ca[[#This Row],[Building Component]]=\"Slab-On-Grade Floor\",Table5ca[[#This Row],[Building Component]]=\"Slab-On-Grade Floors\",Table5ca[[#This Row],[Building Component]]=\"On-Grade & Below Grade Slab\",Table5ca[[#This Row],[Building Component]]=\"Slab-on-Grade Floors\",Table5ca[[#This Row],[Building Component]]=\"Slab-on-Grade Floor\"),\"\",\n\nIF(OR(Table5ca[[#This Row],[ENERGY STAR Requirement Values]]=\"R-0\",Table5ca[[#This Row],[ENERGY STAR Requirement Values]]=0,Table5ca[[#This Row],[ENERGY STAR Requirement Values]]=\"C-1.140\"),\"U-0.36\",\nIF(OR(Table5ca[[#This Row],[ENERGY STAR Requirement Values]]=\"R-7.5\",Table5ca[[#This Row],[ENERGY STAR Requirement Values]]=7.5,Table5ca[[#This Row],[ENERGY STAR Requirement Values]]=\"C-0.119\"),\"U-0.072\",\nIF(OR(Table5ca[[#This Row],[ENERGY STAR Requirement Values]]=\"R-10\",Table5ca[[#This Row],[ENERGY STAR Requirement Values]]=10,Table5ca[[#This Row],[ENERGY STAR Requirement Values]]=\"C-0.092\"),\"U-0.059\",\nIF(OR(Table5ca[[#This Row],[ENERGY STAR Requirement Values]]=\"R-15\",Table5ca[[#This Row],[ENERGY STAR Requirement Values]]=15,Table5ca[[#This Row],[ENERGY STAR Requirement Values]]=\"R-15 continuous or R-21 cavity\"),\"U-0.05\",\nIF(OR(Table5ca[[#This Row],[ENERGY STAR Requirement Values]]=\"R-12.5\",Table5ca[[#This Row],[ENERGY STAR Requirement Values]]=12.5,Table5ca[[#This Row],[ENERGY STAR Requirement Values]]=\"C-0.075\"),\"U-0.054\",\nIF(OR(Table5ca[[#This Row],[ENERGY STAR Requirement Values]]=\"R-21\",Table5ca[[#This Row],[ENERGY STAR Requirement Values]]=21),\"U-0.056\",\nIF(OR(Table5ca[[#This Row],[ENERGY STAR Requirement Values]]=\"R-38\",Table5ca[[#This Row],[ENERGY STAR Requirement Values]]=38),\"U-0.028\",\nIF(OR(Table5ca[[#This Row],[ENERGY STAR Requirement Values]]=\"R-49\",Table5ca[[#This Row],[ENERGY STAR Requirement Values]]=49),\"U-0.026\",\n\nIF(LEFT(Table5ca[[#This Row],[ENERGY STAR Requirement Values]],2)=\"F-\",\"\",\n\nIF(LEFT(Table5ca[[#This Row],[ENERGY STAR Requirement Values]],1)=\"0\",CONCATENATE(\"U-\",Table5ca[[#This Row],[ENERGY STAR Requirement Values]]),\n\nTable5ca[[#This Row],[ENERGY STAR Requirement Values]])))))))))))),\"\")","v":""},{"$f":"IFERROR(IF(Table5ca[[#This Row],[Area]]=\"\",\"\",\nIF(Table5ca[[#This Row],[Required U-factor]]=\"\",\"\",\nIFERROR(Table5ca[[#This Row],[Area]]*Table5ca[[#This Row],[Required U-factor]],RIGHT(Table5ca[[#This Row],[Required U-factor]],LEN(Table5ca[[#This Row],[Required U-factor]])-2)*Table5ca[[#This Row],[Area]]))),\"\")","v":""},{"$f":"IF(Table5ca[[#This Row],[Building Component]]=\"\",\"\",\nIF(OR(Table5ca[[#This Row],[Building Component]]=\"Wall, Above Grade\",Table5ca[[#This Row],[Building Component]]=\"Wall, Below Grade\"),\"If there is continuous insulation interrupted by fasteners, ensure that the U-factor has been de-rated per Footnote 24. See below for further details.\",\nIF(Table5ca[[#This Row],[Building Component]]=\"Wall Assembly\",\"Apply a derate per Footnote 6 below.\",\nIF(Table5ca[[#This Row],[Building Component]]=\"Balcony\",\"Use the table below to de-rate balconies per Footnote 21.\",\nIF(OR(Table5ca[[#This Row],[Building Component]]=\"Floor Above Garage\",Table5ca[[#This Row],[Building Component]]=\"Floor Above Garage Columns\"),\"Use the table below to De-Rate floors above garages per Footnote 22.\",\n\"Not Applicable\")))))","v":""},null,null,null,null,null,null,{"$f":"IF(AND(Table5ca[[#This Row],[Dwelling or Common?]]=\"Dwelling\",$C$6=\"Prescriptive\",$C$8=\"Version 1.2 OR+WA\"),\"BuildingComponents_ESRefListV12_UABuildingComponents\",\nIF(AND($C$8=\"Version 1.2 OR+WA\",OR($C$6=\"Prescriptive\",$C$6=\"ERI\",$C$6=\"Title 24 - Dwelling Units Models\"),Table5ca[[#This Row],[Dwelling or Common?]]=\"Common\"),\"BuildingComponents_ESRefListV12_UABuildingComponents\",\n\nIF(AND($C$6=\"Prescriptive\",Table5ca[[#This Row],[Dwelling or Common?]]=\"Dwelling\"),\"PrescriptivePath_UABuildingComponents\",\n\n\"ERI_AHSRAE_UABuildingComponents\")))","v":"ERI_AHSRAE_UABuildingComponents"},{"$f":"IF(AND($C$6<>\"Prescriptive\",OR(Table5ca[[#This Row],[Building Component]]=\"Floor Assembly\",Table5ca[[#This Row],[Building Component]]=\"Floor Above Garage\",Table5ca[[#This Row],[Building Component]]=\"Floor Above Garage Columns\")),\"Floor\",\nIF(AND($C$6=\"Prescriptive\",Table5ca[[#This Row],[Dwelling or Common?]]=\"Common\",OR(Table5ca[[#This Row],[Building Component]]=\"Floor Assembly\",Table5ca[[#This Row],[Building Component]]=\"Floor Above Garage\",Table5ca[[#This Row],[Building Component]]=\"Floor Above Garage Columns\")),\"Floor\",\n\nIF(Table5ca[[#This Row],[Building Component]]=\"Roofs\",\"Roof\",\nIF(Table5ca[[#This Row],[Building Component]]=\"Walls, Above Grade\",\"WallAboveGrade\",\nIF(Table5ca[[#This Row],[Building Component]]=\"Walls, Below Grade\",\"WallBelowGrade\",\nIF(AND(Table5ca[[#This Row],[Building Component]]=\"Floor Assembly\",$C$6<>\"Prescriptive\"),\"Floor\",\nIF(Table5ca[[#This Row],[Building Component]]=\"Slab-on-Grade Floors\",\"SlabOnGradeFloor\",\nIF(Table5ca[[#This Row],[Building Component]]=\"Opaque Doors\",\"OpaqueDoor\",\nIF(Table5ca[[#This Row],[Building Component]]=\"Balcony\",\"Balcony\",\nIF(AND(Table5ca[[#This Row],[Building Component]]=\"Floor Above Garage\",$C$6=\"Prescriptive\"),\"FloorAssembly\",\nIF(Table5ca[[#This Row],[Building Component]]=\"Floor Above Garage\",\"FloorAboveGarage\",\nIF(Table5ca[[#This Row],[Building Component]]=\"Wall Assembly\",\"WallAssembly\",\nIF(Table5ca[[#This Row],[Building Component]]=\"Ceiling Assembly\",\"CeilingAssembly\",\nIF(OR(Table5ca[[#This Row],[Building Component]]=\"Floor Assembly\",Table5ca[[#This Row],[Building Component]]=\"Floor Above Garage\",Table5ca[[#This Row],[Building Component]]=\"Floor Above Garage Columns\"),\"FloorAssembly\",\n\nIF(AND(Table5ca[[#This Row],[Building Component]]=\"Fenestration\",Table5ca[[#This Row],[Dwelling or Common?]]=\"Dwelling\"),\"ClassAW?\",\n\nIF(AND(Table5ca[[#This Row],[Building Component]]=\"Fenestration\",Table5ca[[#This Row],[Dwelling or Common?]]=\"Common\",OR($C$6=\"ERI\",$C$6=\"Title 24 - Dwelling Unit Models\",$C$6=\"Prescriptive\")),\"ESRefClassAW\",\nIF(AND(Table5ca[[#This Row],[Building Component]]=\"Fenestration\",Table5ca[[#This Row],[Dwelling or Common?]]=\"Common\",OR($C$6=\"ASHRAE\",$C$6=\"Title 24 - Whole Building Models\")),\"Fenestration\",\n\n\"NotApplicable\")))))))))))))))))","v":"NotApplicable"},{"$f":"IF(AND(OR($C$6=\"ERI\",$C$6=\"Title 24 - Dwelling Unit Models\"),Table5ca[[#This Row],[Dwelling or Common?]]=\"Dwelling\",Table5ca[[#This Row],[Component Type]]=\"Class AW\"),\"Fenestration\",\nIF(AND(OR($C$6=\"ERI\",$C$6=\"Title 24 - Dwelling Unit Models\"),Table5ca[[#This Row],[Dwelling or Common?]]=\"Dwelling\",Table5ca[[#This Row],[Component Type]]=\"Not Class AW\"),\"NotApplicable\",\n\nIF(AND(OR($C$6=\"ASHRAE\",$C$6=\"Title 24 - Whole Building Models\"),Table5ca[[#This Row],[Dwelling or Common?]]=\"Dwelling\",Table5ca[[#This Row],[Component Type]]=\"Class AW\"),\"Fenestration\",\nIF(AND(OR($C$6=\"ASHRAE\",$C$6=\"Title 24 - Whole Building Models\"),Table5ca[[#This Row],[Dwelling or Common?]]=\"Dwelling\",Table5ca[[#This Row],[Component Type]]=\"Not Class AW\"),\"NotApplicable\",\n\nIF(AND($C$6=\"Prescriptive\",Table5ca[[#This Row],[Dwelling or Common?]]=\"Dwelling\",Table5ca[[#This Row],[Component Type]]=\"Class AW\"),\"ESRefClassAW\",\nIF(AND($C$6=\"Prescriptive\",Table5ca[[#This Row],[Dwelling or Common?]]=\"Dwelling\",Table5ca[[#This Row],[Component Type]]=\"Not Class AW\"),\"ESRefNotClassAW\",\n\nIF(Table5ca[[#This Row],[Component Type]]=\"Class AW\",\"Fenestration\",\n\n\"NotApplicable\")))))))","v":"NotApplicable"},{"$f":"IF(AND(Table5ca[[#This Row],[Dwelling or Common?]]=\"Dwelling\",$C$8=\"Version 1\",$C$6=\"Prescriptive\",Table5ca[[#This Row],[Building Component]]<>\"Fenestration\"),\"ESRefDesign_Insulation_V1\",\nIF(AND(Table5ca[[#This Row],[Dwelling or Common?]]=\"Dwelling\",$C$8=\"Version 1.1\",$C$6=\"Prescriptive\",Table5ca[[#This Row],[Building Component]]<>\"Fenestration\"),\"ESRefDesign_Insulation_V11\",\nIF(AND($C$8=\"Version 1.2 OR+WA\",$C$6=\"Prescriptive\",Table5ca[[#This Row],[Building Component]]<>\"Fenestration\"),\"ESRefDesign_Insulation_V12\",\n\nIF(AND(Table5ca[[#This Row],[Dwelling or Common?]]=\"Common\",$C$8=\"Version 1.2 OR+WA\",OR($C$6=\"ERI\",$C$6=\"Title 24 - Dwelling Unit Models\"),Table5ca[[#This Row],[Building Component]]<>\"Fenestration\"),\"ESRefDesign_Insulation_V12\",\nIF(AND(Table5ca[[#This Row],[Dwelling or Common?]]=\"Common\",$C$8=\"Version 1.2 OR+WA\",OR($C$6=\"ASHRAE\",$C$6=\"Title 24 - Whole Building Models\"),Table5ca[[#This Row],[Building Component]]<>\"Fenestration\"),\"IECC2009_OU\",\nIF(AND(Table5ca[[#This Row],[Dwelling or Common?]]=\"Dwelling\",$C$8=\"Version 1.2 OR+WA\",OR($C$6=\"ERI\",$C$6=\"Title 24 - Dwelling Unit Models\",$C$6=\"ASHRAE\",$C$6=\"Title 24 - Whole Building Models\"),Table5ca[[#This Row],[Building Component]]<>\"Fenestration\"),\"IECC2009_RU\",\n\nIF(AND(Table5ca[[#This Row],[Dwelling or Common?]]=\"Common\",$C$8=\"Version 1\",Table5ca[[#This Row],[Building Component]]<>\"Fenestration\"),\"IECC2009_OU\",\nIF(AND(Table5ca[[#This Row],[Dwelling or Common?]]=\"Common\",$C$8=\"Version 1.1\",OR($C$6=\"ASHRAE\",$C$6=\"Title 24 - Whole Building Models\"),Table5ca[[#This Row],[Building Component]]<>\"Fenestration\"),\"IECC2009_OU\",\nIF(AND(Table5ca[[#This Row],[Dwelling or Common?]]=\"Common\",$C$8=\"Version 1.1\",OR($C$6=\"Prescriptive\",$C$6=\"ERI\",$C$6=\"Title 24 - Dwelling Unit Models\"),Table5ca[[#This Row],[Building Component]]<>\"Fenestration\"),\"IECC2012_OU\",\n\nIF(AND(Table5ca[[#This Row],[Dwelling or Common?]]=\"Dwelling\",OR($C$8=\"Version 1\",$C$8=\"Version 1.1\",),OR($C$6=\"ERI\",$C$6=\"ASHRAE\",$C$6=\"Title 24 - Whole Building Models\",$C$6=\"Title 24 - Dwelling Unit Models\"),Table5ca[[#This Row],[Building Component]]<>\"Fenestration\"),\"IECC2009_RU\",\n\n\nIF(AND(Table5ca[[#This Row],[Building Component]]=\"Fenestration\",Table5ca[[#This Row],[Dwelling or Common?]]=\"Common\",OR($C$6=\"Prescriptive\",$C$6=\"ERI\",$C$6=\"Title 24 - Dwelling Unit Models\"),$C$8=\"Version 1\"),\"ESRefDesign_FenestrationAW_V1\",\nIF(AND(Table5ca[[#This Row],[Building Component]]=\"Fenestration\",Table5ca[[#This Row],[Dwelling or Common?]]=\"Common\",OR($C$6=\"Prescriptive\",$C$6=\"ERI\",$C$6=\"Title 24 - Dwelling Unit Models\"),$C$8=\"Version 1.1\"),\"ESRefDesign_FenestrationAW_V11\",\nIF(AND(Table5ca[[#This Row],[Building Component]]=\"Fenestration\",Table5ca[[#This Row],[Dwelling or Common?]]=\"Common\",OR($C$6=\"Prescriptive\",$C$6=\"ERI\",$C$6=\"Title 24 - Dwelling Unit Models\"),$C$8=\"Version 1.2 OR+WA\"),\"ESRefDesign_FenestrationAW_V12\",\n\nIF(AND(Table5ca[[#This Row],[Building Component]]=\"Fenestration\",Table5ca[[#This Row],[Dwelling or Common?]]=\"Common\",OR($C$6=\"ASHRAE\",$C$6=\"Title 24 - Whole Building Models\")),\"IECC2009_Fenestration_AW_Windows\",\nIF(AND(Table5ca[[#This Row],[Building Component]]=\"Fenestration\",Table5ca[[#This Row],[Dwelling or Common?]]=\"Dwelling\",Table5ca[[#This Row],[Component Type]]=\"Class AW\",OR($C$6=\"ASHRAE\",$C$6=\"Title 24 - Whole Building Models\",$C$6=\"ERI\",$C$6=\"Title 24 - Dwelling Unit Models\")),\"IECC2009_Fenestration_AW_Windows\",\n\nIF(AND(Table5ca[[#This Row],[Building Component]]=\"Fenestration\",Table5ca[[#This Row],[Dwelling or Common?]]=\"Dwelling\",$C$6=\"Prescriptive\",$C$8=\"Version 1\",Table5ca[[#This Row],[Component Type]]=\"Class AW\"),\"ESRefDesign_FenestrationAW_V1\",\nIF(AND(Table5ca[[#This Row],[Building Component]]=\"Fenestration\",Table5ca[[#This Row],[Dwelling or Common?]]=\"Dwelling\",$C$6=\"Prescriptive\",$C$8=\"Version 1.1\",Table5ca[[#This Row],[Component Type]]=\"Class AW\"),\"ESRefDesign_FenestrationAW_V11\",\nIF(AND(Table5ca[[#This Row],[Building Component]]=\"Fenestration\",Table5ca[[#This Row],[Dwelling or Common?]]=\"Dwelling\",$C$6=\"Prescriptive\",$C$8=\"Version 1.2 OR+WA\",Table5ca[[#This Row],[Component Type]]=\"Class AW\"),\"ESRefDesign_FenestrationAW_V12\",\n\nIF(AND(Table5ca[[#This Row],[Building Component]]=\"Fenestration\",Table5ca[[#This Row],[Dwelling or Common?]]=\"Dwelling\",$C$6=\"Prescriptive\",$C$8=\"Version 1\",Table5ca[[#This Row],[Component Type]]=\"Not Class AW\"),\"ESRefDesign_Fenestration_V1\",\nIF(AND(Table5ca[[#This Row],[Building Component]]=\"Fenestration\",Table5ca[[#This Row],[Dwelling or Common?]]=\"Dwelling\",$C$6=\"Prescriptive\",$C$8=\"Version 1.1\",Table5ca[[#This Row],[Component Type]]=\"Not Class AW\"),\"ESRefDesign_Fenestration_V11\",\nIF(AND(Table5ca[[#This Row],[Building Component]]=\"Fenestration\",Table5ca[[#This Row],[Dwelling or Common?]]=\"Dwelling\",$C$6=\"Prescriptive\",$C$8=\"Version 1.2 OR+WA\",Table5ca[[#This Row],[Component Type]]=\"Not Class AW\"),\"ESRefDesign_Fenestration_V12\",\n\nIF(AND(Table5ca[[#This Row],[Building Component]]=\"Fenestration\",Table5ca[[#This Row],[Dwelling or Common?]]=\"Dwelling\"),\"IECC2009_Fenestration_NotAW_Windows\",\n\n\"\"))))))))))))))))))))))","v":""},{"$f":"IF(OR(Table5ca[[#This Row],[Lookup Table Pt1]]=\"ESRefDesign_Insulation_V1\",Table5ca[[#This Row],[Lookup Table Pt1]]=\"ESRefDesign_Insulation_V11\",Table5ca[[#This Row],[Lookup Table Pt1]]=\"IECC2009_Fenestration_NotAW_Windows\",Table5ca[[#This Row],[Lookup Table Pt1]]=\"IECC2009_Fenestration_AW_Windows\",Table5ca[[#This Row],[Lookup Table Pt1]]=\"ESRefDesign_FenestrationAW_V1\",Table5ca[[#This Row],[Lookup Table Pt1]]=\"ESRefDesign_FenestrationAW_V11\",Table5ca[[#This Row],[Lookup Table Pt1]]=\"ESRefDesign_Fenestration_V1\",Table5ca[[#This Row],[Lookup Table Pt1]]=\"ESRefDesign_Fenestration_V11\"),Table5ca[[#This Row],[Lookup Table Pt1]],\n\nIF(Table5ca[[#This Row],[Component_Lookup]]=\"FloorAboveGarage\",Table5ca[[#This Row],[Lookup Table Pt1]]&\"_Floor\",\n\nTable5ca[[#This Row],[Lookup Table Pt1]]&\"_\"&Table5ca[[#This Row],[Component_Lookup]]))","v":"_NotApplicable"},{"$f":"IF(AND($C$8=\"Version 1.2 OR+WA\",$C$6=\"Prescriptive\",Table5ca[[#This Row],[Building Component]]=\"Above-Grade Wall\"),1,\nIF(AND($C$8=\"Version 1.2 OR+WA\",$C$6=\"Prescriptive\",Table5ca[[#This Row],[Building Component]]=\"Ceiling\"),2,\nIF(AND($C$8=\"Version 1.2 OR+WA\",$C$6=\"Prescriptive\",Table5ca[[#This Row],[Building Component]]=\"Basement Wall\"),4,\nIF(AND($C$8=\"Version 1.2 OR+WA\",$C$6=\"Prescriptive\",Table5ca[[#This Row],[Building Component]]=\"On-Grade & Below Grade Slab\"),5,\nIF(AND($C$8=\"Version 1.2 OR+WA\",$C$6=\"Prescriptive\",OR(Table5ca[[#This Row],[Building Component]]=\"Floor Assembly\",Table5ca[[#This Row],[Building Component]]=\"Floor Above Garage\",Table5ca[[#This Row],[Building Component]]=\"Floor Above Garage Columns\")),3,\n\nIF(AND($C$8=\"Version 1.2 OR+WA\",OR($C$6=\"Prescriptive\",$C$6=\"ERI\",$C$6=\"Title 24 - Dwelling Units Models\"),Table5ca[[#This Row],[Dwelling or Common?]]=\"Common\",Table5ca[[#This Row],[Building Component]]=\"Above-Grade Wall\"),1,\nIF(AND($C$8=\"Version 1.2 OR+WA\",OR($C$6=\"Prescriptive\",$C$6=\"ERI\",$C$6=\"Title 24 - Dwelling Units Models\"),Table5ca[[#This Row],[Dwelling or Common?]]=\"Common\",Table5ca[[#This Row],[Building Component]]=\"Ceiling\"),2,\nIF(AND($C$8=\"Version 1.2 OR+WA\",OR($C$6=\"Prescriptive\",$C$6=\"ERI\",$C$6=\"Title 24 - Dwelling Units Models\"),Table5ca[[#This Row],[Dwelling or Common?]]=\"Common\",Table5ca[[#This Row],[Building Component]]=\"Basement Wall\"),4,\nIF(AND($C$8=\"Version 1.2 OR+WA\",OR($C$6=\"Prescriptive\",$C$6=\"ERI\",$C$6=\"Title 24 - Dwelling Units Models\"),Table5ca[[#This Row],[Dwelling or Common?]]=\"Common\",Table5ca[[#This Row],[Building Component]]=\"On-Grade & Below Grade Slab\"),5,\nIF(AND($C$8=\"Version 1.2 OR+WA\",OR($C$6=\"Prescriptive\",$C$6=\"ERI\",$C$6=\"Title 24 - Dwelling Units Models\"),Table5ca[[#This Row],[Dwelling or Common?]]=\"Common\",OR(Table5ca[[#This Row],[Building Component]]=\"Floor Assembly\",Table5ca[[#This Row],[Building Component]]=\"Floor Above Garage\",Table5ca[[#This Row],[Building Component]]=\"Floor Above Garage Columns\")),3,\n\nIF(AND($C$6=\"Prescriptive\",OR($C$8=\"Version 1\",$C$8=\"Version 1.1\"),Table5ca[[#This Row],[Building Component]]=\"Basement Wall Continuous Insulation\"),3,\nIF(AND($C$6=\"Prescriptive\",OR($C$8=\"Version 1\",$C$8=\"Version 1.1\"),Table5ca[[#This Row],[Building Component]]=\"Slab Insulation\"),1,\n\nIF(OR(Table5ca[[#This Row],[Component Type]]=\"Insulation entirely above deck\",Table5ca[[#This Row],[Component Type]]=\"Mass\",Table5ca[[#This Row],[Component Type]]=\"Below grade wall\",Table5ca[[#This Row],[Component Type]]=\"Unheated slabs\",Table5ca[[#This Row],[Component Type]]=\"Floor Above Garage\"),1,\nIF(OR(Table5ca[[#This Row],[Component Type]]=\"Metal buildings\",Table5ca[[#This Row],[Component Type]]=\"Metal building\",Table5ca[[#This Row],[Component Type]]=\"Joist/framing\",Table5ca[[#This Row],[Component Type]]=\"Heated slabs\",Table5ca[[#This Row],[Component Type]]=\"Floor Above Garage\"),2,\nIF(OR(Table5ca[[#This Row],[Component Type]]=\"Attic and other\",Table5ca[[#This Row],[Component Type]]=\"Metal framed\"),3,\nIF(OR(Table5ca[[#This Row],[Component Type]]=\"Wood framed and other\",Table5ca[[#This Row],[Building Component]]=\"Floor Assembly\",Table5ca[[#This Row],[Building Component]]=\"Floor Above Garage\",Table5ca[[#This Row],[Building Component]]=\"Floor Above Garage Columns\"),4,\nIF(Table5ca[[#This Row],[Building Component]]=\"Wall Assembly\",5,\nIF(Table5ca[[#This Row],[Building Component]]=\"Ceiling Assembly\",6,\n\nIF(Table5ca[[#This Row],[Lookup Table Pt2]]=\"IECC2009_Fenestration_NotAW_Windows\",1,\nIF(AND(Table5ca[[#This Row],[Lookup Table Pt2]]=\"IECC2009_Fenestration_AW_Windows\",OR(Table5ca[[#This Row],[Additional Component Details]]=\"Non-Metal\",Table5ca[[#This Row],[Component Type]]=\"Non-Metal\")),1,\nIF(AND(Table5ca[[#This Row],[Lookup Table Pt2]]=\"IECC2009_Fenestration_AW_Windows\",OR(Table5ca[[#This Row],[Additional Component Details]]=\"Metal - Curtainwall/storefront\",Table5ca[[#This Row],[Component Type]]=\"Metal - Curtainwall/storefront\")),2,\nIF(AND(Table5ca[[#This Row],[Lookup Table Pt2]]=\"IECC2009_Fenestration_AW_Windows\",OR(Table5ca[[#This Row],[Additional Component Details]]=\"Metal - Entrance door\",Table5ca[[#This Row],[Component Type]]=\"Metal - Entrance door\")),3,\nIF(AND(Table5ca[[#This Row],[Lookup Table Pt2]]=\"IECC2009_Fenestration_AW_Windows\",OR(Table5ca[[#This Row],[Additional Component Details]]=\"Metal - Other\",Table5ca[[#This Row],[Component Type]]=\"Metal - Entrance door\")),4,\nIF(AND(Table5ca[[#This Row],[Lookup Table Pt2]]=\"IECC2009_Fenestration_AW_Windows\",Table5ca[[#This Row],[Component Type]]=\"Metal - Other\"),4,\n\nIF(AND(OR(Table5ca[[#This Row],[Lookup Table Pt1]]=\"ESRefDesign_FenestrationAW_V1\",Table5ca[[#This Row],[Lookup Table Pt1]]=\"ESRefDesign_FenestrationAW_V11\",Table5ca[[#This Row],[Lookup Table Pt1]]=\"ESRefDesign_FenestrationAW_V12\"),OR(Table5ca[[#This Row],[Component Type]]=\"Fixed\",Table5ca[[#This Row],[Additional Component Details]]=\"Fixed\")),1,\nIF(AND(OR(Table5ca[[#This Row],[Lookup Table Pt1]]=\"ESRefDesign_FenestrationAW_V1\",Table5ca[[#This Row],[Lookup Table Pt1]]=\"ESRefDesign_FenestrationAW_V11\",Table5ca[[#This Row],[Lookup Table Pt1]]=\"ESRefDesign_FenestrationAW_V12\"),OR(Table5ca[[#This Row],[Component Type]]=\"Operable\",Table5ca[[#This Row],[Additional Component Details]]=\"Operable\")),2,\n\nIF(AND(OR(Table5ca[[#This Row],[Lookup Table Pt1]]=\"ESRefDesign_Fenestration_V1\",Table5ca[[#This Row],[Lookup Table Pt1]]=\"ESRefDesign_Fenestration_V11\",Table5ca[[#This Row],[Lookup Table Pt1]]=\"ESRefDesign_Fenestration_V12\"),Table5ca[[#This Row],[Additional Component Details]]=\"Window\"),1,\nIF(AND(OR(Table5ca[[#This Row],[Lookup Table Pt1]]=\"ESRefDesign_Fenestration_V1\",Table5ca[[#This Row],[Lookup Table Pt1]]=\"ESRefDesign_Fenestration_V11\",Table5ca[[#This Row],[Lookup Table Pt1]]=\"ESRefDesign_Fenestration_V12\"),Table5ca[[#This Row],[Additional Component Details]]=\"Opaque Door\"),3,\nIF(AND(OR(Table5ca[[#This Row],[Lookup Table Pt1]]=\"ESRefDesign_Fenestration_V1\",Table5ca[[#This Row],[Lookup Table Pt1]]=\"ESRefDesign_Fenestration_V11\",Table5ca[[#This Row],[Lookup Table Pt1]]=\"ESRefDesign_Fenestration_V12\"),Table5ca[[#This Row],[Additional Component Details]]=\"≤½ lite Door\"),4,\nIF(AND(OR(Table5ca[[#This Row],[Lookup Table Pt1]]=\"ESRefDesign_Fenestration_V1\",Table5ca[[#This Row],[Lookup Table Pt1]]=\"ESRefDesign_Fenestration_V11\",Table5ca[[#This Row],[Lookup Table Pt1]]=\"ESRefDesign_Fenestration_V12\"),Table5ca[[#This Row],[Additional Component Details]]=\">½ lite Door\"),5,\n\n\n\"\"))))))))))))))))))))))))))))))","v":""},{"$f":"IF(AND($C$8=\"Version 1.2 OR+WA\",$C$6=\"Prescriptive\",Table5ca[[#This Row],[Building Component]]<>\"Fenestration\"),2,\n\nIF(AND($C$8=\"Version 1.2 OR+WA\",$C$6=\"Prescriptive\",$C$7=\"CZ 4 C\"),2,\nIF(AND($C$8=\"Version 1.2 OR+WA\",$C$6=\"Prescriptive\",$C$7=\"CZ 5\"),3,\nIF(AND($C$8=\"Version 1.2 OR+WA\",$C$6=\"Prescriptive\",$C$7=\"CZ 6\"),4,\n\nIF(AND($C$8=\"Version 1.2 OR+WA\",Table5ca[[#This Row],[Dwelling or Common?]]=\"Common\",OR($C$6=\"ERI\",$C$6=\"Title 24 - Dwelling Unit Models\"),$C$7=\"CZ 4 C\"),2,\nIF(AND($C$8=\"Version 1.2 OR+WA\",Table5ca[[#This Row],[Dwelling or Common?]]=\"Common\",OR($C$6=\"ERI\",$C$6=\"Title 24 - Dwelling Unit Models\"),$C$7=\"CZ 5\"),3,\nIF(AND($C$8=\"Version 1.2 OR+WA\",Table5ca[[#This Row],[Dwelling or Common?]]=\"Common\",OR($C$6=\"ERI\",$C$6=\"Title 24 - Dwelling Unit Models\"),$C$7=\"CZ 6\"),4,\n\nIF($C$7=\"CZ 1\",2,\nIF($C$7=\"CZ 2\",3,\nIF($C$7=\"CZ 3\",4,\nIF($C$7=\"CZ 4\",5,\nIF($C$7=\"CZ 4 C\",6,\nIF($C$7=\"CZ 5\",7,\nIF($C$7=\"CZ 6\",8,\nIF($C$7=\"CZ 7\",9,\nIF($C$7=\"CZ 8\",10,\"\"))))))))))))))))","v":5}]
[null,null,null,null,null,null,null,{"$f":"IF(Table5ca[[#This Row],[Specified/Installed U-Factor]]*Table5ca[[#This Row],[Area]]=0,\"\",Table5ca[[#This Row],[Specified/Installed U-Factor]]*Table5ca[[#This Row],[Area]])","v":""},{"$f":"IFERROR(IF(AND($C$8=\"Version 1.2 OR+WA\",OR($C$7=\"CZ 1\",$C$7=\"CZ 2\",$C$7=\"CZ 3\",$C$7=\"CZ 4\",$C$7=\"CZ 7\",$C$7=\"CZ 8\")),\"N/A - Update CZ\",\n\nIF(Table5ca[[#This Row],[Building Component]]=\"Balcony\",\"0.20\",\n\nIF(OR(Table5ca[[#This Row],[Lookup Table Pt1]]=\"ESRefDesign_Insulation_V1\",Table5ca[[#This Row],[Lookup Table Pt1]]=\"ESRefDesign_Insulation_V11\",Table5ca[[#This Row],[Lookup Table Pt1]]=\"ESRefDesign_Insulation_V12\",Table5ca[[#This Row],[Lookup Table Pt1]]=\"ESRefDesign_FenestrationAW_V1\",Table5ca[[#This Row],[Lookup Table Pt1]]=\"ESRefDesign_FenestrationAW_V11\",Table5ca[[#This Row],[Lookup Table Pt1]]=\"ESRefDesign_Fenestration_V1\",Table5ca[[#This Row],[Lookup Table Pt1]]=\"ESRefDesign_Fenestration_V11\",Table5ca[[#This Row],[Lookup Table Pt1]]=\"ESRefDesign_Fenestration_V12\",Table5ca[[#This Row],[Lookup Table Pt1]]=\"ESRefDesign_FenestrationAW_V12\",Table5ca[[#This Row],[Lookup Table Pt1]]=\"IECC2009_Fenestration_NotAW_Windows\",Table5ca[[#This Row],[Lookup Table Pt1]]=\"IECC2009_Fenestration_AW_Windows\"),INDEX(INDIRECT(Table5ca[[#This Row],[Lookup Table Pt1]]),Table5ca[[#This Row],[Row Index]],Table5ca[[#This Row],[Column Index]]),\n\nINDEX(INDIRECT(Table5ca[[#This Row],[Lookup Table Pt2]]),Table5ca[[#This Row],[Row Index]],Table5ca[[#This Row],[Column Index]])))),\"\")","v":""},{"$f":"IFERROR(\n\nIF(LEFT(Table5ca[[#This Row],[ENERGY STAR Requirement Values]],2)=\"U-\",Table5ca[[#This Row],[ENERGY STAR Requirement Values]],\n\nIF(OR(Table5ca[[#This Row],[Building Component]]=\"Slab Insulation\",Table5ca[[#This Row],[Building Component]]=\"Slab-On-Grade Floor\",Table5ca[[#This Row],[Building Component]]=\"Slab-On-Grade Floors\",Table5ca[[#This Row],[Building Component]]=\"On-Grade & Below Grade Slab\",Table5ca[[#This Row],[Building Component]]=\"Slab-on-Grade Floors\",Table5ca[[#This Row],[Building Component]]=\"Slab-on-Grade Floor\"),\"\",\n\nIF(OR(Table5ca[[#This Row],[ENERGY STAR Requirement Values]]=\"R-0\",Table5ca[[#This Row],[ENERGY STAR Requirement Values]]=0,Table5ca[[#This Row],[ENERGY STAR Requirement Values]]=\"C-1.140\"),\"U-0.36\",\nIF(OR(Table5ca[[#This Row],[ENERGY STAR Requirement Values]]=\"R-7.5\",Table5ca[[#This Row],[ENERGY STAR Requirement Values]]=7.5,Table5ca[[#This Row],[ENERGY STAR Requirement Values]]=\"C-0.119\"),\"U-0.072\",\nIF(OR(Table5ca[[#This Row],[ENERGY STAR Requirement Values]]=\"R-10\",Table5ca[[#This Row],[ENERGY STAR Requirement Values]]=10,Table5ca[[#This Row],[ENERGY STAR Requirement Values]]=\"C-0.092\"),\"U-0.059\",\nIF(OR(Table5ca[[#This Row],[ENERGY STAR Requirement Values]]=\"R-15\",Table5ca[[#This Row],[ENERGY STAR Requirement Values]]=15,Table5ca[[#This Row],[ENERGY STAR Requirement Values]]=\"R-15 continuous or R-21 cavity\"),\"U-0.05\",\nIF(OR(Table5ca[[#This Row],[ENERGY STAR Requirement Values]]=\"R-12.5\",Table5ca[[#This Row],[ENERGY STAR Requirement Values]]=12.5,Table5ca[[#This Row],[ENERGY STAR Requirement Values]]=\"C-0.075\"),\"U-0.054\",\nIF(OR(Table5ca[[#This Row],[ENERGY STAR Requirement Values]]=\"R-21\",Table5ca[[#This Row],[ENERGY STAR Requirement Values]]=21),\"U-0.056\",\nIF(OR(Table5ca[[#This Row],[ENERGY STAR Requirement Values]]=\"R-38\",Table5ca[[#This Row],[ENERGY STAR Requirement Values]]=38),\"U-0.028\",\nIF(OR(Table5ca[[#This Row],[ENERGY STAR Requirement Values]]=\"R-49\",Table5ca[[#This Row],[ENERGY STAR Requirement Values]]=49),\"U-0.026\",\n\nIF(LEFT(Table5ca[[#This Row],[ENERGY STAR Requirement Values]],2)=\"F-\",\"\",\n\nIF(LEFT(Table5ca[[#This Row],[ENERGY STAR Requirement Values]],1)=\"0\",CONCATENATE(\"U-\",Table5ca[[#This Row],[ENERGY STAR Requirement Values]]),\n\nTable5ca[[#This Row],[ENERGY STAR Requirement Values]])))))))))))),\"\")","v":""},{"$f":"IFERROR(IF(Table5ca[[#This Row],[Area]]=\"\",\"\",\nIF(Table5ca[[#This Row],[Required U-factor]]=\"\",\"\",\nIFERROR(Table5ca[[#This Row],[Area]]*Table5ca[[#This Row],[Required U-factor]],RIGHT(Table5ca[[#This Row],[Required U-factor]],LEN(Table5ca[[#This Row],[Required U-factor]])-2)*Table5ca[[#This Row],[Area]]))),\"\")","v":""},{"$f":"IF(Table5ca[[#This Row],[Building Component]]=\"\",\"\",\nIF(OR(Table5ca[[#This Row],[Building Component]]=\"Wall, Above Grade\",Table5ca[[#This Row],[Building Component]]=\"Wall, Below Grade\"),\"If there is continuous insulation interrupted by fasteners, ensure that the U-factor has been de-rated per Footnote 24. See below for further details.\",\nIF(Table5ca[[#This Row],[Building Component]]=\"Wall Assembly\",\"Apply a derate per Footnote 6 below.\",\nIF(Table5ca[[#This Row],[Building Component]]=\"Balcony\",\"Use the table below to de-rate balconies per Footnote 21.\",\nIF(OR(Table5ca[[#This Row],[Building Component]]=\"Floor Above Garage\",Table5ca[[#This Row],[Building Component]]=\"Floor Above Garage Columns\"),\"Use the table below to De-Rate floors above garages per Footnote 22.\",\n\"Not Applicable\")))))","v":""},null,null,null,null,null,null,{"$f":"IF(AND(Table5ca[[#This Row],[Dwelling or Common?]]=\"Dwelling\",$C$6=\"Prescriptive\",$C$8=\"Version 1.2 OR+WA\"),\"BuildingComponents_ESRefListV12_UABuildingComponents\",\nIF(AND($C$8=\"Version 1.2 OR+WA\",OR($C$6=\"Prescriptive\",$C$6=\"ERI\",$C$6=\"Title 24 - Dwelling Units Models\"),Table5ca[[#This Row],[Dwelling or Common?]]=\"Common\"),\"BuildingComponents_ESRefListV12_UABuildingComponents\",\n\nIF(AND($C$6=\"Prescriptive\",Table5ca[[#This Row],[Dwelling or Common?]]=\"Dwelling\"),\"PrescriptivePath_UABuildingComponents\",\n\n\"ERI_AHSRAE_UABuildingComponents\")))","v":"ERI_AHSRAE_UABuildingComponents"},{"$f":"IF(AND($C$6<>\"Prescriptive\",OR(Table5ca[[#This Row],[Building Component]]=\"Floor Assembly\",Table5ca[[#This Row],[Building Component]]=\"Floor Above Garage\",Table5ca[[#This Row],[Building Component]]=\"Floor Above Garage Columns\")),\"Floor\",\nIF(AND($C$6=\"Prescriptive\",Table5ca[[#This Row],[Dwelling or Common?]]=\"Common\",OR(Table5ca[[#This Row],[Building Component]]=\"Floor Assembly\",Table5ca[[#This Row],[Building Component]]=\"Floor Above Garage\",Table5ca[[#This Row],[Building Component]]=\"Floor Above Garage Columns\")),\"Floor\",\n\nIF(Table5ca[[#This Row],[Building Component]]=\"Roofs\",\"Roof\",\nIF(Table5ca[[#This Row],[Building Component]]=\"Walls, Above Grade\",\"WallAboveGrade\",\nIF(Table5ca[[#This Row],[Building Component]]=\"Walls, Below Grade\",\"WallBelowGrade\",\nIF(AND(Table5ca[[#This Row],[Building Component]]=\"Floor Assembly\",$C$6<>\"Prescriptive\"),\"Floor\",\nIF(Table5ca[[#This Row],[Building Component]]=\"Slab-on-Grade Floors\",\"SlabOnGradeFloor\",\nIF(Table5ca[[#This Row],[Building Component]]=\"Opaque Doors\",\"OpaqueDoor\",\nIF(Table5ca[[#This Row],[Building Component]]=\"Balcony\",\"Balcony\",\nIF(AND(Table5ca[[#This Row],[Building Component]]=\"Floor Above Garage\",$C$6=\"Prescriptive\"),\"FloorAssembly\",\nIF(Table5ca[[#This Row],[Building Component]]=\"Floor Above Garage\",\"FloorAboveGarage\",\nIF(Table5ca[[#This Row],[Building Component]]=\"Wall Assembly\",\"WallAssembly\",\nIF(Table5ca[[#This Row],[Building Component]]=\"Ceiling Assembly\",\"CeilingAssembly\",\nIF(OR(Table5ca[[#This Row],[Building Component]]=\"Floor Assembly\",Table5ca[[#This Row],[Building Component]]=\"Floor Above Garage\",Table5ca[[#This Row],[Building Component]]=\"Floor Above Garage Columns\"),\"FloorAssembly\",\n\nIF(AND(Table5ca[[#This Row],[Building Component]]=\"Fenestration\",Table5ca[[#This Row],[Dwelling or Common?]]=\"Dwelling\"),\"ClassAW?\",\n\nIF(AND(Table5ca[[#This Row],[Building Component]]=\"Fenestration\",Table5ca[[#This Row],[Dwelling or Common?]]=\"Common\",OR($C$6=\"ERI\",$C$6=\"Title 24 - Dwelling Unit Models\",$C$6=\"Prescriptive\")),\"ESRefClassAW\",\nIF(AND(Table5ca[[#This Row],[Building Component]]=\"Fenestration\",Table5ca[[#This Row],[Dwelling or Common?]]=\"Common\",OR($C$6=\"ASHRAE\",$C$6=\"Title 24 - Whole Building Models\")),\"Fenestration\",\n\n\"NotApplicable\")))))))))))))))))","v":"NotApplicable"},{"$f":"IF(AND(OR($C$6=\"ERI\",$C$6=\"Title 24 - Dwelling Unit Models\"),Table5ca[[#This Row],[Dwelling or Common?]]=\"Dwelling\",Table5ca[[#This Row],[Component Type]]=\"Class AW\"),\"Fenestration\",\nIF(AND(OR($C$6=\"ERI\",$C$6=\"Title 24 - Dwelling Unit Models\"),Table5ca[[#This Row],[Dwelling or Common?]]=\"Dwelling\",Table5ca[[#This Row],[Component Type]]=\"Not Class AW\"),\"NotApplicable\",\n\nIF(AND(OR($C$6=\"ASHRAE\",$C$6=\"Title 24 - Whole Building Models\"),Table5ca[[#This Row],[Dwelling or Common?]]=\"Dwelling\",Table5ca[[#This Row],[Component Type]]=\"Class AW\"),\"Fenestration\",\nIF(AND(OR($C$6=\"ASHRAE\",$C$6=\"Title 24 - Whole Building Models\"),Table5ca[[#This Row],[Dwelling or Common?]]=\"Dwelling\",Table5ca[[#This Row],[Component Type]]=\"Not Class AW\"),\"NotApplicable\",\n\nIF(AND($C$6=\"Prescriptive\",Table5ca[[#This Row],[Dwelling or Common?]]=\"Dwelling\",Table5ca[[#This Row],[Component Type]]=\"Class AW\"),\"ESRefClassAW\",\nIF(AND($C$6=\"Prescriptive\",Table5ca[[#This Row],[Dwelling or Common?]]=\"Dwelling\",Table5ca[[#This Row],[Component Type]]=\"Not Class AW\"),\"ESRefNotClassAW\",\n\nIF(Table5ca[[#This Row],[Component Type]]=\"Class AW\",\"Fenestration\",\n\n\"NotApplicable\")))))))","v":"NotApplicable"},{"$f":"IF(AND(Table5ca[[#This Row],[Dwelling or Common?]]=\"Dwelling\",$C$8=\"Version 1\",$C$6=\"Prescriptive\",Table5ca[[#This Row],[Building Component]]<>\"Fenestration\"),\"ESRefDesign_Insulation_V1\",\nIF(AND(Table5ca[[#This Row],[Dwelling or Common?]]=\"Dwelling\",$C$8=\"Version 1.1\",$C$6=\"Prescriptive\",Table5ca[[#This Row],[Building Component]]<>\"Fenestration\"),\"ESRefDesign_Insulation_V11\",\nIF(AND($C$8=\"Version 1.2 OR+WA\",$C$6=\"Prescriptive\",Table5ca[[#This Row],[Building Component]]<>\"Fenestration\"),\"ESRefDesign_Insulation_V12\",\n\nIF(AND(Table5ca[[#This Row],[Dwelling or Common?]]=\"Common\",$C$8=\"Version 1.2 OR+WA\",OR($C$6=\"ERI\",$C$6=\"Title 24 - Dwelling Unit Models\"),Table5ca[[#This Row],[Building Component]]<>\"Fenestration\"),\"ESRefDesign_Insulation_V12\",\nIF(AND(Table5ca[[#This Row],[Dwelling or Common?]]=\"Common\",$C$8=\"Version 1.2 OR+WA\",OR($C$6=\"ASHRAE\",$C$6=\"Title 24 - Whole Building Models\"),Table5ca[[#This Row],[Building Component]]<>\"Fenestration\"),\"IECC2009_OU\",\nIF(AND(Table5ca[[#This Row],[Dwelling or Common?]]=\"Dwelling\",$C$8=\"Version 1.2 OR+WA\",OR($C$6=\"ERI\",$C$6=\"Title 24 - Dwelling Unit Models\",$C$6=\"ASHRAE\",$C$6=\"Title 24 - Whole Building Models\"),Table5ca[[#This Row],[Building Component]]<>\"Fenestration\"),\"IECC2009_RU\",\n\nIF(AND(Table5ca[[#This Row],[Dwelling or Common?]]=\"Common\",$C$8=\"Version 1\",Table5ca[[#This Row],[Building Component]]<>\"Fenestration\"),\"IECC2009_OU\",\nIF(AND(Table5ca[[#This Row],[Dwelling or Common?]]=\"Common\",$C$8=\"Version 1.1\",OR($C$6=\"ASHRAE\",$C$6=\"Title 24 - Whole Building Models\"),Table5ca[[#This Row],[Building Component]]<>\"Fenestration\"),\"IECC2009_OU\",\nIF(AND(Table5ca[[#This Row],[Dwelling or Common?]]=\"Common\",$C$8=\"Version 1.1\",OR($C$6=\"Prescriptive\",$C$6=\"ERI\",$C$6=\"Title 24 - Dwelling Unit Models\"),Table5ca[[#This Row],[Building Component]]<>\"Fenestration\"),\"IECC2012_OU\",\n\nIF(AND(Table5ca[[#This Row],[Dwelling or Common?]]=\"Dwelling\",OR($C$8=\"Version 1\",$C$8=\"Version 1.1\",),OR($C$6=\"ERI\",$C$6=\"ASHRAE\",$C$6=\"Title 24 - Whole Building Models\",$C$6=\"Title 24 - Dwelling Unit Models\"),Table5ca[[#This Row],[Building Component]]<>\"Fenestration\"),\"IECC2009_RU\",\n\n\nIF(AND(Table5ca[[#This Row],[Building Component]]=\"Fenestration\",Table5ca[[#This Row],[Dwelling or Common?]]=\"Common\",OR($C$6=\"Prescriptive\",$C$6=\"ERI\",$C$6=\"Title 24 - Dwelling Unit Models\"),$C$8=\"Version 1\"),\"ESRefDesign_FenestrationAW_V1\",\nIF(AND(Table5ca[[#This Row],[Building Component]]=\"Fenestration\",Table5ca[[#This Row],[Dwelling or Common?]]=\"Common\",OR($C$6=\"Prescriptive\",$C$6=\"ERI\",$C$6=\"Title 24 - Dwelling Unit Models\"),$C$8=\"Version 1.1\"),\"ESRefDesign_FenestrationAW_V11\",\nIF(AND(Table5ca[[#This Row],[Building Component]]=\"Fenestration\",Table5ca[[#This Row],[Dwelling or Common?]]=\"Common\",OR($C$6=\"Prescriptive\",$C$6=\"ERI\",$C$6=\"Title 24 - Dwelling Unit Models\"),$C$8=\"Version 1.2 OR+WA\"),\"ESRefDesign_FenestrationAW_V12\",\n\nIF(AND(Table5ca[[#This Row],[Building Component]]=\"Fenestration\",Table5ca[[#This Row],[Dwelling or Common?]]=\"Common\",OR($C$6=\"ASHRAE\",$C$6=\"Title 24 - Whole Building Models\")),\"IECC2009_Fenestration_AW_Windows\",\nIF(AND(Table5ca[[#This Row],[Building Component]]=\"Fenestration\",Table5ca[[#This Row],[Dwelling or Common?]]=\"Dwelling\",Table5ca[[#This Row],[Component Type]]=\"Class AW\",OR($C$6=\"ASHRAE\",$C$6=\"Title 24 - Whole Building Models\",$C$6=\"ERI\",$C$6=\"Title 24 - Dwelling Unit Models\")),\"IECC2009_Fenestration_AW_Windows\",\n\nIF(AND(Table5ca[[#This Row],[Building Component]]=\"Fenestration\",Table5ca[[#This Row],[Dwelling or Common?]]=\"Dwelling\",$C$6=\"Prescriptive\",$C$8=\"Version 1\",Table5ca[[#This Row],[Component Type]]=\"Class AW\"),\"ESRefDesign_FenestrationAW_V1\",\nIF(AND(Table5ca[[#This Row],[Building Component]]=\"Fenestration\",Table5ca[[#This Row],[Dwelling or Common?]]=\"Dwelling\",$C$6=\"Prescriptive\",$C$8=\"Version 1.1\",Table5ca[[#This Row],[Component Type]]=\"Class AW\"),\"ESRefDesign_FenestrationAW_V11\",\nIF(AND(Table5ca[[#This Row],[Building Component]]=\"Fenestration\",Table5ca[[#This Row],[Dwelling or Common?]]=\"Dwelling\",$C$6=\"Prescriptive\",$C$8=\"Version 1.2 OR+WA\",Table5ca[[#This Row],[Component Type]]=\"Class AW\"),\"ESRefDesign_FenestrationAW_V12\",\n\nIF(AND(Table5ca[[#This Row],[Building Component]]=\"Fenestration\",Table5ca[[#This Row],[Dwelling or Common?]]=\"Dwelling\",$C$6=\"Prescriptive\",$C$8=\"Version 1\",Table5ca[[#This Row],[Component Type]]=\"Not Class AW\"),\"ESRefDesign_Fenestration_V1\",\nIF(AND(Table5ca[[#This Row],[Building Component]]=\"Fenestration\",Table5ca[[#This Row],[Dwelling or Common?]]=\"Dwelling\",$C$6=\"Prescriptive\",$C$8=\"Version 1.1\",Table5ca[[#This Row],[Component Type]]=\"Not Class AW\"),\"ESRefDesign_Fenestration_V11\",\nIF(AND(Table5ca[[#This Row],[Building Component]]=\"Fenestration\",Table5ca[[#This Row],[Dwelling or Common?]]=\"Dwelling\",$C$6=\"Prescriptive\",$C$8=\"Version 1.2 OR+WA\",Table5ca[[#This Row],[Component Type]]=\"Not Class AW\"),\"ESRefDesign_Fenestration_V12\",\n\nIF(AND(Table5ca[[#This Row],[Building Component]]=\"Fenestration\",Table5ca[[#This Row],[Dwelling or Common?]]=\"Dwelling\"),\"IECC2009_Fenestration_NotAW_Windows\",\n\n\"\"))))))))))))))))))))))","v":""},{"$f":"IF(OR(Table5ca[[#This Row],[Lookup Table Pt1]]=\"ESRefDesign_Insulation_V1\",Table5ca[[#This Row],[Lookup Table Pt1]]=\"ESRefDesign_Insulation_V11\",Table5ca[[#This Row],[Lookup Table Pt1]]=\"IECC2009_Fenestration_NotAW_Windows\",Table5ca[[#This Row],[Lookup Table Pt1]]=\"IECC2009_Fenestration_AW_Windows\",Table5ca[[#This Row],[Lookup Table Pt1]]=\"ESRefDesign_FenestrationAW_V1\",Table5ca[[#This Row],[Lookup Table Pt1]]=\"ESRefDesign_FenestrationAW_V11\",Table5ca[[#This Row],[Lookup Table Pt1]]=\"ESRefDesign_Fenestration_V1\",Table5ca[[#This Row],[Lookup Table Pt1]]=\"ESRefDesign_Fenestration_V11\"),Table5ca[[#This Row],[Lookup Table Pt1]],\n\nIF(Table5ca[[#This Row],[Component_Lookup]]=\"FloorAboveGarage\",Table5ca[[#This Row],[Lookup Table Pt1]]&\"_Floor\",\n\nTable5ca[[#This Row],[Lookup Table Pt1]]&\"_\"&Table5ca[[#This Row],[Component_Lookup]]))","v":"_NotApplicable"},{"$f":"IF(AND($C$8=\"Version 1.2 OR+WA\",$C$6=\"Prescriptive\",Table5ca[[#This Row],[Building Component]]=\"Above-Grade Wall\"),1,\nIF(AND($C$8=\"Version 1.2 OR+WA\",$C$6=\"Prescriptive\",Table5ca[[#This Row],[Building Component]]=\"Ceiling\"),2,\nIF(AND($C$8=\"Version 1.2 OR+WA\",$C$6=\"Prescriptive\",Table5ca[[#This Row],[Building Component]]=\"Basement Wall\"),4,\nIF(AND($C$8=\"Version 1.2 OR+WA\",$C$6=\"Prescriptive\",Table5ca[[#This Row],[Building Component]]=\"On-Grade & Below Grade Slab\"),5,\nIF(AND($C$8=\"Version 1.2 OR+WA\",$C$6=\"Prescriptive\",OR(Table5ca[[#This Row],[Building Component]]=\"Floor Assembly\",Table5ca[[#This Row],[Building Component]]=\"Floor Above Garage\",Table5ca[[#This Row],[Building Component]]=\"Floor Above Garage Columns\")),3,\n\nIF(AND($C$8=\"Version 1.2 OR+WA\",OR($C$6=\"Prescriptive\",$C$6=\"ERI\",$C$6=\"Title 24 - Dwelling Units Models\"),Table5ca[[#This Row],[Dwelling or Common?]]=\"Common\",Table5ca[[#This Row],[Building Component]]=\"Above-Grade Wall\"),1,\nIF(AND($C$8=\"Version 1.2 OR+WA\",OR($C$6=\"Prescriptive\",$C$6=\"ERI\",$C$6=\"Title 24 - Dwelling Units Models\"),Table5ca[[#This Row],[Dwelling or Common?]]=\"Common\",Table5ca[[#This Row],[Building Component]]=\"Ceiling\"),2,\nIF(AND($C$8=\"Version 1.2 OR+WA\",OR($C$6=\"Prescriptive\",$C$6=\"ERI\",$C$6=\"Title 24 - Dwelling Units Models\"),Table5ca[[#This Row],[Dwelling or Common?]]=\"Common\",Table5ca[[#This Row],[Building Component]]=\"Basement Wall\"),4,\nIF(AND($C$8=\"Version 1.2 OR+WA\",OR($C$6=\"Prescriptive\",$C$6=\"ERI\",$C$6=\"Title 24 - Dwelling Units Models\"),Table5ca[[#This Row],[Dwelling or Common?]]=\"Common\",Table5ca[[#This Row],[Building Component]]=\"On-Grade & Below Grade Slab\"),5,\nIF(AND($C$8=\"Version 1.2 OR+WA\",OR($C$6=\"Prescriptive\",$C$6=\"ERI\",$C$6=\"Title 24 - Dwelling Units Models\"),Table5ca[[#This Row],[Dwelling or Common?]]=\"Common\",OR(Table5ca[[#This Row],[Building Component]]=\"Floor Assembly\",Table5ca[[#This Row],[Building Component]]=\"Floor Above Garage\",Table5ca[[#This Row],[Building Component]]=\"Floor Above Garage Columns\")),3,\n\nIF(AND($C$6=\"Prescriptive\",OR($C$8=\"Version 1\",$C$8=\"Version 1.1\"),Table5ca[[#This Row],[Building Component]]=\"Basement Wall Continuous Insulation\"),3,\nIF(AND($C$6=\"Prescriptive\",OR($C$8=\"Version 1\",$C$8=\"Version 1.1\"),Table5ca[[#This Row],[Building Component]]=\"Slab Insulation\"),1,\n\nIF(OR(Table5ca[[#This Row],[Component Type]]=\"Insulation entirely above deck\",Table5ca[[#This Row],[Component Type]]=\"Mass\",Table5ca[[#This Row],[Component Type]]=\"Below grade wall\",Table5ca[[#This Row],[Component Type]]=\"Unheated slabs\",Table5ca[[#This Row],[Component Type]]=\"Floor Above Garage\"),1,\nIF(OR(Table5ca[[#This Row],[Component Type]]=\"Metal buildings\",Table5ca[[#This Row],[Component Type]]=\"Metal building\",Table5ca[[#This Row],[Component Type]]=\"Joist/framing\",Table5ca[[#This Row],[Component Type]]=\"Heated slabs\",Table5ca[[#This Row],[Component Type]]=\"Floor Above Garage\"),2,\nIF(OR(Table5ca[[#This Row],[Component Type]]=\"Attic and other\",Table5ca[[#This Row],[Component Type]]=\"Metal framed\"),3,\nIF(OR(Table5ca[[#This Row],[Component Type]]=\"Wood framed and other\",Table5ca[[#This Row],[Building Component]]=\"Floor Assembly\",Table5ca[[#This Row],[Building Component]]=\"Floor Above Garage\",Table5ca[[#This Row],[Building Component]]=\"Floor Above Garage Columns\"),4,\nIF(Table5ca[[#This Row],[Building Component]]=\"Wall Assembly\",5,\nIF(Table5ca[[#This Row],[Building Component]]=\"Ceiling Assembly\",6,\n\nIF(Table5ca[[#This Row],[Lookup Table Pt2]]=\"IECC2009_Fenestration_NotAW_Windows\",1,\nIF(AND(Table5ca[[#This Row],[Lookup Table Pt2]]=\"IECC2009_Fenestration_AW_Windows\",OR(Table5ca[[#This Row],[Additional Component Details]]=\"Non-Metal\",Table5ca[[#This Row],[Component Type]]=\"Non-Metal\")),1,\nIF(AND(Table5ca[[#This Row],[Lookup Table Pt2]]=\"IECC2009_Fenestration_AW_Windows\",OR(Table5ca[[#This Row],[Additional Component Details]]=\"Metal - Curtainwall/storefront\",Table5ca[[#This Row],[Component Type]]=\"Metal - Curtainwall/storefront\")),2,\nIF(AND(Table5ca[[#This Row],[Lookup Table Pt2]]=\"IECC2009_Fenestration_AW_Windows\",OR(Table5ca[[#This Row],[Additional Component Details]]=\"Metal - Entrance door\",Table5ca[[#This Row],[Component Type]]=\"Metal - Entrance door\")),3,\nIF(AND(Table5ca[[#This Row],[Lookup Table Pt2]]=\"IECC2009_Fenestration_AW_Windows\",OR(Table5ca[[#This Row],[Additional Component Details]]=\"Metal - Other\",Table5ca[[#This Row],[Component Type]]=\"Metal - Entrance door\")),4,\nIF(AND(Table5ca[[#This Row],[Lookup Table Pt2]]=\"IECC2009_Fenestration_AW_Windows\",Table5ca[[#This Row],[Component Type]]=\"Metal - Other\"),4,\n\nIF(AND(OR(Table5ca[[#This Row],[Lookup Table Pt1]]=\"ESRefDesign_FenestrationAW_V1\",Table5ca[[#This Row],[Lookup Table Pt1]]=\"ESRefDesign_FenestrationAW_V11\",Table5ca[[#This Row],[Lookup Table Pt1]]=\"ESRefDesign_FenestrationAW_V12\"),OR(Table5ca[[#This Row],[Component Type]]=\"Fixed\",Table5ca[[#This Row],[Additional Component Details]]=\"Fixed\")),1,\nIF(AND(OR(Table5ca[[#This Row],[Lookup Table Pt1]]=\"ESRefDesign_FenestrationAW_V1\",Table5ca[[#This Row],[Lookup Table Pt1]]=\"ESRefDesign_FenestrationAW_V11\",Table5ca[[#This Row],[Lookup Table Pt1]]=\"ESRefDesign_FenestrationAW_V12\"),OR(Table5ca[[#This Row],[Component Type]]=\"Operable\",Table5ca[[#This Row],[Additional Component Details]]=\"Operable\")),2,\n\nIF(AND(OR(Table5ca[[#This Row],[Lookup Table Pt1]]=\"ESRefDesign_Fenestration_V1\",Table5ca[[#This Row],[Lookup Table Pt1]]=\"ESRefDesign_Fenestration_V11\",Table5ca[[#This Row],[Lookup Table Pt1]]=\"ESRefDesign_Fenestration_V12\"),Table5ca[[#This Row],[Additional Component Details]]=\"Window\"),1,\nIF(AND(OR(Table5ca[[#This Row],[Lookup Table Pt1]]=\"ESRefDesign_Fenestration_V1\",Table5ca[[#This Row],[Lookup Table Pt1]]=\"ESRefDesign_Fenestration_V11\",Table5ca[[#This Row],[Lookup Table Pt1]]=\"ESRefDesign_Fenestration_V12\"),Table5ca[[#This Row],[Additional Component Details]]=\"Opaque Door\"),3,\nIF(AND(OR(Table5ca[[#This Row],[Lookup Table Pt1]]=\"ESRefDesign_Fenestration_V1\",Table5ca[[#This Row],[Lookup Table Pt1]]=\"ESRefDesign_Fenestration_V11\",Table5ca[[#This Row],[Lookup Table Pt1]]=\"ESRefDesign_Fenestration_V12\"),Table5ca[[#This Row],[Additional Component Details]]=\"≤½ lite Door\"),4,\nIF(AND(OR(Table5ca[[#This Row],[Lookup Table Pt1]]=\"ESRefDesign_Fenestration_V1\",Table5ca[[#This Row],[Lookup Table Pt1]]=\"ESRefDesign_Fenestration_V11\",Table5ca[[#This Row],[Lookup Table Pt1]]=\"ESRefDesign_Fenestration_V12\"),Table5ca[[#This Row],[Additional Component Details]]=\">½ lite Door\"),5,\n\n\n\"\"))))))))))))))))))))))))))))))","v":""},{"$f":"IF(AND($C$8=\"Version 1.2 OR+WA\",$C$6=\"Prescriptive\",Table5ca[[#This Row],[Building Component]]<>\"Fenestration\"),2,\n\nIF(AND($C$8=\"Version 1.2 OR+WA\",$C$6=\"Prescriptive\",$C$7=\"CZ 4 C\"),2,\nIF(AND($C$8=\"Version 1.2 OR+WA\",$C$6=\"Prescriptive\",$C$7=\"CZ 5\"),3,\nIF(AND($C$8=\"Version 1.2 OR+WA\",$C$6=\"Prescriptive\",$C$7=\"CZ 6\"),4,\n\nIF(AND($C$8=\"Version 1.2 OR+WA\",Table5ca[[#This Row],[Dwelling or Common?]]=\"Common\",OR($C$6=\"ERI\",$C$6=\"Title 24 - Dwelling Unit Models\"),$C$7=\"CZ 4 C\"),2,\nIF(AND($C$8=\"Version 1.2 OR+WA\",Table5ca[[#This Row],[Dwelling or Common?]]=\"Common\",OR($C$6=\"ERI\",$C$6=\"Title 24 - Dwelling Unit Models\"),$C$7=\"CZ 5\"),3,\nIF(AND($C$8=\"Version 1.2 OR+WA\",Table5ca[[#This Row],[Dwelling or Common?]]=\"Common\",OR($C$6=\"ERI\",$C$6=\"Title 24 - Dwelling Unit Models\"),$C$7=\"CZ 6\"),4,\n\nIF($C$7=\"CZ 1\",2,\nIF($C$7=\"CZ 2\",3,\nIF($C$7=\"CZ 3\",4,\nIF($C$7=\"CZ 4\",5,\nIF($C$7=\"CZ 4 C\",6,\nIF($C$7=\"CZ 5\",7,\nIF($C$7=\"CZ 6\",8,\nIF($C$7=\"CZ 7\",9,\nIF($C$7=\"CZ 8\",10,\"\"))))))))))))))))","v":5}]
[]
[]
[null,"Assembly De-rate & Total UA Compliance Verification"]
[]
[null,"Concrete Balconies?",null,null,null,null,null,null,null,null,null,null,null,"NOTES"]
[]
[null,null,"Yes","If in CZ 4-8, does building include projected balconies?",null,"Rater Field, Footnote 21: For projected balconies, install a minimum of R-5 slab edge insulation to provide a thermal break between conditioned space and the unconditioned projected balcony slab. Alternatively, a UA calculation for the wall assembly that accounts for this projected slab must be performed to demonstrate compliance with Item 1.2. For the purpose of this UA calculation, the area of the wall that is uninsulated due to the projected balcony is required to be calculated as 400% of that actual area. For example, for a projected balcony without any thermal break that is 20 feet wide, and has a thickness of 1 foot, the area to be used in the UA calculation is 80 ft2 instead of 20 ft2. For thermal breaks R-2 and greater, the area is not required to be modified. The distance the balcony projects from the building is not used in this calculation."]
[null,null,"No","If yes, are they insulated to R-5?"]
[null,null,"Yes","If no, are the insulated to R-2?"]
[null,null,20000,"Enter the total area of the Wall Assembly, including floor perimeter."]
[null,null,700,"Of the total area of 'wall' above, enter the area occupied by the balcony edge here."]
[null,null,{"$f":"IF(SUMIF(Table5ca[Building Component],\"Wall Assembly\",Table5ca[Area])=C37-C38,C37-C38,CONCATENATE(\"Update Wall Assembly to \",C37-C38))","v":19300},"Check that the sum of Wall Assembly areas in the Table above does not exceed value to the left and enter \"Balcony\" as a separate row."]
[null,null,{"$f":"$C$38*4","v":2800},{"$f":"IF(AND($C$35=\"No\",$C$36=\"No\"),\"Where balconies are not insulated to R-5, enter this modified area in Table above for “Balcony” to calculate building envelope Total UA. If used in multiple rows, distribute the area proportionally.\",\nIF(OR($C$35=\"Yes\",$C$36=\"Yes\"),\"The area is not required to be modified. Enter the total area of 'wall' occupied by the balcony edge in Table above for “Balcony” to calculate building envelope Total UA. If used in multiple rows, distribute the area proportionally.\",\"\"))","v":"The area is not required to be modified. Enter the total area of 'wall' occupied by the balcony edge in Table above for “Balcony” to calculate building envelope Total UA. If used in multiple rows, distribute the area proportionally."}]
[]
[null,"Continuous Insulation?",null,null,null,null,null,null,null,null,null,null,null,"NOTES"]
[]
[null,null,"Yes","Does building include continuous insulation?",null,"Rater Design, Footnote 24: Where the wall assembly includes continuous insulation that is interrupted by fasteners or service openings, an assembly U-factor must be calculated. For the interrupted portions, the continuous insulation cannot contribute to the assembly U-factor and an overall U-factor shall be calculated based on an area weighted ratio. Thermally broken shelf-angles are exempt from de-rating"]
[null,null,"Yes","If yes, is it interrupted by fasteners or service openings (ie. PTACs)?"]
[]
[]
[null,"Floor above Garage?",null,null,null,null,null,null,null,null,null,null,null,"NOTES"]
[]
[null,null,"Yes","Does building include floor above garage, where garage ceiling is insulated?",null,"Rater Field, Footnote 22: Whether insulating from above or below the slab, thermal breaks must be accounted for when determining compliance with floor U-factors. Where structural columns cause a discontinuity in the installed floor insulation, the UA calculation for the floor assembly must account for this uninsulated area of the floor. For the purpose of this UA calculation, the area of the floor that is uninsulated due to the structural columns is required to be calculated as 400% of that actual area. For example, for a 4’x4’ column, the area to be used in the UA calculation is 64 ft2 instead of 16 ft2. The height of the column is not used in this calculation. Alternatively, if the structural column is insulated for a minimum of 4 vertical feet, the modification to the UA calculation is not required, and the U-factor of the column insulation shall be associated with the uninsulated area of the floor due to the column"]
[null,null,"Yes","If yes, is it interrupted by support columns?"]
[null,null,"No","If yes, are support columns insulated at least 4ft vertically per Rater Field footnote 22?"]
[null,null,20000,"Enter the total area for \"Floor Above Garage\"."]
[null,null,700,"Of the total area of 'Floor' above, enter the area occupied by the columns here."]
[null,null,{"$f":"IF(SUMIF(Table5ca[Building Component],\"Floor Above Garage\",Table5ca[Area])=C53-C54,C53-C54,CONCATENATE(\"Update Total Floor Above Garage to \",C53-C54))","v":19300},"Check that the sum of \"Floor Above Garage\" areas in the Table above does not exceed value to the left and enter \"Floor Above Garage Columnns\" as a separate row."]
[null,null,{"$f":"$C$54*4","v":2800},"Where support columns are not insulated at least 4ft vertically, enter this modified area in Table above for “Floors above Garage Columns” to calculate building envelope Total UA. If used in multiple rows, distribute the area proportionally."]

{"sheet":"6. Fenestration","index":16,"n_rows":57,"n_cols":24,"rows_kept":57,"cut":false,"hidden":false,"merged":[[45,2,45,6],[20,10,20,13],[21,10,21,13],[22,10,22,13],[33,10,33,13],[34,10,34,13],[35,10,35,13],[45,7,45,10],[45,11,45,16],[9,23,10,25],[21,23,22,25],[32,23,33,25],[44,1,44,19],[20,4,20,5],[33,4,33,5],[42,4,42,5],[42,10,42,13],[43,10,43,13],[9,10,9,13],[10,10,10,13],[56,1,56,19],[49,1,49,15],[50,1,50,15],[46,2,46,6],[47,2,47,6],[48,2,48,6],[53,1,53,19],[54,1,54,19],[55,1,55,19],[46,7,46,10],[47,7,47,10],[48,7,48,10],[46,11,46,16],[47,11,47,16],[48,11,48,16],[0,10,0,13],[2,10,2,13],[3,10,3,13],[4,10,4,13],[5,10,5,13],[1,2,1,20],[5,1,5,2],[6,4,6,8],[7,4,7,6],[8,4,8,6],[6,10,6,14],[7,10,8,14]]}
[]
[null,"Instructions: ","Using Tables: Providing data in yellow cells on this tab prior to the Proposed Design submittal is optional, but recommended. \n\nPrior to As-Built submittal, complete all yellow cells based on installed fenestration. If Prescriptive Path or utilizing weighted average for U-factor compliance, complete Qty & Area for each window.\n\nPrinting: Optimized for Landscape view."]
[]
[]
[null,"Fenestration Verification"]
[null,"Select ENERGY STAR:"]
[null,"Pathway",{"$f":"IF('Project Information'!$C$8=\"\",\"Complete Project Information Tab\",'Project Information'!$C$8)","v":"Prescriptive"},null,"Prescriptive Path only",null,null,null,null,null,"Total UA Meets ENERGY STAR Requirements?"]
[null,"Climate Zone",{"$f":"IF('Project Information'!$F$10=\"\",\"Complete Project Information Tab\",'Project Information'!$F$10)","v":"CZ 4"},null,"Wall Area",null,null,"Window Area","Window-to-Wall Ratio",null,{"$f":"IF((SUM(Table6a[Total UA])+SUM(Table6b[Total UA])+SUM(Table6c[Total UA]))<=(SUM(Table6a[ENERGY STAR Requirement UA])+SUM(Table6b[ENERGY STAR Requirement UA])+SUM(Table6c[ENERGY STAR Requirement UA])),\"PASS\",\n\nIF((SUM(Table6a[Total UA])+SUM(Table6b[Total UA])+SUM(Table6c[Total UA]))>(SUM(Table6a[ENERGY STAR Requirement UA])+SUM(Table6b[ENERGY STAR Requirement UA])+SUM(Table6c[ENERGY STAR Requirement UA])),\"FAIL\",\n\n\"COMPLETE TABLES BELOW\"))","v":"FAIL"}]
[null,"Version",{"$f":"IF('Project Information'!$F$8=\"\",\"Complete Project Information Tab\",'Project Information'!$F$8)","v":"Version 1"},null,10536,null,null,{"$f":"IF(SUM(Table6a[Total Area],Table6b[Total Area],Table6c[Total Area])=0,\"\",SUM(Table6a[Total Area],Table6b[Total Area],Table6c[Total Area]))","v":7627},{"$f":"IF($E$9=\"\",\"\",$H$9/$E$9)","v":0.72389901290812453}]
[null,null,null,null,null,null,null,null,null,null,null,null,null,null,null,null,null,null,null,null,null,null,null,"NOTES"]
[null,"Windows - Dwelling Units"]
[null,"ID","WINDOW TYPE","Fixed or Operable?\n(Prescriptive & Class AW Only)","Qty","Area","Total Area","Window Frame\n(ERI/ASHRAE & Class AW only)","ENERGY STAR Requirement\nU-FACTOR","ENERGY STAR Requirement UA","ENERGY STAR Requirement\nSHGC","WF_UI","WF_SHGCI","CZ_I","PROJECTION FACTOR (PF)\n(ERI/ASHRAE & Class AW only)","ASSEMBLY\nU-FACTOR","Total UA","SHGC ","LOCATION\n(dwg/spec)","PLAN REVIEW","INSPECTION?","INSPECTION COMMENTS"]
[null,"A","Class AW","Fixed",15,25,{"$f":"IF(Table6a[[#This Row],[Qty]]=\"\",\"\",Table6a[[#This Row],[Qty]]*Table6a[[#This Row],[Area]])","v":375},"Non-Metal",{"$f":"IFERROR(IF(AND($C$9=\"Version 1.2 OR+WA\",OR($C$8=\"CZ 1\",$C$8=\"CZ 2\",$C$8=\"CZ 3\",$C$8=\"CZ 4\",$C$8=\"CZ 7\",$C$8=\"CZ 8\")),\"N/A - Update CZ\",\n\nIF(AND(OR($C$7=\"ERI\",$C$7=\"ASHRAE\",$C$7=\"Title 24 - Dwelling Unit Models\",$C$7=\"Title 24 - Whole Building Models\"),Table6a[[#This Row],[WINDOW TYPE]]=\"Class AW\"),INDEX(IECC2009_Fenestration_AW_Windows[#All],Table6a[[#This Row],[WF_UI]],Table6a[[#This Row],[CZ_I]]),\nIF(AND(OR($C$7=\"ERI\",$C$7=\"ASHRAE\",$C$7=\"Title 24 - Dwelling Unit Models\",$C$7=\"Title 24 - Whole Building Models\"),Table6a[[#This Row],[WINDOW TYPE]]=\"Not Class AW\"),INDEX(IECC2009_Fenestration_NotAW_Windows[#All],Table6a[[#This Row],[WF_UI]],Table6a[[#This Row],[CZ_I]]),\n\nIF(AND($C$7=\"Prescriptive\",Table6a[[#This Row],[WINDOW TYPE]]=\"Class AW\",$C$9=\"Version 1\"),INDEX(ESRefDesign_FenestrationAW_V1[#All],Table6a[[#This Row],[WF_UI]],Table6a[[#This Row],[CZ_I]]),\nIF(AND($C$7=\"Prescriptive\",Table6a[[#This Row],[WINDOW TYPE]]=\"Not Class AW\",$C$9=\"Version 1\"),INDEX(ESRefDesign_Fenestration_V1[#All],Table6a[[#This Row],[WF_UI]],Table6a[[#This Row],[CZ_I]]),\n\nIF(AND($C$7=\"Prescriptive\",Table6a[[#This Row],[WINDOW TYPE]]=\"Class AW\",$C$9=\"Version 1.1\"),INDEX(ESRefDesign_FenestrationAW_V11[#All],Table6a[[#This Row],[WF_UI]],Table6a[[#This Row],[CZ_I]]),\nIF(AND($C$7=\"Prescriptive\",Table6a[[#This Row],[WINDOW TYPE]]=\"Not Class AW\",$C$9=\"Version 1.1\"),INDEX(ESRefDesign_Fenestration_V11[#All],Table6a[[#This Row],[WF_UI]],Table6a[[#This Row],[CZ_I]]),\n\nIF(AND($C$7=\"Prescriptive\",Table6a[[#This Row],[WINDOW TYPE]]=\"Class AW\",$C$9=\"Version 1.2 OR+WA\"),INDEX(ESRefDesign_FenestrationAW_V12[#All],Table6a[[#This Row],[WF_UI]],Table6a[[#This Row],[CZ_I]]),\nIF(AND($C$7=\"Prescriptive\",Table6a[[#This Row],[WINDOW TYPE]]=\"Not Class AW\",$C$9=\"Version 1.2 OR+WA\"),INDEX(ESRefDesign_Fenestration_V12[#All],Table6a[[#This Row],[WF_UI]],Table6a[[#This Row],[CZ_I]]),\n\n\"\"))))))))),\"\")","v":"U-0.38"},{"$f":"IF(Table6a[[#This Row],[Total Area]]=\"\",\"\",Table6a[[#This Row],[Total Area]]*(RIGHT(Table6a[[#This Row],[ENERGY STAR Requirement\nU-FACTOR]],LEN(Table6a[[#This Row],[ENERGY STAR Requirement\nU-FACTOR]])-2)))","v":142.5},{"$f":"IFERROR(IF(AND(Table6a[[#This Row],[PROJECTION FACTOR (PF)\n(ERI/ASHRAE & Class AW only)]]=\"\",OR($C$7=\"ERI\",$C$7=\"ASHRAE\",$C$7=\"Title 24 - Dwelling Unit Models\",$C$7=\"Title 24 - Whole Building Models\"),Table6a[[#This Row],[WINDOW TYPE]]=\"Class AW\"),\"Enter PF\",\n\nIF(AND($C$9=\"Version 1.2 OR+WA\",OR($C$8=\"CZ 1\",$C$8=\"CZ 2\",$C$8=\"CZ 3\",$C$8=\"CZ 4\",$C$8=\"CZ 7\",$C$8=\"CZ 8\")),\"N/A - Update CZ\",\n\nIF(AND(OR($C$7=\"ERI\",$C$7=\"ASHRAE\",$C$7=\"Title 24 - Dwelling Unit Models\",$C$7=\"Title 24 - Whole Building Models\"),Table6a[[#This Row],[WINDOW TYPE]]=\"Class AW\"),INDEX(IECC2009_Fenestration_AW_Windows[#All],Table6a[[#This Row],[WF_SHGCI]],Table6a[[#This Row],[CZ_I]]),\nIF(AND(OR($C$7=\"ERI\",$C$7=\"ASHRAE\",$C$7=\"Title 24 - Dwelling Unit Models\",$C$7=\"Title 24 - Whole Building Models\"),Table6a[[#This Row],[WINDOW TYPE]]=\"Not Class AW\"),INDEX(IECC2009_Fenestration_NotAW_Windows[#All],Table6a[[#This Row],[WF_SHGCI]],Table6a[[#This Row],[CZ_I]]),\n\nIF(AND($C$7=\"Prescriptive\",Table6a[[#This Row],[WINDOW TYPE]]=\"Class AW\",$C$9=\"Version 1\"),INDEX(ESRefDesign_FenestrationAW_V1[#All],Table6a[[#This Row],[WF_SHGCI]],Table6a[[#This Row],[CZ_I]]),\nIF(AND($C$7=\"Prescriptive\",Table6a[[#This Row],[WINDOW TYPE]]=\"Not Class AW\",$C$9=\"Version 1\"),INDEX(ESRefDesign_Fenestration_V1[#All],Table6a[[#This Row],[WF_SHGCI]],Table6a[[#This Row],[CZ_I]]),\n\nIF(AND($C$7=\"Prescriptive\",Table6a[[#This Row],[WINDOW TYPE]]=\"Class AW\",$C$9=\"Version 1.1\"),INDEX(ESRefDesign_FenestrationAW_V11[#All],Table6a[[#This Row],[WF_SHGCI]],Table6a[[#This Row],[CZ_I]]),\nIF(AND($C$7=\"Prescriptive\",Table6a[[#This Row],[WINDOW TYPE]]=\"Not Class AW\",$C$9=\"Version 1.1\"),INDEX(ESRefDesign_Fenestration_V11[#All],Table6a[[#This Row],[WF_SHGCI]],Table6a[[#This Row],[CZ_I]]),\n\nIF(AND($C$7=\"Prescriptive\",Table6a[[#This Row],[WINDOW TYPE]]=\"Class AW\",$C$9=\"Version 1.2 OR+WA\"),INDEX(ESRefDesign_FenestrationAW_V12[#All],Table6a[[#This Row],[WF_SHGCI]],Table6a[[#This Row],[CZ_I]]),\nIF(AND($C$7=\"Prescriptive\",Table6a[[#This Row],[WINDOW TYPE]]=\"Not Class AW\",$C$9=\"Version 1.2 OR+WA\"),INDEX(ESRefDesign_Fenestration_V12[#All],Table6a[[#This Row],[WF_SHGCI]],Table6a[[#This Row],[CZ_I]]),\n\"\")))))))))),\"\")","v":0.4},{"$f":"IF(Table6a[[#This Row],[WINDOW TYPE]]=\"Not Class AW\",2,\n\nIF(AND($C$7=\"Prescriptive\",Table6a[[#This Row],[Fixed or Operable?\n(Prescriptive & Class AW Only)]]=\"Fixed\"),2,\nIF(AND($C$7=\"Prescriptive\",Table6a[[#This Row],[Fixed or Operable?\n(Prescriptive & Class AW Only)]]=\"Operable\"),3,\n\nIF(Table6a[[#This Row],[Window Frame\n(ERI/ASHRAE & Class AW only)]]=\"Non-Metal\",2,\nIF(Table6a[[#This Row],[Window Frame\n(ERI/ASHRAE & Class AW only)]]=\"Metal - Curtainwall/storefront\",3,\nIF(Table6a[[#This Row],[Window Frame\n(ERI/ASHRAE & Class AW only)]]=\"Metal - Entrance door\",4,\nIF(Table6a[[#This Row],[Window Frame\n(ERI/ASHRAE & Class AW only)]]=\"Metal - Other\",5,\n\n\"\")))))))","v":2},{"$f":"IF(AND(Table6a[[#This Row],[WINDOW TYPE]]=\"Not Class AW\",$C$7=\"Prescriptive\"),3,\nIF(Table6a[[#This Row],[WINDOW TYPE]]=\"Not Class AW\",4,\n\nIF(AND(OR($C$7=\"ASHRAE\",$C$7=\"Title 24 - Whole Building Models\",$C$7=\"ERI\",$C$7=\"Title 24 - Dwelling Unit Models\"),$O13=\"< 0.25\"),7,\nIF(AND(OR($C$7=\"ASHRAE\",$C$7=\"Title 24 - Whole Building Models\",$C$7=\"ERI\",$C$7=\"Title 24 - Dwelling Unit Models\"),$O13=\"0.25 < PF < 0.5\"),8,\nIF(AND(OR($C$7=\"ASHRAE\",$C$7=\"Title 24 - Whole Building Models\",$C$7=\"ERI\",$C$7=\"Title 24 - Dwelling Unit Models\"),$O13=\">= 0.5\"),9,\n\nIF(AND(Table6a[[#This Row],[WINDOW TYPE]]=\"Class AW\",$C$7=\"Prescriptive\"),4,\n\nIF(Table6a[[#This Row],[WINDOW TYPE]]=\"Class AW\",6,\n\n\"\")))))))","v":4},{"$f":"IF(AND($C$9=\"Version 1.2 OR+WA\",$C$7=\"Prescriptive\",$C$8=\"CZ 4 C\"),2,\nIF(AND($C$9=\"Version 1.2 OR+WA\",$C$7=\"Prescriptive\",$C$8=\"CZ 5\"),3,\nIF(AND($C$9=\"Version 1.2 OR+WA\",$C$7=\"Prescriptive\",$C$8=\"CZ 6\"),4,\n\nIF($C$8=\"CZ 1\",2,\nIF($C$8=\"CZ 2\",3,\nIF($C$8=\"CZ 3\",4,\nIF($C$8=\"CZ 4\",5,\nIF($C$8=\"CZ 4 C\",6,\nIF($C$8=\"CZ 5\",7,\nIF($C$8=\"CZ 6\",8,\nIF($C$8=\"CZ 7\",9,\nIF($C$8=\"CZ 8\",10,\"\"))))))))))))","v":5},"< 0.25",0.6,{"$f":"IF(Table6a[[#This Row],[Total Area]]=\"\",\"\",IFERROR(Table6a[[#This Row],[Total Area]]*Table6a[[#This Row],[ASSEMBLY\nU-FACTOR]],Table6a[[#This Row],[Total Area]]*(RIGHT(Table6a[[#This Row],[ASSEMBLY\nU-FACTOR]],LEN(Table6a[[#This Row],[ASSEMBLY\nU-FACTOR]])-2))))","v":225},0.3,"A-29","Yes","Yes"]
[null,"B","Class AW","Fixed",56,15,{"$f":"IF(Table6a[[#This Row],[Qty]]=\"\",\"\",Table6a[[#This Row],[Qty]]*Table6a[[#This Row],[Area]])","v":840},"Metal - Curtainwall/storefront",{"$f":"IFERROR(IF(AND($C$9=\"Version 1.2 OR+WA\",OR($C$8=\"CZ 1\",$C$8=\"CZ 2\",$C$8=\"CZ 3\",$C$8=\"CZ 4\",$C$8=\"CZ 7\",$C$8=\"CZ 8\")),\"N/A - Update CZ\",\n\nIF(AND(OR($C$7=\"ERI\",$C$7=\"ASHRAE\",$C$7=\"Title 24 - Dwelling Unit Models\",$C$7=\"Title 24 - Whole Building Models\"),Table6a[[#This Row],[WINDOW TYPE]]=\"Class AW\"),INDEX(IECC2009_Fenestration_AW_Windows[#All],Table6a[[#This Row],[WF_UI]],Table6a[[#This Row],[CZ_I]]),\nIF(AND(OR($C$7=\"ERI\",$C$7=\"ASHRAE\",$C$7=\"Title 24 - Dwelling Unit Models\",$C$7=\"Title 24 - Whole Building Models\"),Table6a[[#This Row],[WINDOW TYPE]]=\"Not Class AW\"),INDEX(IECC2009_Fenestration_NotAW_Windows[#All],Table6a[[#This Row],[WF_UI]],Table6a[[#This Row],[CZ_I]]),\n\nIF(AND($C$7=\"Prescriptive\",Table6a[[#This Row],[WINDOW TYPE]]=\"Class AW\",$C$9=\"Version 1\"),INDEX(ESRefDesign_FenestrationAW_V1[#All],Table6a[[#This Row],[WF_UI]],Table6a[[#This Row],[CZ_I]]),\nIF(AND($C$7=\"Prescriptive\",Table6a[[#This Row],[WINDOW TYPE]]=\"Not Class AW\",$C$9=\"Version 1\"),INDEX(ESRefDesign_Fenestration_V1[#All],Table6a[[#This Row],[WF_UI]],Table6a[[#This Row],[CZ_I]]),\n\nIF(AND($C$7=\"Prescriptive\",Table6a[[#This Row],[WINDOW TYPE]]=\"Class AW\",$C$9=\"Version 1.1\"),INDEX(ESRefDesign_FenestrationAW_V11[#All],Table6a[[#This Row],[WF_UI]],Table6a[[#This Row],[CZ_I]]),\nIF(AND($C$7=\"Prescriptive\",Table6a[[#This Row],[WINDOW TYPE]]=\"Not Class AW\",$C$9=\"Version 1.1\"),INDEX(ESRefDesign_Fenestration_V11[#All],Table6a[[#This Row],[WF_UI]],Table6a[[#This Row],[CZ_I]]),\n\nIF(AND($C$7=\"Prescriptive\",Table6a[[#This Row],[WINDOW TYPE]]=\"Class AW\",$C$9=\"Version 1.2 OR+WA\"),INDEX(ESRefDesign_FenestrationAW_V12[#All],Table6a[[#This Row],[WF_UI]],Table6a[[#This Row],[CZ_I]]),\nIF(AND($C$7=\"Prescriptive\",Table6a[[#This Row],[WINDOW TYPE]]=\"Not Class AW\",$C$9=\"Version 1.2 OR+WA\"),INDEX(ESRefDesign_Fenestration_V12[#All],Table6a[[#This Row],[WF_UI]],Table6a[[#This Row],[CZ_I]]),\n\n\"\"))))))))),\"\")","v":"U-0.38"},{"$f":"IF(Table6a[[#This Row],[Total Area]]=\"\",\"\",Table6a[[#This Row],[Total Area]]*(RIGHT(Table6a[[#This Row],[ENERGY STAR Requirement\nU-FACTOR]],LEN(Table6a[[#This Row],[ENERGY STAR Requirement\nU-FACTOR]])-2)))","v":319.2},{"$f":"IFERROR(IF(AND(Table6a[[#This Row],[PROJECTION FACTOR (PF)\n(ERI/ASHRAE & Class AW only)]]=\"\",OR($C$7=\"ERI\",$C$7=\"ASHRAE\",$C$7=\"Title 24 - Dwelling Unit Models\",$C$7=\"Title 24 - Whole Building Models\"),Table6a[[#This Row],[WINDOW TYPE]]=\"Class AW\"),\"Enter PF\",\n\nIF(AND($C$9=\"Version 1.2 OR+WA\",OR($C$8=\"CZ 1\",$C$8=\"CZ 2\",$C$8=\"CZ 3\",$C$8=\"CZ 4\",$C$8=\"CZ 7\",$C$8=\"CZ 8\")),\"N/A - Update CZ\",\n\nIF(AND(OR($C$7=\"ERI\",$C$7=\"ASHRAE\",$C$7=\"Title 24 - Dwelling Unit Models\",$C$7=\"Title 24 - Whole Building Models\"),Table6a[[#This Row],[WINDOW TYPE]]=\"Class AW\"),INDEX(IECC2009_Fenestration_AW_Windows[#All],Table6a[[#This Row],[WF_SHGCI]],Table6a[[#This Row],[CZ_I]]),\nIF(AND(OR($C$7=\"ERI\",$C$7=\"ASHRAE\",$C$7=\"Title 24 - Dwelling Unit Models\",$C$7=\"Title 24 - Whole Building Models\"),Table6a[[#This Row],[WINDOW TYPE]]=\"Not Class AW\"),INDEX(IECC2009_Fenestration_NotAW_Windows[#All],Table6a[[#This Row],[WF_SHGCI]],Table6a[[#This Row],[CZ_I]]),\n\nIF(AND($C$7=\"Prescriptive\",Table6a[[#This Row],[WINDOW TYPE]]=\"Class AW\",$C$9=\"Version 1\"),INDEX(ESRefDesign_FenestrationAW_V1[#All],Table6a[[#This Row],[WF_SHGCI]],Table6a[[#This Row],[CZ_I]]),\nIF(AND($C$7=\"Prescriptive\",Table6a[[#This Row],[WINDOW TYPE]]=\"Not Class AW\",$C$9=\"Version 1\"),INDEX(ESRefDesign_Fenestration_V1[#All],Table6a[[#This Row],[WF_SHGCI]],Table6a[[#This Row],[CZ_I]]),\n\nIF(AND($C$7=\"Prescriptive\",Table6a[[#This Row],[WINDOW TYPE]]=\"Class AW\",$C$9=\"Version 1.1\"),INDEX(ESRefDesign_FenestrationAW_V11[#All],Table6a[[#This Row],[WF_SHGCI]],Table6a[[#This Row],[CZ_I]]),\nIF(AND($C$7=\"Prescriptive\",Table6a[[#This Row],[WINDOW TYPE]]=\"Not Class AW\",$C$9=\"Version 1.1\"),INDEX(ESRefDesign_Fenestration_V11[#All],Table6a[[#This Row],[WF_SHGCI]],Table6a[[#This Row],[CZ_I]]),\n\nIF(AND($C$7=\"Prescriptive\",Table6a[[#This Row],[WINDOW TYPE]]=\"Class AW\",$C$9=\"Version 1.2 OR+WA\"),INDEX(ESRefDesign_FenestrationAW_V12[#All],Table6a[[#This Row],[WF_SHGCI]],Table6a[[#This Row],[CZ_I]]),\nIF(AND($C$7=\"Prescriptive\",Table6a[[#This Row],[WINDOW TYPE]]=\"Not Class AW\",$C$9=\"Version 1.2 OR+WA\"),INDEX(ESRefDesign_Fenestration_V12[#All],Table6a[[#This Row],[WF_SHGCI]],Table6a[[#This Row],[CZ_I]]),\n\"\")))))))))),\"\")","v":0.4},{"$f":"IF(Table6a[[#This Row],[WINDOW TYPE]]=\"Not Class AW\",2,\n\nIF(AND($C$7=\"Prescriptive\",Table6a[[#This Row],[Fixed or Operable?\n(Prescriptive & Class AW Only)]]=\"Fixed\"),2,\nIF(AND($C$7=\"Prescriptive\",Table6a[[#This Row],[Fixed or Operable?\n(Prescriptive & Class AW Only)]]=\"Operable\"),3,\n\nIF(Table6a[[#This Row],[Window Frame\n(ERI/ASHRAE & Class AW only)]]=\"Non-Metal\",2,\nIF(Table6a[[#This Row],[Window Frame\n(ERI/ASHRAE & Class AW only)]]=\"Metal - Curtainwall/storefront\",3,\nIF(Table6a[[#This Row],[Window Frame\n(ERI/ASHRAE & Class AW only)]]=\"Metal - Entrance door\",4,\nIF(Table6a[[#This Row],[Window Frame\n(ERI/ASHRAE & Class AW only)]]=\"Metal - Other\",5,\n\n\"\")))))))","v":2},{"$f":"IF(AND(Table6a[[#This Row],[WINDOW TYPE]]=\"Not Class AW\",$C$7=\"Prescriptive\"),3,\nIF(Table6a[[#This Row],[WINDOW TYPE]]=\"Not Class AW\",4,\n\nIF(AND(OR($C$7=\"ASHRAE\",$C$7=\"Title 24 - Whole Building Models\",$C$7=\"ERI\",$C$7=\"Title 24 - Dwelling Unit Models\"),$O14=\"< 0.25\"),7,\nIF(AND(OR($C$7=\"ASHRAE\",$C$7=\"Title 24 - Whole Building Models\",$C$7=\"ERI\",$C$7=\"Title 24 - Dwelling Unit Models\"),$O14=\"0.25 < PF < 0.5\"),8,\nIF(AND(OR($C$7=\"ASHRAE\",$C$7=\"Title 24 - Whole Building Models\",$C$7=\"ERI\",$C$7=\"Title 24 - Dwelling Unit Models\"),$O14=\">= 0.5\"),9,\n\nIF(AND(Table6a[[#This Row],[WINDOW TYPE]]=\"Class AW\",$C$7=\"Prescriptive\"),4,\n\nIF(Table6a[[#This Row],[WINDOW TYPE]]=\"Class AW\",6,\n\n\"\")))))))","v":4},{"$f":"IF(AND($C$9=\"Version 1.2 OR+WA\",$C$7=\"Prescriptive\",$C$8=\"CZ 4 C\"),2,\nIF(AND($C$9=\"Version 1.2 OR+WA\",$C$7=\"Prescriptive\",$C$8=\"CZ 5\"),3,\nIF(AND($C$9=\"Version 1.2 OR+WA\",$C$7=\"Prescriptive\",$C$8=\"CZ 6\"),4,\n\nIF($C$8=\"CZ 1\",2,\nIF($C$8=\"CZ 2\",3,\nIF($C$8=\"CZ 3\",4,\nIF($C$8=\"CZ 4\",5,\nIF($C$8=\"CZ 4 C\",6,\nIF($C$8=\"CZ 5\",7,\nIF($C$8=\"CZ 6\",8,\nIF($C$8=\"CZ 7\",9,\nIF($C$8=\"CZ 8\",10,\"\"))))))))))))","v":5},"0.25 < PF < 0.5",0.62,{"$f":"IF(Table6a[[#This Row],[Total Area]]=\"\",\"\",IFERROR(Table6a[[#This Row],[Total Area]]*Table6a[[#This Row],[ASSEMBLY\nU-FACTOR]],Table6a[[#This Row],[Total Area]]*(RIGHT(Table6a[[#This Row],[ASSEMBLY\nU-FACTOR]],LEN(Table6a[[#This Row],[ASSEMBLY\nU-FACTOR]])-2))))","v":520.79999999999995},0.25,"A-30","Yes","Yes"]
[null,"B1a","Not Class AW","Operable",21,21,{"$f":"IF(Table6a[[#This Row],[Qty]]=\"\",\"\",Table6a[[#This Row],[Qty]]*Table6a[[#This Row],[Area]])","v":441},null,{"$f":"IFERROR(IF(AND($C$9=\"Version 1.2 OR+WA\",OR($C$8=\"CZ 1\",$C$8=\"CZ 2\",$C$8=\"CZ 3\",$C$8=\"CZ 4\",$C$8=\"CZ 7\",$C$8=\"CZ 8\")),\"N/A - Update CZ\",\n\nIF(AND(OR($C$7=\"ERI\",$C$7=\"ASHRAE\",$C$7=\"Title 24 - Dwelling Unit Models\",$C$7=\"Title 24 - Whole Building Models\"),Table6a[[#This Row],[WINDOW TYPE]]=\"Class AW\"),INDEX(IECC2009_Fenestration_AW_Windows[#All],Table6a[[#This Row],[WF_UI]],Table6a[[#This Row],[CZ_I]]),\nIF(AND(OR($C$7=\"ERI\",$C$7=\"ASHRAE\",$C$7=\"Title 24 - Dwelling Unit Models\",$C$7=\"Title 24 - Whole Building Models\"),Table6a[[#This Row],[WINDOW TYPE]]=\"Not Class AW\"),INDEX(IECC2009_Fenestration_NotAW_Windows[#All],Table6a[[#This Row],[WF_UI]],Table6a[[#This Row],[CZ_I]]),\n\nIF(AND($C$7=\"Prescriptive\",Table6a[[#This Row],[WINDOW TYPE]]=\"Class AW\",$C$9=\"Version 1\"),INDEX(ESRefDesign_FenestrationAW_V1[#All],Table6a[[#This Row],[WF_UI]],Table6a[[#This Row],[CZ_I]]),\nIF(AND($C$7=\"Prescriptive\",Table6a[[#This Row],[WINDOW TYPE]]=\"Not Class AW\",$C$9=\"Version 1\"),INDEX(ESRefDesign_Fenestration_V1[#All],Table6a[[#This Row],[WF_UI]],Table6a[[#This Row],[CZ_I]]),\n\nIF(AND($C$7=\"Prescriptive\",Table6a[[#This Row],[WINDOW TYPE]]=\"Class AW\",$C$9=\"Version 1.1\"),INDEX(ESRefDesign_FenestrationAW_V11[#All],Table6a[[#This Row],[WF_UI]],Table6a[[#This Row],[CZ_I]]),\nIF(AND($C$7=\"Prescriptive\",Table6a[[#This Row],[WINDOW TYPE]]=\"Not Class AW\",$C$9=\"Version 1.1\"),INDEX(ESRefDesign_Fenestration_V11[#All],Table6a[[#This Row],[WF_UI]],Table6a[[#This Row],[CZ_I]]),\n\nIF(AND($C$7=\"Prescriptive\",Table6a[[#This Row],[WINDOW TYPE]]=\"Class AW\",$C$9=\"Version 1.2 OR+WA\"),INDEX(ESRefDesign_FenestrationAW_V12[#All],Table6a[[#This Row],[WF_UI]],Table6a[[#This Row],[CZ_I]]),\nIF(AND($C$7=\"Prescriptive\",Table6a[[#This Row],[WINDOW TYPE]]=\"Not Class AW\",$C$9=\"Version 1.2 OR+WA\"),INDEX(ESRefDesign_Fenestration_V12[#All],Table6a[[#This Row],[WF_UI]],Table6a[[#This Row],[CZ_I]]),\n\n\"\"))))))))),\"\")","v":"U-0.32"},{"$f":"IF(Table6a[[#This Row],[Total Area]]=\"\",\"\",Table6a[[#This Row],[Total Area]]*(RIGHT(Table6a[[#This Row],[ENERGY STAR Requirement\nU-FACTOR]],LEN(Table6a[[#This Row],[ENERGY STAR Requirement\nU-FACTOR]])-2)))","v":141.12},{"$f":"IFERROR(IF(AND(Table6a[[#This Row],[PROJECTION FACTOR (PF)\n(ERI/ASHRAE & Class AW only)]]=\"\",OR($C$7=\"ERI\",$C$7=\"ASHRAE\",$C$7=\"Title 24 - Dwelling Unit Models\",$C$7=\"Title 24 - Whole Building Models\"),Table6a[[#This Row],[WINDOW TYPE]]=\"Class AW\"),\"Enter PF\",\n\nIF(AND($C$9=\"Version 1.2 OR+WA\",OR($C$8=\"CZ 1\",$C$8=\"CZ 2\",$C$8=\"CZ 3\",$C$8=\"CZ 4\",$C$8=\"CZ 7\",$C$8=\"CZ 8\")),\"N/A - Update CZ\",\n\nIF(AND(OR($C$7=\"ERI\",$C$7=\"ASHRAE\",$C$7=\"Title 24 - Dwelling Unit Models\",$C$7=\"Title 24 - Whole Building Models\"),Table6a[[#This Row],[WINDOW TYPE]]=\"Class AW\"),INDEX(IECC2009_Fenestration_AW_Windows[#All],Table6a[[#This Row],[WF_SHGCI]],Table6a[[#This Row],[CZ_I]]),\nIF(AND(OR($C$7=\"ERI\",$C$7=\"ASHRAE\",$C$7=\"Title 24 - Dwelling Unit Models\",$C$7=\"Title 24 - Whole Building Models\"),Table6a[[#This Row],[WINDOW TYPE]]=\"Not Class AW\"),INDEX(IECC2009_Fenestration_NotAW_Windows[#All],Table6a[[#This Row],[WF_SHGCI]],Table6a[[#This Row],[CZ_I]]),\n\nIF(AND($C$7=\"Prescriptive\",Table6a[[#This Row],[WINDOW TYPE]]=\"Class AW\",$C$9=\"Version 1\"),INDEX(ESRefDesign_FenestrationAW_V1[#All],Table6a[[#This Row],[WF_SHGCI]],Table6a[[#This Row],[CZ_I]]),\nIF(AND($C$7=\"Prescriptive\",Table6a[[#This Row],[WINDOW TYPE]]=\"Not Class AW\",$C$9=\"Version 1\"),INDEX(ESRefDesign_Fenestration_V1[#All],Table6a[[#This Row],[WF_SHGCI]],Table6a[[#This Row],[CZ_I]]),\n\nIF(AND($C$7=\"Prescriptive\",Table6a[[#This Row],[WINDOW TYPE]]=\"Class AW\",$C$9=\"Version 1.1\"),INDEX(ESRefDesign_FenestrationAW_V11[#All],Table6a[[#This Row],[WF_SHGCI]],Table6a[[#This Row],[CZ_I]]),\nIF(AND($C$7=\"Prescriptive\",Table6a[[#This Row],[WINDOW TYPE]]=\"Not Class AW\",$C$9=\"Version 1.1\"),INDEX(ESRefDesign_Fenestration_V11[#All],Table6a[[#This Row],[WF_SHGCI]],Table6a[[#This Row],[CZ_I]]),\n\nIF(AND($C$7=\"Prescriptive\",Table6a[[#This Row],[WINDOW TYPE]]=\"Class AW\",$C$9=\"Version 1.2 OR+WA\"),INDEX(ESRefDesign_FenestrationAW_V12[#All],Table6a[[#This Row],[WF_SHGCI]],Table6a[[#This Row],[CZ_I]]),\nIF(AND($C$7=\"Prescriptive\",Table6a[[#This Row],[WINDOW TYPE]]=\"Not Class AW\",$C$9=\"Version 1.2 OR+WA\"),INDEX(ESRefDesign_Fenestration_V12[#All],Table6a[[#This Row],[WF_SHGCI]],Table6a[[#This Row],[CZ_I]]),\n\"\")))))))))),\"\")","v":0.4},{"$f":"IF(Table6a[[#This Row],[WINDOW TYPE]]=\"Not Class AW\",2,\n\nIF(AND($C$7=\"Prescriptive\",Table6a[[#This Row],[Fixed or Operable?\n(Prescriptive & Class AW Only)]]=\"Fixed\"),2,\nIF(AND($C$7=\"Prescriptive\",Table6a[[#This Row],[Fixed or Operable?\n(Prescriptive & Class AW Only)]]=\"Operable\"),3,\n\nIF(Table6a[[#This Row],[Window Frame\n(ERI/ASHRAE & Class AW only)]]=\"Non-Metal\",2,\nIF(Table6a[[#This Row],[Window Frame\n(ERI/ASHRAE & Class AW only)]]=\"Metal - Curtainwall/storefront\",3,\nIF(Table6a[[#This Row],[Window Frame\n(ERI/ASHRAE & Class AW only)]]=\"Metal - Entrance door\",4,\nIF(Table6a[[#This Row],[Window Frame\n(ERI/ASHRAE & Class AW only)]]=\"Metal - Other\",5,\n\n\"\")))))))","v":2},{"$f":"IF(AND(Table6a[[#This Row],[WINDOW TYPE]]=\"Not Class AW\",$C$7=\"Prescriptive\"),3,\nIF(Table6a[[#This Row],[WINDOW TYPE]]=\"Not Class AW\",4,\n\nIF(AND(OR($C$7=\"ASHRAE\",$C$7=\"Title 24 - Whole Building Models\",$C$7=\"ERI\",$C$7=\"Title 24 - Dwelling Unit Models\"),$O15=\"< 0.25\"),7,\nIF(AND(OR($C$7=\"ASHRAE\",$C$7=\"Title 24 - Whole Building Models\",$C$7=\"ERI\",$C$7=\"Title 24 - Dwelling Unit Models\"),$O15=\"0.25 < PF < 0.5\"),8,\nIF(AND(OR($C$7=\"ASHRAE\",$C$7=\"Title 24 - Whole Building Models\",$C$7=\"ERI\",$C$7=\"Title 24 - Dwelling Unit Models\"),$O15=\">= 0.5\"),9,\n\nIF(AND(Table6a[[#This Row],[WINDOW TYPE]]=\"Class AW\",$C$7=\"Prescriptive\"),4,\n\nIF(Table6a[[#This Row],[WINDOW TYPE]]=\"Class AW\",6,\n\n\"\")))))))","v":3},{"$f":"IF(AND($C$9=\"Version 1.2 OR+WA\",$C$7=\"Prescriptive\",$C$8=\"CZ 4 C\"),2,\nIF(AND($C$9=\"Version 1.2 OR+WA\",$C$7=\"Prescriptive\",$C$8=\"CZ 5\"),3,\nIF(AND($C$9=\"Version 1.2 OR+WA\",$C$7=\"Prescriptive\",$C$8=\"CZ 6\"),4,\n\nIF($C$8=\"CZ 1\",2,\nIF($C$8=\"CZ 2\",3,\nIF($C$8=\"CZ 3\",4,\nIF($C$8=\"CZ 4\",5,\nIF($C$8=\"CZ 4 C\",6,\nIF($C$8=\"CZ 5\",7,\nIF($C$8=\"CZ 6\",8,\nIF($C$8=\"CZ 7\",9,\nIF($C$8=\"CZ 8\",10,\"\"))))))))))))","v":5},null,0.52,{"$f":"IF(Table6a[[#This Row],[Total Area]]=\"\",\"\",IFERROR(Table6a[[#This Row],[Total Area]]*Table6a[[#This Row],[ASSEMBLY\nU-FACTOR]],Table6a[[#This Row],[Total Area]]*(RIGHT(Table6a[[#This Row],[ASSEMBLY\nU-FACTOR]],LEN(Table6a[[#This Row],[ASSEMBLY\nU-FACTOR]])-2))))","v":229.32000000000002},0.3,"A-31","Yes","Yes"]
[null,"AA","Not Class AW","Fixed",25,28,{"$f":"IF(Table6a[[#This Row],[Qty]]=\"\",\"\",Table6a[[#This Row],[Qty]]*Table6a[[#This Row],[Area]])","v":700},null,{"$f":"IFERROR(IF(AND($C$9=\"Version 1.2 OR+WA\",OR($C$8=\"CZ 1\",$C$8=\"CZ 2\",$C$8=\"CZ 3\",$C$8=\"CZ 4\",$C$8=\"CZ 7\",$C$8=\"CZ 8\")),\"N/A - Update CZ\",\n\nIF(AND(OR($C$7=\"ERI\",$C$7=\"ASHRAE\",$C$7=\"Title 24 - Dwelling Unit Models\",$C$7=\"Title 24 - Whole Building Models\"),Table6a[[#This Row],[WINDOW TYPE]]=\"Class AW\"),INDEX(IECC2009_Fenestration_AW_Windows[#All],Table6a[[#This Row],[WF_UI]],Table6a[[#This Row],[CZ_I]]),\nIF(AND(OR($C$7=\"ERI\",$C$7=\"ASHRAE\",$C$7=\"Title 24 - Dwelling Unit Models\",$C$7=\"Title 24 - Whole Building Models\"),Table6a[[#This Row],[WINDOW TYPE]]=\"Not Class AW\"),INDEX(IECC2009_Fenestration_NotAW_Windows[#All],Table6a[[#This Row],[WF_UI]],Table6a[[#This Row],[CZ_I]]),\n\nIF(AND($C$7=\"Prescriptive\",Table6a[[#This Row],[WINDOW TYPE]]=\"Class AW\",$C$9=\"Version 1\"),INDEX(ESRefDesign_FenestrationAW_V1[#All],Table6a[[#This Row],[WF_UI]],Table6a[[#This Row],[CZ_I]]),\nIF(AND($C$7=\"Prescriptive\",Table6a[[#This Row],[WINDOW TYPE]]=\"Not Class AW\",$C$9=\"Version 1\"),INDEX(ESRefDesign_Fenestration_V1[#All],Table6a[[#This Row],[WF_UI]],Table6a[[#This Row],[CZ_I]]),\n\nIF(AND($C$7=\"Prescriptive\",Table6a[[#This Row],[WINDOW TYPE]]=\"Class AW\",$C$9=\"Version 1.1\"),INDEX(ESRefDesign_FenestrationAW_V11[#All],Table6a[[#This Row],[WF_UI]],Table6a[[#This Row],[CZ_I]]),\nIF(AND($C$7=\"Prescriptive\",Table6a[[#This Row],[WINDOW TYPE]]=\"Not Class AW\",$C$9=\"Version 1.1\"),INDEX(ESRefDesign_Fenestration_V11[#All],Table6a[[#This Row],[WF_UI]],Table6a[[#This Row],[CZ_I]]),\n\nIF(AND($C$7=\"Prescriptive\",Table6a[[#This Row],[WINDOW TYPE]]=\"Class AW\",$C$9=\"Version 1.2 OR+WA\"),INDEX(ESRefDesign_FenestrationAW_V12[#All],Table6a[[#This Row],[WF_UI]],Table6a[[#This Row],[CZ_I]]),\nIF(AND($C$7=\"Prescriptive\",Table6a[[#This Row],[WINDOW TYPE]]=\"Not Class AW\",$C$9=\"Version 1.2 OR+WA\"),INDEX(ESRefDesign_Fenestration_V12[#All],Table6a[[#This Row],[WF_UI]],Table6a[[#This Row],[CZ_I]]),\n\n\"\"))))))))),\"\")","v":"U-0.32"},{"$f":"IF(Table6a[[#This Row],[Total Area]]=\"\",\"\",Table6a[[#This Row],[Total Area]]*(RIGHT(Table6a[[#This Row],[ENERGY STAR Requirement\nU-FACTOR]],LEN(Table6a[[#This Row],[ENERGY STAR Requirement\nU-FACTOR]])-2)))","v":224},{"$f":"IFERROR(IF(AND(Table6a[[#This Row],[PROJECTION FACTOR (PF)\n(ERI/ASHRAE & Class AW only)]]=\"\",OR($C$7=\"ERI\",$C$7=\"ASHRAE\",$C$7=\"Title 24 - Dwelling Unit Models\",$C$7=\"Title 24 - Whole Building Models\"),Table6a[[#This Row],[WINDOW TYPE]]=\"Class AW\"),\"Enter PF\",\n\nIF(AND($C$9=\"Version 1.2 OR+WA\",OR($C$8=\"CZ 1\",$C$8=\"CZ 2\",$C$8=\"CZ 3\",$C$8=\"CZ 4\",$C$8=\"CZ 7\",$C$8=\"CZ 8\")),\"N/A - Update CZ\",\n\nIF(AND(OR($C$7=\"ERI\",$C$7=\"ASHRAE\",$C$7=\"Title 24 - Dwelling Unit Models\",$C$7=\"Title 24 - Whole Building Models\"),Table6a[[#This Row],[WINDOW TYPE]]=\"Class AW\"),INDEX(IECC2009_Fenestration_AW_Windows[#All],Table6a[[#This Row],[WF_SHGCI]],Table6a[[#This Row],[CZ_I]]),\nIF(AND(OR($C$7=\"ERI\",$C$7=\"ASHRAE\",$C$7=\"Title 24 - Dwelling Unit Models\",$C$7=\"Title 24 - Whole Building Models\"),Table6a[[#This Row],[WINDOW TYPE]]=\"Not Class AW\"),INDEX(IECC2009_Fenestration_NotAW_Windows[#All],Table6a[[#This Row],[WF_SHGCI]],Table6a[[#This Row],[CZ_I]]),\n\nIF(AND($C$7=\"Prescriptive\",Table6a[[#This Row],[WINDOW TYPE]]=\"Class AW\",$C$9=\"Version 1\"),INDEX(ESRefDesign_FenestrationAW_V1[#All],Table6a[[#This Row],[WF_SHGCI]],Table6a[[#This Row],[CZ_I]]),\nIF(AND($C$7=\"Prescriptive\",Table6a[[#This Row],[WINDOW TYPE]]=\"Not Class AW\",$C$9=\"Version 1\"),INDEX(ESRefDesign_Fenestration_V1[#All],Table6a[[#This Row],[WF_SHGCI]],Table6a[[#This Row],[CZ_I]]),\n\nIF(AND($C$7=\"Prescriptive\",Table6a[[#This Row],[WINDOW TYPE]]=\"Class AW\",$C$9=\"Version 1.1\"),INDEX(ESRefDesign_FenestrationAW_V11[#All],Table6a[[#This Row],[WF_SHGCI]],Table6a[[#This Row],[CZ_I]]),\nIF(AND($C$7=\"Prescriptive\",Table6a[[#This Row],[WINDOW TYPE]]=\"Not Class AW\",$C$9=\"Version 1.1\"),INDEX(ESRefDesign_Fenestration_V11[#All],Table6a[[#This Row],[WF_SHGCI]],Table6a[[#This Row],[CZ_I]]),\n\nIF(AND($C$7=\"Prescriptive\",Table6a[[#This Row],[WINDOW TYPE]]=\"Class AW\",$C$9=\"Version 1.2 OR+WA\"),INDEX(ESRefDesign_FenestrationAW_V12[#All],Table6a[[#This Row],[WF_SHGCI]],Table6a[[#This Row],[CZ_I]]),\nIF(AND($C$7=\"Prescriptive\",Table6a[[#This Row],[WINDOW TYPE]]=\"Not Class AW\",$C$9=\"Version 1.2 OR+WA\"),INDEX(ESRefDesign_Fenestration_V12[#All],Table6a[[#This Row],[WF_SHGCI]],Table6a[[#This Row],[CZ_I]]),\n\"\")))))))))),\"\")","v":0.4},{"$f":"IF(Table6a[[#This Row],[WINDOW TYPE]]=\"Not Class AW\",2,\n\nIF(AND($C$7=\"Prescriptive\",Table6a[[#This Row],[Fixed or Operable?\n(Prescriptive & Class AW Only)]]=\"Fixed\"),2,\nIF(AND($C$7=\"Prescriptive\",Table6a[[#This Row],[Fixed or Operable?\n(Prescriptive & Class AW Only)]]=\"Operable\"),3,\n\nIF(Table6a[[#This Row],[Window Frame\n(ERI/ASHRAE & Class AW only)]]=\"Non-Metal\",2,\nIF(Table6a[[#This Row],[Window Frame\n(ERI/ASHRAE & Class AW only)]]=\"Metal - Curtainwall/storefront\",3,\nIF(Table6a[[#This Row],[Window Frame\n(ERI/ASHRAE & Class AW only)]]=\"Metal - Entrance door\",4,\nIF(Table6a[[#This Row],[Window Frame\n(ERI/ASHRAE & Class AW only)]]=\"Metal - Other\",5,\n\n\"\")))))))","v":2},{"$f":"IF(AND(Table6a[[#This Row],[WINDOW TYPE]]=\"Not Class AW\",$C$7=\"Prescriptive\"),3,\nIF(Table6a[[#This Row],[WINDOW TYPE]]=\"Not Class AW\",4,\n\nIF(AND(OR($C$7=\"ASHRAE\",$C$7=\"Title 24 - Whole Building Models\",$C$7=\"ERI\",$C$7=\"Title 24 - Dwelling Unit Models\"),$O16=\"< 0.25\"),7,\nIF(AND(OR($C$7=\"ASHRAE\",$C$7=\"Title 24 - Whole Building Models\",$C$7=\"ERI\",$C$7=\"Title 24 - Dwelling Unit Models\"),$O16=\"0.25 < PF < 0.5\"),8,\nIF(AND(OR($C$7=\"ASHRAE\",$C$7=\"Title 24 - Whole Building Models\",$C$7=\"ERI\",$C$7=\"Title 24 - Dwelling Unit Models\"),$O16=\">= 0.5\"),9,\n\nIF(AND(Table6a[[#This Row],[WINDOW TYPE]]=\"Class AW\",$C$7=\"Prescriptive\"),4,\n\nIF(Table6a[[#This Row],[WINDOW TYPE]]=\"Class AW\",6,\n\n\"\")))))))","v":3},{"$f":"IF(AND($C$9=\"Version 1.2 OR+WA\",$C$7=\"Prescriptive\",$C$8=\"CZ 4 C\"),2,\nIF(AND($C$9=\"Version 1.2 OR+WA\",$C$7=\"Prescriptive\",$C$8=\"CZ 5\"),3,\nIF(AND($C$9=\"Version 1.2 OR+WA\",$C$7=\"Prescriptive\",$C$8=\"CZ 6\"),4,\n\nIF($C$8=\"CZ 1\",2,\nIF($C$8=\"CZ 2\",3,\nIF($C$8=\"CZ 3\",4,\nIF($C$8=\"CZ 4\",5,\nIF($C$8=\"CZ 4 C\",6,\nIF($C$8=\"CZ 5\",7,\nIF($C$8=\"CZ 6\",8,\nIF($C$8=\"CZ 7\",9,\nIF($C$8=\"CZ 8\",10,\"\"))))))))))))","v":5},null,0.5,{"$f":"IF(Table6a[[#This Row],[Total Area]]=\"\",\"\",IFERROR(Table6a[[#This Row],[Total Area]]*Table6a[[#This Row],[ASSEMBLY\nU-FACTOR]],Table6a[[#This Row],[Total Area]]*(RIGHT(Table6a[[#This Row],[ASSEMBLY\nU-FACTOR]],LEN(Table6a[[#This Row],[ASSEMBLY\nU-FACTOR]])-2))))","v":350},0.3,"A-32","No","Yes"]
[null,"DD","Not Class AW","Fixed",20,3,{"$f":"IF(Table6a[[#This Row],[Qty]]=\"\",\"\",Table6a[[#This Row],[Qty]]*Table6a[[#This Row],[Area]])","v":60},null,{"$f":"IFERROR(IF(AND($C$9=\"Version 1.2 OR+WA\",OR($C$8=\"CZ 1\",$C$8=\"CZ 2\",$C$8=\"CZ 3\",$C$8=\"CZ 4\",$C$8=\"CZ 7\",$C$8=\"CZ 8\")),\"N/A - Update CZ\",\n\nIF(AND(OR($C$7=\"ERI\",$C$7=\"ASHRAE\",$C$7=\"Title 24 - Dwelling Unit Models\",$C$7=\"Title 24 - Whole Building Models\"),Table6a[[#This Row],[WINDOW TYPE]]=\"Class AW\"),INDEX(IECC2009_Fenestration_AW_Windows[#All],Table6a[[#This Row],[WF_UI]],Table6a[[#This Row],[CZ_I]]),\nIF(AND(OR($C$7=\"ERI\",$C$7=\"ASHRAE\",$C$7=\"Title 24 - Dwelling Unit Models\",$C$7=\"Title 24 - Whole Building Models\"),Table6a[[#This Row],[WINDOW TYPE]]=\"Not Class AW\"),INDEX(IECC2009_Fenestration_NotAW_Windows[#All],Table6a[[#This Row],[WF_UI]],Table6a[[#This Row],[CZ_I]]),\n\nIF(AND($C$7=\"Prescriptive\",Table6a[[#This Row],[WINDOW TYPE]]=\"Class AW\",$C$9=\"Version 1\"),INDEX(ESRefDesign_FenestrationAW_V1[#All],Table6a[[#This Row],[WF_UI]],Table6a[[#This Row],[CZ_I]]),\nIF(AND($C$7=\"Prescriptive\",Table6a[[#This Row],[WINDOW TYPE]]=\"Not Class AW\",$C$9=\"Version 1\"),INDEX(ESRefDesign_Fenestration_V1[#All],Table6a[[#This Row],[WF_UI]],Table6a[[#This Row],[CZ_I]]),\n\nIF(AND($C$7=\"Prescriptive\",Table6a[[#This Row],[WINDOW TYPE]]=\"Class AW\",$C$9=\"Version 1.1\"),INDEX(ESRefDesign_FenestrationAW_V11[#All],Table6a[[#This Row],[WF_UI]],Table6a[[#This Row],[CZ_I]]),\nIF(AND($C$7=\"Prescriptive\",Table6a[[#This Row],[WINDOW TYPE]]=\"Not Class AW\",$C$9=\"Version 1.1\"),INDEX(ESRefDesign_Fenestration_V11[#All],Table6a[[#This Row],[WF_UI]],Table6a[[#This Row],[CZ_I]]),\n\nIF(AND($C$7=\"Prescriptive\",Table6a[[#This Row],[WINDOW TYPE]]=\"Class AW\",$C$9=\"Version 1.2 OR+WA\"),INDEX(ESRefDesign_FenestrationAW_V12[#All],Table6a[[#This Row],[WF_UI]],Table6a[[#This Row],[CZ_I]]),\nIF(AND($C$7=\"Prescriptive\",Table6a[[#This Row],[WINDOW TYPE]]=\"Not Class AW\",$C$9=\"Version 1.2 OR+WA\"),INDEX(ESRefDesign_Fenestration_V12[#All],Table6a[[#This Row],[WF_UI]],Table6a[[#This Row],[CZ_I]]),\n\n\"\"))))))))),\"\")","v":"U-0.32"},{"$f":"IF(Table6a[[#This Row],[Total Area]]=\"\",\"\",Table6a[[#This Row],[Total Area]]*(RIGHT(Table6a[[#This Row],[ENERGY STAR Requirement\nU-FACTOR]],LEN(Table6a[[#This Row],[ENERGY STAR Requirement\nU-FACTOR]])-2)))","v":19.2},{"$f":"IFERROR(IF(AND(Table6a[[#This Row],[PROJECTION FACTOR (PF)\n(ERI/ASHRAE & Class AW only)]]=\"\",OR($C$7=\"ERI\",$C$7=\"ASHRAE\",$C$7=\"Title 24 - Dwelling Unit Models\",$C$7=\"Title 24 - Whole Building Models\"),Table6a[[#This Row],[WINDOW TYPE]]=\"Class AW\"),\"Enter PF\",\n\nIF(AND($C$9=\"Version 1.2 OR+WA\",OR($C$8=\"CZ 1\",$C$8=\"CZ 2\",$C$8=\"CZ 3\",$C$8=\"CZ 4\",$C$8=\"CZ 7\",$C$8=\"CZ 8\")),\"N/A - Update CZ\",\n\nIF(AND(OR($C$7=\"ERI\",$C$7=\"ASHRAE\",$C$7=\"Title 24 - Dwelling Unit Models\",$C$7=\"Title 24 - Whole Building Models\"),Table6a[[#This Row],[WINDOW TYPE]]=\"Class AW\"),INDEX(IECC2009_Fenestration_AW_Windows[#All],Table6a[[#This Row],[WF_SHGCI]],Table6a[[#This Row],[CZ_I]]),\nIF(AND(OR($C$7=\"ERI\",$C$7=\"ASHRAE\",$C$7=\"Title 24 - Dwelling Unit Models\",$C$7=\"Title 24 - Whole Building Models\"),Table6a[[#This Row],[WINDOW TYPE]]=\"Not Class AW\"),INDEX(IECC2009_Fenestration_NotAW_Windows[#All],Table6a[[#This Row],[WF_SHGCI]],Table6a[[#This Row],[CZ_I]]),\n\nIF(AND($C$7=\"Prescriptive\",Table6a[[#This Row],[WINDOW TYPE]]=\"Class AW\",$C$9=\"Version 1\"),INDEX(ESRefDesign_FenestrationAW_V1[#All],Table6a[[#This Row],[WF_SHGCI]],Table6a[[#This Row],[CZ_I]]),\nIF(AND($C$7=\"Prescriptive\",Table6a[[#This Row],[WINDOW TYPE]]=\"Not Class AW\",$C$9=\"Version 1\"),INDEX(ESRefDesign_Fenestration_V1[#All],Table6a[[#This Row],[WF_SHGCI]],Table6a[[#This Row],[CZ_I]]),\n\nIF(AND($C$7=\"Prescriptive\",Table6a[[#This Row],[WINDOW TYPE]]=\"Class AW\",$C$9=\"Version 1.1\"),INDEX(ESRefDesign_FenestrationAW_V11[#All],Table6a[[#This Row],[WF_SHGCI]],Table6a[[#This Row],[CZ_I]]),\nIF(AND($C$7=\"Prescriptive\",Table6a[[#This Row],[WINDOW TYPE]]=\"Not Class AW\",$C$9=\"Version 1.1\"),INDEX(ESRefDesign_Fenestration_V11[#All],Table6a[[#This Row],[WF_SHGCI]],Table6a[[#This Row],[CZ_I]]),\n\nIF(AND($C$7=\"Prescriptive\",Table6a[[#This Row],[WINDOW TYPE]]=\"Class AW\",$C$9=\"Version 1.2 OR+WA\"),INDEX(ESRefDesign_FenestrationAW_V12[#All],Table6a[[#This Row],[WF_SHGCI]],Table6a[[#This Row],[CZ_I]]),\nIF(AND($C$7=\"Prescriptive\",Table6a[[#This Row],[WINDOW TYPE]]=\"Not Class AW\",$C$9=\"Version 1.2 OR+WA\"),INDEX(ESRefDesign_Fenestration_V12[#All],Table6a[[#This Row],[WF_SHGCI]],Table6a[[#This Row],[CZ_I]]),\n\"\")))))))))),\"\")","v":0.4},{"$f":"IF(Table6a[[#This Row],[WINDOW TYPE]]=\"Not Class AW\",2,\n\nIF(AND($C$7=\"Prescriptive\",Table6a[[#This Row],[Fixed or Operable?\n(Prescriptive & Class AW Only)]]=\"Fixed\"),2,\nIF(AND($C$7=\"Prescriptive\",Table6a[[#This Row],[Fixed or Operable?\n(Prescriptive & Class AW Only)]]=\"Operable\"),3,\n\nIF(Table6a[[#This Row],[Window Frame\n(ERI/ASHRAE & Class AW only)]]=\"Non-Metal\",2,\nIF(Table6a[[#This Row],[Window Frame\n(ERI/ASHRAE & Class AW only)]]=\"Metal - Curtainwall/storefront\",3,\nIF(Table6a[[#This Row],[Window Frame\n(ERI/ASHRAE & Class AW only)]]=\"Metal - Entrance door\",4,\nIF(Table6a[[#This Row],[Window Frame\n(ERI/ASHRAE & Class AW only)]]=\"Metal - Other\",5,\n\n\"\")))))))","v":2},{"$f":"IF(AND(Table6a[[#This Row],[WINDOW TYPE]]=\"Not Class AW\",$C$7=\"Prescriptive\"),3,\nIF(Table6a[[#This Row],[WINDOW TYPE]]=\"Not Class AW\",4,\n\nIF(AND(OR($C$7=\"ASHRAE\",$C$7=\"Title 24 - Whole Building Models\",$C$7=\"ERI\",$C$7=\"Title 24 - Dwelling Unit Models\"),$O17=\"< 0.25\"),7,\nIF(AND(OR($C$7=\"ASHRAE\",$C$7=\"Title 24 - Whole Building Models\",$C$7=\"ERI\",$C$7=\"Title 24 - Dwelling Unit Models\"),$O17=\"0.25 < PF < 0.5\"),8,\nIF(AND(OR($C$7=\"ASHRAE\",$C$7=\"Title 24 - Whole Building Models\",$C$7=\"ERI\",$C$7=\"Title 24 - Dwelling Unit Models\"),$O17=\">= 0.5\"),9,\n\nIF(AND(Table6a[[#This Row],[WINDOW TYPE]]=\"Class AW\",$C$7=\"Prescriptive\"),4,\n\nIF(Table6a[[#This Row],[WINDOW TYPE]]=\"Class AW\",6,\n\n\"\")))))))","v":3},5,null,0.65,{"$f":"IF(Table6a[[#This Row],[Total Area]]=\"\",\"\",IFERROR(Table6a[[#This Row],[Total Area]]*Table6a[[#This Row],[ASSEMBLY\nU-FACTOR]],Table6a[[#This Row],[Total Area]]*(RIGHT(Table6a[[#This Row],[ASSEMBLY\nU-FACTOR]],LEN(Table6a[[#This Row],[ASSEMBLY\nU-FACTOR]])-2))))","v":39},0.3,"A-33","Yes","Yes"]
[null,null,null,null,null,null,{"$f":"IF(Table6a[[#This Row],[Qty]]=\"\",\"\",Table6a[[#This Row],[Qty]]*Table6a[[#This Row],[Area]])","v":""},null,{"$f":"IFERROR(IF(AND($C$9=\"Version 1.2 OR+WA\",OR($C$8=\"CZ 1\",$C$8=\"CZ 2\",$C$8=\"CZ 3\",$C$8=\"CZ 4\",$C$8=\"CZ 7\",$C$8=\"CZ 8\")),\"N/A - Update CZ\",\n\nIF(AND(OR($C$7=\"ERI\",$C$7=\"ASHRAE\",$C$7=\"Title 24 - Dwelling Unit Models\",$C$7=\"Title 24 - Whole Building Models\"),Table6a[[#This Row],[WINDOW TYPE]]=\"Class AW\"),INDEX(IECC2009_Fenestration_AW_Windows[#All],Table6a[[#This Row],[WF_UI]],Table6a[[#This Row],[CZ_I]]),\nIF(AND(OR($C$7=\"ERI\",$C$7=\"ASHRAE\",$C$7=\"Title 24 - Dwelling Unit Models\",$C$7=\"Title 24 - Whole Building Models\"),Table6a[[#This Row],[WINDOW TYPE]]=\"Not Class AW\"),INDEX(IECC2009_Fenestration_NotAW_Windows[#All],Table6a[[#This Row],[WF_UI]],Table6a[[#This Row],[CZ_I]]),\n\nIF(AND($C$7=\"Prescriptive\",Table6a[[#This Row],[WINDOW TYPE]]=\"Class AW\",$C$9=\"Version 1\"),INDEX(ESRefDesign_FenestrationAW_V1[#All],Table6a[[#This Row],[WF_UI]],Table6a[[#This Row],[CZ_I]]),\nIF(AND($C$7=\"Prescriptive\",Table6a[[#This Row],[WINDOW TYPE]]=\"Not Class AW\",$C$9=\"Version 1\"),INDEX(ESRefDesign_Fenestration_V1[#All],Table6a[[#This Row],[WF_UI]],Table6a[[#This Row],[CZ_I]]),\n\nIF(AND($C$7=\"Prescriptive\",Table6a[[#This Row],[WINDOW TYPE]]=\"Class AW\",$C$9=\"Version 1.1\"),INDEX(ESRefDesign_FenestrationAW_V11[#All],Table6a[[#This Row],[WF_UI]],Table6a[[#This Row],[CZ_I]]),\nIF(AND($C$7=\"Prescriptive\",Table6a[[#This Row],[WINDOW TYPE]]=\"Not Class AW\",$C$9=\"Version 1.1\"),INDEX(ESRefDesign_Fenestration_V11[#All],Table6a[[#This Row],[WF_UI]],Table6a[[#This Row],[CZ_I]]),\n\nIF(AND($C$7=\"Prescriptive\",Table6a[[#This Row],[WINDOW TYPE]]=\"Class AW\",$C$9=\"Version 1.2 OR+WA\"),INDEX(ESRefDesign_FenestrationAW_V12[#All],Table6a[[#This Row],[WF_UI]],Table6a[[#This Row],[CZ_I]]),\nIF(AND($C$7=\"Prescriptive\",Table6a[[#This Row],[WINDOW TYPE]]=\"Not Class AW\",$C$9=\"Version 1.2 OR+WA\"),INDEX(ESRefDesign_Fenestration_V12[#All],Table6a[[#This Row],[WF_UI]],Table6a[[#This Row],[CZ_I]]),\n\n\"\"))))))))),\"\")","v":""},{"$f":"IF(Table6a[[#This Row],[Total Area]]=\"\",\"\",Table6a[[#This Row],[Total Area]]*(RIGHT(Table6a[[#This Row],[ENERGY STAR Requirement\nU-FACTOR]],LEN(Table6a[[#This Row],[ENERGY STAR Requirement\nU-FACTOR]])-2)))","v":""},{"$f":"IFERROR(IF(AND(Table6a[[#This Row],[PROJECTION FACTOR (PF)\n(ERI/ASHRAE & Class AW only)]]=\"\",OR($C$7=\"ERI\",$C$7=\"ASHRAE\",$C$7=\"Title 24 - Dwelling Unit Models\",$C$7=\"Title 24 - Whole Building Models\"),Table6a[[#This Row],[WINDOW TYPE]]=\"Class AW\"),\"Enter PF\",\n\nIF(AND($C$9=\"Version 1.2 OR+WA\",OR($C$8=\"CZ 1\",$C$8=\"CZ 2\",$C$8=\"CZ 3\",$C$8=\"CZ 4\",$C$8=\"CZ 7\",$C$8=\"CZ 8\")),\"N/A - Update CZ\",\n\nIF(AND(OR($C$7=\"ERI\",$C$7=\"ASHRAE\",$C$7=\"Title 24 - Dwelling Unit Models\",$C$7=\"Title 24 - Whole Building Models\"),Table6a[[#This Row],[WINDOW TYPE]]=\"Class AW\"),INDEX(IECC2009_Fenestration_AW_Windows[#All],Table6a[[#This Row],[WF_SHGCI]],Table6a[[#This Row],[CZ_I]]),\nIF(AND(OR($C$7=\"ERI\",$C$7=\"ASHRAE\",$C$7=\"Title 24 - Dwelling Unit Models\",$C$7=\"Title 24 - Whole Building Models\"),Table6a[[#This Row],[WINDOW TYPE]]=\"Not Class AW\"),INDEX(IECC2009_Fenestration_NotAW_Windows[#All],Table6a[[#This Row],[WF_SHGCI]],Table6a[[#This Row],[CZ_I]]),\n\nIF(AND($C$7=\"Prescriptive\",Table6a[[#This Row],[WINDOW TYPE]]=\"Class AW\",$C$9=\"Version 1\"),INDEX(ESRefDesign_FenestrationAW_V1[#All],Table6a[[#This Row],[WF_SHGCI]],Table6a[[#This Row],[CZ_I]]),\nIF(AND($C$7=\"Prescriptive\",Table6a[[#This Row],[WINDOW TYPE]]=\"Not Class AW\",$C$9=\"Version 1\"),INDEX(ESRefDesign_Fenestration_V1[#All],Table6a[[#This Row],[WF_SHGCI]],Table6a[[#This Row],[CZ_I]]),\n\nIF(AND($C$7=\"Prescriptive\",Table6a[[#This Row],[WINDOW TYPE]]=\"Class AW\",$C$9=\"Version 1.1\"),INDEX(ESRefDesign_FenestrationAW_V11[#All],Table6a[[#This Row],[WF_SHGCI]],Table6a[[#This Row],[CZ_I]]),\nIF(AND($C$7=\"Prescriptive\",Table6a[[#This Row],[WINDOW TYPE]]=\"Not Class AW\",$C$9=\"Version 1.1\"),INDEX(ESRefDesign_Fenestration_V11[#All],Table6a[[#This Row],[WF_SHGCI]],Table6a[[#This Row],[CZ_I]]),\n\nIF(AND($C$7=\"Prescriptive\",Table6a[[#This Row],[WINDOW TYPE]]=\"Class AW\",$C$9=\"Version 1.2 OR+WA\"),INDEX(ESRefDesign_FenestrationAW_V12[#All],Table6a[[#This Row],[WF_SHGCI]],Table6a[[#This Row],[CZ_I]]),\nIF(AND($C$7=\"Prescriptive\",Table6a[[#This Row],[WINDOW TYPE]]=\"Not Class AW\",$C$9=\"Version 1.2 OR+WA\"),INDEX(ESRefDesign_Fenestration_V12[#All],Table6a[[#This Row],[WF_SHGCI]],Table6a[[#This Row],[CZ_I]]),\n\"\")))))))))),\"\")","v":""},null,null,null,null,null,{"$f":"IF(Table6a[[#This Row],[Total Area]]=\"\",\"\",IFERROR(Table6a[[#This Row],[Total Area]]*Table6a[[#This Row],[ASSEMBLY\nU-FACTOR]],Table6a[[#This Row],[Total Area]]*(RIGHT(Table6a[[#This Row],[ASSEMBLY\nU-FACTOR]],LEN(Table6a[[#This Row],[ASSEMBLY\nU-FACTOR]])-2))))","v":""}]
[null,null,null,null,null,null,{"$f":"IF(Table6a[[#This Row],[Qty]]=\"\",\"\",Table6a[[#This Row],[Qty]]*Table6a[[#This Row],[Area]])","v":""},null,{"$f":"IFERROR(IF(AND($C$9=\"Version 1.2 OR+WA\",OR($C$8=\"CZ 1\",$C$8=\"CZ 2\",$C$8=\"CZ 3\",$C$8=\"CZ 4\",$C$8=\"CZ 7\",$C$8=\"CZ 8\")),\"N/A - Update CZ\",\n\nIF(AND(OR($C$7=\"ERI\",$C$7=\"ASHRAE\",$C$7=\"Title 24 - Dwelling Unit Models\",$C$7=\"Title 24 - Whole Building Models\"),Table6a[[#This Row],[WINDOW TYPE]]=\"Class AW\"),INDEX(IECC2009_Fenestration_AW_Windows[#All],Table6a[[#This Row],[WF_UI]],Table6a[[#This Row],[CZ_I]]),\nIF(AND(OR($C$7=\"ERI\",$C$7=\"ASHRAE\",$C$7=\"Title 24 - Dwelling Unit Models\",$C$7=\"Title 24 - Whole Building Models\"),Table6a[[#This Row],[WINDOW TYPE]]=\"Not Class AW\"),INDEX(IECC2009_Fenestration_NotAW_Windows[#All],Table6a[[#This Row],[WF_UI]],Table6a[[#This Row],[CZ_I]]),\n\nIF(AND($C$7=\"Prescriptive\",Table6a[[#This Row],[WINDOW TYPE]]=\"Class AW\",$C$9=\"Version 1\"),INDEX(ESRefDesign_FenestrationAW_V1[#All],Table6a[[#This Row],[WF_UI]],Table6a[[#This Row],[CZ_I]]),\nIF(AND($C$7=\"Prescriptive\",Table6a[[#This Row],[WINDOW TYPE]]=\"Not Class AW\",$C$9=\"Version 1\"),INDEX(ESRefDesign_Fenestration_V1[#All],Table6a[[#This Row],[WF_UI]],Table6a[[#This Row],[CZ_I]]),\n\nIF(AND($C$7=\"Prescriptive\",Table6a[[#This Row],[WINDOW TYPE]]=\"Class AW\",$C$9=\"Version 1.1\"),INDEX(ESRefDesign_FenestrationAW_V11[#All],Table6a[[#This Row],[WF_UI]],Table6a[[#This Row],[CZ_I]]),\nIF(AND($C$7=\"Prescriptive\",Table6a[[#This Row],[WINDOW TYPE]]=\"Not Class AW\",$C$9=\"Version 1.1\"),INDEX(ESRefDesign_Fenestration_V11[#All],Table6a[[#This Row],[WF_UI]],Table6a[[#This Row],[CZ_I]]),\n\nIF(AND($C$7=\"Prescriptive\",Table6a[[#This Row],[WINDOW TYPE]]=\"Class AW\",$C$9=\"Version 1.2 OR+WA\"),INDEX(ESRefDesign_FenestrationAW_V12[#All],Table6a[[#This Row],[WF_UI]],Table6a[[#This Row],[CZ_I]]),\nIF(AND($C$7=\"Prescriptive\",Table6a[[#This Row],[WINDOW TYPE]]=\"Not Class AW\",$C$9=\"Version 1.2 OR+WA\"),INDEX(ESRefDesign_Fenestration_V12[#All],Table6a[[#This Row],[WF_UI]],Table6a[[#This Row],[CZ_I]]),\n\n\"\"))))))))),\"\")","v":""},{"$f":"IF(Table6a[[#This Row],[Total Area]]=\"\",\"\",Table6a[[#This Row],[Total Area]]*(RIGHT(Table6a[[#This Row],[ENERGY STAR Requirement\nU-FACTOR]],LEN(Table6a[[#This Row],[ENERGY STAR Requirement\nU-FACTOR]])-2)))","v":""},{"$f":"IFERROR(IF(AND(Table6a[[#This Row],[PROJECTION FACTOR (PF)\n(ERI/ASHRAE & Class AW only)]]=\"\",OR($C$7=\"ERI\",$C$7=\"ASHRAE\",$C$7=\"Title 24 - Dwelling Unit Models\",$C$7=\"Title 24 - Whole Building Models\"),Table6a[[#This Row],[WINDOW TYPE]]=\"Class AW\"),\"Enter PF\",\n\nIF(AND($C$9=\"Version 1.2 OR+WA\",OR($C$8=\"CZ 1\",$C$8=\"CZ 2\",$C$8=\"CZ 3\",$C$8=\"CZ 4\",$C$8=\"CZ 7\",$C$8=\"CZ 8\")),\"N/A - Update CZ\",\n\nIF(AND(OR($C$7=\"ERI\",$C$7=\"ASHRAE\",$C$7=\"Title 24 - Dwelling Unit Models\",$C$7=\"Title 24 - Whole Building Models\"),Table6a[[#This Row],[WINDOW TYPE]]=\"Class AW\"),INDEX(IECC2009_Fenestration_AW_Windows[#All],Table6a[[#This Row],[WF_SHGCI]],Table6a[[#This Row],[CZ_I]]),\nIF(AND(OR($C$7=\"ERI\",$C$7=\"ASHRAE\",$C$7=\"Title 24 - Dwelling Unit Models\",$C$7=\"Title 24 - Whole Building Models\"),Table6a[[#This Row],[WINDOW TYPE]]=\"Not Class AW\"),INDEX(IECC2009_Fenestration_NotAW_Windows[#All],Table6a[[#This Row],[WF_SHGCI]],Table6a[[#This Row],[CZ_I]]),\n\nIF(AND($C$7=\"Prescriptive\",Table6a[[#This Row],[WINDOW TYPE]]=\"Class AW\",$C$9=\"Version 1\"),INDEX(ESRefDesign_FenestrationAW_V1[#All],Table6a[[#This Row],[WF_SHGCI]],Table6a[[#This Row],[CZ_I]]),\nIF(AND($C$7=\"Prescriptive\",Table6a[[#This Row],[WINDOW TYPE]]=\"Not Class AW\",$C$9=\"Version 1\"),INDEX(ESRefDesign_Fenestration_V1[#All],Table6a[[#This Row],[WF_SHGCI]],Table6a[[#This Row],[CZ_I]]),\n\nIF(AND($C$7=\"Prescriptive\",Table6a[[#This Row],[WINDOW TYPE]]=\"Class AW\",$C$9=\"Version 1.1\"),INDEX(ESRefDesign_FenestrationAW_V11[#All],Table6a[[#This Row],[WF_SHGCI]],Table6a[[#This Row],[CZ_I]]),\nIF(AND($C$7=\"Prescriptive\",Table6a[[#This Row],[WINDOW TYPE]]=\"Not Class AW\",$C$9=\"Version 1.1\"),INDEX(ESRefDesign_Fenestration_V11[#All],Table6a[[#This Row],[WF_SHGCI]],Table6a[[#This Row],[CZ_I]]),\n\nIF(AND($C$7=\"Prescriptive\",Table6a[[#This Row],[WINDOW TYPE]]=\"Class AW\",$C$9=\"Version 1.2 OR+WA\"),INDEX(ESRefDesign_FenestrationAW_V12[#All],Table6a[[#This Row],[WF_SHGCI]],Table6a[[#This Row],[CZ_I]]),\nIF(AND($C$7=\"Prescriptive\",Table6a[[#This Row],[WINDOW TYPE]]=\"Not Class AW\",$C$9=\"Version 1.2 OR+WA\"),INDEX(ESRefDesign_Fenestration_V12[#All],Table6a[[#This Row],[WF_SHGCI]],Table6a[[#This Row],[CZ_I]]),\n\"\")))))))))),\"\")","v":""},{"$f":"IF(Table6a[[#This Row],[WINDOW TYPE]]=\"Not Class AW\",2,\n\nIF(AND($C$7=\"Prescriptive\",Table6a[[#This Row],[Fixed or Operable?\n(Prescriptive & Class AW Only)]]=\"Fixed\"),2,\nIF(AND($C$7=\"Prescriptive\",Table6a[[#This Row],[Fixed or Operable?\n(Prescriptive & Class AW Only)]]=\"Operable\"),3,\n\nIF(Table6a[[#This Row],[Window Frame\n(ERI/ASHRAE & Class AW only)]]=\"Non-Metal\",2,\nIF(Table6a[[#This Row],[Window Frame\n(ERI/ASHRAE & Class AW only)]]=\"Metal - Curtainwall/storefront\",3,\nIF(Table6a[[#This Row],[Window Frame\n(ERI/ASHRAE & Class AW only)]]=\"Metal - Entrance door\",4,\nIF(Table6a[[#This Row],[Window Frame\n(ERI/ASHRAE & Class AW only)]]=\"Metal - Other\",5,\n\n\"\")))))))","v":""},{"$f":"IF(AND(Table6a[[#This Row],[WINDOW TYPE]]=\"Not Class AW\",$C$7=\"Prescriptive\"),3,\nIF(Table6a[[#This Row],[WINDOW TYPE]]=\"Not Class AW\",4,\n\nIF(AND(OR($C$7=\"ASHRAE\",$C$7=\"Title 24 - Whole Building Models\",$C$7=\"ERI\",$C$7=\"Title 24 - Dwelling Unit Models\"),$O19=\"< 0.25\"),7,\nIF(AND(OR($C$7=\"ASHRAE\",$C$7=\"Title 24 - Whole Building Models\",$C$7=\"ERI\",$C$7=\"Title 24 - Dwelling Unit Models\"),$O19=\"0.25 < PF < 0.5\"),8,\nIF(AND(OR($C$7=\"ASHRAE\",$C$7=\"Title 24 - Whole Building Models\",$C$7=\"ERI\",$C$7=\"Title 24 - Dwelling Unit Models\"),$O19=\">= 0.5\"),9,\n\nIF(AND(Table6a[[#This Row],[WINDOW TYPE]]=\"Class AW\",$C$7=\"Prescriptive\"),4,\n\nIF(Table6a[[#This Row],[WINDOW TYPE]]=\"Class AW\",6,\n\n\"\")))))))","v":""},5,null,null,{"$f":"IF(Table6a[[#This Row],[Total Area]]=\"\",\"\",IFERROR(Table6a[[#This Row],[Total Area]]*Table6a[[#This Row],[ASSEMBLY\nU-FACTOR]],Table6a[[#This Row],[Total Area]]*(RIGHT(Table6a[[#This Row],[ASSEMBLY\nU-FACTOR]],LEN(Table6a[[#This Row],[ASSEMBLY\nU-FACTOR]])-2))))","v":""}]
[null,null,null,null,null,null,{"$f":"IF(Table6a[[#This Row],[Qty]]=\"\",\"\",Table6a[[#This Row],[Qty]]*Table6a[[#This Row],[Area]])","v":""},null,{"$f":"IFERROR(IF(AND($C$9=\"Version 1.2 OR+WA\",OR($C$8=\"CZ 1\",$C$8=\"CZ 2\",$C$8=\"CZ 3\",$C$8=\"CZ 4\",$C$8=\"CZ 7\",$C$8=\"CZ 8\")),\"N/A - Update CZ\",\n\nIF(AND(OR($C$7=\"ERI\",$C$7=\"ASHRAE\",$C$7=\"Title 24 - Dwelling Unit Models\",$C$7=\"Title 24 - Whole Building Models\"),Table6a[[#This Row],[WINDOW TYPE]]=\"Class AW\"),INDEX(IECC2009_Fenestration_AW_Windows[#All],Table6a[[#This Row],[WF_UI]],Table6a[[#This Row],[CZ_I]]),\nIF(AND(OR($C$7=\"ERI\",$C$7=\"ASHRAE\",$C$7=\"Title 24 - Dwelling Unit Models\",$C$7=\"Title 24 - Whole Building Models\"),Table6a[[#This Row],[WINDOW TYPE]]=\"Not Class AW\"),INDEX(IECC2009_Fenestration_NotAW_Windows[#All],Table6a[[#This Row],[WF_UI]],Table6a[[#This Row],[CZ_I]]),\n\nIF(AND($C$7=\"Prescriptive\",Table6a[[#This Row],[WINDOW TYPE]]=\"Class AW\",$C$9=\"Version 1\"),INDEX(ESRefDesign_FenestrationAW_V1[#All],Table6a[[#This Row],[WF_UI]],Table6a[[#This Row],[CZ_I]]),\nIF(AND($C$7=\"Prescriptive\",Table6a[[#This Row],[WINDOW TYPE]]=\"Not Class AW\",$C$9=\"Version 1\"),INDEX(ESRefDesign_Fenestration_V1[#All],Table6a[[#This Row],[WF_UI]],Table6a[[#This Row],[CZ_I]]),\n\nIF(AND($C$7=\"Prescriptive\",Table6a[[#This Row],[WINDOW TYPE]]=\"Class AW\",$C$9=\"Version 1.1\"),INDEX(ESRefDesign_FenestrationAW_V11[#All],Table6a[[#This Row],[WF_UI]],Table6a[[#This Row],[CZ_I]]),\nIF(AND($C$7=\"Prescriptive\",Table6a[[#This Row],[WINDOW TYPE]]=\"Not Class AW\",$C$9=\"Version 1.1\"),INDEX(ESRefDesign_Fenestration_V11[#All],Table6a[[#This Row],[WF_UI]],Table6a[[#This Row],[CZ_I]]),\n\nIF(AND($C$7=\"Prescriptive\",Table6a[[#This Row],[WINDOW TYPE]]=\"Class AW\",$C$9=\"Version 1.2 OR+WA\"),INDEX(ESRefDesign_FenestrationAW_V12[#All],Table6a[[#This Row],[WF_UI]],Table6a[[#This Row],[CZ_I]]),\nIF(AND($C$7=\"Prescriptive\",Table6a[[#This Row],[WINDOW TYPE]]=\"Not Class AW\",$C$9=\"Version 1.2 OR+WA\"),INDEX(ESRefDesign_Fenestration_V12[#All],Table6a[[#This Row],[WF_UI]],Table6a[[#This Row],[CZ_I]]),\n\n\"\"))))))))),\"\")","v":""},{"$f":"IF(Table6a[[#This Row],[Total Area]]=\"\",\"\",Table6a[[#This Row],[Total Area]]*(RIGHT(Table6a[[#This Row],[ENERGY STAR Requirement\nU-FACTOR]],LEN(Table6a[[#This Row],[ENERGY STAR Requirement\nU-FACTOR]])-2)))","v":""},{"$f":"IFERROR(IF(AND(Table6a[[#This Row],[PROJECTION FACTOR (PF)\n(ERI/ASHRAE & Class AW only)]]=\"\",OR($C$7=\"ERI\",$C$7=\"ASHRAE\",$C$7=\"Title 24 - Dwelling Unit Models\",$C$7=\"Title 24 - Whole Building Models\"),Table6a[[#This Row],[WINDOW TYPE]]=\"Class AW\"),\"Enter PF\",\n\nIF(AND($C$9=\"Version 1.2 OR+WA\",OR($C$8=\"CZ 1\",$C$8=\"CZ 2\",$C$8=\"CZ 3\",$C$8=\"CZ 4\",$C$8=\"CZ 7\",$C$8=\"CZ 8\")),\"N/A - Update CZ\",\n\nIF(AND(OR($C$7=\"ERI\",$C$7=\"ASHRAE\",$C$7=\"Title 24 - Dwelling Unit Models\",$C$7=\"Title 24 - Whole Building Models\"),Table6a[[#This Row],[WINDOW TYPE]]=\"Class AW\"),INDEX(IECC2009_Fenestration_AW_Windows[#All],Table6a[[#This Row],[WF_SHGCI]],Table6a[[#This Row],[CZ_I]]),\nIF(AND(OR($C$7=\"ERI\",$C$7=\"ASHRAE\",$C$7=\"Title 24 - Dwelling Unit Models\",$C$7=\"Title 24 - Whole Building Models\"),Table6a[[#This Row],[WINDOW TYPE]]=\"Not Class AW\"),INDEX(IECC2009_Fenestration_NotAW_Windows[#All],Table6a[[#This Row],[WF_SHGCI]],Table6a[[#This Row],[CZ_I]]),\n\nIF(AND($C$7=\"Prescriptive\",Table6a[[#This Row],[WINDOW TYPE]]=\"Class AW\",$C$9=\"Version 1\"),INDEX(ESRefDesign_FenestrationAW_V1[#All],Table6a[[#This Row],[WF_SHGCI]],Table6a[[#This Row],[CZ_I]]),\nIF(AND($C$7=\"Prescriptive\",Table6a[[#This Row],[WINDOW TYPE]]=\"Not Class AW\",$C$9=\"Version 1\"),INDEX(ESRefDesign_Fenestration_V1[#All],Table6a[[#This Row],[WF_SHGCI]],Table6a[[#This Row],[CZ_I]]),\n\nIF(AND($C$7=\"Prescriptive\",Table6a[[#This Row],[WINDOW TYPE]]=\"Class AW\",$C$9=\"Version 1.1\"),INDEX(ESRefDesign_FenestrationAW_V11[#All],Table6a[[#This Row],[WF_SHGCI]],Table6a[[#This Row],[CZ_I]]),\nIF(AND($C$7=\"Prescriptive\",Table6a[[#This Row],[WINDOW TYPE]]=\"Not Class AW\",$C$9=\"Version 1.1\"),INDEX(ESRefDesign_Fenestration_V11[#All],Table6a[[#This Row],[WF_SHGCI]],Table6a[[#This Row],[CZ_I]]),\n\nIF(AND($C$7=\"Prescriptive\",Table6a[[#This Row],[WINDOW TYPE]]=\"Class AW\",$C$9=\"Version 1.2 OR+WA\"),INDEX(ESRefDesign_FenestrationAW_V12[#All],Table6a[[#This Row],[WF_SHGCI]],Table6a[[#This Row],[CZ_I]]),\nIF(AND($C$7=\"Prescriptive\",Table6a[[#This Row],[WINDOW TYPE]]=\"Not Class AW\",$C$9=\"Version 1.2 OR+WA\"),INDEX(ESRefDesign_Fenestration_V12[#All],Table6a[[#This Row],[WF_SHGCI]],Table6a[[#This Row],[CZ_I]]),\n\"\")))))))))),\"\")","v":""},{"$f":"IF(Table6a[[#This Row],[WINDOW TYPE]]=\"Not Class AW\",2,\n\nIF(AND($C$7=\"Prescriptive\",Table6a[[#This Row],[Fixed or Operable?\n(Prescriptive & Class AW Only)]]=\"Fixed\"),2,\nIF(AND($C$7=\"Prescriptive\",Table6a[[#This Row],[Fixed or Operable?\n(Prescriptive & Class AW Only)]]=\"Operable\"),3,\n\nIF(Table6a[[#This Row],[Window Frame\n(ERI/ASHRAE & Class AW only)]]=\"Non-Metal\",2,\nIF(Table6a[[#This Row],[Window Frame\n(ERI/ASHRAE & Class AW only)]]=\"Metal - Curtainwall/storefront\",3,\nIF(Table6a[[#This Row],[Window Frame\n(ERI/ASHRAE & Class AW only)]]=\"Metal - Entrance door\",4,\nIF(Table6a[[#This Row],[Window Frame\n(ERI/ASHRAE & Class AW only)]]=\"Metal - Other\",5,\n\n\"\")))))))","v":""},{"$f":"IF(AND(Table6a[[#This Row],[WINDOW TYPE]]=\"Not Class AW\",$C$7=\"Prescriptive\"),3,\nIF(Table6a[[#This Row],[WINDOW TYPE]]=\"Not Class AW\",4,\n\nIF(AND(OR($C$7=\"ASHRAE\",$C$7=\"Title 24 - Whole Building Models\",$C$7=\"ERI\",$C$7=\"Title 24 - Dwelling Unit Models\"),$O20=\"< 0.25\"),7,\nIF(AND(OR($C$7=\"ASHRAE\",$C$7=\"Title 24 - Whole Building Models\",$C$7=\"ERI\",$C$7=\"Title 24 - Dwelling Unit Models\"),$O20=\"0.25 < PF < 0.5\"),8,\nIF(AND(OR($C$7=\"ASHRAE\",$C$7=\"Title 24 - Whole Building Models\",$C$7=\"ERI\",$C$7=\"Title 24 - Dwelling Unit Models\"),$O20=\">= 0.5\"),9,\n\nIF(AND(Table6a[[#This Row],[WINDOW TYPE]]=\"Class AW\",$C$7=\"Prescriptive\"),4,\n\nIF(Table6a[[#This Row],[WINDOW TYPE]]=\"Class AW\",6,\n\n\"\")))))))","v":""},5,null,null,{"$f":"IF(Table6a[[#This Row],[Total Area]]=\"\",\"\",IFERROR(Table6a[[#This Row],[Total Area]]*Table6a[[#This Row],[ASSEMBLY\nU-FACTOR]],Table6a[[#This Row],[Total Area]]*(RIGHT(Table6a[[#This Row],[ASSEMBLY\nU-FACTOR]],LEN(Table6a[[#This Row],[ASSEMBLY\nU-FACTOR]])-2))))","v":""}]
[null,null,null,"Weighted U-factor:",{"$f":"IFERROR(SUM(Table6a[Total UA])/SUM(Table6a[Total Area]),\"\")","v":0.56461920529801324}]
[null,null,null,null,null,null,null,null,null,null,null,null,null,null,null,null,null,null,null,null,null,null,null,"NOTES"]
[null,"Windows - Common Spaces"]
[null,"ID","WINDOW TYPE\n(optional)","Fixed or Operable?\n(ERI & Prescriptive Only)","Qty","Area","Total Area","Window Frame\n(ASHRAE only)","ENERGY STAR Requirement\nU-FACTOR","ENERGY STAR Requirement UA","ENERGY STAR Requirement\nSHGC","WF_UI","WF_SHGCI","CZ_I","PROJECTION FACTOR (PF)\n(ASHRAE only)","ASSEMBLY\nU-FACTOR","Total UA","SHGC ","LOCATION\n(dwg/spec)","PLAN REVIEW","INSPECTION?","INSPECTION COMMENTS"]
[null,"A","Not Class AW","Fixed",15,25,{"$f":"IF(Table6b[[#This Row],[Qty]]=\"\",\"\",Table6b[[#This Row],[Qty]]*Table6b[[#This Row],[Area]])","v":375},"Metal - Other",{"$f":"IFERROR(IF(AND($C$9=\"Version 1.2 OR+WA\",OR($C$8=\"CZ 1\",$C$8=\"CZ 2\",$C$8=\"CZ 3\",$C$8=\"CZ 4\",$C$8=\"CZ 7\",$C$8=\"CZ 8\")),\"N/A - Update CZ\",\n\nIF(AND($C$9=\"Version 1\",OR($C$7=\"ERI\",$C$7=\"Title 24 - Dwelling Unit Models\",$C$7=\"Prescriptive\")),INDEX(ESRefDesign_FenestrationAW_V1[#All],Table6b[[#This Row],[WF_UI]],Table6b[[#This Row],[CZ_I]]),\nIF(AND($C$9=\"Version 1.1\",OR($C$7=\"ERI\",$C$7=\"Title 24 - Dwelling Unit Models\",$C$7=\"Prescriptive\")),INDEX(ESRefDesign_FenestrationAW_V11[#All],Table6b[[#This Row],[WF_UI]],Table6b[[#This Row],[CZ_I]]),\nIF(AND($C$9=\"Version 1.2 OR+WA\",OR($C$7=\"ERI\",$C$7=\"Title 24 - Dwelling Unit Models\",$C$7=\"Prescriptive\")),INDEX(ESRefDesign_FenestrationAW_V12[#All],Table6b[[#This Row],[WF_UI]],Table6b[[#This Row],[CZ_I]]),\n\nIF(OR($C$7=\"ASHRAE\",$C$7=\"Title 24 - Whole Building Models\"),INDEX(IECC2009_Fenestration_AW_Windows[#All],Table6b[[#This Row],[WF_UI]],Table6b[[#This Row],[CZ_I]]),\n\"\"))))),\"\")","v":"U-0.38"},{"$f":"IF(Table6b[[#This Row],[Total Area]]=\"\",\"\",Table6b[[#This Row],[Total Area]]*(RIGHT(Table6b[[#This Row],[ENERGY STAR Requirement\nU-FACTOR]],LEN(Table6b[[#This Row],[ENERGY STAR Requirement\nU-FACTOR]])-2)))","v":142.5},{"$f":"IFERROR(IF(Table6b[[#This Row],[ID]]=\"\",\"\",\n\nIF(AND(Table6b[[#This Row],[PROJECTION FACTOR (PF)\n(ASHRAE only)]]=\"\",Table6b[[#This Row],[ID]]<>\"\",OR($C$7=\"ASHRAE\",$C$7=\"Title 24 - Whole Building Models\")),\"Enter PF\",\n\nIF(AND($C$9=\"Version 1.2 OR+WA\",OR($C$8=\"CZ 1\",$C$8=\"CZ 2\",$C$8=\"CZ 3\",$C$8=\"CZ 4\",$C$8=\"CZ 7\",$C$8=\"CZ 8\")),\"N/A - Update CZ\",\n\nIF(AND($C$9=\"Version 1\",OR($C$7=\"ERI\",$C$7=\"Title 24 - Dwelling Unit Models\",$C$7=\"Prescriptive\")),INDEX(ESRefDesign_FenestrationAW_V1[#All],Table6b[[#This Row],[WF_SHGCI]],Table6b[[#This Row],[CZ_I]]),\nIF(AND($C$9=\"Version 1.1\",OR($C$7=\"ERI\",$C$7=\"Title 24 - Dwelling Unit Models\",$C$7=\"Prescriptive\")),INDEX(ESRefDesign_FenestrationAW_V11[#All],Table6b[[#This Row],[WF_SHGCI]],Table6b[[#This Row],[CZ_I]]),\nIF(AND($C$9=\"Version 1.2 OR+WA\",OR($C$7=\"ERI\",$C$7=\"Title 24 - Dwelling Unit Models\",$C$7=\"Prescriptive\")),INDEX(ESRefDesign_FenestrationAW_V12[#All],Table6b[[#This Row],[WF_SHGCI]],Table6b[[#This Row],[CZ_I]]),\n\nIF(OR($C$7=\"ASHRAE\",$C$7=\"Title 24 - Whole Building Models\"),INDEX(IECC2009_Fenestration_AW_Windows[#All],Table6b[[#This Row],[WF_SHGCI]],Table6b[[#This Row],[CZ_I]]),\n\"\"))))))),\"\")","v":0.4},{"$f":"IF(AND(OR($C$7=\"Prescriptive\",$C$7=\"ERI\",$C$7=\"Title 24 - Dwelling Unit Models\"),Table6b[[#This Row],[Fixed or Operable?\n(ERI & Prescriptive Only)]]=\"Fixed\"),2,\nIF(AND(OR($C$7=\"Prescriptive\",$C$7=\"ERI\",$C$7=\"Title 24 - Dwelling Unit Models\"),Table6b[[#This Row],[Fixed or Operable?\n(ERI & Prescriptive Only)]]=\"Operable\"),3,\n\nIF(AND(OR($C$7=\"ASHRAE\",$C$7=\"Title 24 - Whole Building Models\"),Table6b[[#This Row],[Window Frame\n(ASHRAE only)]]=\"Non-Metal\"),2,\nIF(AND(OR($C$7=\"ASHRAE\",$C$7=\"Title 24 - Whole Building Models\"),Table6b[[#This Row],[Window Frame\n(ASHRAE only)]]=\"Metal - Curtainwall/storefront\"),3,\nIF(AND(OR($C$7=\"ASHRAE\",$C$7=\"Title 24 - Whole Building Models\"),Table6b[[#This Row],[Window Frame\n(ASHRAE only)]]=\"Metal - Entrance door\"),4,\nIF(AND(OR($C$7=\"ASHRAE\",$C$7=\"Title 24 - Whole Building Models\"),Table6b[[#This Row],[Window Frame\n(ASHRAE only)]]=\"Metal - Other\"),5,\n\n\"\"))))))","v":2},{"$f":"IF(OR($C$7=\"Prescriptive\",$C$7=\"ERI\",$C$7=\"Title 24 - Dwelling Unit Models\"),4,\n\nIF(AND(OR($C$7=\"ASHRAE\",$C$7=\"Title 24 - Whole Building Models\"),$O25=\"< 0.25\"),7,\nIF(AND(OR($C$7=\"ASHRAE\",$C$7=\"Title 24 - Whole Building Models\"),$O25=\"0.25 < PF < 0.5\"),8,\nIF(AND(OR($C$7=\"ASHRAE\",$C$7=\"Title 24 - Whole Building Models\"),$O25=\">= 0.5\"),9,\n\nIF($C$7=\"\",\"\",\"\")))))","v":4},{"$f":"IF(AND($C$9=\"Version 1.2 OR+WA\",OR($C$7=\"Prescriptive\",$C$7=\"ERI\",$C$7=\"Title 24 - Dwelling Unit Models\"),$C$8=\"CZ 4 C\"),2,\nIF(AND($C$9=\"Version 1.2 OR+WA\",OR($C$7=\"Prescriptive\",$C$7=\"ERI\",$C$7=\"Title 24 - Dwelling Unit Models\"),$C$8=\"CZ 5\"),3,\nIF(AND($C$9=\"Version 1.2 OR+WA\",OR($C$7=\"Prescriptive\",$C$7=\"ERI\",$C$7=\"Title 24 - Dwelling Unit Models\"),$C$8=\"CZ 6\"),4,\n\nIF($C$8=\"CZ 1\",2,\nIF($C$8=\"CZ 2\",3,\nIF($C$8=\"CZ 3\",4,\nIF($C$8=\"CZ 4\",5,\nIF($C$8=\"CZ 4 C\",6,\nIF($C$8=\"CZ 5\",7,\nIF($C$8=\"CZ 6\",8,\nIF($C$8=\"CZ 7\",9,\nIF($C$8=\"CZ 8\",10,\"\"))))))))))))","v":5},null,0.48,{"$f":"IF(Table6b[[#This Row],[Total Area]]=\"\",\"\",IFERROR(Table6b[[#This Row],[Total Area]]*Table6b[[#This Row],[ASSEMBLY\nU-FACTOR]],Table6b[[#This Row],[Total Area]]*(RIGHT(Table6b[[#This Row],[ASSEMBLY\nU-FACTOR]],LEN(Table6b[[#This Row],[ASSEMBLY\nU-FACTOR]])-2))))","v":180},0.3,"A-30","Yes","No"]
[null,"DD","Class AW","Fixed",20,32,{"$f":"IF(Table6b[[#This Row],[Qty]]=\"\",\"\",Table6b[[#This Row],[Qty]]*Table6b[[#This Row],[Area]])","v":640},"Metal - Curtainwall/storefront",{"$f":"IFERROR(IF(AND($C$9=\"Version 1.2 OR+WA\",OR($C$8=\"CZ 1\",$C$8=\"CZ 2\",$C$8=\"CZ 3\",$C$8=\"CZ 4\",$C$8=\"CZ 7\",$C$8=\"CZ 8\")),\"N/A - Update CZ\",\n\nIF(AND($C$9=\"Version 1\",OR($C$7=\"ERI\",$C$7=\"Title 24 - Dwelling Unit Models\",$C$7=\"Prescriptive\")),INDEX(ESRefDesign_FenestrationAW_V1[#All],Table6b[[#This Row],[WF_UI]],Table6b[[#This Row],[CZ_I]]),\nIF(AND($C$9=\"Version 1.1\",OR($C$7=\"ERI\",$C$7=\"Title 24 - Dwelling Unit Models\",$C$7=\"Prescriptive\")),INDEX(ESRefDesign_FenestrationAW_V11[#All],Table6b[[#This Row],[WF_UI]],Table6b[[#This Row],[CZ_I]]),\nIF(AND($C$9=\"Version 1.2 OR+WA\",OR($C$7=\"ERI\",$C$7=\"Title 24 - Dwelling Unit Models\",$C$7=\"Prescriptive\")),INDEX(ESRefDesign_FenestrationAW_V12[#All],Table6b[[#This Row],[WF_UI]],Table6b[[#This Row],[CZ_I]]),\n\nIF(OR($C$7=\"ASHRAE\",$C$7=\"Title 24 - Whole Building Models\"),INDEX(IECC2009_Fenestration_AW_Windows[#All],Table6b[[#This Row],[WF_UI]],Table6b[[#This Row],[CZ_I]]),\n\"\"))))),\"\")","v":"U-0.38"},{"$f":"IF(Table6b[[#This Row],[Total Area]]=\"\",\"\",Table6b[[#This Row],[Total Area]]*(RIGHT(Table6b[[#This Row],[ENERGY STAR Requirement\nU-FACTOR]],LEN(Table6b[[#This Row],[ENERGY STAR Requirement\nU-FACTOR]])-2)))","v":243.2},{"$f":"IFERROR(IF(Table6b[[#This Row],[ID]]=\"\",\"\",\n\nIF(AND(Table6b[[#This Row],[PROJECTION FACTOR (PF)\n(ASHRAE only)]]=\"\",Table6b[[#This Row],[ID]]<>\"\",OR($C$7=\"ASHRAE\",$C$7=\"Title 24 - Whole Building Models\")),\"Enter PF\",\n\nIF(AND($C$9=\"Version 1.2 OR+WA\",OR($C$8=\"CZ 1\",$C$8=\"CZ 2\",$C$8=\"CZ 3\",$C$8=\"CZ 4\",$C$8=\"CZ 7\",$C$8=\"CZ 8\")),\"N/A - Update CZ\",\n\nIF(AND($C$9=\"Version 1\",OR($C$7=\"ERI\",$C$7=\"Title 24 - Dwelling Unit Models\",$C$7=\"Prescriptive\")),INDEX(ESRefDesign_FenestrationAW_V1[#All],Table6b[[#This Row],[WF_SHGCI]],Table6b[[#This Row],[CZ_I]]),\nIF(AND($C$9=\"Version 1.1\",OR($C$7=\"ERI\",$C$7=\"Title 24 - Dwelling Unit Models\",$C$7=\"Prescriptive\")),INDEX(ESRefDesign_FenestrationAW_V11[#All],Table6b[[#This Row],[WF_SHGCI]],Table6b[[#This Row],[CZ_I]]),\nIF(AND($C$9=\"Version 1.2 OR+WA\",OR($C$7=\"ERI\",$C$7=\"Title 24 - Dwelling Unit Models\",$C$7=\"Prescriptive\")),INDEX(ESRefDesign_FenestrationAW_V12[#All],Table6b[[#This Row],[WF_SHGCI]],Table6b[[#This Row],[CZ_I]]),\n\nIF(OR($C$7=\"ASHRAE\",$C$7=\"Title 24 - Whole Building Models\"),INDEX(IECC2009_Fenestration_AW_Windows[#All],Table6b[[#This Row],[WF_SHGCI]],Table6b[[#This Row],[CZ_I]]),\n\"\"))))))),\"\")","v":0.4},{"$f":"IF(AND(OR($C$7=\"Prescriptive\",$C$7=\"ERI\",$C$7=\"Title 24 - Dwelling Unit Models\"),Table6b[[#This Row],[Fixed or Operable?\n(ERI & Prescriptive Only)]]=\"Fixed\"),2,\nIF(AND(OR($C$7=\"Prescriptive\",$C$7=\"ERI\",$C$7=\"Title 24 - Dwelling Unit Models\"),Table6b[[#This Row],[Fixed or Operable?\n(ERI & Prescriptive Only)]]=\"Operable\"),3,\n\nIF(AND(OR($C$7=\"ASHRAE\",$C$7=\"Title 24 - Whole Building Models\"),Table6b[[#This Row],[Window Frame\n(ASHRAE only)]]=\"Non-Metal\"),2,\nIF(AND(OR($C$7=\"ASHRAE\",$C$7=\"Title 24 - Whole Building Models\"),Table6b[[#This Row],[Window Frame\n(ASHRAE only)]]=\"Metal - Curtainwall/storefront\"),3,\nIF(AND(OR($C$7=\"ASHRAE\",$C$7=\"Title 24 - Whole Building Models\"),Table6b[[#This Row],[Window Frame\n(ASHRAE only)]]=\"Metal - Entrance door\"),4,\nIF(AND(OR($C$7=\"ASHRAE\",$C$7=\"Title 24 - Whole Building Models\"),Table6b[[#This Row],[Window Frame\n(ASHRAE only)]]=\"Metal - Other\"),5,\n\n\"\"))))))","v":2},{"$f":"IF(OR($C$7=\"Prescriptive\",$C$7=\"ERI\",$C$7=\"Title 24 - Dwelling Unit Models\"),4,\n\nIF(AND(OR($C$7=\"ASHRAE\",$C$7=\"Title 24 - Whole Building Models\"),$O26=\"< 0.25\"),7,\nIF(AND(OR($C$7=\"ASHRAE\",$C$7=\"Title 24 - Whole Building Models\"),$O26=\"0.25 < PF < 0.5\"),8,\nIF(AND(OR($C$7=\"ASHRAE\",$C$7=\"Title 24 - Whole Building Models\"),$O26=\">= 0.5\"),9,\n\nIF($C$7=\"\",\"\",\"\")))))","v":4},{"$f":"IF(AND($C$9=\"Version 1.2 OR+WA\",OR($C$7=\"Prescriptive\",$C$7=\"ERI\",$C$7=\"Title 24 - Dwelling Unit Models\"),$C$8=\"CZ 4 C\"),2,\nIF(AND($C$9=\"Version 1.2 OR+WA\",OR($C$7=\"Prescriptive\",$C$7=\"ERI\",$C$7=\"Title 24 - Dwelling Unit Models\"),$C$8=\"CZ 5\"),3,\nIF(AND($C$9=\"Version 1.2 OR+WA\",OR($C$7=\"Prescriptive\",$C$7=\"ERI\",$C$7=\"Title 24 - Dwelling Unit Models\"),$C$8=\"CZ 6\"),4,\n\nIF($C$8=\"CZ 1\",2,\nIF($C$8=\"CZ 2\",3,\nIF($C$8=\"CZ 3\",4,\nIF($C$8=\"CZ 4\",5,\nIF($C$8=\"CZ 4 C\",6,\nIF($C$8=\"CZ 5\",7,\nIF($C$8=\"CZ 6\",8,\nIF($C$8=\"CZ 7\",9,\nIF($C$8=\"CZ 8\",10,\"\"))))))))))))","v":5},null,0.5,{"$f":"IF(Table6b[[#This Row],[Total Area]]=\"\",\"\",IFERROR(Table6b[[#This Row],[Total Area]]*Table6b[[#This Row],[ASSEMBLY\nU-FACTOR]],Table6b[[#This Row],[Total Area]]*(RIGHT(Table6b[[#This Row],[ASSEMBLY\nU-FACTOR]],LEN(Table6b[[#This Row],[ASSEMBLY\nU-FACTOR]])-2))))","v":320},0.28999999999999998,"A-30","Yes","No"]
[null,null,null,null,null,null,{"$f":"IF(Table6b[[#This Row],[Qty]]=\"\",\"\",Table6b[[#This Row],[Qty]]*Table6b[[#This Row],[Area]])","v":""},null,{"$f":"IFERROR(IF(AND($C$9=\"Version 1.2 OR+WA\",OR($C$8=\"CZ 1\",$C$8=\"CZ 2\",$C$8=\"CZ 3\",$C$8=\"CZ 4\",$C$8=\"CZ 7\",$C$8=\"CZ 8\")),\"N/A - Update CZ\",\n\nIF(AND($C$9=\"Version 1\",OR($C$7=\"ERI\",$C$7=\"Title 24 - Dwelling Unit Models\",$C$7=\"Prescriptive\")),INDEX(ESRefDesign_FenestrationAW_V1[#All],Table6b[[#This Row],[WF_UI]],Table6b[[#This Row],[CZ_I]]),\nIF(AND($C$9=\"Version 1.1\",OR($C$7=\"ERI\",$C$7=\"Title 24 - Dwelling Unit Models\",$C$7=\"Prescriptive\")),INDEX(ESRefDesign_FenestrationAW_V11[#All],Table6b[[#This Row],[WF_UI]],Table6b[[#This Row],[CZ_I]]),\nIF(AND($C$9=\"Version 1.2 OR+WA\",OR($C$7=\"ERI\",$C$7=\"Title 24 - Dwelling Unit Models\",$C$7=\"Prescriptive\")),INDEX(ESRefDesign_FenestrationAW_V12[#All],Table6b[[#This Row],[WF_UI]],Table6b[[#This Row],[CZ_I]]),\n\nIF(OR($C$7=\"ASHRAE\",$C$7=\"Title 24 - Whole Building Models\"),INDEX(IECC2009_Fenestration_AW_Windows[#All],Table6b[[#This Row],[WF_UI]],Table6b[[#This Row],[CZ_I]]),\n\"\"))))),\"\")","v":""},{"$f":"IF(Table6b[[#This Row],[Total Area]]=\"\",\"\",Table6b[[#This Row],[Total Area]]*(RIGHT(Table6b[[#This Row],[ENERGY STAR Requirement\nU-FACTOR]],LEN(Table6b[[#This Row],[ENERGY STAR Requirement\nU-FACTOR]])-2)))","v":""},{"$f":"IFERROR(IF(Table6b[[#This Row],[ID]]=\"\",\"\",\n\nIF(AND(Table6b[[#This Row],[PROJECTION FACTOR (PF)\n(ASHRAE only)]]=\"\",Table6b[[#This Row],[ID]]<>\"\",OR($C$7=\"ASHRAE\",$C$7=\"Title 24 - Whole Building Models\")),\"Enter PF\",\n\nIF(AND($C$9=\"Version 1.2 OR+WA\",OR($C$8=\"CZ 1\",$C$8=\"CZ 2\",$C$8=\"CZ 3\",$C$8=\"CZ 4\",$C$8=\"CZ 7\",$C$8=\"CZ 8\")),\"N/A - Update CZ\",\n\nIF(AND($C$9=\"Version 1\",OR($C$7=\"ERI\",$C$7=\"Title 24 - Dwelling Unit Models\",$C$7=\"Prescriptive\")),INDEX(ESRefDesign_FenestrationAW_V1[#All],Table6b[[#This Row],[WF_SHGCI]],Table6b[[#This Row],[CZ_I]]),\nIF(AND($C$9=\"Version 1.1\",OR($C$7=\"ERI\",$C$7=\"Title 24 - Dwelling Unit Models\",$C$7=\"Prescriptive\")),INDEX(ESRefDesign_FenestrationAW_V11[#All],Table6b[[#This Row],[WF_SHGCI]],Table6b[[#This Row],[CZ_I]]),\nIF(AND($C$9=\"Version 1.2 OR+WA\",OR($C$7=\"ERI\",$C$7=\"Title 24 - Dwelling Unit Models\",$C$7=\"Prescriptive\")),INDEX(ESRefDesign_FenestrationAW_V12[#All],Table6b[[#This Row],[WF_SHGCI]],Table6b[[#This Row],[CZ_I]]),\n\nIF(OR($C$7=\"ASHRAE\",$C$7=\"Title 24 - Whole Building Models\"),INDEX(IECC2009_Fenestration_AW_Windows[#All],Table6b[[#This Row],[WF_SHGCI]],Table6b[[#This Row],[CZ_I]]),\n\"\"))))))),\"\")","v":""},{"$f":"IF(AND(OR($C$7=\"Prescriptive\",$C$7=\"ERI\",$C$7=\"Title 24 - Dwelling Unit Models\"),Table6b[[#This Row],[Fixed or Operable?\n(ERI & Prescriptive Only)]]=\"Fixed\"),2,\nIF(AND(OR($C$7=\"Prescriptive\",$C$7=\"ERI\",$C$7=\"Title 24 - Dwelling Unit Models\"),Table6b[[#This Row],[Fixed or Operable?\n(ERI & Prescriptive Only)]]=\"Operable\"),3,\n\nIF(AND(OR($C$7=\"ASHRAE\",$C$7=\"Title 24 - Whole Building Models\"),Table6b[[#This Row],[Window Frame\n(ASHRAE only)]]=\"Non-Metal\"),2,\nIF(AND(OR($C$7=\"ASHRAE\",$C$7=\"Title 24 - Whole Building Models\"),Table6b[[#This Row],[Window Frame\n(ASHRAE only)]]=\"Metal - Curtainwall/storefront\"),3,\nIF(AND(OR($C$7=\"ASHRAE\",$C$7=\"Title 24 - Whole Building Models\"),Table6b[[#This Row],[Window Frame\n(ASHRAE only)]]=\"Metal - Entrance door\"),4,\nIF(AND(OR($C$7=\"ASHRAE\",$C$7=\"Title 24 - Whole Building Models\"),Table6b[[#This Row],[Window Frame\n(ASHRAE only)]]=\"Metal - Other\"),5,\n\n\"\"))))))","v":""},4,5,null,null,{"$f":"IF(Table6b[[#This Row],[Total Area]]=\"\",\"\",IFERROR(Table6b[[#This Row],[Total Area]]*Table6b[[#This Row],[ASSEMBLY\nU-FACTOR]],Table6b[[#This Row],[Total Area]]*(RIGHT(Table6b[[#This Row],[ASSEMBLY\nU-FACTOR]],LEN(Table6b[[#This Row],[ASSEMBLY\nU-FACTOR]])-2))))","v":""}]
[null,null,null,null,null,null,{"$f":"IF(Table6b[[#This Row],[Qty]]=\"\",\"\",Table6b[[#This Row],[Qty]]*Table6b[[#This Row],[Area]])","v":""},null,{"$f":"IFERROR(IF(AND($C$9=\"Version 1.2 OR+WA\",OR($C$8=\"CZ 1\",$C$8=\"CZ 2\",$C$8=\"CZ 3\",$C$8=\"CZ 4\",$C$8=\"CZ 7\",$C$8=\"CZ 8\")),\"N/A - Update CZ\",\n\nIF(AND($C$9=\"Version 1\",OR($C$7=\"ERI\",$C$7=\"Title 24 - Dwelling Unit Models\",$C$7=\"Prescriptive\")),INDEX(ESRefDesign_FenestrationAW_V1[#All],Table6b[[#This Row],[WF_UI]],Table6b[[#This Row],[CZ_I]]),\nIF(AND($C$9=\"Version 1.1\",OR($C$7=\"ERI\",$C$7=\"Title 24 - Dwelling Unit Models\",$C$7=\"Prescriptive\")),INDEX(ESRefDesign_FenestrationAW_V11[#All],Table6b[[#This Row],[WF_UI]],Table6b[[#This Row],[CZ_I]]),\nIF(AND($C$9=\"Version 1.2 OR+WA\",OR($C$7=\"ERI\",$C$7=\"Title 24 - Dwelling Unit Models\",$C$7=\"Prescriptive\")),INDEX(ESRefDesign_FenestrationAW_V12[#All],Table6b[[#This Row],[WF_UI]],Table6b[[#This Row],[CZ_I]]),\n\nIF(OR($C$7=\"ASHRAE\",$C$7=\"Title 24 - Whole Building Models\"),INDEX(IECC2009_Fenestration_AW_Windows[#All],Table6b[[#This Row],[WF_UI]],Table6b[[#This Row],[CZ_I]]),\n\"\"))))),\"\")","v":""},{"$f":"IF(Table6b[[#This Row],[Total Area]]=\"\",\"\",Table6b[[#This Row],[Total Area]]*(RIGHT(Table6b[[#This Row],[ENERGY STAR Requirement\nU-FACTOR]],LEN(Table6b[[#This Row],[ENERGY STAR Requirement\nU-FACTOR]])-2)))","v":""},{"$f":"IFERROR(IF(Table6b[[#This Row],[ID]]=\"\",\"\",\n\nIF(AND(Table6b[[#This Row],[PROJECTION FACTOR (PF)\n(ASHRAE only)]]=\"\",Table6b[[#This Row],[ID]]<>\"\",OR($C$7=\"ASHRAE\",$C$7=\"Title 24 - Whole Building Models\")),\"Enter PF\",\n\nIF(AND($C$9=\"Version 1.2 OR+WA\",OR($C$8=\"CZ 1\",$C$8=\"CZ 2\",$C$8=\"CZ 3\",$C$8=\"CZ 4\",$C$8=\"CZ 7\",$C$8=\"CZ 8\")),\"N/A - Update CZ\",\n\nIF(AND($C$9=\"Version 1\",OR($C$7=\"ERI\",$C$7=\"Title 24 - Dwelling Unit Models\",$C$7=\"Prescriptive\")),INDEX(ESRefDesign_FenestrationAW_V1[#All],Table6b[[#This Row],[WF_SHGCI]],Table6b[[#This Row],[CZ_I]]),\nIF(AND($C$9=\"Version 1.1\",OR($C$7=\"ERI\",$C$7=\"Title 24 - Dwelling Unit Models\",$C$7=\"Prescriptive\")),INDEX(ESRefDesign_FenestrationAW_V11[#All],Table6b[[#This Row],[WF_SHGCI]],Table6b[[#This Row],[CZ_I]]),\nIF(AND($C$9=\"Version 1.2 OR+WA\",OR($C$7=\"ERI\",$C$7=\"Title 24 - Dwelling Unit Models\",$C$7=\"Prescriptive\")),INDEX(ESRefDesign_FenestrationAW_V12[#All],Table6b[[#This Row],[WF_SHGCI]],Table6b[[#This Row],[CZ_I]]),\n\nIF(OR($C$7=\"ASHRAE\",$C$7=\"Title 24 - Whole Building Models\"),INDEX(IECC2009_Fenestration_AW_Windows[#All],Table6b[[#This Row],[WF_SHGCI]],Table6b[[#This Row],[CZ_I]]),\n\"\"))))))),\"\")","v":""},{"$f":"IF(AND(OR($C$7=\"Prescriptive\",$C$7=\"ERI\",$C$7=\"Title 24 - Dwelling Unit Models\"),Table6b[[#This Row],[Fixed or Operable?\n(ERI & Prescriptive Only)]]=\"Fixed\"),2,\nIF(AND(OR($C$7=\"Prescriptive\",$C$7=\"ERI\",$C$7=\"Title 24 - Dwelling Unit Models\"),Table6b[[#This Row],[Fixed or Operable?\n(ERI & Prescriptive Only)]]=\"Operable\"),3,\n\nIF(AND(OR($C$7=\"ASHRAE\",$C$7=\"Title 24 - Whole Building Models\"),Table6b[[#This Row],[Window Frame\n(ASHRAE only)]]=\"Non-Metal\"),2,\nIF(AND(OR($C$7=\"ASHRAE\",$C$7=\"Title 24 - Whole Building Models\"),Table6b[[#This Row],[Window Frame\n(ASHRAE only)]]=\"Metal - Curtainwall/storefront\"),3,\nIF(AND(OR($C$7=\"ASHRAE\",$C$7=\"Title 24 - Whole Building Models\"),Table6b[[#This Row],[Window Frame\n(ASHRAE only)]]=\"Metal - Entrance door\"),4,\nIF(AND(OR($C$7=\"ASHRAE\",$C$7=\"Title 24 - Whole Building Models\"),Table6b[[#This Row],[Window Frame\n(ASHRAE only)]]=\"Metal - Other\"),5,\n\n\"\"))))))","v":""},{"$f":"IF(OR($C$7=\"Prescriptive\",$C$7=\"ERI\",$C$7=\"Title 24 - Dwelling Unit Models\"),4,\n\nIF(AND(OR($C$7=\"ASHRAE\",$C$7=\"Title 24 - Whole Building Models\"),$O28=\"< 0.25\"),7,\nIF(AND(OR($C$7=\"ASHRAE\",$C$7=\"Title 24 - Whole Building Models\"),$O28=\"0.25 < PF < 0.5\"),8,\nIF(AND(OR($C$7=\"ASHRAE\",$C$7=\"Title 24 - Whole Building Models\"),$O28=\">= 0.5\"),9,\n\nIF($C$7=\"\",\"\",\"\")))))","v":4},{"$f":"IF(AND($C$9=\"Version 1.2 OR+WA\",OR($C$7=\"Prescriptive\",$C$7=\"ERI\",$C$7=\"Title 24 - Dwelling Unit Models\"),$C$8=\"CZ 4 C\"),2,\nIF(AND($C$9=\"Version 1.2 OR+WA\",OR($C$7=\"Prescriptive\",$C$7=\"ERI\",$C$7=\"Title 24 - Dwelling Unit Models\"),$C$8=\"CZ 5\"),3,\nIF(AND($C$9=\"Version 1.2 OR+WA\",OR($C$7=\"Prescriptive\",$C$7=\"ERI\",$C$7=\"Title 24 - Dwelling Unit Models\"),$C$8=\"CZ 6\"),4,\n\nIF($C$8=\"CZ 1\",2,\nIF($C$8=\"CZ 2\",3,\nIF($C$8=\"CZ 3\",4,\nIF($C$8=\"CZ 4\",5,\nIF($C$8=\"CZ 4 C\",6,\nIF($C$8=\"CZ 5\",7,\nIF($C$8=\"CZ 6\",8,\nIF($C$8=\"CZ 7\",9,\nIF($C$8=\"CZ 8\",10,\"\"))))))))))))","v":5},null,null,{"$f":"IF(Table6b[[#This Row],[Total Area]]=\"\",\"\",IFERROR(Table6b[[#This Row],[Total Area]]*Table6b[[#This Row],[ASSEMBLY\nU-FACTOR]],Table6b[[#This Row],[Total Area]]*(RIGHT(Table6b[[#This Row],[ASSEMBLY\nU-FACTOR]],LEN(Table6b[[#This Row],[ASSEMBLY\nU-FACTOR]])-2))))","v":""}]
[null,null,null,null,null,null,{"$f":"IF(Table6b[[#This Row],[Qty]]=\"\",\"\",Table6b[[#This Row],[Qty]]*Table6b[[#This Row],[Area]])","v":""},null,{"$f":"IFERROR(IF(AND($C$9=\"Version 1.2 OR+WA\",OR($C$8=\"CZ 1\",$C$8=\"CZ 2\",$C$8=\"CZ 3\",$C$8=\"CZ 4\",$C$8=\"CZ 7\",$C$8=\"CZ 8\")),\"N/A - Update CZ\",\n\nIF(AND($C$9=\"Version 1\",OR($C$7=\"ERI\",$C$7=\"Title 24 - Dwelling Unit Models\",$C$7=\"Prescriptive\")),INDEX(ESRefDesign_FenestrationAW_V1[#All],Table6b[[#This Row],[WF_UI]],Table6b[[#This Row],[CZ_I]]),\nIF(AND($C$9=\"Version 1.1\",OR($C$7=\"ERI\",$C$7=\"Title 24 - Dwelling Unit Models\",$C$7=\"Prescriptive\")),INDEX(ESRefDesign_FenestrationAW_V11[#All],Table6b[[#This Row],[WF_UI]],Table6b[[#This Row],[CZ_I]]),\nIF(AND($C$9=\"Version 1.2 OR+WA\",OR($C$7=\"ERI\",$C$7=\"Title 24 - Dwelling Unit Models\",$C$7=\"Prescriptive\")),INDEX(ESRefDesign_FenestrationAW_V12[#All],Table6b[[#This Row],[WF_UI]],Table6b[[#This Row],[CZ_I]]),\n\nIF(OR($C$7=\"ASHRAE\",$C$7=\"Title 24 - Whole Building Models\"),INDEX(IECC2009_Fenestration_AW_Windows[#All],Table6b[[#This Row],[WF_UI]],Table6b[[#This Row],[CZ_I]]),\n\"\"))))),\"\")","v":""},{"$f":"IF(Table6b[[#This Row],[Total Area]]=\"\",\"\",Table6b[[#This Row],[Total Area]]*(RIGHT(Table6b[[#This Row],[ENERGY STAR Requirement\nU-FACTOR]],LEN(Table6b[[#This Row],[ENERGY STAR Requirement\nU-FACTOR]])-2)))","v":""},{"$f":"IFERROR(IF(Table6b[[#This Row],[ID]]=\"\",\"\",\n\nIF(AND(Table6b[[#This Row],[PROJECTION FACTOR (PF)\n(ASHRAE only)]]=\"\",Table6b[[#This Row],[ID]]<>\"\",OR($C$7=\"ASHRAE\",$C$7=\"Title 24 - Whole Building Models\")),\"Enter PF\",\n\nIF(AND($C$9=\"Version 1.2 OR+WA\",OR($C$8=\"CZ 1\",$C$8=\"CZ 2\",$C$8=\"CZ 3\",$C$8=\"CZ 4\",$C$8=\"CZ 7\",$C$8=\"CZ 8\")),\"N/A - Update CZ\",\n\nIF(AND($C$9=\"Version 1\",OR($C$7=\"ERI\",$C$7=\"Title 24 - Dwelling Unit Models\",$C$7=\"Prescriptive\")),INDEX(ESRefDesign_FenestrationAW_V1[#All],Table6b[[#This Row],[WF_SHGCI]],Table6b[[#This Row],[CZ_I]]),\nIF(AND($C$9=\"Version 1.1\",OR($C$7=\"ERI\",$C$7=\"Title 24 - Dwelling Unit Models\",$C$7=\"Prescriptive\")),INDEX(ESRefDesign_FenestrationAW_V11[#All],Table6b[[#This Row],[WF_SHGCI]],Table6b[[#This Row],[CZ_I]]),\nIF(AND($C$9=\"Version 1.2 OR+WA\",OR($C$7=\"ERI\",$C$7=\"Title 24 - Dwelling Unit Models\",$C$7=\"Prescriptive\")),INDEX(ESRefDesign_FenestrationAW_V12[#All],Table6b[[#This Row],[WF_SHGCI]],Table6b[[#This Row],[CZ_I]]),\n\nIF(OR($C$7=\"ASHRAE\",$C$7=\"Title 24 - Whole Building Models\"),INDEX(IECC2009_Fenestration_AW_Windows[#All],Table6b[[#This Row],[WF_SHGCI]],Table6b[[#This Row],[CZ_I]]),\n\"\"))))))),\"\")","v":""},{"$f":"IF(AND(OR($C$7=\"Prescriptive\",$C$7=\"ERI\",$C$7=\"Title 24 - Dwelling Unit Models\"),Table6b[[#This Row],[Fixed or Operable?\n(ERI & Prescriptive Only)]]=\"Fixed\"),2,\nIF(AND(OR($C$7=\"Prescriptive\",$C$7=\"ERI\",$C$7=\"Title 24 - Dwelling Unit Models\"),Table6b[[#This Row],[Fixed or Operable?\n(ERI & Prescriptive Only)]]=\"Operable\"),3,\n\nIF(AND(OR($C$7=\"ASHRAE\",$C$7=\"Title 24 - Whole Building Models\"),Table6b[[#This Row],[Window Frame\n(ASHRAE only)]]=\"Non-Metal\"),2,\nIF(AND(OR($C$7=\"ASHRAE\",$C$7=\"Title 24 - Whole Building Models\"),Table6b[[#This Row],[Window Frame\n(ASHRAE only)]]=\"Metal - Curtainwall/storefront\"),3,\nIF(AND(OR($C$7=\"ASHRAE\",$C$7=\"Title 24 - Whole Building Models\"),Table6b[[#This Row],[Window Frame\n(ASHRAE only)]]=\"Metal - Entrance door\"),4,\nIF(AND(OR($C$7=\"ASHRAE\",$C$7=\"Title 24 - Whole Building Models\"),Table6b[[#This Row],[Window Frame\n(ASHRAE only)]]=\"Metal - Other\"),5,\n\n\"\"))))))","v":""},4,5,null,null,{"$f":"IF(Table6b[[#This Row],[Total Area]]=\"\",\"\",IFERROR(Table6b[[#This Row],[Total Area]]*Table6b[[#This Row],[ASSEMBLY\nU-FACTOR]],Table6b[[#This Row],[Total Area]]*(RIGHT(Table6b[[#This Row],[ASSEMBLY\nU-FACTOR]],LEN(Table6b[[#This Row],[ASSEMBLY\nU-FACTOR]])-2))))","v":""}]
[null,null,null,null,null,null,{"$f":"IF(Table6b[[#This Row],[Qty]]=\"\",\"\",Table6b[[#This Row],[Qty]]*Table6b[[#This Row],[Area]])","v":""},null,{"$f":"IFERROR(IF(AND($C$9=\"Version 1.2 OR+WA\",OR($C$8=\"CZ 1\",$C$8=\"CZ 2\",$C$8=\"CZ 3\",$C$8=\"CZ 4\",$C$8=\"CZ 7\",$C$8=\"CZ 8\")),\"N/A - Update CZ\",\n\nIF(AND($C$9=\"Version 1\",OR($C$7=\"ERI\",$C$7=\"Title 24 - Dwelling Unit Models\",$C$7=\"Prescriptive\")),INDEX(ESRefDesign_FenestrationAW_V1[#All],Table6b[[#This Row],[WF_UI]],Table6b[[#This Row],[CZ_I]]),\nIF(AND($C$9=\"Version 1.1\",OR($C$7=\"ERI\",$C$7=\"Title 24 - Dwelling Unit Models\",$C$7=\"Prescriptive\")),INDEX(ESRefDesign_FenestrationAW_V11[#All],Table6b[[#This Row],[WF_UI]],Table6b[[#This Row],[CZ_I]]),\nIF(AND($C$9=\"Version 1.2 OR+WA\",OR($C$7=\"ERI\",$C$7=\"Title 24 - Dwelling Unit Models\",$C$7=\"Prescriptive\")),INDEX(ESRefDesign_FenestrationAW_V12[#All],Table6b[[#This Row],[WF_UI]],Table6b[[#This Row],[CZ_I]]),\n\nIF(OR($C$7=\"ASHRAE\",$C$7=\"Title 24 - Whole Building Models\"),INDEX(IECC2009_Fenestration_AW_Windows[#All],Table6b[[#This Row],[WF_UI]],Table6b[[#This Row],[CZ_I]]),\n\"\"))))),\"\")","v":""},{"$f":"IF(Table6b[[#This Row],[Total Area]]=\"\",\"\",Table6b[[#This Row],[Total Area]]*(RIGHT(Table6b[[#This Row],[ENERGY STAR Requirement\nU-FACTOR]],LEN(Table6b[[#This Row],[ENERGY STAR Requirement\nU-FACTOR]])-2)))","v":""},{"$f":"IFERROR(IF(Table6b[[#This Row],[ID]]=\"\",\"\",\n\nIF(AND(Table6b[[#This Row],[PROJECTION FACTOR (PF)\n(ASHRAE only)]]=\"\",Table6b[[#This Row],[ID]]<>\"\",OR($C$7=\"ASHRAE\",$C$7=\"Title 24 - Whole Building Models\")),\"Enter PF\",\n\nIF(AND($C$9=\"Version 1.2 OR+WA\",OR($C$8=\"CZ 1\",$C$8=\"CZ 2\",$C$8=\"CZ 3\",$C$8=\"CZ 4\",$C$8=\"CZ 7\",$C$8=\"CZ 8\")),\"N/A - Update CZ\",\n\nIF(AND($C$9=\"Version 1\",OR($C$7=\"ERI\",$C$7=\"Title 24 - Dwelling Unit Models\",$C$7=\"Prescriptive\")),INDEX(ESRefDesign_FenestrationAW_V1[#All],Table6b[[#This Row],[WF_SHGCI]],Table6b[[#This Row],[CZ_I]]),\nIF(AND($C$9=\"Version 1.1\",OR($C$7=\"ERI\",$C$7=\"Title 24 - Dwelling Unit Models\",$C$7=\"Prescriptive\")),INDEX(ESRefDesign_FenestrationAW_V11[#All],Table6b[[#This Row],[WF_SHGCI]],Table6b[[#This Row],[CZ_I]]),\nIF(AND($C$9=\"Version 1.2 OR+WA\",OR($C$7=\"ERI\",$C$7=\"Title 24 - Dwelling Unit Models\",$C$7=\"Prescriptive\")),INDEX(ESRefDesign_FenestrationAW_V12[#All],Table6b[[#This Row],[WF_SHGCI]],Table6b[[#This Row],[CZ_I]]),\n\nIF(OR($C$7=\"ASHRAE\",$C$7=\"Title 24 - Whole Building Models\"),INDEX(IECC2009_Fenestration_AW_Windows[#All],Table6b[[#This Row],[WF_SHGCI]],Table6b[[#This Row],[CZ_I]]),\n\"\"))))))),\"\")","v":""},{"$f":"IF(AND(OR($C$7=\"Prescriptive\",$C$7=\"ERI\",$C$7=\"Title 24 - Dwelling Unit Models\"),Table6b[[#This Row],[Fixed or Operable?\n(ERI & Prescriptive Only)]]=\"Fixed\"),2,\nIF(AND(OR($C$7=\"Prescriptive\",$C$7=\"ERI\",$C$7=\"Title 24 - Dwelling Unit Models\"),Table6b[[#This Row],[Fixed or Operable?\n(ERI & Prescriptive Only)]]=\"Operable\"),3,\n\nIF(AND(OR($C$7=\"ASHRAE\",$C$7=\"Title 24 - Whole Building Models\"),Table6b[[#This Row],[Window Frame\n(ASHRAE only)]]=\"Non-Metal\"),2,\nIF(AND(OR($C$7=\"ASHRAE\",$C$7=\"Title 24 - Whole Building Models\"),Table6b[[#This Row],[Window Frame\n(ASHRAE only)]]=\"Metal - Curtainwall/storefront\"),3,\nIF(AND(OR($C$7=\"ASHRAE\",$C$7=\"Title 24 - Whole Building Models\"),Table6b[[#This Row],[Window Frame\n(ASHRAE only)]]=\"Metal - Entrance door\"),4,\nIF(AND(OR($C$7=\"ASHRAE\",$C$7=\"Title 24 - Whole Building Models\"),Table6b[[#This Row],[Window Frame\n(ASHRAE only)]]=\"Metal - Other\"),5,\n\n\"\"))))))","v":""},{"$f":"IF(OR($C$7=\"Prescriptive\",$C$7=\"ERI\",$C$7=\"Title 24 - Dwelling Unit Models\"),4,\n\nIF(AND(OR($C$7=\"ASHRAE\",$C$7=\"Title 24 - Whole Building Models\"),$O30=\"< 0.25\"),7,\nIF(AND(OR($C$7=\"ASHRAE\",$C$7=\"Title 24 - Whole Building Models\"),$O30=\"0.25 < PF < 0.5\"),8,\nIF(AND(OR($C$7=\"ASHRAE\",$C$7=\"Title 24 - Whole Building Models\"),$O30=\">= 0.5\"),9,\n\nIF($C$7=\"\",\"\",\"\")))))","v":4},{"$f":"IF(AND($C$9=\"Version 1.2 OR+WA\",OR($C$7=\"Prescriptive\",$C$7=\"ERI\",$C$7=\"Title 24 - Dwelling Unit Models\"),$C$8=\"CZ 4 C\"),2,\nIF(AND($C$9=\"Version 1.2 OR+WA\",OR($C$7=\"Prescriptive\",$C$7=\"ERI\",$C$7=\"Title 24 - Dwelling Unit Models\"),$C$8=\"CZ 5\"),3,\nIF(AND($C$9=\"Version 1.2 OR+WA\",OR($C$7=\"Prescriptive\",$C$7=\"ERI\",$C$7=\"Title 24 - Dwelling Unit Models\"),$C$8=\"CZ 6\"),4,\n\nIF($C$8=\"CZ 1\",2,\nIF($C$8=\"CZ 2\",3,\nIF($C$8=\"CZ 3\",4,\nIF($C$8=\"CZ 4\",5,\nIF($C$8=\"CZ 4 C\",6,\nIF($C$8=\"CZ 5\",7,\nIF($C$8=\"CZ 6\",8,\nIF($C$8=\"CZ 7\",9,\nIF($C$8=\"CZ 8\",10,\"\"))))))))))))","v":5},null,null,{"$f":"IF(Table6b[[#This Row],[Total Area]]=\"\",\"\",IFERROR(Table6b[[#This Row],[Total Area]]*Table6b[[#This Row],[ASSEMBLY\nU-FACTOR]],Table6b[[#This Row],[Total Area]]*(RIGHT(Table6b[[#This Row],[ASSEMBLY\nU-FACTOR]],LEN(Table6b[[#This Row],[ASSEMBLY\nU-FACTOR]])-2))))","v":""}]
[null,null,null,null,null,null,{"$f":"IF(Table6b[[#This Row],[Qty]]=\"\",\"\",Table6b[[#This Row],[Qty]]*Table6b[[#This Row],[Area]])","v":""},null,{"$f":"IFERROR(IF(AND($C$9=\"Version 1.2 OR+WA\",OR($C$8=\"CZ 1\",$C$8=\"CZ 2\",$C$8=\"CZ 3\",$C$8=\"CZ 4\",$C$8=\"CZ 7\",$C$8=\"CZ 8\")),\"N/A - Update CZ\",\n\nIF(AND($C$9=\"Version 1\",OR($C$7=\"ERI\",$C$7=\"Title 24 - Dwelling Unit Models\",$C$7=\"Prescriptive\")),INDEX(ESRefDesign_FenestrationAW_V1[#All],Table6b[[#This Row],[WF_UI]],Table6b[[#This Row],[CZ_I]]),\nIF(AND($C$9=\"Version 1.1\",OR($C$7=\"ERI\",$C$7=\"Title 24 - Dwelling Unit Models\",$C$7=\"Prescriptive\")),INDEX(ESRefDesign_FenestrationAW_V11[#All],Table6b[[#This Row],[WF_UI]],Table6b[[#This Row],[CZ_I]]),\nIF(AND($C$9=\"Version 1.2 OR+WA\",OR($C$7=\"ERI\",$C$7=\"Title 24 - Dwelling Unit Models\",$C$7=\"Prescriptive\")),INDEX(ESRefDesign_FenestrationAW_V12[#All],Table6b[[#This Row],[WF_UI]],Table6b[[#This Row],[CZ_I]]),\n\nIF(OR($C$7=\"ASHRAE\",$C$7=\"Title 24 - Whole Building Models\"),INDEX(IECC2009_Fenestration_AW_Windows[#All],Table6b[[#This Row],[WF_UI]],Table6b[[#This Row],[CZ_I]]),\n\"\"))))),\"\")","v":""},{"$f":"IF(Table6b[[#This Row],[Total Area]]=\"\",\"\",Table6b[[#This Row],[Total Area]]*(RIGHT(Table6b[[#This Row],[ENERGY STAR Requirement\nU-FACTOR]],LEN(Table6b[[#This Row],[ENERGY STAR Requirement\nU-FACTOR]])-2)))","v":""},{"$f":"IFERROR(IF(Table6b[[#This Row],[ID]]=\"\",\"\",\n\nIF(AND(Table6b[[#This Row],[PROJECTION FACTOR (PF)\n(ASHRAE only)]]=\"\",Table6b[[#This Row],[ID]]<>\"\",OR($C$7=\"ASHRAE\",$C$7=\"Title 24 - Whole Building Models\")),\"Enter PF\",\n\nIF(AND($C$9=\"Version 1.2 OR+WA\",OR($C$8=\"CZ 1\",$C$8=\"CZ 2\",$C$8=\"CZ 3\",$C$8=\"CZ 4\",$C$8=\"CZ 7\",$C$8=\"CZ 8\")),\"N/A - Update CZ\",\n\nIF(AND($C$9=\"Version 1\",OR($C$7=\"ERI\",$C$7=\"Title 24 - Dwelling Unit Models\",$C$7=\"Prescriptive\")),INDEX(ESRefDesign_FenestrationAW_V1[#All],Table6b[[#This Row],[WF_SHGCI]],Table6b[[#This Row],[CZ_I]]),\nIF(AND($C$9=\"Version 1.1\",OR($C$7=\"ERI\",$C$7=\"Title 24 - Dwelling Unit Models\",$C$7=\"Prescriptive\")),INDEX(ESRefDesign_FenestrationAW_V11[#All],Table6b[[#This Row],[WF_SHGCI]],Table6b[[#This Row],[CZ_I]]),\nIF(AND($C$9=\"Version 1.2 OR+WA\",OR($C$7=\"ERI\",$C$7=\"Title 24 - Dwelling Unit Models\",$C$7=\"Prescriptive\")),INDEX(ESRefDesign_FenestrationAW_V12[#All],Table6b[[#This Row],[WF_SHGCI]],Table6b[[#This Row],[CZ_I]]),\n\nIF(OR($C$7=\"ASHRAE\",$C$7=\"Title 24 - Whole Building Models\"),INDEX(IECC2009_Fenestration_AW_Windows[#All],Table6b[[#This Row],[WF_SHGCI]],Table6b[[#This Row],[CZ_I]]),\n\"\"))))))),\"\")","v":""},{"$f":"IF(AND(OR($C$7=\"Prescriptive\",$C$7=\"ERI\",$C$7=\"Title 24 - Dwelling Unit Models\"),Table6b[[#This Row],[Fixed or Operable?\n(ERI & Prescriptive Only)]]=\"Fixed\"),2,\nIF(AND(OR($C$7=\"Prescriptive\",$C$7=\"ERI\",$C$7=\"Title 24 - Dwelling Unit Models\"),Table6b[[#This Row],[Fixed or Operable?\n(ERI & Prescriptive Only)]]=\"Operable\"),3,\n\nIF(AND(OR($C$7=\"ASHRAE\",$C$7=\"Title 24 - Whole Building Models\"),Table6b[[#This Row],[Window Frame\n(ASHRAE only)]]=\"Non-Metal\"),2,\nIF(AND(OR($C$7=\"ASHRAE\",$C$7=\"Title 24 - Whole Building Models\"),Table6b[[#This Row],[Window Frame\n(ASHRAE only)]]=\"Metal - Curtainwall/storefront\"),3,\nIF(AND(OR($C$7=\"ASHRAE\",$C$7=\"Title 24 - Whole Building Models\"),Table6b[[#This Row],[Window Frame\n(ASHRAE only)]]=\"Metal - Entrance door\"),4,\nIF(AND(OR($C$7=\"ASHRAE\",$C$7=\"Title 24 - Whole Building Models\"),Table6b[[#This Row],[Window Frame\n(ASHRAE only)]]=\"Metal - Other\"),5,\n\n\"\"))))))","v":""},4,5,null,null,{"$f":"IF(Table6b[[#This Row],[Total Area]]=\"\",\"\",IFERROR(Table6b[[#This Row],[Total Area]]*Table6b[[#This Row],[ASSEMBLY\nU-FACTOR]],Table6b[[#This Row],[Total Area]]*(RIGHT(Table6b[[#This Row],[ASSEMBLY\nU-FACTOR]],LEN(Table6b[[#This Row],[ASSEMBLY\nU-FACTOR]])-2))))","v":""}]
[null,null,null,null,null,null,{"$f":"IF(Table6b[[#This Row],[Qty]]=\"\",\"\",Table6b[[#This Row],[Qty]]*Table6b[[#This Row],[Area]])","v":""},null,{"$f":"IFERROR(IF(AND($C$9=\"Version 1.2 OR+WA\",OR($C$8=\"CZ 1\",$C$8=\"CZ 2\",$C$8=\"CZ 3\",$C$8=\"CZ 4\",$C$8=\"CZ 7\",$C$8=\"CZ 8\")),\"N/A - Update CZ\",\n\nIF(AND($C$9=\"Version 1\",OR($C$7=\"ERI\",$C$7=\"Title 24 - Dwelling Unit Models\",$C$7=\"Prescriptive\")),INDEX(ESRefDesign_FenestrationAW_V1[#All],Table6b[[#This Row],[WF_UI]],Table6b[[#This Row],[CZ_I]]),\nIF(AND($C$9=\"Version 1.1\",OR($C$7=\"ERI\",$C$7=\"Title 24 - Dwelling Unit Models\",$C$7=\"Prescriptive\")),INDEX(ESRefDesign_FenestrationAW_V11[#All],Table6b[[#This Row],[WF_UI]],Table6b[[#This Row],[CZ_I]]),\nIF(AND($C$9=\"Version 1.2 OR+WA\",OR($C$7=\"ERI\",$C$7=\"Title 24 - Dwelling Unit Models\",$C$7=\"Prescriptive\")),INDEX(ESRefDesign_FenestrationAW_V12[#All],Table6b[[#This Row],[WF_UI]],Table6b[[#This Row],[CZ_I]]),\n\nIF(OR($C$7=\"ASHRAE\",$C$7=\"Title 24 - Whole Building Models\"),INDEX(IECC2009_Fenestration_AW_Windows[#All],Table6b[[#This Row],[WF_UI]],Table6b[[#This Row],[CZ_I]]),\n\"\"))))),\"\")","v":""},{"$f":"IF(Table6b[[#This Row],[Total Area]]=\"\",\"\",Table6b[[#This Row],[Total Area]]*(RIGHT(Table6b[[#This Row],[ENERGY STAR Requirement\nU-FACTOR]],LEN(Table6b[[#This Row],[ENERGY STAR Requirement\nU-FACTOR]])-2)))","v":""},{"$f":"IFERROR(IF(Table6b[[#This Row],[ID]]=\"\",\"\",\n\nIF(AND(Table6b[[#This Row],[PROJECTION FACTOR (PF)\n(ASHRAE only)]]=\"\",Table6b[[#This Row],[ID]]<>\"\",OR($C$7=\"ASHRAE\",$C$7=\"Title 24 - Whole Building Models\")),\"Enter PF\",\n\nIF(AND($C$9=\"Version 1.2 OR+WA\",OR($C$8=\"CZ 1\",$C$8=\"CZ 2\",$C$8=\"CZ 3\",$C$8=\"CZ 4\",$C$8=\"CZ 7\",$C$8=\"CZ 8\")),\"N/A - Update CZ\",\n\nIF(AND($C$9=\"Version 1\",OR($C$7=\"ERI\",$C$7=\"Title 24 - Dwelling Unit Models\",$C$7=\"Prescriptive\")),INDEX(ESRefDesign_FenestrationAW_V1[#All],Table6b[[#This Row],[WF_SHGCI]],Table6b[[#This Row],[CZ_I]]),\nIF(AND($C$9=\"Version 1.1\",OR($C$7=\"ERI\",$C$7=\"Title 24 - Dwelling Unit Models\",$C$7=\"Prescriptive\")),INDEX(ESRefDesign_FenestrationAW_V11[#All],Table6b[[#This Row],[WF_SHGCI]],Table6b[[#This Row],[CZ_I]]),\nIF(AND($C$9=\"Version 1.2 OR+WA\",OR($C$7=\"ERI\",$C$7=\"Title 24 - Dwelling Unit Models\",$C$7=\"Prescriptive\")),INDEX(ESRefDesign_FenestrationAW_V12[#All],Table6b[[#This Row],[WF_SHGCI]],Table6b[[#This Row],[CZ_I]]),\n\nIF(OR($C$7=\"ASHRAE\",$C$7=\"Title 24 - Whole Building Models\"),INDEX(IECC2009_Fenestration_AW_Windows[#All],Table6b[[#This Row],[WF_SHGCI]],Table6b[[#This Row],[CZ_I]]),\n\"\"))))))),\"\")","v":""},{"$f":"IF(AND(OR($C$7=\"Prescriptive\",$C$7=\"ERI\",$C$7=\"Title 24 - Dwelling Unit Models\"),Table6b[[#This Row],[Fixed or Operable?\n(ERI & Prescriptive Only)]]=\"Fixed\"),2,\nIF(AND(OR($C$7=\"Prescriptive\",$C$7=\"ERI\",$C$7=\"Title 24 - Dwelling Unit Models\"),Table6b[[#This Row],[Fixed or Operable?\n(ERI & Prescriptive Only)]]=\"Operable\"),3,\n\nIF(AND(OR($C$7=\"ASHRAE\",$C$7=\"Title 24 - Whole Building Models\"),Table6b[[#This Row],[Window Frame\n(ASHRAE only)]]=\"Non-Metal\"),2,\nIF(AND(OR($C$7=\"ASHRAE\",$C$7=\"Title 24 - Whole Building Models\"),Table6b[[#This Row],[Window Frame\n(ASHRAE only)]]=\"Metal - Curtainwall/storefront\"),3,\nIF(AND(OR($C$7=\"ASHRAE\",$C$7=\"Title 24 - Whole Building Models\"),Table6b[[#This Row],[Window Frame\n(ASHRAE only)]]=\"Metal - Entrance door\"),4,\nIF(AND(OR($C$7=\"ASHRAE\",$C$7=\"Title 24 - Whole Building Models\"),Table6b[[#This Row],[Window Frame\n(ASHRAE only)]]=\"Metal - Other\"),5,\n\n\"\"))))))","v":""},4,5,null,null,{"$f":"IF(Table6b[[#This Row],[Total Area]]=\"\",\"\",IFERROR(Table6b[[#This Row],[Total Area]]*Table6b[[#This Row],[ASSEMBLY\nU-FACTOR]],Table6b[[#This Row],[Total Area]]*(RIGHT(Table6b[[#This Row],[ASSEMBLY\nU-FACTOR]],LEN(Table6b[[#This Row],[ASSEMBLY\nU-FACTOR]])-2))))","v":""}]
[null,null,null,null,null,null,{"$f":"IF(Table6b[[#This Row],[Qty]]=\"\",\"\",Table6b[[#This Row],[Qty]]*Table6b[[#This Row],[Area]])","v":""},null,{"$f":"IFERROR(IF(AND($C$9=\"Version 1.2 OR+WA\",OR($C$8=\"CZ 1\",$C$8=\"CZ 2\",$C$8=\"CZ 3\",$C$8=\"CZ 4\",$C$8=\"CZ 7\",$C$8=\"CZ 8\")),\"N/A - Update CZ\",\n\nIF(AND($C$9=\"Version 1\",OR($C$7=\"ERI\",$C$7=\"Title 24 - Dwelling Unit Models\",$C$7=\"Prescriptive\")),INDEX(ESRefDesign_FenestrationAW_V1[#All],Table6b[[#This Row],[WF_UI]],Table6b[[#This Row],[CZ_I]]),\nIF(AND($C$9=\"Version 1.1\",OR($C$7=\"ERI\",$C$7=\"Title 24 - Dwelling Unit Models\",$C$7=\"Prescriptive\")),INDEX(ESRefDesign_FenestrationAW_V11[#All],Table6b[[#This Row],[WF_UI]],Table6b[[#This Row],[CZ_I]]),\nIF(AND($C$9=\"Version 1.2 OR+WA\",OR($C$7=\"ERI\",$C$7=\"Title 24 - Dwelling Unit Models\",$C$7=\"Prescriptive\")),INDEX(ESRefDesign_FenestrationAW_V12[#All],Table6b[[#This Row],[WF_UI]],Table6b[[#This Row],[CZ_I]]),\n\nIF(OR($C$7=\"ASHRAE\",$C$7=\"Title 24 - Whole Building Models\"),INDEX(IECC2009_Fenestration_AW_Windows[#All],Table6b[[#This Row],[WF_UI]],Table6b[[#This Row],[CZ_I]]),\n\"\"))))),\"\")","v":""},{"$f":"IF(Table6b[[#This Row],[Total Area]]=\"\",\"\",Table6b[[#This Row],[Total Area]]*(RIGHT(Table6b[[#This Row],[ENERGY STAR Requirement\nU-FACTOR]],LEN(Table6b[[#This Row],[ENERGY STAR Requirement\nU-FACTOR]])-2)))","v":""},{"$f":"IFERROR(IF(Table6b[[#This Row],[ID]]=\"\",\"\",\n\nIF(AND(Table6b[[#This Row],[PROJECTION FACTOR (PF)\n(ASHRAE only)]]=\"\",Table6b[[#This Row],[ID]]<>\"\",OR($C$7=\"ASHRAE\",$C$7=\"Title 24 - Whole Building Models\")),\"Enter PF\",\n\nIF(AND($C$9=\"Version 1.2 OR+WA\",OR($C$8=\"CZ 1\",$C$8=\"CZ 2\",$C$8=\"CZ 3\",$C$8=\"CZ 4\",$C$8=\"CZ 7\",$C$8=\"CZ 8\")),\"N/A - Update CZ\",\n\nIF(AND($C$9=\"Version 1\",OR($C$7=\"ERI\",$C$7=\"Title 24 - Dwelling Unit Models\",$C$7=\"Prescriptive\")),INDEX(ESRefDesign_FenestrationAW_V1[#All],Table6b[[#This Row],[WF_SHGCI]],Table6b[[#This Row],[CZ_I]]),\nIF(AND($C$9=\"Version 1.1\",OR($C$7=\"ERI\",$C$7=\"Title 24 - Dwelling Unit Models\",$C$7=\"Prescriptive\")),INDEX(ESRefDesign_FenestrationAW_V11[#All],Table6b[[#This Row],[WF_SHGCI]],Table6b[[#This Row],[CZ_I]]),\nIF(AND($C$9=\"Version 1.2 OR+WA\",OR($C$7=\"ERI\",$C$7=\"Title 24 - Dwelling Unit Models\",$C$7=\"Prescriptive\")),INDEX(ESRefDesign_FenestrationAW_V12[#All],Table6b[[#This Row],[WF_SHGCI]],Table6b[[#This Row],[CZ_I]]),\n\nIF(OR($C$7=\"ASHRAE\",$C$7=\"Title 24 - Whole Building Models\"),INDEX(IECC2009_Fenestration_AW_Windows[#All],Table6b[[#This Row],[WF_SHGCI]],Table6b[[#This Row],[CZ_I]]),\n\"\"))))))),\"\")","v":""},{"$f":"IF(AND(OR($C$7=\"Prescriptive\",$C$7=\"ERI\",$C$7=\"Title 24 - Dwelling Unit Models\"),Table6b[[#This Row],[Fixed or Operable?\n(ERI & Prescriptive Only)]]=\"Fixed\"),2,\nIF(AND(OR($C$7=\"Prescriptive\",$C$7=\"ERI\",$C$7=\"Title 24 - Dwelling Unit Models\"),Table6b[[#This Row],[Fixed or Operable?\n(ERI & Prescriptive Only)]]=\"Operable\"),3,\n\nIF(AND(OR($C$7=\"ASHRAE\",$C$7=\"Title 24 - Whole Building Models\"),Table6b[[#This Row],[Window Frame\n(ASHRAE only)]]=\"Non-Metal\"),2,\nIF(AND(OR($C$7=\"ASHRAE\",$C$7=\"Title 24 - Whole Building Models\"),Table6b[[#This Row],[Window Frame\n(ASHRAE only)]]=\"Metal - Curtainwall/storefront\"),3,\nIF(AND(OR($C$7=\"ASHRAE\",$C$7=\"Title 24 - Whole Building Models\"),Table6b[[#This Row],[Window Frame\n(ASHRAE only)]]=\"Metal - Entrance door\"),4,\nIF(AND(OR($C$7=\"ASHRAE\",$C$7=\"Title 24 - Whole Building Models\"),Table6b[[#This Row],[Window Frame\n(ASHRAE only)]]=\"Metal - Other\"),5,\n\n\"\"))))))","v":""},4,5,null,null,{"$f":"IF(Table6b[[#This Row],[Total Area]]=\"\",\"\",IFERROR(Table6b[[#This Row],[Total Area]]*Table6b[[#This Row],[ASSEMBLY\nU-FACTOR]],Table6b[[#This Row],[Total Area]]*(RIGHT(Table6b[[#This Row],[ASSEMBLY\nU-FACTOR]],LEN(Table6b[[#This Row],[ASSEMBLY\nU-FACTOR]])-2))))","v":""},null,null,null,null,null,null,"NOTES"]
[null,null,null,"Weighted U-factor:",{"$f":"IFERROR(SUM(Table6b[Total UA])/SUM(Table6b[Total Area]),\"\")","v":0.49261083743842365}]
[]
[null,"All Exterior Doors (Opaque, Glazed, Partially Glazed)"]
[null,"ID","Door Type","Dwelling/ Common?","Qty","Area","Total Area","Space Served\n(optional)","ENERGY STAR Requirement\nU-FACTOR","ENERGY STAR Requirement UA","ENERGY STAR Requirement\nSHGC","DT_UI","DT_SHGCI","CZ_I","PROJECTION FACTOR (PF)\n(ASHRAE only)","ASSEMBLY\nU-FACTOR","Total UA","SHGC ","LOCATION\n(dwg/spec)","PLAN REVIEW","INSPECTION?","INSPECTION COMMENTS "]
[null,"Res","Opaque Door","Dwelling",152,21,{"$f":"IF(Table6c[[#This Row],[Qty]]=\"\",\"\",Table6c[[#This Row],[Qty]]*Table6c[[#This Row],[Area]])","v":3192},null,{"$f":"IFERROR(IF(AND($C$9=\"Version 1.2 OR+WA\",OR($C$8=\"CZ 1\",$C$8=\"CZ 2\",$C$8=\"CZ 3\",$C$8=\"CZ 4\",$C$8=\"CZ 7\",$C$8=\"CZ 8\")),\"N/A - Update CZ\",\n\nIF(AND(Table6c[[#This Row],[Dwelling/ Common?]]=\"Common\",Table6c[[#This Row],[Door Type]]=\"Opaque Door\",OR($C$8=\"CZ 1\",$C$8=\"CZ 2\",$C$8=\"CZ 3\",$C$8=\"CZ 4\",$C$8=\"CZ 4 C\",$C$8=\"CZ 5\",$C$8=\"CZ 6\")),\"U-0.7\",\nIF(AND(Table6c[[#This Row],[Dwelling/ Common?]]=\"Common\",Table6c[[#This Row],[Door Type]]=\"Opaque Door\",OR($C$8=\"CZ 7\",$C$8=\"CZ 8\")),\"U-0.5\",\n\nIF(AND(Table6c[[#This Row],[Dwelling/ Common?]]=\"Common\",$C$9=\"Version 1\",OR($C$7=\"Prescriptive\",$C$7=\"ERI\",$C$7=\"Title 24 - Dwelling Unit Models\")),INDEX(ESRefDesign_FenestrationAW_V1[#All],Table6c[[#This Row],[DT_UI]],Table6c[[#This Row],[CZ_I]]),\nIF(AND(Table6c[[#This Row],[Dwelling/ Common?]]=\"Common\",$C$9=\"Version 1.1\",OR($C$7=\"Prescriptive\",$C$7=\"ERI\",$C$7=\"Title 24 - Dwelling Unit Models\")),INDEX(ESRefDesign_FenestrationAW_V11[#All],Table6c[[#This Row],[DT_UI]],Table6c[[#This Row],[CZ_I]]),\nIF(AND(Table6c[[#This Row],[Dwelling/ Common?]]=\"Common\",$C$9=\"Version 1.2 OR+WA\",OR($C$7=\"Prescriptive\",$C$7=\"ERI\",$C$7=\"Title 24 - Dwelling Unit Models\")),INDEX(ESRefDesign_FenestrationAW_V12[#All],Table6c[[#This Row],[DT_UI]],Table6c[[#This Row],[CZ_I]]),\n\nIF(AND(Table6c[[#This Row],[Dwelling/ Common?]]=\"Common\",OR($C$7=\"ASHRAE\",$C$7=\"Title 24 - Whole Building Models\")),INDEX(IECC2009_Fenestration_AW_Windows[#All],Table6c[[#This Row],[DT_UI]],Table6c[[#This Row],[CZ_I]]),\n\nIF(AND(Table6c[[#This Row],[Dwelling/ Common?]]=\"Dwelling\",$C$7=\"Prescriptive\",$C$9=\"Version 1\"),INDEX(ESRefDesign_Fenestration_V1[#All],Table6c[[#This Row],[DT_UI]],Table6c[[#This Row],[CZ_I]]),\nIF(AND(Table6c[[#This Row],[Dwelling/ Common?]]=\"Dwelling\",$C$7=\"Prescriptive\",$C$9=\"Version 1.1\"),INDEX(ESRefDesign_Fenestration_V11[#All],Table6c[[#This Row],[DT_UI]],Table6c[[#This Row],[CZ_I]]),\nIF(AND(Table6c[[#This Row],[Dwelling/ Common?]]=\"Dwelling\",$C$7=\"Prescriptive\",$C$9=\"Version 1.2 OR+WA\"),INDEX(ESRefDesign_Fenestration_V12[#All],Table6c[[#This Row],[DT_UI]],Table6c[[#This Row],[CZ_I]]),\n\nIF(Table6c[[#This Row],[Dwelling/ Common?]]=\"Dwelling\",INDEX(IECC2009_Fenestration_NotAW_Windows[#All],Table6c[[#This Row],[DT_UI]],Table6c[[#This Row],[CZ_I]]),\n\n\"\"))))))))))),\"\")","v":"U-0.21"},{"$f":"IF(Table6c[[#This Row],[Total Area]]=\"\",\"\",Table6c[[#This Row],[Total Area]]*(RIGHT(Table6c[[#This Row],[ENERGY STAR Requirement\nU-FACTOR]],LEN(Table6c[[#This Row],[ENERGY STAR Requirement\nU-FACTOR]])-2)))","v":670.31999999999994},{"$f":"IFERROR(IF(AND($C$9=\"Version 1.2 OR+WA\",OR($C$8=\"CZ 1\",$C$8=\"CZ 2\",$C$8=\"CZ 3\",$C$8=\"CZ 4\",$C$8=\"CZ 7\",$C$8=\"CZ 8\")),\"N/A - Update CZ\",\n\nIF(Table6c[[#This Row],[Door Type]]=\"Opaque Door\",\"Any\",\n\nIF(AND(Table6c[[#This Row],[PROJECTION FACTOR (PF)\n(ASHRAE only)]]=\"\",OR($C$7=\"ASHRAE\",$C$7=\"Title 24 - Whole Building Models\"),Table6c[[#This Row],[Dwelling/ Common?]]=\"Common\"),\"Enter PF\",\n\nIF(AND(Table6c[[#This Row],[Dwelling/ Common?]]=\"Common\",$C$9=\"Version 1\",OR($C$7=\"Prescriptive\",$C$7=\"ERI\",$C$7=\"Title 24 - Dwelling Unit Models\")),INDEX(ESRefDesign_FenestrationAW_V1[#All],Table6c[[#This Row],[DT_SHGCI]],Table6c[[#This Row],[CZ_I]]),\nIF(AND(Table6c[[#This Row],[Dwelling/ Common?]]=\"Common\",$C$9=\"Version 1.1\",OR($C$7=\"Prescriptive\",$C$7=\"ERI\",$C$7=\"Title 24 - Dwelling Unit Models\")),INDEX(ESRefDesign_FenestrationAW_V11[#All],Table6c[[#This Row],[DT_SHGCI]],Table6c[[#This Row],[CZ_I]]),\nIF(AND(Table6c[[#This Row],[Dwelling/ Common?]]=\"Common\",$C$9=\"Version 1.2 OR+WA\",OR($C$7=\"Prescriptive\",$C$7=\"ERI\",$C$7=\"Title 24 - Dwelling Unit Models\")),INDEX(ESRefDesign_FenestrationAW_V12[#All],Table6c[[#This Row],[DT_SHGCI]],Table6c[[#This Row],[CZ_I]]),\n\nIF(AND(Table6c[[#This Row],[Dwelling/ Common?]]=\"Common\",OR($C$7=\"ASHRAE\",$C$7=\"Title 24 - Whole Building Models\")),INDEX(IECC2009_Fenestration_AW_Windows[#All],Table6c[[#This Row],[DT_SHGCI]],Table6c[[#This Row],[CZ_I]]),\n\nIF(AND(Table6c[[#This Row],[Dwelling/ Common?]]=\"Dwelling\",$C$7=\"Prescriptive\",$C$9=\"Version 1\"),INDEX(ESRefDesign_Fenestration_V1[#All],Table6c[[#This Row],[DT_SHGCI]],Table6c[[#This Row],[CZ_I]]),\nIF(AND(Table6c[[#This Row],[Dwelling/ Common?]]=\"Dwelling\",$C$7=\"Prescriptive\",$C$9=\"Version 1.1\"),INDEX(ESRefDesign_Fenestration_V11[#All],Table6c[[#This Row],[DT_SHGCI]],Table6c[[#This Row],[CZ_I]]),\nIF(AND(Table6c[[#This Row],[Dwelling/ Common?]]=\"Dwelling\",$C$7=\"Prescriptive\",$C$9=\"Version 1.2 OR+WA\"),INDEX(ESRefDesign_Fenestration_V12[#All],Table6c[[#This Row],[DT_SHGCI]],Table6c[[#This Row],[CZ_I]]),\n\nIF(Table6c[[#This Row],[Dwelling/ Common?]]=\"Dwelling\",INDEX(IECC2009_Fenestration_NotAW_Windows[#All],Table6c[[#This Row],[DT_SHGCI]],Table6c[[#This Row],[CZ_I]]),\n\n\"\"))))))))))),\"\")","v":"Any"},{"$f":"IF(AND(Table6c[[#This Row],[Door Type]]=\"Opaque Door\",Table6c[[#This Row],[Dwelling/ Common?]]=\"Common\"),\"N/A\",\n\nIF(AND(Table6c[[#This Row],[Dwelling/ Common?]]=\"Common\",OR($C$7=\"Prescriptive\",$C$7=\"ERI\",$C$7=\"Title 24 - Dwelling Unit Models\")),3,\nIF(AND(Table6c[[#This Row],[Dwelling/ Common?]]=\"Common\",OR($C$7=\"ASHRAE\",$C$7=\"Title 24 - Whole Building Models\")),4,\n\nIF(AND(Table6c[[#This Row],[Dwelling/ Common?]]=\"Dwelling\",OR($C$7=\"ASHRAE\",$C$7=\"Title 24 - Whole Building Models\",$C$7=\"ERI\",$C$7=\"Title 24 - Dwelling Unit Models\")),2,\n\nIF(Table6c[[#This Row],[Door Type]]=\"≤½ Lite Door\",5,\nIF(Table6c[[#This Row],[Door Type]]=\">½ Lite Door\",6,\nIF(AND(Table6c[[#This Row],[Door Type]]=\"Glazed Entrance Door\",$C$7=\"Prescriptive\"),6,\n\nIF(Table6c[[#This Row],[Door Type]]=\"Glazed Entrance Door\",4,\n\nIF(AND(Table6c[[#This Row],[Door Type]]=\"Opaque Door\",Table6c[[#This Row],[Dwelling/ Common?]]=\"Dwelling\"),4,\n\n\"\")))))))))","v":4},{"$f":"IF(Table6c[[#This Row],[Door Type]]=\"Opaque Door\",\"N/A\",\n\nIF(AND(Table6c[[#This Row],[Dwelling/ Common?]]=\"Common\",OR($C$7=\"Prescriptive\",$C$7=\"ERI\",$C$7=\"Title 24 - Dwelling Unit Models\")),4,\n\nIF(AND(Table6c[[#This Row],[Dwelling/ Common?]]=\"Common\",OR($C$7=\"ASHRAE\",$C$7=\"Title 24 - Whole Building Models\"),Table6c[[#This Row],[PROJECTION FACTOR (PF)\n(ASHRAE only)]]=\"< 0.25\"),7,\nIF(AND(Table6c[[#This Row],[Dwelling/ Common?]]=\"Common\",OR($C$7=\"ASHRAE\",$C$7=\"Title 24 - Whole Building Models\"),Table6c[[#This Row],[PROJECTION FACTOR (PF)\n(ASHRAE only)]]=\"0.25 < PF < 0.5\"),8,\nIF(AND(Table6c[[#This Row],[Dwelling/ Common?]]=\"Common\",OR($C$7=\"ASHRAE\",$C$7=\"Title 24 - Whole Building Models\"),Table6c[[#This Row],[PROJECTION FACTOR (PF)\n(ASHRAE only)]]=\">= 0.5\"),9,\n\nIF(AND(Table6c[[#This Row],[Dwelling/ Common?]]=\"Dwelling\",OR($C$7=\"ASHRAE\",$C$7=\"Title 24 - Whole Building Models\",$C$7=\"ERI\",$C$7=\"Title 24 - Dwelling Unit Models\")),4,\n\nIF(Table6c[[#This Row],[Door Type]]=\"≤½ Lite Door\",8,\nIF(Table6c[[#This Row],[Door Type]]=\">½ Lite Door\",9,\nIF(AND(Table6c[[#This Row],[Door Type]]=\"Glazed Entrance Door\",$C$7=\"Prescriptive\"),9,\n\nIF(Table6c[[#This Row],[Door Type]]=\"Glazed Entrance Door\",7,\n\nIF(AND(Table6c[[#This Row],[Door Type]]=\"Opaque Door\",Table6c[[#This Row],[Dwelling/ Common?]]=\"Dwelling\"),7,\n\n\"\")))))))))))","v":"N/A"},{"$f":"IF(AND($C$9=\"Version 1.2 OR+WA\",$C$7=\"Prescriptive\",$C$8=\"CZ 4 C\"),2,\nIF(AND($C$9=\"Version 1.2 OR+WA\",$C$7=\"Prescriptive\",$C$8=\"CZ 5\"),3,\nIF(AND($C$9=\"Version 1.2 OR+WA\",$C$7=\"Prescriptive\",$C$8=\"CZ 6\"),4,\n\nIF(AND($C$9=\"Version 1.2 OR+WA\",Table6c[[#This Row],[Dwelling/ Common?]]=\"Common\",OR($C$7=\"ERI\",$C$7=\"Title 24 - Dwelling Unit Models\"),$C$8=\"CZ 4 C\"),2,\nIF(AND($C$9=\"Version 1.2 OR+WA\",Table6c[[#This Row],[Dwelling/ Common?]]=\"Common\",OR($C$7=\"ERI\",$C$7=\"Title 24 - Dwelling Unit Models\"),$C$8=\"CZ 5\"),3,\nIF(AND($C$9=\"Version 1.2 OR+WA\",Table6c[[#This Row],[Dwelling/ Common?]]=\"Common\",OR($C$7=\"ERI\",$C$7=\"Title 24 - Dwelling Unit Models\"),$C$8=\"CZ 6\"),4,\n\nIF($C$8=\"CZ 1\",2,\nIF($C$8=\"CZ 2\",3,\nIF($C$8=\"CZ 3\",4,\nIF($C$8=\"CZ 4\",5,\nIF($C$8=\"CZ 4 C\",6,\nIF($C$8=\"CZ 5\",7,\nIF($C$8=\"CZ 6\",8,\nIF($C$8=\"CZ 7\",9,\nIF($C$8=\"CZ 8\",10,\"\")))))))))))))))","v":5},null,0.32,{"$f":"IF(Table6c[[#This Row],[Total Area]]=\"\",\"\",IFERROR(Table6c[[#This Row],[Total Area]]*Table6c[[#This Row],[ASSEMBLY\nU-FACTOR]],Table6c[[#This Row],[Total Area]]*(RIGHT(Table6c[[#This Row],[ASSEMBLY\nU-FACTOR]],LEN(Table6c[[#This Row],[ASSEMBLY\nU-FACTOR]])-2))))","v":1021.44},0.33,"A-32","Yes","Yes"]
[null,"Corridor","Opaque Door","Common",32,25,{"$f":"IF(Table6c[[#This Row],[Qty]]=\"\",\"\",Table6c[[#This Row],[Qty]]*Table6c[[#This Row],[Area]])","v":800},null,{"$f":"IFERROR(IF(AND($C$9=\"Version 1.2 OR+WA\",OR($C$8=\"CZ 1\",$C$8=\"CZ 2\",$C$8=\"CZ 3\",$C$8=\"CZ 4\",$C$8=\"CZ 7\",$C$8=\"CZ 8\")),\"N/A - Update CZ\",\n\nIF(AND(Table6c[[#This Row],[Dwelling/ Common?]]=\"Common\",Table6c[[#This Row],[Door Type]]=\"Opaque Door\",OR($C$8=\"CZ 1\",$C$8=\"CZ 2\",$C$8=\"CZ 3\",$C$8=\"CZ 4\",$C$8=\"CZ 4 C\",$C$8=\"CZ 5\",$C$8=\"CZ 6\")),\"U-0.7\",\nIF(AND(Table6c[[#This Row],[Dwelling/ Common?]]=\"Common\",Table6c[[#This Row],[Door Type]]=\"Opaque Door\",OR($C$8=\"CZ 7\",$C$8=\"CZ 8\")),\"U-0.5\",\n\nIF(AND(Table6c[[#This Row],[Dwelling/ Common?]]=\"Common\",$C$9=\"Version 1\",OR($C$7=\"Prescriptive\",$C$7=\"ERI\",$C$7=\"Title 24 - Dwelling Unit Models\")),INDEX(ESRefDesign_FenestrationAW_V1[#All],Table6c[[#This Row],[DT_UI]],Table6c[[#This Row],[CZ_I]]),\nIF(AND(Table6c[[#This Row],[Dwelling/ Common?]]=\"Common\",$C$9=\"Version 1.1\",OR($C$7=\"Prescriptive\",$C$7=\"ERI\",$C$7=\"Title 24 - Dwelling Unit Models\")),INDEX(ESRefDesign_FenestrationAW_V11[#All],Table6c[[#This Row],[DT_UI]],Table6c[[#This Row],[CZ_I]]),\nIF(AND(Table6c[[#This Row],[Dwelling/ Common?]]=\"Common\",$C$9=\"Version 1.2 OR+WA\",OR($C$7=\"Prescriptive\",$C$7=\"ERI\",$C$7=\"Title 24 - Dwelling Unit Models\")),INDEX(ESRefDesign_FenestrationAW_V12[#All],Table6c[[#This Row],[DT_UI]],Table6c[[#This Row],[CZ_I]]),\n\nIF(AND(Table6c[[#This Row],[Dwelling/ Common?]]=\"Common\",OR($C$7=\"ASHRAE\",$C$7=\"Title 24 - Whole Building Models\")),INDEX(IECC2009_Fenestration_AW_Windows[#All],Table6c[[#This Row],[DT_UI]],Table6c[[#This Row],[CZ_I]]),\n\nIF(AND(Table6c[[#This Row],[Dwelling/ Common?]]=\"Dwelling\",$C$7=\"Prescriptive\",$C$9=\"Version 1\"),INDEX(ESRefDesign_Fenestration_V1[#All],Table6c[[#This Row],[DT_UI]],Table6c[[#This Row],[CZ_I]]),\nIF(AND(Table6c[[#This Row],[Dwelling/ Common?]]=\"Dwelling\",$C$7=\"Prescriptive\",$C$9=\"Version 1.1\"),INDEX(ESRefDesign_Fenestration_V11[#All],Table6c[[#This Row],[DT_UI]],Table6c[[#This Row],[CZ_I]]),\nIF(AND(Table6c[[#This Row],[Dwelling/ Common?]]=\"Dwelling\",$C$7=\"Prescriptive\",$C$9=\"Version 1.2 OR+WA\"),INDEX(ESRefDesign_Fenestration_V12[#All],Table6c[[#This Row],[DT_UI]],Table6c[[#This Row],[CZ_I]]),\n\nIF(Table6c[[#This Row],[Dwelling/ Common?]]=\"Dwelling\",INDEX(IECC2009_Fenestration_NotAW_Windows[#All],Table6c[[#This Row],[DT_UI]],Table6c[[#This Row],[CZ_I]]),\n\n\"\"))))))))))),\"\")","v":"U-0.7"},{"$f":"IF(Table6c[[#This Row],[Total Area]]=\"\",\"\",Table6c[[#This Row],[Total Area]]*(RIGHT(Table6c[[#This Row],[ENERGY STAR Requirement\nU-FACTOR]],LEN(Table6c[[#This Row],[ENERGY STAR Requirement\nU-FACTOR]])-2)))","v":560},{"$f":"IFERROR(IF(AND($C$9=\"Version 1.2 OR+WA\",OR($C$8=\"CZ 1\",$C$8=\"CZ 2\",$C$8=\"CZ 3\",$C$8=\"CZ 4\",$C$8=\"CZ 7\",$C$8=\"CZ 8\")),\"N/A - Update CZ\",\n\nIF(Table6c[[#This Row],[Door Type]]=\"Opaque Door\",\"Any\",\n\nIF(AND(Table6c[[#This Row],[PROJECTION FACTOR (PF)\n(ASHRAE only)]]=\"\",OR($C$7=\"ASHRAE\",$C$7=\"Title 24 - Whole Building Models\"),Table6c[[#This Row],[Dwelling/ Common?]]=\"Common\"),\"Enter PF\",\n\nIF(AND(Table6c[[#This Row],[Dwelling/ Common?]]=\"Common\",$C$9=\"Version 1\",OR($C$7=\"Prescriptive\",$C$7=\"ERI\",$C$7=\"Title 24 - Dwelling Unit Models\")),INDEX(ESRefDesign_FenestrationAW_V1[#All],Table6c[[#This Row],[DT_SHGCI]],Table6c[[#This Row],[CZ_I]]),\nIF(AND(Table6c[[#This Row],[Dwelling/ Common?]]=\"Common\",$C$9=\"Version 1.1\",OR($C$7=\"Prescriptive\",$C$7=\"ERI\",$C$7=\"Title 24 - Dwelling Unit Models\")),INDEX(ESRefDesign_FenestrationAW_V11[#All],Table6c[[#This Row],[DT_SHGCI]],Table6c[[#This Row],[CZ_I]]),\nIF(AND(Table6c[[#This Row],[Dwelling/ Common?]]=\"Common\",$C$9=\"Version 1.2 OR+WA\",OR($C$7=\"Prescriptive\",$C$7=\"ERI\",$C$7=\"Title 24 - Dwelling Unit Models\")),INDEX(ESRefDesign_FenestrationAW_V12[#All],Table6c[[#This Row],[DT_SHGCI]],Table6c[[#This Row],[CZ_I]]),\n\nIF(AND(Table6c[[#This Row],[Dwelling/ Common?]]=\"Common\",OR($C$7=\"ASHRAE\",$C$7=\"Title 24 - Whole Building Models\")),INDEX(IECC2009_Fenestration_AW_Windows[#All],Table6c[[#This Row],[DT_SHGCI]],Table6c[[#This Row],[CZ_I]]),\n\nIF(AND(Table6c[[#This Row],[Dwelling/ Common?]]=\"Dwelling\",$C$7=\"Prescriptive\",$C$9=\"Version 1\"),INDEX(ESRefDesign_Fenestration_V1[#All],Table6c[[#This Row],[DT_SHGCI]],Table6c[[#This Row],[CZ_I]]),\nIF(AND(Table6c[[#This Row],[Dwelling/ Common?]]=\"Dwelling\",$C$7=\"Prescriptive\",$C$9=\"Version 1.1\"),INDEX(ESRefDesign_Fenestration_V11[#All],Table6c[[#This Row],[DT_SHGCI]],Table6c[[#This Row],[CZ_I]]),\nIF(AND(Table6c[[#This Row],[Dwelling/ Common?]]=\"Dwelling\",$C$7=\"Prescriptive\",$C$9=\"Version 1.2 OR+WA\"),INDEX(ESRefDesign_Fenestration_V12[#All],Table6c[[#This Row],[DT_SHGCI]],Table6c[[#This Row],[CZ_I]]),\n\nIF(Table6c[[#This Row],[Dwelling/ Common?]]=\"Dwelling\",INDEX(IECC2009_Fenestration_NotAW_Windows[#All],Table6c[[#This Row],[DT_SHGCI]],Table6c[[#This Row],[CZ_I]]),\n\n\"\"))))))))))),\"\")","v":"Any"},{"$f":"IF(AND(Table6c[[#This Row],[Door Type]]=\"Opaque Door\",Table6c[[#This Row],[Dwelling/ Common?]]=\"Common\"),\"N/A\",\n\nIF(AND(Table6c[[#This Row],[Dwelling/ Common?]]=\"Common\",OR($C$7=\"Prescriptive\",$C$7=\"ERI\",$C$7=\"Title 24 - Dwelling Unit Models\")),3,\nIF(AND(Table6c[[#This Row],[Dwelling/ Common?]]=\"Common\",OR($C$7=\"ASHRAE\",$C$7=\"Title 24 - Whole Building Models\")),4,\n\nIF(AND(Table6c[[#This Row],[Dwelling/ Common?]]=\"Dwelling\",OR($C$7=\"ASHRAE\",$C$7=\"Title 24 - Whole Building Models\",$C$7=\"ERI\",$C$7=\"Title 24 - Dwelling Unit Models\")),2,\n\nIF(Table6c[[#This Row],[Door Type]]=\"≤½ Lite Door\",5,\nIF(Table6c[[#This Row],[Door Type]]=\">½ Lite Door\",6,\nIF(AND(Table6c[[#This Row],[Door Type]]=\"Glazed Entrance Door\",$C$7=\"Prescriptive\"),6,\n\nIF(Table6c[[#This Row],[Door Type]]=\"Glazed Entrance Door\",4,\n\nIF(AND(Table6c[[#This Row],[Door Type]]=\"Opaque Door\",Table6c[[#This Row],[Dwelling/ Common?]]=\"Dwelling\"),4,\n\n\"\")))))))))","v":"N/A"},{"$f":"IF(Table6c[[#This Row],[Door Type]]=\"Opaque Door\",\"N/A\",\n\nIF(AND(Table6c[[#This Row],[Dwelling/ Common?]]=\"Common\",OR($C$7=\"Prescriptive\",$C$7=\"ERI\",$C$7=\"Title 24 - Dwelling Unit Models\")),4,\n\nIF(AND(Table6c[[#This Row],[Dwelling/ Common?]]=\"Common\",OR($C$7=\"ASHRAE\",$C$7=\"Title 24 - Whole Building Models\"),Table6c[[#This Row],[PROJECTION FACTOR (PF)\n(ASHRAE only)]]=\"< 0.25\"),7,\nIF(AND(Table6c[[#This Row],[Dwelling/ Common?]]=\"Common\",OR($C$7=\"ASHRAE\",$C$7=\"Title 24 - Whole Building Models\"),Table6c[[#This Row],[PROJECTION FACTOR (PF)\n(ASHRAE only)]]=\"0.25 < PF < 0.5\"),8,\nIF(AND(Table6c[[#This Row],[Dwelling/ Common?]]=\"Common\",OR($C$7=\"ASHRAE\",$C$7=\"Title 24 - Whole Building Models\"),Table6c[[#This Row],[PROJECTION FACTOR (PF)\n(ASHRAE only)]]=\">= 0.5\"),9,\n\nIF(AND(Table6c[[#This Row],[Dwelling/ Common?]]=\"Dwelling\",OR($C$7=\"ASHRAE\",$C$7=\"Title 24 - Whole Building Models\",$C$7=\"ERI\",$C$7=\"Title 24 - Dwelling Unit Models\")),4,\n\nIF(Table6c[[#This Row],[Door Type]]=\"≤½ Lite Door\",8,\nIF(Table6c[[#This Row],[Door Type]]=\">½ Lite Door\",9,\nIF(AND(Table6c[[#This Row],[Door Type]]=\"Glazed Entrance Door\",$C$7=\"Prescriptive\"),9,\n\nIF(Table6c[[#This Row],[Door Type]]=\"Glazed Entrance Door\",7,\n\nIF(AND(Table6c[[#This Row],[Door Type]]=\"Opaque Door\",Table6c[[#This Row],[Dwelling/ Common?]]=\"Dwelling\"),7,\n\n\"\")))))))))))","v":"N/A"},{"$f":"IF(AND($C$9=\"Version 1.2 OR+WA\",$C$7=\"Prescriptive\",$C$8=\"CZ 4 C\"),2,\nIF(AND($C$9=\"Version 1.2 OR+WA\",$C$7=\"Prescriptive\",$C$8=\"CZ 5\"),3,\nIF(AND($C$9=\"Version 1.2 OR+WA\",$C$7=\"Prescriptive\",$C$8=\"CZ 6\"),4,\n\nIF(AND($C$9=\"Version 1.2 OR+WA\",Table6c[[#This Row],[Dwelling/ Common?]]=\"Common\",OR($C$7=\"ERI\",$C$7=\"Title 24 - Dwelling Unit Models\"),$C$8=\"CZ 4 C\"),2,\nIF(AND($C$9=\"Version 1.2 OR+WA\",Table6c[[#This Row],[Dwelling/ Common?]]=\"Common\",OR($C$7=\"ERI\",$C$7=\"Title 24 - Dwelling Unit Models\"),$C$8=\"CZ 5\"),3,\nIF(AND($C$9=\"Version 1.2 OR+WA\",Table6c[[#This Row],[Dwelling/ Common?]]=\"Common\",OR($C$7=\"ERI\",$C$7=\"Title 24 - Dwelling Unit Models\"),$C$8=\"CZ 6\"),4,\n\nIF($C$8=\"CZ 1\",2,\nIF($C$8=\"CZ 2\",3,\nIF($C$8=\"CZ 3\",4,\nIF($C$8=\"CZ 4\",5,\nIF($C$8=\"CZ 4 C\",6,\nIF($C$8=\"CZ 5\",7,\nIF($C$8=\"CZ 6\",8,\nIF($C$8=\"CZ 7\",9,\nIF($C$8=\"CZ 8\",10,\"\")))))))))))))))","v":5},null,0.72,{"$f":"IF(Table6c[[#This Row],[Total Area]]=\"\",\"\",IFERROR(Table6c[[#This Row],[Total Area]]*Table6c[[#This Row],[ASSEMBLY\nU-FACTOR]],Table6c[[#This Row],[Total Area]]*(RIGHT(Table6c[[#This Row],[ASSEMBLY\nU-FACTOR]],LEN(Table6c[[#This Row],[ASSEMBLY\nU-FACTOR]])-2))))","v":576},0.28999999999999998,"A-40; A-45","Yes","Yes"]
[null,"Entry","Glazed Entrance Door","Common",4,21,{"$f":"IF(Table6c[[#This Row],[Qty]]=\"\",\"\",Table6c[[#This Row],[Qty]]*Table6c[[#This Row],[Area]])","v":84},null,{"$f":"IFERROR(IF(AND($C$9=\"Version 1.2 OR+WA\",OR($C$8=\"CZ 1\",$C$8=\"CZ 2\",$C$8=\"CZ 3\",$C$8=\"CZ 4\",$C$8=\"CZ 7\",$C$8=\"CZ 8\")),\"N/A - Update CZ\",\n\nIF(AND(Table6c[[#This Row],[Dwelling/ Common?]]=\"Common\",Table6c[[#This Row],[Door Type]]=\"Opaque Door\",OR($C$8=\"CZ 1\",$C$8=\"CZ 2\",$C$8=\"CZ 3\",$C$8=\"CZ 4\",$C$8=\"CZ 4 C\",$C$8=\"CZ 5\",$C$8=\"CZ 6\")),\"U-0.7\",\nIF(AND(Table6c[[#This Row],[Dwelling/ Common?]]=\"Common\",Table6c[[#This Row],[Door Type]]=\"Opaque Door\",OR($C$8=\"CZ 7\",$C$8=\"CZ 8\")),\"U-0.5\",\n\nIF(AND(Table6c[[#This Row],[Dwelling/ Common?]]=\"Common\",$C$9=\"Version 1\",OR($C$7=\"Prescriptive\",$C$7=\"ERI\",$C$7=\"Title 24 - Dwelling Unit Models\")),INDEX(ESRefDesign_FenestrationAW_V1[#All],Table6c[[#This Row],[DT_UI]],Table6c[[#This Row],[CZ_I]]),\nIF(AND(Table6c[[#This Row],[Dwelling/ Common?]]=\"Common\",$C$9=\"Version 1.1\",OR($C$7=\"Prescriptive\",$C$7=\"ERI\",$C$7=\"Title 24 - Dwelling Unit Models\")),INDEX(ESRefDesign_FenestrationAW_V11[#All],Table6c[[#This Row],[DT_UI]],Table6c[[#This Row],[CZ_I]]),\nIF(AND(Table6c[[#This Row],[Dwelling/ Common?]]=\"Common\",$C$9=\"Version 1.2 OR+WA\",OR($C$7=\"Prescriptive\",$C$7=\"ERI\",$C$7=\"Title 24 - Dwelling Unit Models\")),INDEX(ESRefDesign_FenestrationAW_V12[#All],Table6c[[#This Row],[DT_UI]],Table6c[[#This Row],[CZ_I]]),\n\nIF(AND(Table6c[[#This Row],[Dwelling/ Common?]]=\"Common\",OR($C$7=\"ASHRAE\",$C$7=\"Title 24 - Whole Building Models\")),INDEX(IECC2009_Fenestration_AW_Windows[#All],Table6c[[#This Row],[DT_UI]],Table6c[[#This Row],[CZ_I]]),\n\nIF(AND(Table6c[[#This Row],[Dwelling/ Common?]]=\"Dwelling\",$C$7=\"Prescriptive\",$C$9=\"Version 1\"),INDEX(ESRefDesign_Fenestration_V1[#All],Table6c[[#This Row],[DT_UI]],Table6c[[#This Row],[CZ_I]]),\nIF(AND(Table6c[[#This Row],[Dwelling/ Common?]]=\"Dwelling\",$C$7=\"Prescriptive\",$C$9=\"Version 1.1\"),INDEX(ESRefDesign_Fenestration_V11[#All],Table6c[[#This Row],[DT_UI]],Table6c[[#This Row],[CZ_I]]),\nIF(AND(Table6c[[#This Row],[Dwelling/ Common?]]=\"Dwelling\",$C$7=\"Prescriptive\",$C$9=\"Version 1.2 OR+WA\"),INDEX(ESRefDesign_Fenestration_V12[#All],Table6c[[#This Row],[DT_UI]],Table6c[[#This Row],[CZ_I]]),\n\nIF(Table6c[[#This Row],[Dwelling/ Common?]]=\"Dwelling\",INDEX(IECC2009_Fenestration_NotAW_Windows[#All],Table6c[[#This Row],[DT_UI]],Table6c[[#This Row],[CZ_I]]),\n\n\"\"))))))))))),\"\")","v":"U-0.45"},{"$f":"IF(Table6c[[#This Row],[Total Area]]=\"\",\"\",Table6c[[#This Row],[Total Area]]*(RIGHT(Table6c[[#This Row],[ENERGY STAR Requirement\nU-FACTOR]],LEN(Table6c[[#This Row],[ENERGY STAR Requirement\nU-FACTOR]])-2)))","v":37.800000000000004},{"$f":"IFERROR(IF(AND($C$9=\"Version 1.2 OR+WA\",OR($C$8=\"CZ 1\",$C$8=\"CZ 2\",$C$8=\"CZ 3\",$C$8=\"CZ 4\",$C$8=\"CZ 7\",$C$8=\"CZ 8\")),\"N/A - Update CZ\",\n\nIF(Table6c[[#This Row],[Door Type]]=\"Opaque Door\",\"Any\",\n\nIF(AND(Table6c[[#This Row],[PROJECTION FACTOR (PF)\n(ASHRAE only)]]=\"\",OR($C$7=\"ASHRAE\",$C$7=\"Title 24 - Whole Building Models\"),Table6c[[#This Row],[Dwelling/ Common?]]=\"Common\"),\"Enter PF\",\n\nIF(AND(Table6c[[#This Row],[Dwelling/ Common?]]=\"Common\",$C$9=\"Version 1\",OR($C$7=\"Prescriptive\",$C$7=\"ERI\",$C$7=\"Title 24 - Dwelling Unit Models\")),INDEX(ESRefDesign_FenestrationAW_V1[#All],Table6c[[#This Row],[DT_SHGCI]],Table6c[[#This Row],[CZ_I]]),\nIF(AND(Table6c[[#This Row],[Dwelling/ Common?]]=\"Common\",$C$9=\"Version 1.1\",OR($C$7=\"Prescriptive\",$C$7=\"ERI\",$C$7=\"Title 24 - Dwelling Unit Models\")),INDEX(ESRefDesign_FenestrationAW_V11[#All],Table6c[[#This Row],[DT_SHGCI]],Table6c[[#This Row],[CZ_I]]),\nIF(AND(Table6c[[#This Row],[Dwelling/ Common?]]=\"Common\",$C$9=\"Version 1.2 OR+WA\",OR($C$7=\"Prescriptive\",$C$7=\"ERI\",$C$7=\"Title 24 - Dwelling Unit Models\")),INDEX(ESRefDesign_FenestrationAW_V12[#All],Table6c[[#This Row],[DT_SHGCI]],Table6c[[#This Row],[CZ_I]]),\n\nIF(AND(Table6c[[#This Row],[Dwelling/ Common?]]=\"Common\",OR($C$7=\"ASHRAE\",$C$7=\"Title 24 - Whole Building Models\")),INDEX(IECC2009_Fenestration_AW_Windows[#All],Table6c[[#This Row],[DT_SHGCI]],Table6c[[#This Row],[CZ_I]]),\n\nIF(AND(Table6c[[#This Row],[Dwelling/ Common?]]=\"Dwelling\",$C$7=\"Prescriptive\",$C$9=\"Version 1\"),INDEX(ESRefDesign_Fenestration_V1[#All],Table6c[[#This Row],[DT_SHGCI]],Table6c[[#This Row],[CZ_I]]),\nIF(AND(Table6c[[#This Row],[Dwelling/ Common?]]=\"Dwelling\",$C$7=\"Prescriptive\",$C$9=\"Version 1.1\"),INDEX(ESRefDesign_Fenestration_V11[#All],Table6c[[#This Row],[DT_SHGCI]],Table6c[[#This Row],[CZ_I]]),\nIF(AND(Table6c[[#This Row],[Dwelling/ Common?]]=\"Dwelling\",$C$7=\"Prescriptive\",$C$9=\"Version 1.2 OR+WA\"),INDEX(ESRefDesign_Fenestration_V12[#All],Table6c[[#This Row],[DT_SHGCI]],Table6c[[#This Row],[CZ_I]]),\n\nIF(Table6c[[#This Row],[Dwelling/ Common?]]=\"Dwelling\",INDEX(IECC2009_Fenestration_NotAW_Windows[#All],Table6c[[#This Row],[DT_SHGCI]],Table6c[[#This Row],[CZ_I]]),\n\n\"\"))))))))))),\"\")","v":0.4},{"$f":"IF(AND(Table6c[[#This Row],[Door Type]]=\"Opaque Door\",Table6c[[#This Row],[Dwelling/ Common?]]=\"Common\"),\"N/A\",\n\nIF(AND(Table6c[[#This Row],[Dwelling/ Common?]]=\"Common\",OR($C$7=\"Prescriptive\",$C$7=\"ERI\",$C$7=\"Title 24 - Dwelling Unit Models\")),3,\nIF(AND(Table6c[[#This Row],[Dwelling/ Common?]]=\"Common\",OR($C$7=\"ASHRAE\",$C$7=\"Title 24 - Whole Building Models\")),4,\n\nIF(AND(Table6c[[#This Row],[Dwelling/ Common?]]=\"Dwelling\",OR($C$7=\"ASHRAE\",$C$7=\"Title 24 - Whole Building Models\",$C$7=\"ERI\",$C$7=\"Title 24 - Dwelling Unit Models\")),2,\n\nIF(Table6c[[#This Row],[Door Type]]=\"≤½ Lite Door\",5,\nIF(Table6c[[#This Row],[Door Type]]=\">½ Lite Door\",6,\nIF(AND(Table6c[[#This Row],[Door Type]]=\"Glazed Entrance Door\",$C$7=\"Prescriptive\"),6,\n\nIF(Table6c[[#This Row],[Door Type]]=\"Glazed Entrance Door\",4,\n\nIF(AND(Table6c[[#This Row],[Door Type]]=\"Opaque Door\",Table6c[[#This Row],[Dwelling/ Common?]]=\"Dwelling\"),4,\n\n\"\")))))))))","v":3},{"$f":"IF(Table6c[[#This Row],[Door Type]]=\"Opaque Door\",\"N/A\",\n\nIF(AND(Table6c[[#This Row],[Dwelling/ Common?]]=\"Common\",OR($C$7=\"Prescriptive\",$C$7=\"ERI\",$C$7=\"Title 24 - Dwelling Unit Models\")),4,\n\nIF(AND(Table6c[[#This Row],[Dwelling/ Common?]]=\"Common\",OR($C$7=\"ASHRAE\",$C$7=\"Title 24 - Whole Building Models\"),Table6c[[#This Row],[PROJECTION FACTOR (PF)\n(ASHRAE only)]]=\"< 0.25\"),7,\nIF(AND(Table6c[[#This Row],[Dwelling/ Common?]]=\"Common\",OR($C$7=\"ASHRAE\",$C$7=\"Title 24 - Whole Building Models\"),Table6c[[#This Row],[PROJECTION FACTOR (PF)\n(ASHRAE only)]]=\"0.25 < PF < 0.5\"),8,\nIF(AND(Table6c[[#This Row],[Dwelling/ Common?]]=\"Common\",OR($C$7=\"ASHRAE\",$C$7=\"Title 24 - Whole Building Models\"),Table6c[[#This Row],[PROJECTION FACTOR (PF)\n(ASHRAE only)]]=\">= 0.5\"),9,\n\nIF(AND(Table6c[[#This Row],[Dwelling/ Common?]]=\"Dwelling\",OR($C$7=\"ASHRAE\",$C$7=\"Title 24 - Whole Building Models\",$C$7=\"ERI\",$C$7=\"Title 24 - Dwelling Unit Models\")),4,\n\nIF(Table6c[[#This Row],[Door Type]]=\"≤½ Lite Door\",8,\nIF(Table6c[[#This Row],[Door Type]]=\">½ Lite Door\",9,\nIF(AND(Table6c[[#This Row],[Door Type]]=\"Glazed Entrance Door\",$C$7=\"Prescriptive\"),9,\n\nIF(Table6c[[#This Row],[Door Type]]=\"Glazed Entrance Door\",7,\n\nIF(AND(Table6c[[#This Row],[Door Type]]=\"Opaque Door\",Table6c[[#This Row],[Dwelling/ Common?]]=\"Dwelling\"),7,\n\n\"\")))))))))))","v":4},{"$f":"IF(AND($C$9=\"Version 1.2 OR+WA\",$C$7=\"Prescriptive\",$C$8=\"CZ 4 C\"),2,\nIF(AND($C$9=\"Version 1.2 OR+WA\",$C$7=\"Prescriptive\",$C$8=\"CZ 5\"),3,\nIF(AND($C$9=\"Version 1.2 OR+WA\",$C$7=\"Prescriptive\",$C$8=\"CZ 6\"),4,\n\nIF(AND($C$9=\"Version 1.2 OR+WA\",Table6c[[#This Row],[Dwelling/ Common?]]=\"Common\",OR($C$7=\"ERI\",$C$7=\"Title 24 - Dwelling Unit Models\"),$C$8=\"CZ 4 C\"),2,\nIF(AND($C$9=\"Version 1.2 OR+WA\",Table6c[[#This Row],[Dwelling/ Common?]]=\"Common\",OR($C$7=\"ERI\",$C$7=\"Title 24 - Dwelling Unit Models\"),$C$8=\"CZ 5\"),3,\nIF(AND($C$9=\"Version 1.2 OR+WA\",Table6c[[#This Row],[Dwelling/ Common?]]=\"Common\",OR($C$7=\"ERI\",$C$7=\"Title 24 - Dwelling Unit Models\"),$C$8=\"CZ 6\"),4,\n\nIF($C$8=\"CZ 1\",2,\nIF($C$8=\"CZ 2\",3,\nIF($C$8=\"CZ 3\",4,\nIF($C$8=\"CZ 4\",5,\nIF($C$8=\"CZ 4 C\",6,\nIF($C$8=\"CZ 5\",7,\nIF($C$8=\"CZ 6\",8,\nIF($C$8=\"CZ 7\",9,\nIF($C$8=\"CZ 8\",10,\"\")))))))))))))))","v":5},null,0.82,{"$f":"IF(Table6c[[#This Row],[Total Area]]=\"\",\"\",IFERROR(Table6c[[#This Row],[Total Area]]*Table6c[[#This Row],[ASSEMBLY\nU-FACTOR]],Table6c[[#This Row],[Total Area]]*(RIGHT(Table6c[[#This Row],[ASSEMBLY\nU-FACTOR]],LEN(Table6c[[#This Row],[ASSEMBLY\nU-FACTOR]])-2))))","v":68.88},0.4,"A-32","Yes","Yes"]
[null,"Exit","Opaque Door","Common",5,24,{"$f":"IF(Table6c[[#This Row],[Qty]]=\"\",\"\",Table6c[[#This Row],[Qty]]*Table6c[[#This Row],[Area]])","v":120},null,{"$f":"IFERROR(IF(AND($C$9=\"Version 1.2 OR+WA\",OR($C$8=\"CZ 1\",$C$8=\"CZ 2\",$C$8=\"CZ 3\",$C$8=\"CZ 4\",$C$8=\"CZ 7\",$C$8=\"CZ 8\")),\"N/A - Update CZ\",\n\nIF(AND(Table6c[[#This Row],[Dwelling/ Common?]]=\"Common\",Table6c[[#This Row],[Door Type]]=\"Opaque Door\",OR($C$8=\"CZ 1\",$C$8=\"CZ 2\",$C$8=\"CZ 3\",$C$8=\"CZ 4\",$C$8=\"CZ 4 C\",$C$8=\"CZ 5\",$C$8=\"CZ 6\")),\"U-0.7\",\nIF(AND(Table6c[[#This Row],[Dwelling/ Common?]]=\"Common\",Table6c[[#This Row],[Door Type]]=\"Opaque Door\",OR($C$8=\"CZ 7\",$C$8=\"CZ 8\")),\"U-0.5\",\n\nIF(AND(Table6c[[#This Row],[Dwelling/ Common?]]=\"Common\",$C$9=\"Version 1\",OR($C$7=\"Prescriptive\",$C$7=\"ERI\",$C$7=\"Title 24 - Dwelling Unit Models\")),INDEX(ESRefDesign_FenestrationAW_V1[#All],Table6c[[#This Row],[DT_UI]],Table6c[[#This Row],[CZ_I]]),\nIF(AND(Table6c[[#This Row],[Dwelling/ Common?]]=\"Common\",$C$9=\"Version 1.1\",OR($C$7=\"Prescriptive\",$C$7=\"ERI\",$C$7=\"Title 24 - Dwelling Unit Models\")),INDEX(ESRefDesign_FenestrationAW_V11[#All],Table6c[[#This Row],[DT_UI]],Table6c[[#This Row],[CZ_I]]),\nIF(AND(Table6c[[#This Row],[Dwelling/ Common?]]=\"Common\",$C$9=\"Version 1.2 OR+WA\",OR($C$7=\"Prescriptive\",$C$7=\"ERI\",$C$7=\"Title 24 - Dwelling Unit Models\")),INDEX(ESRefDesign_FenestrationAW_V12[#All],Table6c[[#This Row],[DT_UI]],Table6c[[#This Row],[CZ_I]]),\n\nIF(AND(Table6c[[#This Row],[Dwelling/ Common?]]=\"Common\",OR($C$7=\"ASHRAE\",$C$7=\"Title 24 - Whole Building Models\")),INDEX(IECC2009_Fenestration_AW_Windows[#All],Table6c[[#This Row],[DT_UI]],Table6c[[#This Row],[CZ_I]]),\n\nIF(AND(Table6c[[#This Row],[Dwelling/ Common?]]=\"Dwelling\",$C$7=\"Prescriptive\",$C$9=\"Version 1\"),INDEX(ESRefDesign_Fenestration_V1[#All],Table6c[[#This Row],[DT_UI]],Table6c[[#This Row],[CZ_I]]),\nIF(AND(Table6c[[#This Row],[Dwelling/ Common?]]=\"Dwelling\",$C$7=\"Prescriptive\",$C$9=\"Version 1.1\"),INDEX(ESRefDesign_Fenestration_V11[#All],Table6c[[#This Row],[DT_UI]],Table6c[[#This Row],[CZ_I]]),\nIF(AND(Table6c[[#This Row],[Dwelling/ Common?]]=\"Dwelling\",$C$7=\"Prescriptive\",$C$9=\"Version 1.2 OR+WA\"),INDEX(ESRefDesign_Fenestration_V12[#All],Table6c[[#This Row],[DT_UI]],Table6c[[#This Row],[CZ_I]]),\n\nIF(Table6c[[#This Row],[Dwelling/ Common?]]=\"Dwelling\",INDEX(IECC2009_Fenestration_NotAW_Windows[#All],Table6c[[#This Row],[DT_UI]],Table6c[[#This Row],[CZ_I]]),\n\n\"\"))))))))))),\"\")","v":"U-0.7"},{"$f":"IF(Table6c[[#This Row],[Total Area]]=\"\",\"\",Table6c[[#This Row],[Total Area]]*(RIGHT(Table6c[[#This Row],[ENERGY STAR Requirement\nU-FACTOR]],LEN(Table6c[[#This Row],[ENERGY STAR Requirement\nU-FACTOR]])-2)))","v":84},{"$f":"IFERROR(IF(AND($C$9=\"Version 1.2 OR+WA\",OR($C$8=\"CZ 1\",$C$8=\"CZ 2\",$C$8=\"CZ 3\",$C$8=\"CZ 4\",$C$8=\"CZ 7\",$C$8=\"CZ 8\")),\"N/A - Update CZ\",\n\nIF(Table6c[[#This Row],[Door Type]]=\"Opaque Door\",\"Any\",\n\nIF(AND(Table6c[[#This Row],[PROJECTION FACTOR (PF)\n(ASHRAE only)]]=\"\",OR($C$7=\"ASHRAE\",$C$7=\"Title 24 - Whole Building Models\"),Table6c[[#This Row],[Dwelling/ Common?]]=\"Common\"),\"Enter PF\",\n\nIF(AND(Table6c[[#This Row],[Dwelling/ Common?]]=\"Common\",$C$9=\"Version 1\",OR($C$7=\"Prescriptive\",$C$7=\"ERI\",$C$7=\"Title 24 - Dwelling Unit Models\")),INDEX(ESRefDesign_FenestrationAW_V1[#All],Table6c[[#This Row],[DT_SHGCI]],Table6c[[#This Row],[CZ_I]]),\nIF(AND(Table6c[[#This Row],[Dwelling/ Common?]]=\"Common\",$C$9=\"Version 1.1\",OR($C$7=\"Prescriptive\",$C$7=\"ERI\",$C$7=\"Title 24 - Dwelling Unit Models\")),INDEX(ESRefDesign_FenestrationAW_V11[#All],Table6c[[#This Row],[DT_SHGCI]],Table6c[[#This Row],[CZ_I]]),\nIF(AND(Table6c[[#This Row],[Dwelling/ Common?]]=\"Common\",$C$9=\"Version 1.2 OR+WA\",OR($C$7=\"Prescriptive\",$C$7=\"ERI\",$C$7=\"Title 24 - Dwelling Unit Models\")),INDEX(ESRefDesign_FenestrationAW_V12[#All],Table6c[[#This Row],[DT_SHGCI]],Table6c[[#This Row],[CZ_I]]),\n\nIF(AND(Table6c[[#This Row],[Dwelling/ Common?]]=\"Common\",OR($C$7=\"ASHRAE\",$C$7=\"Title 24 - Whole Building Models\")),INDEX(IECC2009_Fenestration_AW_Windows[#All],Table6c[[#This Row],[DT_SHGCI]],Table6c[[#This Row],[CZ_I]]),\n\nIF(AND(Table6c[[#This Row],[Dwelling/ Common?]]=\"Dwelling\",$C$7=\"Prescriptive\",$C$9=\"Version 1\"),INDEX(ESRefDesign_Fenestration_V1[#All],Table6c[[#This Row],[DT_SHGCI]],Table6c[[#This Row],[CZ_I]]),\nIF(AND(Table6c[[#This Row],[Dwelling/ Common?]]=\"Dwelling\",$C$7=\"Prescriptive\",$C$9=\"Version 1.1\"),INDEX(ESRefDesign_Fenestration_V11[#All],Table6c[[#This Row],[DT_SHGCI]],Table6c[[#This Row],[CZ_I]]),\nIF(AND(Table6c[[#This Row],[Dwelling/ Common?]]=\"Dwelling\",$C$7=\"Prescriptive\",$C$9=\"Version 1.2 OR+WA\"),INDEX(ESRefDesign_Fenestration_V12[#All],Table6c[[#This Row],[DT_SHGCI]],Table6c[[#This Row],[CZ_I]]),\n\nIF(Table6c[[#This Row],[Dwelling/ Common?]]=\"Dwelling\",INDEX(IECC2009_Fenestration_NotAW_Windows[#All],Table6c[[#This Row],[DT_SHGCI]],Table6c[[#This Row],[CZ_I]]),\n\n\"\"))))))))))),\"\")","v":"Any"},{"$f":"IF(AND(Table6c[[#This Row],[Door Type]]=\"Opaque Door\",Table6c[[#This Row],[Dwelling/ Common?]]=\"Common\"),\"N/A\",\n\nIF(AND(Table6c[[#This Row],[Dwelling/ Common?]]=\"Common\",OR($C$7=\"Prescriptive\",$C$7=\"ERI\",$C$7=\"Title 24 - Dwelling Unit Models\")),3,\nIF(AND(Table6c[[#This Row],[Dwelling/ Common?]]=\"Common\",OR($C$7=\"ASHRAE\",$C$7=\"Title 24 - Whole Building Models\")),4,\n\nIF(AND(Table6c[[#This Row],[Dwelling/ Common?]]=\"Dwelling\",OR($C$7=\"ASHRAE\",$C$7=\"Title 24 - Whole Building Models\",$C$7=\"ERI\",$C$7=\"Title 24 - Dwelling Unit Models\")),2,\n\nIF(Table6c[[#This Row],[Door Type]]=\"≤½ Lite Door\",5,\nIF(Table6c[[#This Row],[Door Type]]=\">½ Lite Door\",6,\nIF(AND(Table6c[[#This Row],[Door Type]]=\"Glazed Entrance Door\",$C$7=\"Prescriptive\"),6,\n\nIF(Table6c[[#This Row],[Door Type]]=\"Glazed Entrance Door\",4,\n\nIF(AND(Table6c[[#This Row],[Door Type]]=\"Opaque Door\",Table6c[[#This Row],[Dwelling/ Common?]]=\"Dwelling\"),4,\n\n\"\")))))))))","v":"N/A"},{"$f":"IF(Table6c[[#This Row],[Door Type]]=\"Opaque Door\",\"N/A\",\n\nIF(AND(Table6c[[#This Row],[Dwelling/ Common?]]=\"Common\",OR($C$7=\"Prescriptive\",$C$7=\"ERI\",$C$7=\"Title 24 - Dwelling Unit Models\")),4,\n\nIF(AND(Table6c[[#This Row],[Dwelling/ Common?]]=\"Common\",OR($C$7=\"ASHRAE\",$C$7=\"Title 24 - Whole Building Models\"),Table6c[[#This Row],[PROJECTION FACTOR (PF)\n(ASHRAE only)]]=\"< 0.25\"),7,\nIF(AND(Table6c[[#This Row],[Dwelling/ Common?]]=\"Common\",OR($C$7=\"ASHRAE\",$C$7=\"Title 24 - Whole Building Models\"),Table6c[[#This Row],[PROJECTION FACTOR (PF)\n(ASHRAE only)]]=\"0.25 < PF < 0.5\"),8,\nIF(AND(Table6c[[#This Row],[Dwelling/ Common?]]=\"Common\",OR($C$7=\"ASHRAE\",$C$7=\"Title 24 - Whole Building Models\"),Table6c[[#This Row],[PROJECTION FACTOR (PF)\n(ASHRAE only)]]=\">= 0.5\"),9,\n\nIF(AND(Table6c[[#This Row],[Dwelling/ Common?]]=\"Dwelling\",OR($C$7=\"ASHRAE\",$C$7=\"Title 24 - Whole Building Models\",$C$7=\"ERI\",$C$7=\"Title 24 - Dwelling Unit Models\")),4,\n\nIF(Table6c[[#This Row],[Door Type]]=\"≤½ Lite Door\",8,\nIF(Table6c[[#This Row],[Door Type]]=\">½ Lite Door\",9,\nIF(AND(Table6c[[#This Row],[Door Type]]=\"Glazed Entrance Door\",$C$7=\"Prescriptive\"),9,\n\nIF(Table6c[[#This Row],[Door Type]]=\"Glazed Entrance Door\",7,\n\nIF(AND(Table6c[[#This Row],[Door Type]]=\"Opaque Door\",Table6c[[#This Row],[Dwelling/ Common?]]=\"Dwelling\"),7,\n\n\"\")))))))))))","v":"N/A"},{"$f":"IF(AND($C$9=\"Version 1.2 OR+WA\",$C$7=\"Prescriptive\",$C$8=\"CZ 4 C\"),2,\nIF(AND($C$9=\"Version 1.2 OR+WA\",$C$7=\"Prescriptive\",$C$8=\"CZ 5\"),3,\nIF(AND($C$9=\"Version 1.2 OR+WA\",$C$7=\"Prescriptive\",$C$8=\"CZ 6\"),4,\n\nIF(AND($C$9=\"Version 1.2 OR+WA\",Table6c[[#This Row],[Dwelling/ Common?]]=\"Common\",OR($C$7=\"ERI\",$C$7=\"Title 24 - Dwelling Unit Models\"),$C$8=\"CZ 4 C\"),2,\nIF(AND($C$9=\"Version 1.2 OR+WA\",Table6c[[#This Row],[Dwelling/ Common?]]=\"Common\",OR($C$7=\"ERI\",$C$7=\"Title 24 - Dwelling Unit Models\"),$C$8=\"CZ 5\"),3,\nIF(AND($C$9=\"Version 1.2 OR+WA\",Table6c[[#This Row],[Dwelling/ Common?]]=\"Common\",OR($C$7=\"ERI\",$C$7=\"Title 24 - Dwelling Unit Models\"),$C$8=\"CZ 6\"),4,\n\nIF($C$8=\"CZ 1\",2,\nIF($C$8=\"CZ 2\",3,\nIF($C$8=\"CZ 3\",4,\nIF($C$8=\"CZ 4\",5,\nIF($C$8=\"CZ 4 C\",6,\nIF($C$8=\"CZ 5\",7,\nIF($C$8=\"CZ 6\",8,\nIF($C$8=\"CZ 7\",9,\nIF($C$8=\"CZ 8\",10,\"\")))))))))))))))","v":5},null,0.65,{"$f":"IF(Table6c[[#This Row],[Total Area]]=\"\",\"\",IFERROR(Table6c[[#This Row],[Total Area]]*Table6c[[#This Row],[ASSEMBLY\nU-FACTOR]],Table6c[[#This Row],[Total Area]]*(RIGHT(Table6c[[#This Row],[ASSEMBLY\nU-FACTOR]],LEN(Table6c[[#This Row],[ASSEMBLY\nU-FACTOR]])-2))))","v":78},0.3,"A-50","Yes","Yes"]
[null,null,null,null,null,null,{"$f":"IF(Table6c[[#This Row],[Qty]]=\"\",\"\",Table6c[[#This Row],[Qty]]*Table6c[[#This Row],[Area]])","v":""},null,{"$f":"IFERROR(IF(AND($C$9=\"Version 1.2 OR+WA\",OR($C$8=\"CZ 1\",$C$8=\"CZ 2\",$C$8=\"CZ 3\",$C$8=\"CZ 4\",$C$8=\"CZ 7\",$C$8=\"CZ 8\")),\"N/A - Update CZ\",\n\nIF(AND(Table6c[[#This Row],[Dwelling/ Common?]]=\"Common\",Table6c[[#This Row],[Door Type]]=\"Opaque Door\",OR($C$8=\"CZ 1\",$C$8=\"CZ 2\",$C$8=\"CZ 3\",$C$8=\"CZ 4\",$C$8=\"CZ 4 C\",$C$8=\"CZ 5\",$C$8=\"CZ 6\")),\"U-0.7\",\nIF(AND(Table6c[[#This Row],[Dwelling/ Common?]]=\"Common\",Table6c[[#This Row],[Door Type]]=\"Opaque Door\",OR($C$8=\"CZ 7\",$C$8=\"CZ 8\")),\"U-0.5\",\n\nIF(AND(Table6c[[#This Row],[Dwelling/ Common?]]=\"Common\",$C$9=\"Version 1\",OR($C$7=\"Prescriptive\",$C$7=\"ERI\",$C$7=\"Title 24 - Dwelling Unit Models\")),INDEX(ESRefDesign_FenestrationAW_V1[#All],Table6c[[#This Row],[DT_UI]],Table6c[[#This Row],[CZ_I]]),\nIF(AND(Table6c[[#This Row],[Dwelling/ Common?]]=\"Common\",$C$9=\"Version 1.1\",OR($C$7=\"Prescriptive\",$C$7=\"ERI\",$C$7=\"Title 24 - Dwelling Unit Models\")),INDEX(ESRefDesign_FenestrationAW_V11[#All],Table6c[[#This Row],[DT_UI]],Table6c[[#This Row],[CZ_I]]),\nIF(AND(Table6c[[#This Row],[Dwelling/ Common?]]=\"Common\",$C$9=\"Version 1.2 OR+WA\",OR($C$7=\"Prescriptive\",$C$7=\"ERI\",$C$7=\"Title 24 - Dwelling Unit Models\")),INDEX(ESRefDesign_FenestrationAW_V12[#All],Table6c[[#This Row],[DT_UI]],Table6c[[#This Row],[CZ_I]]),\n\nIF(AND(Table6c[[#This Row],[Dwelling/ Common?]]=\"Common\",OR($C$7=\"ASHRAE\",$C$7=\"Title 24 - Whole Building Models\")),INDEX(IECC2009_Fenestration_AW_Windows[#All],Table6c[[#This Row],[DT_UI]],Table6c[[#This Row],[CZ_I]]),\n\nIF(AND(Table6c[[#This Row],[Dwelling/ Common?]]=\"Dwelling\",$C$7=\"Prescriptive\",$C$9=\"Version 1\"),INDEX(ESRefDesign_Fenestration_V1[#All],Table6c[[#This Row],[DT_UI]],Table6c[[#This Row],[CZ_I]]),\nIF(AND(Table6c[[#This Row],[Dwelling/ Common?]]=\"Dwelling\",$C$7=\"Prescriptive\",$C$9=\"Version 1.1\"),INDEX(ESRefDesign_Fenestration_V11[#All],Table6c[[#This Row],[DT_UI]],Table6c[[#This Row],[CZ_I]]),\nIF(AND(Table6c[[#This Row],[Dwelling/ Common?]]=\"Dwelling\",$C$7=\"Prescriptive\",$C$9=\"Version 1.2 OR+WA\"),INDEX(ESRefDesign_Fenestration_V12[#All],Table6c[[#This Row],[DT_UI]],Table6c[[#This Row],[CZ_I]]),\n\nIF(Table6c[[#This Row],[Dwelling/ Common?]]=\"Dwelling\",INDEX(IECC2009_Fenestration_NotAW_Windows[#All],Table6c[[#This Row],[DT_UI]],Table6c[[#This Row],[CZ_I]]),\n\n\"\"))))))))))),\"\")","v":""},{"$f":"IF(Table6c[[#This Row],[Total Area]]=\"\",\"\",Table6c[[#This Row],[Total Area]]*(RIGHT(Table6c[[#This Row],[ENERGY STAR Requirement\nU-FACTOR]],LEN(Table6c[[#This Row],[ENERGY STAR Requirement\nU-FACTOR]])-2)))","v":""},{"$f":"IFERROR(IF(AND($C$9=\"Version 1.2 OR+WA\",OR($C$8=\"CZ 1\",$C$8=\"CZ 2\",$C$8=\"CZ 3\",$C$8=\"CZ 4\",$C$8=\"CZ 7\",$C$8=\"CZ 8\")),\"N/A - Update CZ\",\n\nIF(Table6c[[#This Row],[Door Type]]=\"Opaque Door\",\"Any\",\n\nIF(AND(Table6c[[#This Row],[PROJECTION FACTOR (PF)\n(ASHRAE only)]]=\"\",OR($C$7=\"ASHRAE\",$C$7=\"Title 24 - Whole Building Models\"),Table6c[[#This Row],[Dwelling/ Common?]]=\"Common\"),\"Enter PF\",\n\nIF(AND(Table6c[[#This Row],[Dwelling/ Common?]]=\"Common\",$C$9=\"Version 1\",OR($C$7=\"Prescriptive\",$C$7=\"ERI\",$C$7=\"Title 24 - Dwelling Unit Models\")),INDEX(ESRefDesign_FenestrationAW_V1[#All],Table6c[[#This Row],[DT_SHGCI]],Table6c[[#This Row],[CZ_I]]),\nIF(AND(Table6c[[#This Row],[Dwelling/ Common?]]=\"Common\",$C$9=\"Version 1.1\",OR($C$7=\"Prescriptive\",$C$7=\"ERI\",$C$7=\"Title 24 - Dwelling Unit Models\")),INDEX(ESRefDesign_FenestrationAW_V11[#All],Table6c[[#This Row],[DT_SHGCI]],Table6c[[#This Row],[CZ_I]]),\nIF(AND(Table6c[[#This Row],[Dwelling/ Common?]]=\"Common\",$C$9=\"Version 1.2 OR+WA\",OR($C$7=\"Prescriptive\",$C$7=\"ERI\",$C$7=\"Title 24 - Dwelling Unit Models\")),INDEX(ESRefDesign_FenestrationAW_V12[#All],Table6c[[#This Row],[DT_SHGCI]],Table6c[[#This Row],[CZ_I]]),\n\nIF(AND(Table6c[[#This Row],[Dwelling/ Common?]]=\"Common\",OR($C$7=\"ASHRAE\",$C$7=\"Title 24 - Whole Building Models\")),INDEX(IECC2009_Fenestration_AW_Windows[#All],Table6c[[#This Row],[DT_SHGCI]],Table6c[[#This Row],[CZ_I]]),\n\nIF(AND(Table6c[[#This Row],[Dwelling/ Common?]]=\"Dwelling\",$C$7=\"Prescriptive\",$C$9=\"Version 1\"),INDEX(ESRefDesign_Fenestration_V1[#All],Table6c[[#This Row],[DT_SHGCI]],Table6c[[#This Row],[CZ_I]]),\nIF(AND(Table6c[[#This Row],[Dwelling/ Common?]]=\"Dwelling\",$C$7=\"Prescriptive\",$C$9=\"Version 1.1\"),INDEX(ESRefDesign_Fenestration_V11[#All],Table6c[[#This Row],[DT_SHGCI]],Table6c[[#This Row],[CZ_I]]),\nIF(AND(Table6c[[#This Row],[Dwelling/ Common?]]=\"Dwelling\",$C$7=\"Prescriptive\",$C$9=\"Version 1.2 OR+WA\"),INDEX(ESRefDesign_Fenestration_V12[#All],Table6c[[#This Row],[DT_SHGCI]],Table6c[[#This Row],[CZ_I]]),\n\nIF(Table6c[[#This Row],[Dwelling/ Common?]]=\"Dwelling\",INDEX(IECC2009_Fenestration_NotAW_Windows[#All],Table6c[[#This Row],[DT_SHGCI]],Table6c[[#This Row],[CZ_I]]),\n\n\"\"))))))))))),\"\")","v":""},{"$f":"IF(AND(Table6c[[#This Row],[Door Type]]=\"Opaque Door\",Table6c[[#This Row],[Dwelling/ Common?]]=\"Common\"),\"N/A\",\n\nIF(AND(Table6c[[#This Row],[Dwelling/ Common?]]=\"Common\",OR($C$7=\"Prescriptive\",$C$7=\"ERI\",$C$7=\"Title 24 - Dwelling Unit Models\")),3,\nIF(AND(Table6c[[#This Row],[Dwelling/ Common?]]=\"Common\",OR($C$7=\"ASHRAE\",$C$7=\"Title 24 - Whole Building Models\")),4,\n\nIF(AND(Table6c[[#This Row],[Dwelling/ Common?]]=\"Dwelling\",OR($C$7=\"ASHRAE\",$C$7=\"Title 24 - Whole Building Models\",$C$7=\"ERI\",$C$7=\"Title 24 - Dwelling Unit Models\")),2,\n\nIF(Table6c[[#This Row],[Door Type]]=\"≤½ Lite Door\",5,\nIF(Table6c[[#This Row],[Door Type]]=\">½ Lite Door\",6,\nIF(AND(Table6c[[#This Row],[Door Type]]=\"Glazed Entrance Door\",$C$7=\"Prescriptive\"),6,\n\nIF(Table6c[[#This Row],[Door Type]]=\"Glazed Entrance Door\",4,\n\nIF(AND(Table6c[[#This Row],[Door Type]]=\"Opaque Door\",Table6c[[#This Row],[Dwelling/ Common?]]=\"Dwelling\"),4,\n\n\"\")))))))))","v":""},{"$f":"IF(Table6c[[#This Row],[Door Type]]=\"Opaque Door\",\"N/A\",\n\nIF(AND(Table6c[[#This Row],[Dwelling/ Common?]]=\"Common\",OR($C$7=\"Prescriptive\",$C$7=\"ERI\",$C$7=\"Title 24 - Dwelling Unit Models\")),4,\n\nIF(AND(Table6c[[#This Row],[Dwelling/ Common?]]=\"Common\",OR($C$7=\"ASHRAE\",$C$7=\"Title 24 - Whole Building Models\"),Table6c[[#This Row],[PROJECTION FACTOR (PF)\n(ASHRAE only)]]=\"< 0.25\"),7,\nIF(AND(Table6c[[#This Row],[Dwelling/ Common?]]=\"Common\",OR($C$7=\"ASHRAE\",$C$7=\"Title 24 - Whole Building Models\"),Table6c[[#This Row],[PROJECTION FACTOR (PF)\n(ASHRAE only)]]=\"0.25 < PF < 0.5\"),8,\nIF(AND(Table6c[[#This Row],[Dwelling/ Common?]]=\"Common\",OR($C$7=\"ASHRAE\",$C$7=\"Title 24 - Whole Building Models\"),Table6c[[#This Row],[PROJECTION FACTOR (PF)\n(ASHRAE only)]]=\">= 0.5\"),9,\n\nIF(AND(Table6c[[#This Row],[Dwelling/ Common?]]=\"Dwelling\",OR($C$7=\"ASHRAE\",$C$7=\"Title 24 - Whole Building Models\",$C$7=\"ERI\",$C$7=\"Title 24 - Dwelling Unit Models\")),4,\n\nIF(Table6c[[#This Row],[Door Type]]=\"≤½ Lite Door\",8,\nIF(Table6c[[#This Row],[Door Type]]=\">½ Lite Door\",9,\nIF(AND(Table6c[[#This Row],[Door Type]]=\"Glazed Entrance Door\",$C$7=\"Prescriptive\"),9,\n\nIF(Table6c[[#This Row],[Door Type]]=\"Glazed Entrance Door\",7,\n\nIF(AND(Table6c[[#This Row],[Door Type]]=\"Opaque Door\",Table6c[[#This Row],[Dwelling/ Common?]]=\"Dwelling\"),7,\n\n\"\")))))))))))","v":""},{"$f":"IF(AND($C$9=\"Version 1.2 OR+WA\",$C$7=\"Prescriptive\",$C$8=\"CZ 4 C\"),2,\nIF(AND($C$9=\"Version 1.2 OR+WA\",$C$7=\"Prescriptive\",$C$8=\"CZ 5\"),3,\nIF(AND($C$9=\"Version 1.2 OR+WA\",$C$7=\"Prescriptive\",$C$8=\"CZ 6\"),4,\n\nIF(AND($C$9=\"Version 1.2 OR+WA\",Table6c[[#This Row],[Dwelling/ Common?]]=\"Common\",OR($C$7=\"ERI\",$C$7=\"Title 24 - Dwelling Unit Models\"),$C$8=\"CZ 4 C\"),2,\nIF(AND($C$9=\"Version 1.2 OR+WA\",Table6c[[#This Row],[Dwelling/ Common?]]=\"Common\",OR($C$7=\"ERI\",$C$7=\"Title 24 - Dwelling Unit Models\"),$C$8=\"CZ 5\"),3,\nIF(AND($C$9=\"Version 1.2 OR+WA\",Table6c[[#This Row],[Dwelling/ Common?]]=\"Common\",OR($C$7=\"ERI\",$C$7=\"Title 24 - Dwelling Unit Models\"),$C$8=\"CZ 6\"),4,\n\nIF($C$8=\"CZ 1\",2,\nIF($C$8=\"CZ 2\",3,\nIF($C$8=\"CZ 3\",4,\nIF($C$8=\"CZ 4\",5,\nIF($C$8=\"CZ 4 C\",6,\nIF($C$8=\"CZ 5\",7,\nIF($C$8=\"CZ 6\",8,\nIF($C$8=\"CZ 7\",9,\nIF($C$8=\"CZ 8\",10,\"\")))))))))))))))","v":5},null,null,{"$f":"IF(Table6c[[#This Row],[Total Area]]=\"\",\"\",IFERROR(Table6c[[#This Row],[Total Area]]*Table6c[[#This Row],[ASSEMBLY\nU-FACTOR]],Table6c[[#This Row],[Total Area]]*(RIGHT(Table6c[[#This Row],[ASSEMBLY\nU-FACTOR]],LEN(Table6c[[#This Row],[ASSEMBLY\nU-FACTOR]])-2))))","v":""}]
[null,null,null,"Weighted U-factor:",{"$f":"IFERROR(SUM(Table6c[Total UA])/SUM(Table6c[Total Area]),\"\")","v":0.4157102001906578}]
[]
[null,"Footnote 5. All windows, doors and skylights must meet or exceed the U-factor and SHGC requirements specified in the table below. If no NFRC rating is noted on the window or in product literature (e.g., for site-built fenestration), select the U-factor and SHGC value from Tables 4 and 10, respectively, in 2013 ASHRAE Handbook of Fundamentals, Chapter 15. Select the highest U-factor and SHGC value among the values listed for the known window characteristics (e.g., frame type, number of panes, glass color, and presence of low-e coating). Note that the U-factor requirement applies to all fenestration while the SHGC only applies to the glazed portion."]
[null,null,"Dwelling unit doors and windows that are not classified “Class AW”*",null,null,null,null,"Dwelling unit windows and doors that are classified as “Class AW”* and all skylights",null,null,null,"Common Space†"]
[null,"ERI","2009 IECC Table 402.1.1",null,null,null,null,"2009 IECC Table 502.3",null,null,null,"ENERGY STAR MF Reference Design – for Class AW"]
[null,"ASHRAE","2009 IECC Table 402.1.1",null,null,null,null,"2009 IECC Table 502.3",null,null,null,"2009 IECC Table 502.3"]
[null,"Prescriptive","ENERGY STAR MF Reference Design",null,null,null,null,"Windows and Doors: ENERGY STAR MF Reference Design – for Class AW\nSkylights: 2012 IECC Table 402.3",null,null,null,"ENERGY STAR MF Reference Design – for Class AW"]
[null,"* Classified as “Class AW” under the North American Fenestration Standard (AAMA / WDMA / CSA 101 / I.S.2 / A440)."]
[null,"† Opaque doors in common spaces in CZ1-6 shall not exceed U-0.70, and in CZ 7-8, shall not exceed U-0.5."]
[]
[null,"The following exemptions apply:"]
[null,"           i.        An area-weighted average of fenestration products shall be permitted to satisfy the U-factor requirements;"]
[null,"          ii.        An area-weighted average of fenestration products ≥ 50% glazed shall be permitted to satisfy the SHGC requirements; and"]
[null,"         iii.        5% of all combined fenestration area (glazed and opaque) shall be exempt from the U-factor and SHGC requirements, and shall be excluded from area-weighted averages calculated using i) and ii), above. "]
[null,"In PHIUS+ or PHI certified buildings, where triple-glazed window assemblies with thermal breaks / spacers between the panes are used, such windows meet the intent of Items 2.1 and 2.2 and shall be excluded when assessing compliance of i) through iii), above."]

{"sheet":"7. Heated Plenum or Garage","index":17,"n_rows":17,"n_cols":6,"rows_kept":17,"cut":false,"hidden":false,"merged":[[3,3,3,4],[5,5,6,10],[1,2,1,10]]}
[]
[null,"Instructions: ","Using Tables: Providing data in yellow cells on this tab prior to the Proposed Design submittal is optional, but recommended. \n\nPrior to As-Built submittal, where heated plenum or heated garages are present, list the installed R-value, if not clearly shown in photo documentation. \n\nException: Per Rater Field Checklist, footnote 9, compliance with Items 1.5 and 1.6 is not required for ASHRAE projects, but the energy used by the heating systems must be modeled following the requirements in the Simulation Guidelines, available at www.energystar.gov/mfnc.\n\nPrinting: Optimized for Portait view."]
[]
[null,"Select ENERGY STAR Version",{"$f":"IF('Project Information'!$F$8=\"\",\"Complete Project Information Tab\",'Project Information'!$F$8)","v":"Version 1"},"Select ENERGY STAR Climate Zone",null,{"$f":"IF('Project Information'!$F$10=\"\",\"Complete Project Information Tab\",'Project Information'!$F$10)","v":"CZ 4"}]
[]
[null,null,null,null,null,"NOTES"]
[null,"Heated Plenum Insulation Verification"]
[null,null,"ENERGY STAR Requirement","Specified/Installed R-value"]
[null,"Plenum Wall Insulation",{"$f":"IF($F$4=\"CZ 1\",\"R-3ci\",\nIF($F$4=\"CZ 2\",\"R-3ci\",\nIF($F$4=\"CZ 3\",\"R-3ci\",\nIF($F$4=\"CZ 4\",\"R-3ci\",\nIF($F$4=\"CZ 4 C\",\"R-3ci\",\nIF($F$4=\"CZ 5\",\"R-5ci\",\nIF($F$4=\"CZ 6\",\"R-5ci\",\nIF($F$4=\"CZ 7\",\"R-7.5ci\",\nIF($F$4=\"CZ 8\",\"R-9.5ci\",\"\")))))))))","v":"R-3ci"},4]
[null,"Top of Plenum Insulation",{"$f":"IF(OR($F$4=\"\",$F$4=\"Complete Project Information Tab\"),\"\",INDEX(IECC2009_O_Floors[#All],2,(IF($F$4=\"CZ 1\",2,\nIF($F$4=\"CZ 2\",3,\nIF($F$4=\"CZ 3\",4,\nIF($F$4=\"CZ 4\",5,\nIF($F$4=\"CZ 4 C\",6,\nIF($F$4=\"CZ 5\",7,\nIF($F$4=\"CZ 6\",8,\nIF($F$4=\"CZ 7\",9,\nIF($F$4=\"CZ 8\",10,\"\"))))))))))))","v":"R-10ci"},13]
[null,"Bottom of Plenum Insulation",{"$f":"IF(OR($F$4=\"\",$F$4=\"Complete Project Information Tab\"),\"\",\"R-13\")","v":"R-13"},13]
[]
[]
[null,"Heated Garage Insulation Verification"]
[null,null,"ENERGY STAR Requirement","Specified/Installed R-value"]
[null,"Garage Above Grade or First Floor Below Grade Wall Insulation",{"$f":"IF(OR($F$4=\"CZ 1\",$F$4=\"CZ 2\",$F$4=\"CZ 3\",$F$4=\"CZ 4\",$F$4=\"CZ 4 C\"),\"No ENERGY STAR Requirement\",\nIF(OR($F$4=\"CZ 5\",$F$4=\"CZ 6\"),\"R-5ci\",IF($F$4=\"CZ 7\",\"R-7.5ci\",\nIF($F$4=\"CZ 8\",\"R-9.5ci\",\"\"))))","v":"No ENERGY STAR Requirement"},15]
[null,"Garage Ceiling Insulation",{"$f":"IF(OR($F$4=\"\",$F$4=\"Complete Project Information Tab\"),\"\",INDEX(IECC2009_O_Floors[#All],2,(IF($F$4=\"CZ 1\",2,\nIF($F$4=\"CZ 2\",3,\nIF($F$4=\"CZ 3\",4,\nIF($F$4=\"CZ 4\",5,\nIF($F$4=\"CZ 4 C\",6,\nIF($F$4=\"CZ 5\",7,\nIF($F$4=\"CZ 6\",8,\nIF($F$4=\"CZ 7\",9,\nIF($F$4=\"CZ 8\",10,\"\"))))))))))))","v":"R-10ci"},13]

{"sheet":"8. DHW_SHW Schedule","index":18,"n_rows":28,"n_cols":17,"rows_kept":28,"cut":false,"hidden":false,"merged":[[5,16,6,21],[20,16,21,21],[22,5,22,7],[17,2,17,12],[1,2,1,12],[5,2,5,12],[20,2,20,3],[19,1,19,3],[20,5,20,11]]}
[]
[null,"Instructions: ","Using Tables: Providing data in orange cells on this tab prior to the Proposed Design submittal is optional, but recommended. \n\nPrior to As-Built submittal, complete all orange cells. See below for specific instructions on using the Domestic Hot Water System Verification and the Low-Flow Fixture Verification tables. If make and model numbers were entered at the Proposed Design submittal, mark any changes from the Proposed Design in 'Inspection Comments' (Column M).\n\nPrinting: Optimized for printing in Landscape view."]
[]
[null,"Domestic Hot Water / Service Hot Water System Verification"]
[]
[null,"Instructions: ","Complete entire table OR complete columns B, C, D and provide AHRI Certificate for each DHW/SHW system. Use dropdown in column O to notify your MRO of your certificate review preferences.",null,null,null,null,null,null,null,null,null,null,null,null,null,"NOTES"]
[]
[null,"ID -DHW/SHW System ","DESCRIPTION","LOCATION","MFR","MODEL #","AHRI CERT #","Column7","Column8","LOCATION\n(dwg/spec)","PLAN REVIEW","INSPECTION?","INSPECTION COMMENTS","Column1","MRO Certificate Review"]
[null,"WH1","30gal gas","apt units","Vandeley Industries","240-a42500-00f",10070650,null,null,"pl-21","Yes","Yes",null,null,"Review MF Workbook Table"]
[null,"WH2","50gal gas","condos","Vandeley Industries","240-q42577-00b",10045070,null,null,"pl-21","Yes","Yes",null,null,"Review MF Workbook Table"]
[]
[]
[]
[]
[]
[null,"Low-Flow Fixture Verification"]
[]
[null,"Instructions: ","Prescriptive Path: Complete table and provide cut sheet/WaterSense documentation for each bath faucet, aerator, and showerhead.\n\nASHRAE Path: (if taking credit for low-flow fixture) Complete table and provide cut sheet/WaterSense documentation for each faucet and showerhead, where credit is taken, that clearly identifies flow rate."]
[]
[null,"For shower compartments with multiple fixtures:"]
[null,null,"Operated simultaneously (Y/N)?",null,"No",{"$f":"IF(E21=\"Yes\",\"If yes, list all showerheads in table such that the total per compartment can be verified\",\"\")","v":""},null,null,null,null,null,null,null,null,null,null,"NOTES"]
[]
[null,null,null,null,"ASHRAE PATH ONLY","PRESCRIPTIVE PATH ONLY"]
[null,"ID - Low-Flow Fixtures","DESCRIPTION","Quantity","GPM","MFR","MODEL #","WaterSense?","Column8","LOCATION\n(dwg/spec)","PLAN REVIEW","INSPECTION?","INSPECTION COMMENTS","Column13","MRO Certificate Review"]
[null,"S-1","Shower Head",150,1.5,"Vandeley","a-325","Yes",null,"Pl-15","Yes","Yes",null,null,"Review MF Workbook Table"]
[null,"S-2a","Aerator",240,1.5,"Vandeley","22.b","Yes",null,"Pl-15","Yes","Yes",null,null,"Review MF Workbook Table"]
[null,"S-2b","Aerator",200,1.5,"Vandeley","22.b","Yes",null,"Pl-16","Yes","Yes",null,null,"Review Submitted Documentation"]
[null,"WC1","Toilet",162,1.2,"Vandeley","234-b20","Yes",null,"Pl-17","Yes",null,null,null,"Review Submitted Documentation"]

{"sheet":"9. Heating and Cooling Schedule","index":19,"n_rows":22,"n_cols":17,"rows_kept":22,"cut":false,"hidden":false,"merged":[[1,2,1,12],[18,2,18,12],[5,2,5,12],[5,16,6,21],[18,16,19,21]]}
[]
[null,"Instructions: ","Using Tables: Providing data in orange cells on this tab prior to the Proposed Design submittal is optional, but recommended. \n\nPrior to As-Built submittal, complete all orange cells. See below for specific instructions on using the Heating & Cooling System Verification and the Circulating Pump Motor Verification (non-DHW/SHW) tables. If make and model numbers were entered at the Proposed Design submittal, mark any changes from the Proposed Design in 'Inspection Comments' (Column M). Use dropdown in column O to notify your MRO of your certificate review preferences.\n\nPrinting: Optimized for printing in Landscape view."]
[]
[null,"Heating & Cooling System Verification"]
[]
[null,"Instructions: ","Complete table OR provide schedule with AHRI certificate for each system in schedule.",null,null,null,null,null,null,null,null,null,null,null,null,null,"NOTES"]
[]
[null,"ID","DESCRIPTION","HEATING/ COOLING","LOCATION/ SERVES","QUANTITY","MFR","AHRI CERT#","Column1","LOCATION\n(dwg/spec)","PLAN REVIEW","INSPECTION?","INSPECTION COMMENTS","Column2","MRO Certificate Review"]
[null,"AHU 1",null,"Cooling","Apt units",30,"Vandeley",10070650,null,"M-20a","Yes","Yes",null,null,"Review MF Workbook Table"]
[null,"AHU 2",null,"Cooling","Apt units",45,"Vandeley",10070660,null,"M-20a","Yes","Yes",null,null,"Review MF Workbook Table"]
[null,"AHU 3",null,"Cooling","Apt units",75,"Vandeley",10045650,null,"M-20a","Yes","No",null,null,"Review MF Workbook Table"]
[null,"Furn 1",null,"Heating","Apt units",150,"Vandeley",10045680,null,"M-20a","Yes","Yes",null,null,"Review Submitted Documentation"]
[null,"AHU 4",null,"Both","Condos",5,"Vandeley",10045660,null,null,"Yes","No",null,null,"Review MF Workbook Table"]
[]
[]
[]
[null,"Circulating Pump Motor Verification (non-DHW/SHW)"]
[]
[null,"Instructions: ","Record manufacturer and model number of 3-phase pump motors over 1 HP, to confirm NEMA. If over 5 HP, confirm presence of VFD and provide photo of VFD.",null,null,null,null,null,null,null,null,null,null,null,null,null,"NOTES"]
[]
[null,"ID","DESCRIPTION","LOCATION","MFR","MODEL #","HORSE\nPOWER (HP)","NEMA PREMIUM?","VFD?","LOCATION\n(dwg/spec)","PLAN REVIEW","INSPECTION?","INSPECTION COMMENTS","Column1","MRO Certificate Review"]
[null,"Pump 1-4","Hydronics-Condo level","Mech Room 2","Vandeley Industries","E9015S",3,"Yes","No","M-21","Yes","Yes",null,null,"Review MF Workbook Table"]

{"sheet":"10. Lighting","index":20,"n_rows":82,"n_cols":43,"rows_kept":82,"cut":false,"hidden":false,"merged":[[74,1,74,2],[75,1,75,2],[63,1,63,2],[39,1,39,2],[44,1,44,3],[57,1,57,3],[59,1,59,14],[40,1,40,2],[41,1,41,2],[61,1,61,14],[72,1,72,14],[42,11,42,12],[44,4,44,6],[45,1,45,3],[45,4,45,6],[1,2,1,14],[5,1,7,14],[10,1,10,14],[37,1,37,14],[14,1,14,2],[15,1,15,2],[16,1,16,2],[35,1,35,33],[12,1,12,2],[12,4,12,14]]}
[]
[null,"Instructions: ","Using Tables: Providing data in orange cells on this tab prior to the Proposed Design submittal is optional, but recommended. \n\nPrior to As-Built submittal, use the As-Built lighting schedule and floor plans to complete all orange cells. Pass/Fail values will calculate automatically. \n\nPrinting: Optimized for printing in Portrait view."]
[]
[null,"Lighting Verification (Lighting Power Density Calculation and 90% Efficient Fixtures)"]
[]
[null,"Qualifying Tier I Light Fixture – A light fixture located in a Qualifying Light Fixture Location that contains fluorescent lamps.\n\nQualifying Tier II Light Fixture – A light fixture located in a Qualifying Light Fixture Location that contains LED lamps; an integrated LED fixture; an outdoor light fixture that is controlled by a photocell; or an indoor fixture controlled by a motion sensor."]
[]
[]
[]
[]
[null,"Dwelling Unit\n(Prescriptive Path only; ASHRAE Path can enter into APC)"]
[]
[null,"Total Project Square Footage",null,{"$f":"'Project Information'!C11","v":200000},{"$f":"IF(SUM(E34,F34,E58,Table10d122[Lit Area (SF)])>D13,CONCATENATE(\"ERROR: Total area reported below (\",SUM(E34,F34,E58,Table10d122[Lit Area (SF)]),\") is greater than the Total Project Square Footage entered on the 'Project Information' tab.\"),\"\")","v":""}]
[]
[null,"Count All Fixtures",null,{"$f":"IF(OR(AJ$34=\"\",AJ$34=0),\"\",AJ$34)","v":480},null,null,null,"Fixture Label","A","B","C","D","E","F","G","H","I","J","K","L","M","N","O","P","Q","R","S","T","U","V","W","X","Y","Z","Column1","Column2","Column3","Column4","Column5","Column6","Column7","Column8","Column9"]
[null,"Are 90% Tier I/II or ES?",null,{"$f":"IF(AJ$34=0,\"\",\nIF((AK$34/AJ$34)>0.9,\"PASS\",\"FAIL\"))","v":"PASS"},null,null,null,"Fixture Watts",13,39,26,5,5.5]
[null,"Prescriptive Only: < 0.75?",null,{"$f":"IF($G$34=\"\",\"\",\nIF($G$34<=0.75,\"PASS\",\"FAIL\"))","v":"FAIL"},null,null,null,"Efficacy","ES","Tier II","Tier I","Tier II","ES"]
[null,null,null,null,null,null,null,null,null,null,null,null,null,null,null,null,null,null,null,null,null,null,null,null,null,null,null,null,null,null,null,null,null,null,null,"hide","hide","hide","hide"]
[null,"Multiplier","Unit Plan","Room Type","Lit Area (SF)","Unlit Area (SF)","Watts/SF","Installed Watts",{"$f":"Table10a17[[#Headers],[A]]","v":"A"},{"$f":"Table10a17[[#Headers],[B]]","v":"B"},{"$f":"Table10a17[[#Headers],[C]]","v":"C"},{"$f":"Table10a17[[#Headers],[D]]","v":"D"},{"$f":"Table10a17[[#Headers],[E]]","v":"E"},{"$f":"Table10a17[[#Headers],[F]]","v":"F"},{"$f":"Table10a17[[#Headers],[G]]","v":"G"},{"$f":"Table10a17[[#Headers],[H]]","v":"H"},{"$f":"Table10a17[[#Headers],[I]]","v":"I"},{"$f":"Table10a17[[#Headers],[J]]","v":"J"},{"$f":"Table10a17[[#Headers],[K]]","v":"K"},{"$f":"Table10a17[[#Headers],[L]]","v":"L"},{"$f":"Table10a17[[#Headers],[M]]","v":"M"},{"$f":"Table10a17[[#Headers],[N]]","v":"N"},{"$f":"Table10a17[[#Headers],[O]]","v":"O"},{"$f":"Table10a17[[#Headers],[P]]","v":"P"},{"$f":"Table10a17[[#Headers],[Q]]","v":"Q"},{"$f":"Table10a17[[#Headers],[R]]","v":"R"},{"$f":"Table10a17[[#Headers],[S]]","v":"S"},{"$f":"Table10a17[[#Headers],[T]]","v":"T"},{"$f":"Table10a17[[#Headers],[U]]","v":"U"},{"$f":"Table10a17[[#Headers],[V]]","v":"V"},{"$f":"Table10a17[[#Headers],[W]]","v":"W"},{"$f":"Table10a17[[#Headers],[X]]","v":"X"},{"$f":"Table10a17[[#Headers],[Y]]","v":"Y"},{"$f":"Table10a17[[#Headers],[Z]]","v":"Z"},null,"Total Fixtures","TierI/TierII/ES Fixtures","Watts (Lit Area) 3x","Warning?"]
[null,"Multiplier","Unit Plan","Room Type","Lit Area (SF)","Unlit Area (SF)","Watts/SF","Installed Watts","A","B","C","D","E","F","G","H","I","J","K","L","M","N","O","P","Q","R","S","T","U","V","W","X","Y","Z","Column19","Total Fixtures","TierI/TierII/ES Fixtures","Watts (Lit Area) 3x","Warning?","Column1","Column2","Column3","Column4"]
[null,20,"A1","Bathroom",55,0,{"$f":"IFERROR(SUM(Table10b15[[#This Row],[Unlit Area (SF)]]*1.07,Table10b15[[#This Row],[A]]*$I$16,Table10b15[[#This Row],[B]]*$J$16,Table10b15[[#This Row],[C]]*$K$16,Table10b15[[#This Row],[D]]*$L$16,Table10b15[[#This Row],[E]]*$M$16,Table10b15[[#This Row],[F]]*$N$16,Table10b15[[#This Row],[G]]*$O$16,Table10b15[[#This Row],[H]]*$P$16,Table10b15[[#This Row],[I]]*$Q$16,Table10b15[[#This Row],[J]]*$R$16,Table10b15[[#This Row],[K]]*$S$16,Table10b15[[#This Row],[L]]*$T$16,Table10b15[[#This Row],[M]]*$U$16,Table10b15[[#This Row],[N]]*$V$16,Table10b15[[#This Row],[O]]*$W$16,Table10b15[[#This Row],[P]]*$X$16,Table10b15[[#This Row],[Q]]*$Y$16,Table10b15[[#This Row],[R]]*$Z$16,Table10b15[[#This Row],[S]]*$AA$16,Table10b15[[#This Row],[T]]*$AB$16,Table10b15[[#This Row],[U]]*$AC$16,Table10b15[[#This Row],[V]]*$AD$16,Table10b15[[#This Row],[W]]*$AE$16,Table10b15[[#This Row],[X]]*$AF$16,Table10b15[[#This Row],[Y]]*$AG$16,Table10b15[[#This Row],[Z]]*$AH$16)/Table10b15[[#This Row],[Lit Area (SF)]],\"\")","v":0.23636363636363636},{"$f":"IFERROR(SUM(Table10b15[[#This Row],[Lit Area (SF)]],Table10b15[[#This Row],[Unlit Area (SF)]])*Table10b15[[#This Row],[Multiplier]]*Table10b15[[#This Row],[Watts/SF]],\"\")","v":260},1,null,null,null,null,null,null,null,null,null,null,null,null,null,null,null,null,null,null,null,null,null,null,null,null,null,null,{"$f":"SUM(Table10b15[[#This Row],[A]:[Z]])*Table10b15[[#This Row],[Multiplier]]","v":20},{"$f":"SUM(IF(OR($I$17=\"Tier I\",$I$17=\"Tier II\",$I$17=\"ES\"),Table10b15[[#This Row],[A]]*Table10b15[[#This Row],[Multiplier]],0),\nIF(OR($J$17=\"Tier I\",$J$17=\"Tier II\",$J$17=\"ES\"),Table10b15[[#This Row],[B]]*Table10b15[[#This Row],[Multiplier]],0),\nIF(OR($K$17=\"Tier I\",$K$17=\"Tier II\",$K$17=\"ES\"),Table10b15[[#This Row],[C]]*Table10b15[[#This Row],[Multiplier]],0),\nIF(OR($L$17=\"Tier I\",$L$17=\"Tier II\",$L$17=\"ES\"),Table10b15[[#This Row],[D]]*Table10b15[[#This Row],[Multiplier]],0),\nIF(OR($M$17=\"Tier I\",$M$17=\"Tier II\",$M$17=\"ES\"),Table10b15[[#This Row],[E]]*Table10b15[[#This Row],[Multiplier]],0),\nIF(OR($N$17=\"Tier I\",$N$17=\"Tier II\",$N$17=\"ES\"),Table10b15[[#This Row],[F]]*Table10b15[[#This Row],[Multiplier]],0),\nIF(OR($O$17=\"Tier I\",$O$17=\"Tier II\",$O$17=\"ES\"),Table10b15[[#This Row],[G]]*Table10b15[[#This Row],[Multiplier]],0),\nIF(OR($P$17=\"Tier I\",$P$17=\"Tier II\",$P$17=\"ES\"),Table10b15[[#This Row],[H]]*Table10b15[[#This Row],[Multiplier]],0),\nIF(OR($Q$17=\"Tier I\",$Q$17=\"Tier II\",$Q$17=\"ES\"),Table10b15[[#This Row],[I]]*Table10b15[[#This Row],[Multiplier]],0),\nIF(OR($R$17=\"Tier I\",$R$17=\"Tier II\",$R$17=\"ES\"),Table10b15[[#This Row],[J]]*Table10b15[[#This Row],[Multiplier]],0),\nIF(OR($S$17=\"Tier I\",$S$17=\"Tier II\",$S$17=\"ES\"),Table10b15[[#This Row],[K]]*Table10b15[[#This Row],[Multiplier]],0),\nIF(OR($T$17=\"Tier I\",$T$17=\"Tier II\",$T$17=\"ES\"),Table10b15[[#This Row],[L]]*Table10b15[[#This Row],[Multiplier]],0),\nIF(OR($U$17=\"Tier I\",$U$17=\"Tier II\",$U$17=\"ES\"),Table10b15[[#This Row],[M]]*Table10b15[[#This Row],[Multiplier]],0),\nIF(OR($V$17=\"Tier I\",$V$17=\"Tier II\",$V$17=\"ES\"),Table10b15[[#This Row],[N]]*Table10b15[[#This Row],[Multiplier]],0),\nIF(OR($W$17=\"Tier I\",$W$17=\"Tier II\",$W$17=\"ES\"),Table10b15[[#This Row],[O]]*Table10b15[[#This Row],[Multiplier]],0),\nIF(OR($X$17=\"Tier I\",$X$17=\"Tier II\",$X$17=\"ES\"),Table10b15[[#This Row],[P]]*Table10b15[[#This Row],[Multiplier]],0),\nIF(OR($Y$17=\"Tier I\",$Y$17=\"Tier II\",$Y$17=\"ES\"),Table10b15[[#This Row],[Q]]*Table10b15[[#This Row],[Multiplier]],0),\nIF(OR($Z$17=\"Tier I\",$Z$17=\"Tier II\",$Z$17=\"ES\"),Table10b15[[#This Row],[R]]*Table10b15[[#This Row],[Multiplier]],0),\nIF(OR($AA$17=\"Tier I\",$AA$17=\"Tier II\",$AA$17=\"ES\"),Table10b15[[#This Row],[S]]*Table10b15[[#This Row],[Multiplier]],0),\nIF(OR($AB$17=\"Tier I\",$AB$17=\"Tier II\",$AB$17=\"ES\"),Table10b15[[#This Row],[T]]*Table10b15[[#This Row],[Multiplier]],0),\nIF(OR($AC$17=\"Tier I\",$AC$17=\"Tier II\",$AC$17=\"ES\"),Table10b15[[#This Row],[U]]*Table10b15[[#This Row],[Multiplier]],0),\nIF(OR($AD$17=\"Tier I\",$AD$17=\"Tier II\",$AD$17=\"ES\"),Table10b15[[#This Row],[V]]*Table10b15[[#This Row],[Multiplier]],0),\nIF(OR($AE$17=\"Tier I\",$AE$17=\"Tier II\",$AE$17=\"ES\"),Table10b15[[#This Row],[W]]*Table10b15[[#This Row],[Multiplier]],0),\nIF(OR($AF$17=\"Tier I\",$AF$17=\"Tier II\",$AF$17=\"ES\"),Table10b15[[#This Row],[X]]*Table10b15[[#This Row],[Multiplier]],0),\nIF(OR($AG$17=\"Tier I\",$AG$17=\"Tier II\",$AG$17=\"ES\"),Table10b15[[#This Row],[Y]]*Table10b15[[#This Row],[Multiplier]],0),\nIF(OR($AH$17=\"Tier I\",$AH$17=\"Tier II\",$AH$17=\"ES\"),Table10b15[[#This Row],[Z]]*Table10b15[[#This Row],[Multiplier]],0))","v":20},{"$f":"SUM(Table10b15[[#This Row],[A]]*$I$16,Table10b15[[#This Row],[B]]*$J$16,Table10b15[[#This Row],[C]]*$K$16,Table10b15[[#This Row],[D]]*$L$16,Table10b15[[#This Row],[E]]*$M$16,Table10b15[[#This Row],[F]]*$N$16,Table10b15[[#This Row],[G]]*$O$16,Table10b15[[#This Row],[H]]*$P$16,Table10b15[[#This Row],[I]]*$Q$16,Table10b15[[#This Row],[J]]*$R$16,Table10b15[[#This Row],[K]]*$S$16,Table10b15[[#This Row],[L]]*$T$16,Table10b15[[#This Row],[M]]*$U$16,Table10b15[[#This Row],[N]]*$V$16,Table10b15[[#This Row],[O]]*$W$16,Table10b15[[#This Row],[P]]*$X$16,Table10b15[[#This Row],[Q]]*$Y$16,Table10b15[[#This Row],[R]]*$Z$16,Table10b15[[#This Row],[S]]*$AA$16,Table10b15[[#This Row],[T]]*$AB$16,Table10b15[[#This Row],[U]]*$AC$16,Table10b15[[#This Row],[V]]*$AD$16,Table10b15[[#This Row],[W]]*$AE$16,Table10b15[[#This Row],[X]]*$AF$16,Table10b15[[#This Row],[Y]]*$AG$16,Table10b15[[#This Row],[Z]]*$AH$16)*3","v":39},{"$f":"IF(AND(OR(Table10b15[[#This Row],[Room Type]]=\"Bedroom\",Table10b15[[#This Row],[Room Type]]=\"Living Room\",Table10b15[[#This Row],[Room Type]]=\"Dining Room\"),Table10b15[[#This Row],[Lit Area (SF)]]>Table10b15[[#This Row],[Watts (Lit Area) 3x]]),\"Display Lit Area Warning\",\"\")","v":""}]
[null,30,"A2","Family Room",178,15,{"$f":"IFERROR(SUM(Table10b15[[#This Row],[Unlit Area (SF)]]*1.07,Table10b15[[#This Row],[A]]*$I$16,Table10b15[[#This Row],[B]]*$J$16,Table10b15[[#This Row],[C]]*$K$16,Table10b15[[#This Row],[D]]*$L$16,Table10b15[[#This Row],[E]]*$M$16,Table10b15[[#This Row],[F]]*$N$16,Table10b15[[#This Row],[G]]*$O$16,Table10b15[[#This Row],[H]]*$P$16,Table10b15[[#This Row],[I]]*$Q$16,Table10b15[[#This Row],[J]]*$R$16,Table10b15[[#This Row],[K]]*$S$16,Table10b15[[#This Row],[L]]*$T$16,Table10b15[[#This Row],[M]]*$U$16,Table10b15[[#This Row],[N]]*$V$16,Table10b15[[#This Row],[O]]*$W$16,Table10b15[[#This Row],[P]]*$X$16,Table10b15[[#This Row],[Q]]*$Y$16,Table10b15[[#This Row],[R]]*$Z$16,Table10b15[[#This Row],[S]]*$AA$16,Table10b15[[#This Row],[T]]*$AB$16,Table10b15[[#This Row],[U]]*$AC$16,Table10b15[[#This Row],[V]]*$AD$16,Table10b15[[#This Row],[W]]*$AE$16,Table10b15[[#This Row],[X]]*$AF$16,Table10b15[[#This Row],[Y]]*$AG$16,Table10b15[[#This Row],[Z]]*$AH$16)/Table10b15[[#This Row],[Lit Area (SF)]],\"\")","v":0.41039325842696628},{"$f":"IFERROR(SUM(Table10b15[[#This Row],[Lit Area (SF)]],Table10b15[[#This Row],[Unlit Area (SF)]])*Table10b15[[#This Row],[Multiplier]]*Table10b15[[#This Row],[Watts/SF]],\"\")","v":2376.1769662921347},1,1,null,1,null,null,null,null,null,null,null,null,null,null,null,null,null,null,null,null,null,null,null,null,null,null,null,{"$f":"SUM(Table10b15[[#This Row],[A]:[Z]])*Table10b15[[#This Row],[Multiplier]]","v":90},{"$f":"SUM(IF(OR($I$17=\"Tier I\",$I$17=\"Tier II\",$I$17=\"ES\"),Table10b15[[#This Row],[A]]*Table10b15[[#This Row],[Multiplier]],0),\nIF(OR($J$17=\"Tier I\",$J$17=\"Tier II\",$J$17=\"ES\"),Table10b15[[#This Row],[B]]*Table10b15[[#This Row],[Multiplier]],0),\nIF(OR($K$17=\"Tier I\",$K$17=\"Tier II\",$K$17=\"ES\"),Table10b15[[#This Row],[C]]*Table10b15[[#This Row],[Multiplier]],0),\nIF(OR($L$17=\"Tier I\",$L$17=\"Tier II\",$L$17=\"ES\"),Table10b15[[#This Row],[D]]*Table10b15[[#This Row],[Multiplier]],0),\nIF(OR($M$17=\"Tier I\",$M$17=\"Tier II\",$M$17=\"ES\"),Table10b15[[#This Row],[E]]*Table10b15[[#This Row],[Multiplier]],0),\nIF(OR($N$17=\"Tier I\",$N$17=\"Tier II\",$N$17=\"ES\"),Table10b15[[#This Row],[F]]*Table10b15[[#This Row],[Multiplier]],0),\nIF(OR($O$17=\"Tier I\",$O$17=\"Tier II\",$O$17=\"ES\"),Table10b15[[#This Row],[G]]*Table10b15[[#This Row],[Multiplier]],0),\nIF(OR($P$17=\"Tier I\",$P$17=\"Tier II\",$P$17=\"ES\"),Table10b15[[#This Row],[H]]*Table10b15[[#This Row],[Multiplier]],0),\nIF(OR($Q$17=\"Tier I\",$Q$17=\"Tier II\",$Q$17=\"ES\"),Table10b15[[#This Row],[I]]*Table10b15[[#This Row],[Multiplier]],0),\nIF(OR($R$17=\"Tier I\",$R$17=\"Tier II\",$R$17=\"ES\"),Table10b15[[#This Row],[J]]*Table10b15[[#This Row],[Multiplier]],0),\nIF(OR($S$17=\"Tier I\",$S$17=\"Tier II\",$S$17=\"ES\"),Table10b15[[#This Row],[K]]*Table10b15[[#This Row],[Multiplier]],0),\nIF(OR($T$17=\"Tier I\",$T$17=\"Tier II\",$T$17=\"ES\"),Table10b15[[#This Row],[L]]*Table10b15[[#This Row],[Multiplier]],0),\nIF(OR($U$17=\"Tier I\",$U$17=\"Tier II\",$U$17=\"ES\"),Table10b15[[#This Row],[M]]*Table10b15[[#This Row],[Multiplier]],0),\nIF(OR($V$17=\"Tier I\",$V$17=\"Tier II\",$V$17=\"ES\"),Table10b15[[#This Row],[N]]*Table10b15[[#This Row],[Multiplier]],0),\nIF(OR($W$17=\"Tier I\",$W$17=\"Tier II\",$W$17=\"ES\"),Table10b15[[#This Row],[O]]*Table10b15[[#This Row],[Multiplier]],0),\nIF(OR($X$17=\"Tier I\",$X$17=\"Tier II\",$X$17=\"ES\"),Table10b15[[#This Row],[P]]*Table10b15[[#This Row],[Multiplier]],0),\nIF(OR($Y$17=\"Tier I\",$Y$17=\"Tier II\",$Y$17=\"ES\"),Table10b15[[#This Row],[Q]]*Table10b15[[#This Row],[Multiplier]],0),\nIF(OR($Z$17=\"Tier I\",$Z$17=\"Tier II\",$Z$17=\"ES\"),Table10b15[[#This Row],[R]]*Table10b15[[#This Row],[Multiplier]],0),\nIF(OR($AA$17=\"Tier I\",$AA$17=\"Tier II\",$AA$17=\"ES\"),Table10b15[[#This Row],[S]]*Table10b15[[#This Row],[Multiplier]],0),\nIF(OR($AB$17=\"Tier I\",$AB$17=\"Tier II\",$AB$17=\"ES\"),Table10b15[[#This Row],[T]]*Table10b15[[#This Row],[Multiplier]],0),\nIF(OR($AC$17=\"Tier I\",$AC$17=\"Tier II\",$AC$17=\"ES\"),Table10b15[[#This Row],[U]]*Table10b15[[#This Row],[Multiplier]],0),\nIF(OR($AD$17=\"Tier I\",$AD$17=\"Tier II\",$AD$17=\"ES\"),Table10b15[[#This Row],[V]]*Table10b15[[#This Row],[Multiplier]],0),\nIF(OR($AE$17=\"Tier I\",$AE$17=\"Tier II\",$AE$17=\"ES\"),Table10b15[[#This Row],[W]]*Table10b15[[#This Row],[Multiplier]],0),\nIF(OR($AF$17=\"Tier I\",$AF$17=\"Tier II\",$AF$17=\"ES\"),Table10b15[[#This Row],[X]]*Table10b15[[#This Row],[Multiplier]],0),\nIF(OR($AG$17=\"Tier I\",$AG$17=\"Tier II\",$AG$17=\"ES\"),Table10b15[[#This Row],[Y]]*Table10b15[[#This Row],[Multiplier]],0),\nIF(OR($AH$17=\"Tier I\",$AH$17=\"Tier II\",$AH$17=\"ES\"),Table10b15[[#This Row],[Z]]*Table10b15[[#This Row],[Multiplier]],0))","v":90},{"$f":"SUM(Table10b15[[#This Row],[A]]*$I$16,Table10b15[[#This Row],[B]]*$J$16,Table10b15[[#This Row],[C]]*$K$16,Table10b15[[#This Row],[D]]*$L$16,Table10b15[[#This Row],[E]]*$M$16,Table10b15[[#This Row],[F]]*$N$16,Table10b15[[#This Row],[G]]*$O$16,Table10b15[[#This Row],[H]]*$P$16,Table10b15[[#This Row],[I]]*$Q$16,Table10b15[[#This Row],[J]]*$R$16,Table10b15[[#This Row],[K]]*$S$16,Table10b15[[#This Row],[L]]*$T$16,Table10b15[[#This Row],[M]]*$U$16,Table10b15[[#This Row],[N]]*$V$16,Table10b15[[#This Row],[O]]*$W$16,Table10b15[[#This Row],[P]]*$X$16,Table10b15[[#This Row],[Q]]*$Y$16,Table10b15[[#This Row],[R]]*$Z$16,Table10b15[[#This Row],[S]]*$AA$16,Table10b15[[#This Row],[T]]*$AB$16,Table10b15[[#This Row],[U]]*$AC$16,Table10b15[[#This Row],[V]]*$AD$16,Table10b15[[#This Row],[W]]*$AE$16,Table10b15[[#This Row],[X]]*$AF$16,Table10b15[[#This Row],[Y]]*$AG$16,Table10b15[[#This Row],[Z]]*$AH$16)*3","v":171},{"$f":"IF(AND(OR(Table10b15[[#This Row],[Room Type]]=\"Bedroom\",Table10b15[[#This Row],[Room Type]]=\"Living Room\",Table10b15[[#This Row],[Room Type]]=\"Dining Room\"),Table10b15[[#This Row],[Lit Area (SF)]]>Table10b15[[#This Row],[Watts (Lit Area) 3x]]),\"Display Lit Area Warning\",\"\")","v":""}]
[null,20,"Studio","Living Room",230,20,{"$f":"IFERROR(SUM(Table10b15[[#This Row],[Unlit Area (SF)]]*1.07,Table10b15[[#This Row],[A]]*$I$16,Table10b15[[#This Row],[B]]*$J$16,Table10b15[[#This Row],[C]]*$K$16,Table10b15[[#This Row],[D]]*$L$16,Table10b15[[#This Row],[E]]*$M$16,Table10b15[[#This Row],[F]]*$N$16,Table10b15[[#This Row],[G]]*$O$16,Table10b15[[#This Row],[H]]*$P$16,Table10b15[[#This Row],[I]]*$Q$16,Table10b15[[#This Row],[J]]*$R$16,Table10b15[[#This Row],[K]]*$S$16,Table10b15[[#This Row],[L]]*$T$16,Table10b15[[#This Row],[M]]*$U$16,Table10b15[[#This Row],[N]]*$V$16,Table10b15[[#This Row],[O]]*$W$16,Table10b15[[#This Row],[P]]*$X$16,Table10b15[[#This Row],[Q]]*$Y$16,Table10b15[[#This Row],[R]]*$Z$16,Table10b15[[#This Row],[S]]*$AA$16,Table10b15[[#This Row],[T]]*$AB$16,Table10b15[[#This Row],[U]]*$AC$16,Table10b15[[#This Row],[V]]*$AD$16,Table10b15[[#This Row],[W]]*$AE$16,Table10b15[[#This Row],[X]]*$AF$16,Table10b15[[#This Row],[Y]]*$AG$16,Table10b15[[#This Row],[Z]]*$AH$16)/Table10b15[[#This Row],[Lit Area (SF)]],\"\")","v":0.77565217391304353},{"$f":"IFERROR(SUM(Table10b15[[#This Row],[Lit Area (SF)]],Table10b15[[#This Row],[Unlit Area (SF)]])*Table10b15[[#This Row],[Multiplier]]*Table10b15[[#This Row],[Watts/SF]],\"\")","v":3878.2608695652175},1,3,null,1,4,null,null,null,null,null,null,null,null,null,null,null,null,null,null,null,null,null,null,null,null,null,null,{"$f":"SUM(Table10b15[[#This Row],[A]:[Z]])*Table10b15[[#This Row],[Multiplier]]","v":180},{"$f":"SUM(IF(OR($I$17=\"Tier I\",$I$17=\"Tier II\",$I$17=\"ES\"),Table10b15[[#This Row],[A]]*Table10b15[[#This Row],[Multiplier]],0),\nIF(OR($J$17=\"Tier I\",$J$17=\"Tier II\",$J$17=\"ES\"),Table10b15[[#This Row],[B]]*Table10b15[[#This Row],[Multiplier]],0),\nIF(OR($K$17=\"Tier I\",$K$17=\"Tier II\",$K$17=\"ES\"),Table10b15[[#This Row],[C]]*Table10b15[[#This Row],[Multiplier]],0),\nIF(OR($L$17=\"Tier I\",$L$17=\"Tier II\",$L$17=\"ES\"),Table10b15[[#This Row],[D]]*Table10b15[[#This Row],[Multiplier]],0),\nIF(OR($M$17=\"Tier I\",$M$17=\"Tier II\",$M$17=\"ES\"),Table10b15[[#This Row],[E]]*Table10b15[[#This Row],[Multiplier]],0),\nIF(OR($N$17=\"Tier I\",$N$17=\"Tier II\",$N$17=\"ES\"),Table10b15[[#This Row],[F]]*Table10b15[[#This Row],[Multiplier]],0),\nIF(OR($O$17=\"Tier I\",$O$17=\"Tier II\",$O$17=\"ES\"),Table10b15[[#This Row],[G]]*Table10b15[[#This Row],[Multiplier]],0),\nIF(OR($P$17=\"Tier I\",$P$17=\"Tier II\",$P$17=\"ES\"),Table10b15[[#This Row],[H]]*Table10b15[[#This Row],[Multiplier]],0),\nIF(OR($Q$17=\"Tier I\",$Q$17=\"Tier II\",$Q$17=\"ES\"),Table10b15[[#This Row],[I]]*Table10b15[[#This Row],[Multiplier]],0),\nIF(OR($R$17=\"Tier I\",$R$17=\"Tier II\",$R$17=\"ES\"),Table10b15[[#This Row],[J]]*Table10b15[[#This Row],[Multiplier]],0),\nIF(OR($S$17=\"Tier I\",$S$17=\"Tier II\",$S$17=\"ES\"),Table10b15[[#This Row],[K]]*Table10b15[[#This Row],[Multiplier]],0),\nIF(OR($T$17=\"Tier I\",$T$17=\"Tier II\",$T$17=\"ES\"),Table10b15[[#This Row],[L]]*Table10b15[[#This Row],[Multiplier]],0),\nIF(OR($U$17=\"Tier I\",$U$17=\"Tier II\",$U$17=\"ES\"),Table10b15[[#This Row],[M]]*Table10b15[[#This Row],[Multiplier]],0),\nIF(OR($V$17=\"Tier I\",$V$17=\"Tier II\",$V$17=\"ES\"),Table10b15[[#This Row],[N]]*Table10b15[[#This Row],[Multiplier]],0),\nIF(OR($W$17=\"Tier I\",$W$17=\"Tier II\",$W$17=\"ES\"),Table10b15[[#This Row],[O]]*Table10b15[[#This Row],[Multiplier]],0),\nIF(OR($X$17=\"Tier I\",$X$17=\"Tier II\",$X$17=\"ES\"),Table10b15[[#This Row],[P]]*Table10b15[[#This Row],[Multiplier]],0),\nIF(OR($Y$17=\"Tier I\",$Y$17=\"Tier II\",$Y$17=\"ES\"),Table10b15[[#This Row],[Q]]*Table10b15[[#This Row],[Multiplier]],0),\nIF(OR($Z$17=\"Tier I\",$Z$17=\"Tier II\",$Z$17=\"ES\"),Table10b15[[#This Row],[R]]*Table10b15[[#This Row],[Multiplier]],0),\nIF(OR($AA$17=\"Tier I\",$AA$17=\"Tier II\",$AA$17=\"ES\"),Table10b15[[#This Row],[S]]*Table10b15[[#This Row],[Multiplier]],0),\nIF(OR($AB$17=\"Tier I\",$AB$17=\"Tier II\",$AB$17=\"ES\"),Table10b15[[#This Row],[T]]*Table10b15[[#This Row],[Multiplier]],0),\nIF(OR($AC$17=\"Tier I\",$AC$17=\"Tier II\",$AC$17=\"ES\"),Table10b15[[#This Row],[U]]*Table10b15[[#This Row],[Multiplier]],0),\nIF(OR($AD$17=\"Tier I\",$AD$17=\"Tier II\",$AD$17=\"ES\"),Table10b15[[#This Row],[V]]*Table10b15[[#This Row],[Multiplier]],0),\nIF(OR($AE$17=\"Tier I\",$AE$17=\"Tier II\",$AE$17=\"ES\"),Table10b15[[#This Row],[W]]*Table10b15[[#This Row],[Multiplier]],0),\nIF(OR($AF$17=\"Tier I\",$AF$17=\"Tier II\",$AF$17=\"ES\"),Table10b15[[#This Row],[X]]*Table10b15[[#This Row],[Multiplier]],0),\nIF(OR($AG$17=\"Tier I\",$AG$17=\"Tier II\",$AG$17=\"ES\"),Table10b15[[#This Row],[Y]]*Table10b15[[#This Row],[Multiplier]],0),\nIF(OR($AH$17=\"Tier I\",$AH$17=\"Tier II\",$AH$17=\"ES\"),Table10b15[[#This Row],[Z]]*Table10b15[[#This Row],[Multiplier]],0))","v":180},{"$f":"SUM(Table10b15[[#This Row],[A]]*$I$16,Table10b15[[#This Row],[B]]*$J$16,Table10b15[[#This Row],[C]]*$K$16,Table10b15[[#This Row],[D]]*$L$16,Table10b15[[#This Row],[E]]*$M$16,Table10b15[[#This Row],[F]]*$N$16,Table10b15[[#This Row],[G]]*$O$16,Table10b15[[#This Row],[H]]*$P$16,Table10b15[[#This Row],[I]]*$Q$16,Table10b15[[#This Row],[J]]*$R$16,Table10b15[[#This Row],[K]]*$S$16,Table10b15[[#This Row],[L]]*$T$16,Table10b15[[#This Row],[M]]*$U$16,Table10b15[[#This Row],[N]]*$V$16,Table10b15[[#This Row],[O]]*$W$16,Table10b15[[#This Row],[P]]*$X$16,Table10b15[[#This Row],[Q]]*$Y$16,Table10b15[[#This Row],[R]]*$Z$16,Table10b15[[#This Row],[S]]*$AA$16,Table10b15[[#This Row],[T]]*$AB$16,Table10b15[[#This Row],[U]]*$AC$16,Table10b15[[#This Row],[V]]*$AD$16,Table10b15[[#This Row],[W]]*$AE$16,Table10b15[[#This Row],[X]]*$AF$16,Table10b15[[#This Row],[Y]]*$AG$16,Table10b15[[#This Row],[Z]]*$AH$16)*3","v":471},{"$f":"IF(AND(OR(Table10b15[[#This Row],[Room Type]]=\"Bedroom\",Table10b15[[#This Row],[Room Type]]=\"Living Room\",Table10b15[[#This Row],[Room Type]]=\"Dining Room\"),Table10b15[[#This Row],[Lit Area (SF)]]>Table10b15[[#This Row],[Watts (Lit Area) 3x]]),\"Display Lit Area Warning\",\"\")","v":""}]
[null,10,"B1","Kitchen",125,0,{"$f":"IFERROR(SUM(Table10b15[[#This Row],[Unlit Area (SF)]]*1.07,Table10b15[[#This Row],[A]]*$I$16,Table10b15[[#This Row],[B]]*$J$16,Table10b15[[#This Row],[C]]*$K$16,Table10b15[[#This Row],[D]]*$L$16,Table10b15[[#This Row],[E]]*$M$16,Table10b15[[#This Row],[F]]*$N$16,Table10b15[[#This Row],[G]]*$O$16,Table10b15[[#This Row],[H]]*$P$16,Table10b15[[#This Row],[I]]*$Q$16,Table10b15[[#This Row],[J]]*$R$16,Table10b15[[#This Row],[K]]*$S$16,Table10b15[[#This Row],[L]]*$T$16,Table10b15[[#This Row],[M]]*$U$16,Table10b15[[#This Row],[N]]*$V$16,Table10b15[[#This Row],[O]]*$W$16,Table10b15[[#This Row],[P]]*$X$16,Table10b15[[#This Row],[Q]]*$Y$16,Table10b15[[#This Row],[R]]*$Z$16,Table10b15[[#This Row],[S]]*$AA$16,Table10b15[[#This Row],[T]]*$AB$16,Table10b15[[#This Row],[U]]*$AC$16,Table10b15[[#This Row],[V]]*$AD$16,Table10b15[[#This Row],[W]]*$AE$16,Table10b15[[#This Row],[X]]*$AF$16,Table10b15[[#This Row],[Y]]*$AG$16,Table10b15[[#This Row],[Z]]*$AH$16)/Table10b15[[#This Row],[Lit Area (SF)]],\"\")","v":0.64800000000000002},{"$f":"IFERROR(SUM(Table10b15[[#This Row],[Lit Area (SF)]],Table10b15[[#This Row],[Unlit Area (SF)]])*Table10b15[[#This Row],[Multiplier]]*Table10b15[[#This Row],[Watts/SF]],\"\")","v":810},3,null,1,1,2,null,null,null,null,null,null,null,null,null,null,null,null,null,null,null,null,null,null,null,null,null,null,{"$f":"SUM(Table10b15[[#This Row],[A]:[Z]])*Table10b15[[#This Row],[Multiplier]]","v":70},{"$f":"SUM(IF(OR($I$17=\"Tier I\",$I$17=\"Tier II\",$I$17=\"ES\"),Table10b15[[#This Row],[A]]*Table10b15[[#This Row],[Multiplier]],0),\nIF(OR($J$17=\"Tier I\",$J$17=\"Tier II\",$J$17=\"ES\"),Table10b15[[#This Row],[B]]*Table10b15[[#This Row],[Multiplier]],0),\nIF(OR($K$17=\"Tier I\",$K$17=\"Tier II\",$K$17=\"ES\"),Table10b15[[#This Row],[C]]*Table10b15[[#This Row],[Multiplier]],0),\nIF(OR($L$17=\"Tier I\",$L$17=\"Tier II\",$L$17=\"ES\"),Table10b15[[#This Row],[D]]*Table10b15[[#This Row],[Multiplier]],0),\nIF(OR($M$17=\"Tier I\",$M$17=\"Tier II\",$M$17=\"ES\"),Table10b15[[#This Row],[E]]*Table10b15[[#This Row],[Multiplier]],0),\nIF(OR($N$17=\"Tier I\",$N$17=\"Tier II\",$N$17=\"ES\"),Table10b15[[#This Row],[F]]*Table10b15[[#This Row],[Multiplier]],0),\nIF(OR($O$17=\"Tier I\",$O$17=\"Tier II\",$O$17=\"ES\"),Table10b15[[#This Row],[G]]*Table10b15[[#This Row],[Multiplier]],0),\nIF(OR($P$17=\"Tier I\",$P$17=\"Tier II\",$P$17=\"ES\"),Table10b15[[#This Row],[H]]*Table10b15[[#This Row],[Multiplier]],0),\nIF(OR($Q$17=\"Tier I\",$Q$17=\"Tier II\",$Q$17=\"ES\"),Table10b15[[#This Row],[I]]*Table10b15[[#This Row],[Multiplier]],0),\nIF(OR($R$17=\"Tier I\",$R$17=\"Tier II\",$R$17=\"ES\"),Table10b15[[#This Row],[J]]*Table10b15[[#This Row],[Multiplier]],0),\nIF(OR($S$17=\"Tier I\",$S$17=\"Tier II\",$S$17=\"ES\"),Table10b15[[#This Row],[K]]*Table10b15[[#This Row],[Multiplier]],0),\nIF(OR($T$17=\"Tier I\",$T$17=\"Tier II\",$T$17=\"ES\"),Table10b15[[#This Row],[L]]*Table10b15[[#This Row],[Multiplier]],0),\nIF(OR($U$17=\"Tier I\",$U$17=\"Tier II\",$U$17=\"ES\"),Table10b15[[#This Row],[M]]*Table10b15[[#This Row],[Multiplier]],0),\nIF(OR($V$17=\"Tier I\",$V$17=\"Tier II\",$V$17=\"ES\"),Table10b15[[#This Row],[N]]*Table10b15[[#This Row],[Multiplier]],0),\nIF(OR($W$17=\"Tier I\",$W$17=\"Tier II\",$W$17=\"ES\"),Table10b15[[#This Row],[O]]*Table10b15[[#This Row],[Multiplier]],0),\nIF(OR($X$17=\"Tier I\",$X$17=\"Tier II\",$X$17=\"ES\"),Table10b15[[#This Row],[P]]*Table10b15[[#This Row],[Multiplier]],0),\nIF(OR($Y$17=\"Tier I\",$Y$17=\"Tier II\",$Y$17=\"ES\"),Table10b15[[#This Row],[Q]]*Table10b15[[#This Row],[Multiplier]],0),\nIF(OR($Z$17=\"Tier I\",$Z$17=\"Tier II\",$Z$17=\"ES\"),Table10b15[[#This Row],[R]]*Table10b15[[#This Row],[Multiplier]],0),\nIF(OR($AA$17=\"Tier I\",$AA$17=\"Tier II\",$AA$17=\"ES\"),Table10b15[[#This Row],[S]]*Table10b15[[#This Row],[Multiplier]],0),\nIF(OR($AB$17=\"Tier I\",$AB$17=\"Tier II\",$AB$17=\"ES\"),Table10b15[[#This Row],[T]]*Table10b15[[#This Row],[Multiplier]],0),\nIF(OR($AC$17=\"Tier I\",$AC$17=\"Tier II\",$AC$17=\"ES\"),Table10b15[[#This Row],[U]]*Table10b15[[#This Row],[Multiplier]],0),\nIF(OR($AD$17=\"Tier I\",$AD$17=\"Tier II\",$AD$17=\"ES\"),Table10b15[[#This Row],[V]]*Table10b15[[#This Row],[Multiplier]],0),\nIF(OR($AE$17=\"Tier I\",$AE$17=\"Tier II\",$AE$17=\"ES\"),Table10b15[[#This Row],[W]]*Table10b15[[#This Row],[Multiplier]],0),\nIF(OR($AF$17=\"Tier I\",$AF$17=\"Tier II\",$AF$17=\"ES\"),Table10b15[[#This Row],[X]]*Table10b15[[#This Row],[Multiplier]],0),\nIF(OR($AG$17=\"Tier I\",$AG$17=\"Tier II\",$AG$17=\"ES\"),Table10b15[[#This Row],[Y]]*Table10b15[[#This Row],[Multiplier]],0),\nIF(OR($AH$17=\"Tier I\",$AH$17=\"Tier II\",$AH$17=\"ES\"),Table10b15[[#This Row],[Z]]*Table10b15[[#This Row],[Multiplier]],0))","v":70},{"$f":"SUM(Table10b15[[#This Row],[A]]*$I$16,Table10b15[[#This Row],[B]]*$J$16,Table10b15[[#This Row],[C]]*$K$16,Table10b15[[#This Row],[D]]*$L$16,Table10b15[[#This Row],[E]]*$M$16,Table10b15[[#This Row],[F]]*$N$16,Table10b15[[#This Row],[G]]*$O$16,Table10b15[[#This Row],[H]]*$P$16,Table10b15[[#This Row],[I]]*$Q$16,Table10b15[[#This Row],[J]]*$R$16,Table10b15[[#This Row],[K]]*$S$16,Table10b15[[#This Row],[L]]*$T$16,Table10b15[[#This Row],[M]]*$U$16,Table10b15[[#This Row],[N]]*$V$16,Table10b15[[#This Row],[O]]*$W$16,Table10b15[[#This Row],[P]]*$X$16,Table10b15[[#This Row],[Q]]*$Y$16,Table10b15[[#This Row],[R]]*$Z$16,Table10b15[[#This Row],[S]]*$AA$16,Table10b15[[#This Row],[T]]*$AB$16,Table10b15[[#This Row],[U]]*$AC$16,Table10b15[[#This Row],[V]]*$AD$16,Table10b15[[#This Row],[W]]*$AE$16,Table10b15[[#This Row],[X]]*$AF$16,Table10b15[[#This Row],[Y]]*$AG$16,Table10b15[[#This Row],[Z]]*$AH$16)*3","v":243},{"$f":"IF(AND(OR(Table10b15[[#This Row],[Room Type]]=\"Bedroom\",Table10b15[[#This Row],[Room Type]]=\"Living Room\",Table10b15[[#This Row],[Room Type]]=\"Dining Room\"),Table10b15[[#This Row],[Lit Area (SF)]]>Table10b15[[#This Row],[Watts (Lit Area) 3x]]),\"Display Lit Area Warning\",\"\")","v":""}]
[null,10,"B2","Bedroom",30,30,{"$f":"IFERROR(SUM(Table10b15[[#This Row],[Unlit Area (SF)]]*1.07,Table10b15[[#This Row],[A]]*$I$16,Table10b15[[#This Row],[B]]*$J$16,Table10b15[[#This Row],[C]]*$K$16,Table10b15[[#This Row],[D]]*$L$16,Table10b15[[#This Row],[E]]*$M$16,Table10b15[[#This Row],[F]]*$N$16,Table10b15[[#This Row],[G]]*$O$16,Table10b15[[#This Row],[H]]*$P$16,Table10b15[[#This Row],[I]]*$Q$16,Table10b15[[#This Row],[J]]*$R$16,Table10b15[[#This Row],[K]]*$S$16,Table10b15[[#This Row],[L]]*$T$16,Table10b15[[#This Row],[M]]*$U$16,Table10b15[[#This Row],[N]]*$V$16,Table10b15[[#This Row],[O]]*$W$16,Table10b15[[#This Row],[P]]*$X$16,Table10b15[[#This Row],[Q]]*$Y$16,Table10b15[[#This Row],[R]]*$Z$16,Table10b15[[#This Row],[S]]*$AA$16,Table10b15[[#This Row],[T]]*$AB$16,Table10b15[[#This Row],[U]]*$AC$16,Table10b15[[#This Row],[V]]*$AD$16,Table10b15[[#This Row],[W]]*$AE$16,Table10b15[[#This Row],[X]]*$AF$16,Table10b15[[#This Row],[Y]]*$AG$16,Table10b15[[#This Row],[Z]]*$AH$16)/Table10b15[[#This Row],[Lit Area (SF)]],\"\")","v":1.5033333333333334},{"$f":"IFERROR(SUM(Table10b15[[#This Row],[Lit Area (SF)]],Table10b15[[#This Row],[Unlit Area (SF)]])*Table10b15[[#This Row],[Multiplier]]*Table10b15[[#This Row],[Watts/SF]],\"\")","v":902},1,null,null,null,null,null,null,null,null,null,null,null,null,null,null,null,null,null,null,null,null,null,null,null,null,null,null,{"$f":"SUM(Table10b15[[#This Row],[A]:[Z]])*Table10b15[[#This Row],[Multiplier]]","v":10},{"$f":"SUM(IF(OR($I$17=\"Tier I\",$I$17=\"Tier II\",$I$17=\"ES\"),Table10b15[[#This Row],[A]]*Table10b15[[#This Row],[Multiplier]],0),\nIF(OR($J$17=\"Tier I\",$J$17=\"Tier II\",$J$17=\"ES\"),Table10b15[[#This Row],[B]]*Table10b15[[#This Row],[Multiplier]],0),\nIF(OR($K$17=\"Tier I\",$K$17=\"Tier II\",$K$17=\"ES\"),Table10b15[[#This Row],[C]]*Table10b15[[#This Row],[Multiplier]],0),\nIF(OR($L$17=\"Tier I\",$L$17=\"Tier II\",$L$17=\"ES\"),Table10b15[[#This Row],[D]]*Table10b15[[#This Row],[Multiplier]],0),\nIF(OR($M$17=\"Tier I\",$M$17=\"Tier II\",$M$17=\"ES\"),Table10b15[[#This Row],[E]]*Table10b15[[#This Row],[Multiplier]],0),\nIF(OR($N$17=\"Tier I\",$N$17=\"Tier II\",$N$17=\"ES\"),Table10b15[[#This Row],[F]]*Table10b15[[#This Row],[Multiplier]],0),\nIF(OR($O$17=\"Tier I\",$O$17=\"Tier II\",$O$17=\"ES\"),Table10b15[[#This Row],[G]]*Table10b15[[#This Row],[Multiplier]],0),\nIF(OR($P$17=\"Tier I\",$P$17=\"Tier II\",$P$17=\"ES\"),Table10b15[[#This Row],[H]]*Table10b15[[#This Row],[Multiplier]],0),\nIF(OR($Q$17=\"Tier I\",$Q$17=\"Tier II\",$Q$17=\"ES\"),Table10b15[[#This Row],[I]]*Table10b15[[#This Row],[Multiplier]],0),\nIF(OR($R$17=\"Tier I\",$R$17=\"Tier II\",$R$17=\"ES\"),Table10b15[[#This Row],[J]]*Table10b15[[#This Row],[Multiplier]],0),\nIF(OR($S$17=\"Tier I\",$S$17=\"Tier II\",$S$17=\"ES\"),Table10b15[[#This Row],[K]]*Table10b15[[#This Row],[Multiplier]],0),\nIF(OR($T$17=\"Tier I\",$T$17=\"Tier II\",$T$17=\"ES\"),Table10b15[[#This Row],[L]]*Table10b15[[#This Row],[Multiplier]],0),\nIF(OR($U$17=\"Tier I\",$U$17=\"Tier II\",$U$17=\"ES\"),Table10b15[[#This Row],[M]]*Table10b15[[#This Row],[Multiplier]],0),\nIF(OR($V$17=\"Tier I\",$V$17=\"Tier II\",$V$17=\"ES\"),Table10b15[[#This Row],[N]]*Table10b15[[#This Row],[Multiplier]],0),\nIF(OR($W$17=\"Tier I\",$W$17=\"Tier II\",$W$17=\"ES\"),Table10b15[[#This Row],[O]]*Table10b15[[#This Row],[Multiplier]],0),\nIF(OR($X$17=\"Tier I\",$X$17=\"Tier II\",$X$17=\"ES\"),Table10b15[[#This Row],[P]]*Table10b15[[#This Row],[Multiplier]],0),\nIF(OR($Y$17=\"Tier I\",$Y$17=\"Tier II\",$Y$17=\"ES\"),Table10b15[[#This Row],[Q]]*Table10b15[[#This Row],[Multiplier]],0),\nIF(OR($Z$17=\"Tier I\",$Z$17=\"Tier II\",$Z$17=\"ES\"),Table10b15[[#This Row],[R]]*Table10b15[[#This Row],[Multiplier]],0),\nIF(OR($AA$17=\"Tier I\",$AA$17=\"Tier II\",$AA$17=\"ES\"),Table10b15[[#This Row],[S]]*Table10b15[[#This Row],[Multiplier]],0),\nIF(OR($AB$17=\"Tier I\",$AB$17=\"Tier II\",$AB$17=\"ES\"),Table10b15[[#This Row],[T]]*Table10b15[[#This Row],[Multiplier]],0),\nIF(OR($AC$17=\"Tier I\",$AC$17=\"Tier II\",$AC$17=\"ES\"),Table10b15[[#This Row],[U]]*Table10b15[[#This Row],[Multiplier]],0),\nIF(OR($AD$17=\"Tier I\",$AD$17=\"Tier II\",$AD$17=\"ES\"),Table10b15[[#This Row],[V]]*Table10b15[[#This Row],[Multiplier]],0),\nIF(OR($AE$17=\"Tier I\",$AE$17=\"Tier II\",$AE$17=\"ES\"),Table10b15[[#This Row],[W]]*Table10b15[[#This Row],[Multiplier]],0),\nIF(OR($AF$17=\"Tier I\",$AF$17=\"Tier II\",$AF$17=\"ES\"),Table10b15[[#This Row],[X]]*Table10b15[[#This Row],[Multiplier]],0),\nIF(OR($AG$17=\"Tier I\",$AG$17=\"Tier II\",$AG$17=\"ES\"),Table10b15[[#This Row],[Y]]*Table10b15[[#This Row],[Multiplier]],0),\nIF(OR($AH$17=\"Tier I\",$AH$17=\"Tier II\",$AH$17=\"ES\"),Table10b15[[#This Row],[Z]]*Table10b15[[#This Row],[Multiplier]],0))","v":10},{"$f":"SUM(Table10b15[[#This Row],[A]]*$I$16,Table10b15[[#This Row],[B]]*$J$16,Table10b15[[#This Row],[C]]*$K$16,Table10b15[[#This Row],[D]]*$L$16,Table10b15[[#This Row],[E]]*$M$16,Table10b15[[#This Row],[F]]*$N$16,Table10b15[[#This Row],[G]]*$O$16,Table10b15[[#This Row],[H]]*$P$16,Table10b15[[#This Row],[I]]*$Q$16,Table10b15[[#This Row],[J]]*$R$16,Table10b15[[#This Row],[K]]*$S$16,Table10b15[[#This Row],[L]]*$T$16,Table10b15[[#This Row],[M]]*$U$16,Table10b15[[#This Row],[N]]*$V$16,Table10b15[[#This Row],[O]]*$W$16,Table10b15[[#This Row],[P]]*$X$16,Table10b15[[#This Row],[Q]]*$Y$16,Table10b15[[#This Row],[R]]*$Z$16,Table10b15[[#This Row],[S]]*$AA$16,Table10b15[[#This Row],[T]]*$AB$16,Table10b15[[#This Row],[U]]*$AC$16,Table10b15[[#This Row],[V]]*$AD$16,Table10b15[[#This Row],[W]]*$AE$16,Table10b15[[#This Row],[X]]*$AF$16,Table10b15[[#This Row],[Y]]*$AG$16,Table10b15[[#This Row],[Z]]*$AH$16)*3","v":39},{"$f":"IF(AND(OR(Table10b15[[#This Row],[Room Type]]=\"Bedroom\",Table10b15[[#This Row],[Room Type]]=\"Living Room\",Table10b15[[#This Row],[Room Type]]=\"Dining Room\"),Table10b15[[#This Row],[Lit Area (SF)]]>Table10b15[[#This Row],[Watts (Lit Area) 3x]]),\"Display Lit Area Warning\",\"\")","v":""}]
[null,10,"B3","Office",80,30,{"$f":"IFERROR(SUM(Table10b15[[#This Row],[Unlit Area (SF)]]*1.07,Table10b15[[#This Row],[A]]*$I$16,Table10b15[[#This Row],[B]]*$J$16,Table10b15[[#This Row],[C]]*$K$16,Table10b15[[#This Row],[D]]*$L$16,Table10b15[[#This Row],[E]]*$M$16,Table10b15[[#This Row],[F]]*$N$16,Table10b15[[#This Row],[G]]*$O$16,Table10b15[[#This Row],[H]]*$P$16,Table10b15[[#This Row],[I]]*$Q$16,Table10b15[[#This Row],[J]]*$R$16,Table10b15[[#This Row],[K]]*$S$16,Table10b15[[#This Row],[L]]*$T$16,Table10b15[[#This Row],[M]]*$U$16,Table10b15[[#This Row],[N]]*$V$16,Table10b15[[#This Row],[O]]*$W$16,Table10b15[[#This Row],[P]]*$X$16,Table10b15[[#This Row],[Q]]*$Y$16,Table10b15[[#This Row],[R]]*$Z$16,Table10b15[[#This Row],[S]]*$AA$16,Table10b15[[#This Row],[T]]*$AB$16,Table10b15[[#This Row],[U]]*$AC$16,Table10b15[[#This Row],[V]]*$AD$16,Table10b15[[#This Row],[W]]*$AE$16,Table10b15[[#This Row],[X]]*$AF$16,Table10b15[[#This Row],[Y]]*$AG$16,Table10b15[[#This Row],[Z]]*$AH$16)/Table10b15[[#This Row],[Lit Area (SF)]],\"\")","v":1.67},{"$f":"IFERROR(SUM(Table10b15[[#This Row],[Lit Area (SF)]],Table10b15[[#This Row],[Unlit Area (SF)]])*Table10b15[[#This Row],[Multiplier]]*Table10b15[[#This Row],[Watts/SF]],\"\")","v":1837},1,2,null,1,1,null,null,null,null,null,null,null,null,null,null,null,null,null,null,null,null,null,null,null,null,null,null,{"$f":"SUM(Table10b15[[#This Row],[A]:[Z]])*Table10b15[[#This Row],[Multiplier]]","v":50},{"$f":"SUM(IF(OR($I$17=\"Tier I\",$I$17=\"Tier II\",$I$17=\"ES\"),Table10b15[[#This Row],[A]]*Table10b15[[#This Row],[Multiplier]],0),\nIF(OR($J$17=\"Tier I\",$J$17=\"Tier II\",$J$17=\"ES\"),Table10b15[[#This Row],[B]]*Table10b15[[#This Row],[Multiplier]],0),\nIF(OR($K$17=\"Tier I\",$K$17=\"Tier II\",$K$17=\"ES\"),Table10b15[[#This Row],[C]]*Table10b15[[#This Row],[Multiplier]],0),\nIF(OR($L$17=\"Tier I\",$L$17=\"Tier II\",$L$17=\"ES\"),Table10b15[[#This Row],[D]]*Table10b15[[#This Row],[Multiplier]],0),\nIF(OR($M$17=\"Tier I\",$M$17=\"Tier II\",$M$17=\"ES\"),Table10b15[[#This Row],[E]]*Table10b15[[#This Row],[Multiplier]],0),\nIF(OR($N$17=\"Tier I\",$N$17=\"Tier II\",$N$17=\"ES\"),Table10b15[[#This Row],[F]]*Table10b15[[#This Row],[Multiplier]],0),\nIF(OR($O$17=\"Tier I\",$O$17=\"Tier II\",$O$17=\"ES\"),Table10b15[[#This Row],[G]]*Table10b15[[#This Row],[Multiplier]],0),\nIF(OR($P$17=\"Tier I\",$P$17=\"Tier II\",$P$17=\"ES\"),Table10b15[[#This Row],[H]]*Table10b15[[#This Row],[Multiplier]],0),\nIF(OR($Q$17=\"Tier I\",$Q$17=\"Tier II\",$Q$17=\"ES\"),Table10b15[[#This Row],[I]]*Table10b15[[#This Row],[Multiplier]],0),\nIF(OR($R$17=\"Tier I\",$R$17=\"Tier II\",$R$17=\"ES\"),Table10b15[[#This Row],[J]]*Table10b15[[#This Row],[Multiplier]],0),\nIF(OR($S$17=\"Tier I\",$S$17=\"Tier II\",$S$17=\"ES\"),Table10b15[[#This Row],[K]]*Table10b15[[#This Row],[Multiplier]],0),\nIF(OR($T$17=\"Tier I\",$T$17=\"Tier II\",$T$17=\"ES\"),Table10b15[[#This Row],[L]]*Table10b15[[#This Row],[Multiplier]],0),\nIF(OR($U$17=\"Tier I\",$U$17=\"Tier II\",$U$17=\"ES\"),Table10b15[[#This Row],[M]]*Table10b15[[#This Row],[Multiplier]],0),\nIF(OR($V$17=\"Tier I\",$V$17=\"Tier II\",$V$17=\"ES\"),Table10b15[[#This Row],[N]]*Table10b15[[#This Row],[Multiplier]],0),\nIF(OR($W$17=\"Tier I\",$W$17=\"Tier II\",$W$17=\"ES\"),Table10b15[[#This Row],[O]]*Table10b15[[#This Row],[Multiplier]],0),\nIF(OR($X$17=\"Tier I\",$X$17=\"Tier II\",$X$17=\"ES\"),Table10b15[[#This Row],[P]]*Table10b15[[#This Row],[Multiplier]],0),\nIF(OR($Y$17=\"Tier I\",$Y$17=\"Tier II\",$Y$17=\"ES\"),Table10b15[[#This Row],[Q]]*Table10b15[[#This Row],[Multiplier]],0),\nIF(OR($Z$17=\"Tier I\",$Z$17=\"Tier II\",$Z$17=\"ES\"),Table10b15[[#This Row],[R]]*Table10b15[[#This Row],[Multiplier]],0),\nIF(OR($AA$17=\"Tier I\",$AA$17=\"Tier II\",$AA$17=\"ES\"),Table10b15[[#This Row],[S]]*Table10b15[[#This Row],[Multiplier]],0),\nIF(OR($AB$17=\"Tier I\",$AB$17=\"Tier II\",$AB$17=\"ES\"),Table10b15[[#This Row],[T]]*Table10b15[[#This Row],[Multiplier]],0),\nIF(OR($AC$17=\"Tier I\",$AC$17=\"Tier II\",$AC$17=\"ES\"),Table10b15[[#This Row],[U]]*Table10b15[[#This Row],[Multiplier]],0),\nIF(OR($AD$17=\"Tier I\",$AD$17=\"Tier II\",$AD$17=\"ES\"),Table10b15[[#This Row],[V]]*Table10b15[[#This Row],[Multiplier]],0),\nIF(OR($AE$17=\"Tier I\",$AE$17=\"Tier II\",$AE$17=\"ES\"),Table10b15[[#This Row],[W]]*Table10b15[[#This Row],[Multiplier]],0),\nIF(OR($AF$17=\"Tier I\",$AF$17=\"Tier II\",$AF$17=\"ES\"),Table10b15[[#This Row],[X]]*Table10b15[[#This Row],[Multiplier]],0),\nIF(OR($AG$17=\"Tier I\",$AG$17=\"Tier II\",$AG$17=\"ES\"),Table10b15[[#This Row],[Y]]*Table10b15[[#This Row],[Multiplier]],0),\nIF(OR($AH$17=\"Tier I\",$AH$17=\"Tier II\",$AH$17=\"ES\"),Table10b15[[#This Row],[Z]]*Table10b15[[#This Row],[Multiplier]],0))","v":50},{"$f":"SUM(Table10b15[[#This Row],[A]]*$I$16,Table10b15[[#This Row],[B]]*$J$16,Table10b15[[#This Row],[C]]*$K$16,Table10b15[[#This Row],[D]]*$L$16,Table10b15[[#This Row],[E]]*$M$16,Table10b15[[#This Row],[F]]*$N$16,Table10b15[[#This Row],[G]]*$O$16,Table10b15[[#This Row],[H]]*$P$16,Table10b15[[#This Row],[I]]*$Q$16,Table10b15[[#This Row],[J]]*$R$16,Table10b15[[#This Row],[K]]*$S$16,Table10b15[[#This Row],[L]]*$T$16,Table10b15[[#This Row],[M]]*$U$16,Table10b15[[#This Row],[N]]*$V$16,Table10b15[[#This Row],[O]]*$W$16,Table10b15[[#This Row],[P]]*$X$16,Table10b15[[#This Row],[Q]]*$Y$16,Table10b15[[#This Row],[R]]*$Z$16,Table10b15[[#This Row],[S]]*$AA$16,Table10b15[[#This Row],[T]]*$AB$16,Table10b15[[#This Row],[U]]*$AC$16,Table10b15[[#This Row],[V]]*$AD$16,Table10b15[[#This Row],[W]]*$AE$16,Table10b15[[#This Row],[X]]*$AF$16,Table10b15[[#This Row],[Y]]*$AG$16,Table10b15[[#This Row],[Z]]*$AH$16)*3","v":304.5},{"$f":"IF(AND(OR(Table10b15[[#This Row],[Room Type]]=\"Bedroom\",Table10b15[[#This Row],[Room Type]]=\"Living Room\",Table10b15[[#This Row],[Room Type]]=\"Dining Room\"),Table10b15[[#This Row],[Lit Area (SF)]]>Table10b15[[#This Row],[Watts (Lit Area) 3x]]),\"Display Lit Area Warning\",\"\")","v":""}]
[null,30,"A1","Living Room",50,45,{"$f":"IFERROR(SUM(Table10b15[[#This Row],[Unlit Area (SF)]]*1.07,Table10b15[[#This Row],[A]]*$I$16,Table10b15[[#This Row],[B]]*$J$16,Table10b15[[#This Row],[C]]*$K$16,Table10b15[[#This Row],[D]]*$L$16,Table10b15[[#This Row],[E]]*$M$16,Table10b15[[#This Row],[F]]*$N$16,Table10b15[[#This Row],[G]]*$O$16,Table10b15[[#This Row],[H]]*$P$16,Table10b15[[#This Row],[I]]*$Q$16,Table10b15[[#This Row],[J]]*$R$16,Table10b15[[#This Row],[K]]*$S$16,Table10b15[[#This Row],[L]]*$T$16,Table10b15[[#This Row],[M]]*$U$16,Table10b15[[#This Row],[N]]*$V$16,Table10b15[[#This Row],[O]]*$W$16,Table10b15[[#This Row],[P]]*$X$16,Table10b15[[#This Row],[Q]]*$Y$16,Table10b15[[#This Row],[R]]*$Z$16,Table10b15[[#This Row],[S]]*$AA$16,Table10b15[[#This Row],[T]]*$AB$16,Table10b15[[#This Row],[U]]*$AC$16,Table10b15[[#This Row],[V]]*$AD$16,Table10b15[[#This Row],[W]]*$AE$16,Table10b15[[#This Row],[X]]*$AF$16,Table10b15[[#This Row],[Y]]*$AG$16,Table10b15[[#This Row],[Z]]*$AH$16)/Table10b15[[#This Row],[Lit Area (SF)]],\"\")","v":2.0030000000000001},{"$f":"IFERROR(SUM(Table10b15[[#This Row],[Lit Area (SF)]],Table10b15[[#This Row],[Unlit Area (SF)]])*Table10b15[[#This Row],[Multiplier]]*Table10b15[[#This Row],[Watts/SF]],\"\")","v":5708.55},1,1,null,null,null,null,null,null,null,null,null,null,null,null,null,null,null,null,null,null,null,null,null,null,null,null,null,{"$f":"SUM(Table10b15[[#This Row],[A]:[Z]])*Table10b15[[#This Row],[Multiplier]]","v":60},{"$f":"SUM(IF(OR($I$17=\"Tier I\",$I$17=\"Tier II\",$I$17=\"ES\"),Table10b15[[#This Row],[A]]*Table10b15[[#This Row],[Multiplier]],0),\nIF(OR($J$17=\"Tier I\",$J$17=\"Tier II\",$J$17=\"ES\"),Table10b15[[#This Row],[B]]*Table10b15[[#This Row],[Multiplier]],0),\nIF(OR($K$17=\"Tier I\",$K$17=\"Tier II\",$K$17=\"ES\"),Table10b15[[#This Row],[C]]*Table10b15[[#This Row],[Multiplier]],0),\nIF(OR($L$17=\"Tier I\",$L$17=\"Tier II\",$L$17=\"ES\"),Table10b15[[#This Row],[D]]*Table10b15[[#This Row],[Multiplier]],0),\nIF(OR($M$17=\"Tier I\",$M$17=\"Tier II\",$M$17=\"ES\"),Table10b15[[#This Row],[E]]*Table10b15[[#This Row],[Multiplier]],0),\nIF(OR($N$17=\"Tier I\",$N$17=\"Tier II\",$N$17=\"ES\"),Table10b15[[#This Row],[F]]*Table10b15[[#This Row],[Multiplier]],0),\nIF(OR($O$17=\"Tier I\",$O$17=\"Tier II\",$O$17=\"ES\"),Table10b15[[#This Row],[G]]*Table10b15[[#This Row],[Multiplier]],0),\nIF(OR($P$17=\"Tier I\",$P$17=\"Tier II\",$P$17=\"ES\"),Table10b15[[#This Row],[H]]*Table10b15[[#This Row],[Multiplier]],0),\nIF(OR($Q$17=\"Tier I\",$Q$17=\"Tier II\",$Q$17=\"ES\"),Table10b15[[#This Row],[I]]*Table10b15[[#This Row],[Multiplier]],0),\nIF(OR($R$17=\"Tier I\",$R$17=\"Tier II\",$R$17=\"ES\"),Table10b15[[#This Row],[J]]*Table10b15[[#This Row],[Multiplier]],0),\nIF(OR($S$17=\"Tier I\",$S$17=\"Tier II\",$S$17=\"ES\"),Table10b15[[#This Row],[K]]*Table10b15[[#This Row],[Multiplier]],0),\nIF(OR($T$17=\"Tier I\",$T$17=\"Tier II\",$T$17=\"ES\"),Table10b15[[#This Row],[L]]*Table10b15[[#This Row],[Multiplier]],0),\nIF(OR($U$17=\"Tier I\",$U$17=\"Tier II\",$U$17=\"ES\"),Table10b15[[#This Row],[M]]*Table10b15[[#This Row],[Multiplier]],0),\nIF(OR($V$17=\"Tier I\",$V$17=\"Tier II\",$V$17=\"ES\"),Table10b15[[#This Row],[N]]*Table10b15[[#This Row],[Multiplier]],0),\nIF(OR($W$17=\"Tier I\",$W$17=\"Tier II\",$W$17=\"ES\"),Table10b15[[#This Row],[O]]*Table10b15[[#This Row],[Multiplier]],0),\nIF(OR($X$17=\"Tier I\",$X$17=\"Tier II\",$X$17=\"ES\"),Table10b15[[#This Row],[P]]*Table10b15[[#This Row],[Multiplier]],0),\nIF(OR($Y$17=\"Tier I\",$Y$17=\"Tier II\",$Y$17=\"ES\"),Table10b15[[#This Row],[Q]]*Table10b15[[#This Row],[Multiplier]],0),\nIF(OR($Z$17=\"Tier I\",$Z$17=\"Tier II\",$Z$17=\"ES\"),Table10b15[[#This Row],[R]]*Table10b15[[#This Row],[Multiplier]],0),\nIF(OR($AA$17=\"Tier I\",$AA$17=\"Tier II\",$AA$17=\"ES\"),Table10b15[[#This Row],[S]]*Table10b15[[#This Row],[Multiplier]],0),\nIF(OR($AB$17=\"Tier I\",$AB$17=\"Tier II\",$AB$17=\"ES\"),Table10b15[[#This Row],[T]]*Table10b15[[#This Row],[Multiplier]],0),\nIF(OR($AC$17=\"Tier I\",$AC$17=\"Tier II\",$AC$17=\"ES\"),Table10b15[[#This Row],[U]]*Table10b15[[#This Row],[Multiplier]],0),\nIF(OR($AD$17=\"Tier I\",$AD$17=\"Tier II\",$AD$17=\"ES\"),Table10b15[[#This Row],[V]]*Table10b15[[#This Row],[Multiplier]],0),\nIF(OR($AE$17=\"Tier I\",$AE$17=\"Tier II\",$AE$17=\"ES\"),Table10b15[[#This Row],[W]]*Table10b15[[#This Row],[Multiplier]],0),\nIF(OR($AF$17=\"Tier I\",$AF$17=\"Tier II\",$AF$17=\"ES\"),Table10b15[[#This Row],[X]]*Table10b15[[#This Row],[Multiplier]],0),\nIF(OR($AG$17=\"Tier I\",$AG$17=\"Tier II\",$AG$17=\"ES\"),Table10b15[[#This Row],[Y]]*Table10b15[[#This Row],[Multiplier]],0),\nIF(OR($AH$17=\"Tier I\",$AH$17=\"Tier II\",$AH$17=\"ES\"),Table10b15[[#This Row],[Z]]*Table10b15[[#This Row],[Multiplier]],0))","v":60},{"$f":"SUM(Table10b15[[#This Row],[A]]*$I$16,Table10b15[[#This Row],[B]]*$J$16,Table10b15[[#This Row],[C]]*$K$16,Table10b15[[#This Row],[D]]*$L$16,Table10b15[[#This Row],[E]]*$M$16,Table10b15[[#This Row],[F]]*$N$16,Table10b15[[#This Row],[G]]*$O$16,Table10b15[[#This Row],[H]]*$P$16,Table10b15[[#This Row],[I]]*$Q$16,Table10b15[[#This Row],[J]]*$R$16,Table10b15[[#This Row],[K]]*$S$16,Table10b15[[#This Row],[L]]*$T$16,Table10b15[[#This Row],[M]]*$U$16,Table10b15[[#This Row],[N]]*$V$16,Table10b15[[#This Row],[O]]*$W$16,Table10b15[[#This Row],[P]]*$X$16,Table10b15[[#This Row],[Q]]*$Y$16,Table10b15[[#This Row],[R]]*$Z$16,Table10b15[[#This Row],[S]]*$AA$16,Table10b15[[#This Row],[T]]*$AB$16,Table10b15[[#This Row],[U]]*$AC$16,Table10b15[[#This Row],[V]]*$AD$16,Table10b15[[#This Row],[W]]*$AE$16,Table10b15[[#This Row],[X]]*$AF$16,Table10b15[[#This Row],[Y]]*$AG$16,Table10b15[[#This Row],[Z]]*$AH$16)*3","v":156},{"$f":"IF(AND(OR(Table10b15[[#This Row],[Room Type]]=\"Bedroom\",Table10b15[[#This Row],[Room Type]]=\"Living Room\",Table10b15[[#This Row],[Room Type]]=\"Dining Room\"),Table10b15[[#This Row],[Lit Area (SF)]]>Table10b15[[#This Row],[Watts (Lit Area) 3x]]),\"Display Lit Area Warning\",\"\")","v":""}]
[null,null,null,null,null,null,{"$f":"IFERROR(SUM(Table10b15[[#This Row],[Unlit Area (SF)]]*1.07,Table10b15[[#This Row],[A]]*$I$16,Table10b15[[#This Row],[B]]*$J$16,Table10b15[[#This Row],[C]]*$K$16,Table10b15[[#This Row],[D]]*$L$16,Table10b15[[#This Row],[E]]*$M$16,Table10b15[[#This Row],[F]]*$N$16,Table10b15[[#This Row],[G]]*$O$16,Table10b15[[#This Row],[H]]*$P$16,Table10b15[[#This Row],[I]]*$Q$16,Table10b15[[#This Row],[J]]*$R$16,Table10b15[[#This Row],[K]]*$S$16,Table10b15[[#This Row],[L]]*$T$16,Table10b15[[#This Row],[M]]*$U$16,Table10b15[[#This Row],[N]]*$V$16,Table10b15[[#This Row],[O]]*$W$16,Table10b15[[#This Row],[P]]*$X$16,Table10b15[[#This Row],[Q]]*$Y$16,Table10b15[[#This Row],[R]]*$Z$16,Table10b15[[#This Row],[S]]*$AA$16,Table10b15[[#This Row],[T]]*$AB$16,Table10b15[[#This Row],[U]]*$AC$16,Table10b15[[#This Row],[V]]*$AD$16,Table10b15[[#This Row],[W]]*$AE$16,Table10b15[[#This Row],[X]]*$AF$16,Table10b15[[#This Row],[Y]]*$AG$16,Table10b15[[#This Row],[Z]]*$AH$16)/Table10b15[[#This Row],[Lit Area (SF)]],\"\")","v":""},{"$f":"IFERROR(SUM(Table10b15[[#This Row],[Lit Area (SF)]],Table10b15[[#This Row],[Unlit Area (SF)]])*Table10b15[[#This Row],[Multiplier]]*Table10b15[[#This Row],[Watts/SF]],\"\")","v":""},null,null,null,null,null,null,null,null,null,null,null,null,null,null,null,null,null,null,null,null,null,null,null,null,null,null,null,{"$f":"SUM(Table10b15[[#This Row],[A]:[Z]])*Table10b15[[#This Row],[Multiplier]]","v":0},{"$f":"SUM(IF(OR($I$17=\"Tier I\",$I$17=\"Tier II\",$I$17=\"ES\"),Table10b15[[#This Row],[A]]*Table10b15[[#This Row],[Multiplier]],0),\nIF(OR($J$17=\"Tier I\",$J$17=\"Tier II\",$J$17=\"ES\"),Table10b15[[#This Row],[B]]*Table10b15[[#This Row],[Multiplier]],0),\nIF(OR($K$17=\"Tier I\",$K$17=\"Tier II\",$K$17=\"ES\"),Table10b15[[#This Row],[C]]*Table10b15[[#This Row],[Multiplier]],0),\nIF(OR($L$17=\"Tier I\",$L$17=\"Tier II\",$L$17=\"ES\"),Table10b15[[#This Row],[D]]*Table10b15[[#This Row],[Multiplier]],0),\nIF(OR($M$17=\"Tier I\",$M$17=\"Tier II\",$M$17=\"ES\"),Table10b15[[#This Row],[E]]*Table10b15[[#This Row],[Multiplier]],0),\nIF(OR($N$17=\"Tier I\",$N$17=\"Tier II\",$N$17=\"ES\"),Table10b15[[#This Row],[F]]*Table10b15[[#This Row],[Multiplier]],0),\nIF(OR($O$17=\"Tier I\",$O$17=\"Tier II\",$O$17=\"ES\"),Table10b15[[#This Row],[G]]*Table10b15[[#This Row],[Multiplier]],0),\nIF(OR($P$17=\"Tier I\",$P$17=\"Tier II\",$P$17=\"ES\"),Table10b15[[#This Row],[H]]*Table10b15[[#This Row],[Multiplier]],0),\nIF(OR($Q$17=\"Tier I\",$Q$17=\"Tier II\",$Q$17=\"ES\"),Table10b15[[#This Row],[I]]*Table10b15[[#This Row],[Multiplier]],0),\nIF(OR($R$17=\"Tier I\",$R$17=\"Tier II\",$R$17=\"ES\"),Table10b15[[#This Row],[J]]*Table10b15[[#This Row],[Multiplier]],0),\nIF(OR($S$17=\"Tier I\",$S$17=\"Tier II\",$S$17=\"ES\"),Table10b15[[#This Row],[K]]*Table10b15[[#This Row],[Multiplier]],0),\nIF(OR($T$17=\"Tier I\",$T$17=\"Tier II\",$T$17=\"ES\"),Table10b15[[#This Row],[L]]*Table10b15[[#This Row],[Multiplier]],0),\nIF(OR($U$17=\"Tier I\",$U$17=\"Tier II\",$U$17=\"ES\"),Table10b15[[#This Row],[M]]*Table10b15[[#This Row],[Multiplier]],0),\nIF(OR($V$17=\"Tier I\",$V$17=\"Tier II\",$V$17=\"ES\"),Table10b15[[#This Row],[N]]*Table10b15[[#This Row],[Multiplier]],0),\nIF(OR($W$17=\"Tier I\",$W$17=\"Tier II\",$W$17=\"ES\"),Table10b15[[#This Row],[O]]*Table10b15[[#This Row],[Multiplier]],0),\nIF(OR($X$17=\"Tier I\",$X$17=\"Tier II\",$X$17=\"ES\"),Table10b15[[#This Row],[P]]*Table10b15[[#This Row],[Multiplier]],0),\nIF(OR($Y$17=\"Tier I\",$Y$17=\"Tier II\",$Y$17=\"ES\"),Table10b15[[#This Row],[Q]]*Table10b15[[#This Row],[Multiplier]],0),\nIF(OR($Z$17=\"Tier I\",$Z$17=\"Tier II\",$Z$17=\"ES\"),Table10b15[[#This Row],[R]]*Table10b15[[#This Row],[Multiplier]],0),\nIF(OR($AA$17=\"Tier I\",$AA$17=\"Tier II\",$AA$17=\"ES\"),Table10b15[[#This Row],[S]]*Table10b15[[#This Row],[Multiplier]],0),\nIF(OR($AB$17=\"Tier I\",$AB$17=\"Tier II\",$AB$17=\"ES\"),Table10b15[[#This Row],[T]]*Table10b15[[#This Row],[Multiplier]],0),\nIF(OR($AC$17=\"Tier I\",$AC$17=\"Tier II\",$AC$17=\"ES\"),Table10b15[[#This Row],[U]]*Table10b15[[#This Row],[Multiplier]],0),\nIF(OR($AD$17=\"Tier I\",$AD$17=\"Tier II\",$AD$17=\"ES\"),Table10b15[[#This Row],[V]]*Table10b15[[#This Row],[Multiplier]],0),\nIF(OR($AE$17=\"Tier I\",$AE$17=\"Tier II\",$AE$17=\"ES\"),Table10b15[[#This Row],[W]]*Table10b15[[#This Row],[Multiplier]],0),\nIF(OR($AF$17=\"Tier I\",$AF$17=\"Tier II\",$AF$17=\"ES\"),Table10b15[[#This Row],[X]]*Table10b15[[#This Row],[Multiplier]],0),\nIF(OR($AG$17=\"Tier I\",$AG$17=\"Tier II\",$AG$17=\"ES\"),Table10b15[[#This Row],[Y]]*Table10b15[[#This Row],[Multiplier]],0),\nIF(OR($AH$17=\"Tier I\",$AH$17=\"Tier II\",$AH$17=\"ES\"),Table10b15[[#This Row],[Z]]*Table10b15[[#This Row],[Multiplier]],0))","v":0},{"$f":"SUM(Table10b15[[#This Row],[A]]*$I$16,Table10b15[[#This Row],[B]]*$J$16,Table10b15[[#This Row],[C]]*$K$16,Table10b15[[#This Row],[D]]*$L$16,Table10b15[[#This Row],[E]]*$M$16,Table10b15[[#This Row],[F]]*$N$16,Table10b15[[#This Row],[G]]*$O$16,Table10b15[[#This Row],[H]]*$P$16,Table10b15[[#This Row],[I]]*$Q$16,Table10b15[[#This Row],[J]]*$R$16,Table10b15[[#This Row],[K]]*$S$16,Table10b15[[#This Row],[L]]*$T$16,Table10b15[[#This Row],[M]]*$U$16,Table10b15[[#This Row],[N]]*$V$16,Table10b15[[#This Row],[O]]*$W$16,Table10b15[[#This Row],[P]]*$X$16,Table10b15[[#This Row],[Q]]*$Y$16,Table10b15[[#This Row],[R]]*$Z$16,Table10b15[[#This Row],[S]]*$AA$16,Table10b15[[#This Row],[T]]*$AB$16,Table10b15[[#This Row],[U]]*$AC$16,Table10b15[[#This Row],[V]]*$AD$16,Table10b15[[#This Row],[W]]*$AE$16,Table10b15[[#This Row],[X]]*$AF$16,Table10b15[[#This Row],[Y]]*$AG$16,Table10b15[[#This Row],[Z]]*$AH$16)*3","v":0},{"$f":"IF(AND(OR(Table10b15[[#This Row],[Room Type]]=\"Bedroom\",Table10b15[[#This Row],[Room Type]]=\"Living Room\",Table10b15[[#This Row],[Room Type]]=\"Dining Room\"),Table10b15[[#This Row],[Lit Area (SF)]]>Table10b15[[#This Row],[Watts (Lit Area) 3x]]),\"Display Lit Area Warning\",\"\")","v":""}]
[null,null,null,null,null,null,{"$f":"IFERROR(SUM(Table10b15[[#This Row],[Unlit Area (SF)]]*1.07,Table10b15[[#This Row],[A]]*$I$16,Table10b15[[#This Row],[B]]*$J$16,Table10b15[[#This Row],[C]]*$K$16,Table10b15[[#This Row],[D]]*$L$16,Table10b15[[#This Row],[E]]*$M$16,Table10b15[[#This Row],[F]]*$N$16,Table10b15[[#This Row],[G]]*$O$16,Table10b15[[#This Row],[H]]*$P$16,Table10b15[[#This Row],[I]]*$Q$16,Table10b15[[#This Row],[J]]*$R$16,Table10b15[[#This Row],[K]]*$S$16,Table10b15[[#This Row],[L]]*$T$16,Table10b15[[#This Row],[M]]*$U$16,Table10b15[[#This Row],[N]]*$V$16,Table10b15[[#This Row],[O]]*$W$16,Table10b15[[#This Row],[P]]*$X$16,Table10b15[[#This Row],[Q]]*$Y$16,Table10b15[[#This Row],[R]]*$Z$16,Table10b15[[#This Row],[S]]*$AA$16,Table10b15[[#This Row],[T]]*$AB$16,Table10b15[[#This Row],[U]]*$AC$16,Table10b15[[#This Row],[V]]*$AD$16,Table10b15[[#This Row],[W]]*$AE$16,Table10b15[[#This Row],[X]]*$AF$16,Table10b15[[#This Row],[Y]]*$AG$16,Table10b15[[#This Row],[Z]]*$AH$16)/Table10b15[[#This Row],[Lit Area (SF)]],\"\")","v":""},{"$f":"IFERROR(SUM(Table10b15[[#This Row],[Lit Area (SF)]],Table10b15[[#This Row],[Unlit Area (SF)]])*Table10b15[[#This Row],[Multiplier]]*Table10b15[[#This Row],[Watts/SF]],\"\")","v":""},null,null,null,null,null,null,null,null,null,null,null,null,null,null,null,null,null,null,null,null,null,null,null,null,null,null,null,{"$f":"SUM(Table10b15[[#This Row],[A]:[Z]])*Table10b15[[#This Row],[Multiplier]]","v":0},{"$f":"SUM(IF(OR($I$17=\"Tier I\",$I$17=\"Tier II\",$I$17=\"ES\"),Table10b15[[#This Row],[A]]*Table10b15[[#This Row],[Multiplier]],0),\nIF(OR($J$17=\"Tier I\",$J$17=\"Tier II\",$J$17=\"ES\"),Table10b15[[#This Row],[B]]*Table10b15[[#This Row],[Multiplier]],0),\nIF(OR($K$17=\"Tier I\",$K$17=\"Tier II\",$K$17=\"ES\"),Table10b15[[#This Row],[C]]*Table10b15[[#This Row],[Multiplier]],0),\nIF(OR($L$17=\"Tier I\",$L$17=\"Tier II\",$L$17=\"ES\"),Table10b15[[#This Row],[D]]*Table10b15[[#This Row],[Multiplier]],0),\nIF(OR($M$17=\"Tier I\",$M$17=\"Tier II\",$M$17=\"ES\"),Table10b15[[#This Row],[E]]*Table10b15[[#This Row],[Multiplier]],0),\nIF(OR($N$17=\"Tier I\",$N$17=\"Tier II\",$N$17=\"ES\"),Table10b15[[#This Row],[F]]*Table10b15[[#This Row],[Multiplier]],0),\nIF(OR($O$17=\"Tier I\",$O$17=\"Tier II\",$O$17=\"ES\"),Table10b15[[#This Row],[G]]*Table10b15[[#This Row],[Multiplier]],0),\nIF(OR($P$17=\"Tier I\",$P$17=\"Tier II\",$P$17=\"ES\"),Table10b15[[#This Row],[H]]*Table10b15[[#This Row],[Multiplier]],0),\nIF(OR($Q$17=\"Tier I\",$Q$17=\"Tier II\",$Q$17=\"ES\"),Table10b15[[#This Row],[I]]*Table10b15[[#This Row],[Multiplier]],0),\nIF(OR($R$17=\"Tier I\",$R$17=\"Tier II\",$R$17=\"ES\"),Table10b15[[#This Row],[J]]*Table10b15[[#This Row],[Multiplier]],0),\nIF(OR($S$17=\"Tier I\",$S$17=\"Tier II\",$S$17=\"ES\"),Table10b15[[#This Row],[K]]*Table10b15[[#This Row],[Multiplier]],0),\nIF(OR($T$17=\"Tier I\",$T$17=\"Tier II\",$T$17=\"ES\"),Table10b15[[#This Row],[L]]*Table10b15[[#This Row],[Multiplier]],0),\nIF(OR($U$17=\"Tier I\",$U$17=\"Tier II\",$U$17=\"ES\"),Table10b15[[#This Row],[M]]*Table10b15[[#This Row],[Multiplier]],0),\nIF(OR($V$17=\"Tier I\",$V$17=\"Tier II\",$V$17=\"ES\"),Table10b15[[#This Row],[N]]*Table10b15[[#This Row],[Multiplier]],0),\nIF(OR($W$17=\"Tier I\",$W$17=\"Tier II\",$W$17=\"ES\"),Table10b15[[#This Row],[O]]*Table10b15[[#This Row],[Multiplier]],0),\nIF(OR($X$17=\"Tier I\",$X$17=\"Tier II\",$X$17=\"ES\"),Table10b15[[#This Row],[P]]*Table10b15[[#This Row],[Multiplier]],0),\nIF(OR($Y$17=\"Tier I\",$Y$17=\"Tier II\",$Y$17=\"ES\"),Table10b15[[#This Row],[Q]]*Table10b15[[#This Row],[Multiplier]],0),\nIF(OR($Z$17=\"Tier I\",$Z$17=\"Tier II\",$Z$17=\"ES\"),Table10b15[[#This Row],[R]]*Table10b15[[#This Row],[Multiplier]],0),\nIF(OR($AA$17=\"Tier I\",$AA$17=\"Tier II\",$AA$17=\"ES\"),Table10b15[[#This Row],[S]]*Table10b15[[#This Row],[Multiplier]],0),\nIF(OR($AB$17=\"Tier I\",$AB$17=\"Tier II\",$AB$17=\"ES\"),Table10b15[[#This Row],[T]]*Table10b15[[#This Row],[Multiplier]],0),\nIF(OR($AC$17=\"Tier I\",$AC$17=\"Tier II\",$AC$17=\"ES\"),Table10b15[[#This Row],[U]]*Table10b15[[#This Row],[Multiplier]],0),\nIF(OR($AD$17=\"Tier I\",$AD$17=\"Tier II\",$AD$17=\"ES\"),Table10b15[[#This Row],[V]]*Table10b15[[#This Row],[Multiplier]],0),\nIF(OR($AE$17=\"Tier I\",$AE$17=\"Tier II\",$AE$17=\"ES\"),Table10b15[[#This Row],[W]]*Table10b15[[#This Row],[Multiplier]],0),\nIF(OR($AF$17=\"Tier I\",$AF$17=\"Tier II\",$AF$17=\"ES\"),Table10b15[[#This Row],[X]]*Table10b15[[#This Row],[Multiplier]],0),\nIF(OR($AG$17=\"Tier I\",$AG$17=\"Tier II\",$AG$17=\"ES\"),Table10b15[[#This Row],[Y]]*Table10b15[[#This Row],[Multiplier]],0),\nIF(OR($AH$17=\"Tier I\",$AH$17=\"Tier II\",$AH$17=\"ES\"),Table10b15[[#This Row],[Z]]*Table10b15[[#This Row],[Multiplier]],0))","v":0},{"$f":"SUM(Table10b15[[#This Row],[A]]*$I$16,Table10b15[[#This Row],[B]]*$J$16,Table10b15[[#This Row],[C]]*$K$16,Table10b15[[#This Row],[D]]*$L$16,Table10b15[[#This Row],[E]]*$M$16,Table10b15[[#This Row],[F]]*$N$16,Table10b15[[#This Row],[G]]*$O$16,Table10b15[[#This Row],[H]]*$P$16,Table10b15[[#This Row],[I]]*$Q$16,Table10b15[[#This Row],[J]]*$R$16,Table10b15[[#This Row],[K]]*$S$16,Table10b15[[#This Row],[L]]*$T$16,Table10b15[[#This Row],[M]]*$U$16,Table10b15[[#This Row],[N]]*$V$16,Table10b15[[#This Row],[O]]*$W$16,Table10b15[[#This Row],[P]]*$X$16,Table10b15[[#This Row],[Q]]*$Y$16,Table10b15[[#This Row],[R]]*$Z$16,Table10b15[[#This Row],[S]]*$AA$16,Table10b15[[#This Row],[T]]*$AB$16,Table10b15[[#This Row],[U]]*$AC$16,Table10b15[[#This Row],[V]]*$AD$16,Table10b15[[#This Row],[W]]*$AE$16,Table10b15[[#This Row],[X]]*$AF$16,Table10b15[[#This Row],[Y]]*$AG$16,Table10b15[[#This Row],[Z]]*$AH$16)*3","v":0},{"$f":"IF(AND(OR(Table10b15[[#This Row],[Room Type]]=\"Bedroom\",Table10b15[[#This Row],[Room Type]]=\"Living Room\",Table10b15[[#This Row],[Room Type]]=\"Dining Room\"),Table10b15[[#This Row],[Lit Area (SF)]]>Table10b15[[#This Row],[Watts (Lit Area) 3x]]),\"Display Lit Area Warning\",\"\")","v":""}]
[null,null,null,null,null,null,{"$f":"IFERROR(SUM(Table10b15[[#This Row],[Unlit Area (SF)]]*1.07,Table10b15[[#This Row],[A]]*$I$16,Table10b15[[#This Row],[B]]*$J$16,Table10b15[[#This Row],[C]]*$K$16,Table10b15[[#This Row],[D]]*$L$16,Table10b15[[#This Row],[E]]*$M$16,Table10b15[[#This Row],[F]]*$N$16,Table10b15[[#This Row],[G]]*$O$16,Table10b15[[#This Row],[H]]*$P$16,Table10b15[[#This Row],[I]]*$Q$16,Table10b15[[#This Row],[J]]*$R$16,Table10b15[[#This Row],[K]]*$S$16,Table10b15[[#This Row],[L]]*$T$16,Table10b15[[#This Row],[M]]*$U$16,Table10b15[[#This Row],[N]]*$V$16,Table10b15[[#This Row],[O]]*$W$16,Table10b15[[#This Row],[P]]*$X$16,Table10b15[[#This Row],[Q]]*$Y$16,Table10b15[[#This Row],[R]]*$Z$16,Table10b15[[#This Row],[S]]*$AA$16,Table10b15[[#This Row],[T]]*$AB$16,Table10b15[[#This Row],[U]]*$AC$16,Table10b15[[#This Row],[V]]*$AD$16,Table10b15[[#This Row],[W]]*$AE$16,Table10b15[[#This Row],[X]]*$AF$16,Table10b15[[#This Row],[Y]]*$AG$16,Table10b15[[#This Row],[Z]]*$AH$16)/Table10b15[[#This Row],[Lit Area (SF)]],\"\")","v":""},{"$f":"IFERROR(SUM(Table10b15[[#This Row],[Lit Area (SF)]],Table10b15[[#This Row],[Unlit Area (SF)]])*Table10b15[[#This Row],[Multiplier]]*Table10b15[[#This Row],[Watts/SF]],\"\")","v":""},null,null,null,null,null,null,null,null,null,null,null,null,null,null,null,null,null,null,null,null,null,null,null,null,null,null,null,{"$f":"SUM(Table10b15[[#This Row],[A]:[Z]])*Table10b15[[#This Row],[Multiplier]]","v":0},{"$f":"SUM(IF(OR($I$17=\"Tier I\",$I$17=\"Tier II\",$I$17=\"ES\"),Table10b15[[#This Row],[A]]*Table10b15[[#This Row],[Multiplier]],0),\nIF(OR($J$17=\"Tier I\",$J$17=\"Tier II\",$J$17=\"ES\"),Table10b15[[#This Row],[B]]*Table10b15[[#This Row],[Multiplier]],0),\nIF(OR($K$17=\"Tier I\",$K$17=\"Tier II\",$K$17=\"ES\"),Table10b15[[#This Row],[C]]*Table10b15[[#This Row],[Multiplier]],0),\nIF(OR($L$17=\"Tier I\",$L$17=\"Tier II\",$L$17=\"ES\"),Table10b15[[#This Row],[D]]*Table10b15[[#This Row],[Multiplier]],0),\nIF(OR($M$17=\"Tier I\",$M$17=\"Tier II\",$M$17=\"ES\"),Table10b15[[#This Row],[E]]*Table10b15[[#This Row],[Multiplier]],0),\nIF(OR($N$17=\"Tier I\",$N$17=\"Tier II\",$N$17=\"ES\"),Table10b15[[#This Row],[F]]*Table10b15[[#This Row],[Multiplier]],0),\nIF(OR($O$17=\"Tier I\",$O$17=\"Tier II\",$O$17=\"ES\"),Table10b15[[#This Row],[G]]*Table10b15[[#This Row],[Multiplier]],0),\nIF(OR($P$17=\"Tier I\",$P$17=\"Tier II\",$P$17=\"ES\"),Table10b15[[#This Row],[H]]*Table10b15[[#This Row],[Multiplier]],0),\nIF(OR($Q$17=\"Tier I\",$Q$17=\"Tier II\",$Q$17=\"ES\"),Table10b15[[#This Row],[I]]*Table10b15[[#This Row],[Multiplier]],0),\nIF(OR($R$17=\"Tier I\",$R$17=\"Tier II\",$R$17=\"ES\"),Table10b15[[#This Row],[J]]*Table10b15[[#This Row],[Multiplier]],0),\nIF(OR($S$17=\"Tier I\",$S$17=\"Tier II\",$S$17=\"ES\"),Table10b15[[#This Row],[K]]*Table10b15[[#This Row],[Multiplier]],0),\nIF(OR($T$17=\"Tier I\",$T$17=\"Tier II\",$T$17=\"ES\"),Table10b15[[#This Row],[L]]*Table10b15[[#This Row],[Multiplier]],0),\nIF(OR($U$17=\"Tier I\",$U$17=\"Tier II\",$U$17=\"ES\"),Table10b15[[#This Row],[M]]*Table10b15[[#This Row],[Multiplier]],0),\nIF(OR($V$17=\"Tier I\",$V$17=\"Tier II\",$V$17=\"ES\"),Table10b15[[#This Row],[N]]*Table10b15[[#This Row],[Multiplier]],0),\nIF(OR($W$17=\"Tier I\",$W$17=\"Tier II\",$W$17=\"ES\"),Table10b15[[#This Row],[O]]*Table10b15[[#This Row],[Multiplier]],0),\nIF(OR($X$17=\"Tier I\",$X$17=\"Tier II\",$X$17=\"ES\"),Table10b15[[#This Row],[P]]*Table10b15[[#This Row],[Multiplier]],0),\nIF(OR($Y$17=\"Tier I\",$Y$17=\"Tier II\",$Y$17=\"ES\"),Table10b15[[#This Row],[Q]]*Table10b15[[#This Row],[Multiplier]],0),\nIF(OR($Z$17=\"Tier I\",$Z$17=\"Tier II\",$Z$17=\"ES\"),Table10b15[[#This Row],[R]]*Table10b15[[#This Row],[Multiplier]],0),\nIF(OR($AA$17=\"Tier I\",$AA$17=\"Tier II\",$AA$17=\"ES\"),Table10b15[[#This Row],[S]]*Table10b15[[#This Row],[Multiplier]],0),\nIF(OR($AB$17=\"Tier I\",$AB$17=\"Tier II\",$AB$17=\"ES\"),Table10b15[[#This Row],[T]]*Table10b15[[#This Row],[Multiplier]],0),\nIF(OR($AC$17=\"Tier I\",$AC$17=\"Tier II\",$AC$17=\"ES\"),Table10b15[[#This Row],[U]]*Table10b15[[#This Row],[Multiplier]],0),\nIF(OR($AD$17=\"Tier I\",$AD$17=\"Tier II\",$AD$17=\"ES\"),Table10b15[[#This Row],[V]]*Table10b15[[#This Row],[Multiplier]],0),\nIF(OR($AE$17=\"Tier I\",$AE$17=\"Tier II\",$AE$17=\"ES\"),Table10b15[[#This Row],[W]]*Table10b15[[#This Row],[Multiplier]],0),\nIF(OR($AF$17=\"Tier I\",$AF$17=\"Tier II\",$AF$17=\"ES\"),Table10b15[[#This Row],[X]]*Table10b15[[#This Row],[Multiplier]],0),\nIF(OR($AG$17=\"Tier I\",$AG$17=\"Tier II\",$AG$17=\"ES\"),Table10b15[[#This Row],[Y]]*Table10b15[[#This Row],[Multiplier]],0),\nIF(OR($AH$17=\"Tier I\",$AH$17=\"Tier II\",$AH$17=\"ES\"),Table10b15[[#This Row],[Z]]*Table10b15[[#This Row],[Multiplier]],0))","v":0},{"$f":"SUM(Table10b15[[#This Row],[A]]*$I$16,Table10b15[[#This Row],[B]]*$J$16,Table10b15[[#This Row],[C]]*$K$16,Table10b15[[#This Row],[D]]*$L$16,Table10b15[[#This Row],[E]]*$M$16,Table10b15[[#This Row],[F]]*$N$16,Table10b15[[#This Row],[G]]*$O$16,Table10b15[[#This Row],[H]]*$P$16,Table10b15[[#This Row],[I]]*$Q$16,Table10b15[[#This Row],[J]]*$R$16,Table10b15[[#This Row],[K]]*$S$16,Table10b15[[#This Row],[L]]*$T$16,Table10b15[[#This Row],[M]]*$U$16,Table10b15[[#This Row],[N]]*$V$16,Table10b15[[#This Row],[O]]*$W$16,Table10b15[[#This Row],[P]]*$X$16,Table10b15[[#This Row],[Q]]*$Y$16,Table10b15[[#This Row],[R]]*$Z$16,Table10b15[[#This Row],[S]]*$AA$16,Table10b15[[#This Row],[T]]*$AB$16,Table10b15[[#This Row],[U]]*$AC$16,Table10b15[[#This Row],[V]]*$AD$16,Table10b15[[#This Row],[W]]*$AE$16,Table10b15[[#This Row],[X]]*$AF$16,Table10b15[[#This Row],[Y]]*$AG$16,Table10b15[[#This Row],[Z]]*$AH$16)*3","v":0},{"$f":"IF(AND(OR(Table10b15[[#This Row],[Room Type]]=\"Bedroom\",Table10b15[[#This Row],[Room Type]]=\"Living Room\",Table10b15[[#This Row],[Room Type]]=\"Dining Room\"),Table10b15[[#This Row],[Lit Area (SF)]]>Table10b15[[#This Row],[Watts (Lit Area) 3x]]),\"Display Lit Area Warning\",\"\")","v":""}]
[null,null,null,null,null,null,{"$f":"IFERROR(SUM(Table10b15[[#This Row],[Unlit Area (SF)]]*1.07,Table10b15[[#This Row],[A]]*$I$16,Table10b15[[#This Row],[B]]*$J$16,Table10b15[[#This Row],[C]]*$K$16,Table10b15[[#This Row],[D]]*$L$16,Table10b15[[#This Row],[E]]*$M$16,Table10b15[[#This Row],[F]]*$N$16,Table10b15[[#This Row],[G]]*$O$16,Table10b15[[#This Row],[H]]*$P$16,Table10b15[[#This Row],[I]]*$Q$16,Table10b15[[#This Row],[J]]*$R$16,Table10b15[[#This Row],[K]]*$S$16,Table10b15[[#This Row],[L]]*$T$16,Table10b15[[#This Row],[M]]*$U$16,Table10b15[[#This Row],[N]]*$V$16,Table10b15[[#This Row],[O]]*$W$16,Table10b15[[#This Row],[P]]*$X$16,Table10b15[[#This Row],[Q]]*$Y$16,Table10b15[[#This Row],[R]]*$Z$16,Table10b15[[#This Row],[S]]*$AA$16,Table10b15[[#This Row],[T]]*$AB$16,Table10b15[[#This Row],[U]]*$AC$16,Table10b15[[#This Row],[V]]*$AD$16,Table10b15[[#This Row],[W]]*$AE$16,Table10b15[[#This Row],[X]]*$AF$16,Table10b15[[#This Row],[Y]]*$AG$16,Table10b15[[#This Row],[Z]]*$AH$16)/Table10b15[[#This Row],[Lit Area (SF)]],\"\")","v":""},{"$f":"IFERROR(SUM(Table10b15[[#This Row],[Lit Area (SF)]],Table10b15[[#This Row],[Unlit Area (SF)]])*Table10b15[[#This Row],[Multiplier]]*Table10b15[[#This Row],[Watts/SF]],\"\")","v":""},null,null,null,null,null,null,null,null,null,null,null,null,null,null,null,null,null,null,null,null,null,null,null,null,null,null,null,{"$f":"SUM(Table10b15[[#This Row],[A]:[Z]])*Table10b15[[#This Row],[Multiplier]]","v":0},{"$f":"SUM(IF(OR($I$17=\"Tier I\",$I$17=\"Tier II\",$I$17=\"ES\"),Table10b15[[#This Row],[A]]*Table10b15[[#This Row],[Multiplier]],0),\nIF(OR($J$17=\"Tier I\",$J$17=\"Tier II\",$J$17=\"ES\"),Table10b15[[#This Row],[B]]*Table10b15[[#This Row],[Multiplier]],0),\nIF(OR($K$17=\"Tier I\",$K$17=\"Tier II\",$K$17=\"ES\"),Table10b15[[#This Row],[C]]*Table10b15[[#This Row],[Multiplier]],0),\nIF(OR($L$17=\"Tier I\",$L$17=\"Tier II\",$L$17=\"ES\"),Table10b15[[#This Row],[D]]*Table10b15[[#This Row],[Multiplier]],0),\nIF(OR($M$17=\"Tier I\",$M$17=\"Tier II\",$M$17=\"ES\"),Table10b15[[#This Row],[E]]*Table10b15[[#This Row],[Multiplier]],0),\nIF(OR($N$17=\"Tier I\",$N$17=\"Tier II\",$N$17=\"ES\"),Table10b15[[#This Row],[F]]*Table10b15[[#This Row],[Multiplier]],0),\nIF(OR($O$17=\"Tier I\",$O$17=\"Tier II\",$O$17=\"ES\"),Table10b15[[#This Row],[G]]*Table10b15[[#This Row],[Multiplier]],0),\nIF(OR($P$17=\"Tier I\",$P$17=\"Tier II\",$P$17=\"ES\"),Table10b15[[#This Row],[H]]*Table10b15[[#This Row],[Multiplier]],0),\nIF(OR($Q$17=\"Tier I\",$Q$17=\"Tier II\",$Q$17=\"ES\"),Table10b15[[#This Row],[I]]*Table10b15[[#This Row],[Multiplier]],0),\nIF(OR($R$17=\"Tier I\",$R$17=\"Tier II\",$R$17=\"ES\"),Table10b15[[#This Row],[J]]*Table10b15[[#This Row],[Multiplier]],0),\nIF(OR($S$17=\"Tier I\",$S$17=\"Tier II\",$S$17=\"ES\"),Table10b15[[#This Row],[K]]*Table10b15[[#This Row],[Multiplier]],0),\nIF(OR($T$17=\"Tier I\",$T$17=\"Tier II\",$T$17=\"ES\"),Table10b15[[#This Row],[L]]*Table10b15[[#This Row],[Multiplier]],0),\nIF(OR($U$17=\"Tier I\",$U$17=\"Tier II\",$U$17=\"ES\"),Table10b15[[#This Row],[M]]*Table10b15[[#This Row],[Multiplier]],0),\nIF(OR($V$17=\"Tier I\",$V$17=\"Tier II\",$V$17=\"ES\"),Table10b15[[#This Row],[N]]*Table10b15[[#This Row],[Multiplier]],0),\nIF(OR($W$17=\"Tier I\",$W$17=\"Tier II\",$W$17=\"ES\"),Table10b15[[#This Row],[O]]*Table10b15[[#This Row],[Multiplier]],0),\nIF(OR($X$17=\"Tier I\",$X$17=\"Tier II\",$X$17=\"ES\"),Table10b15[[#This Row],[P]]*Table10b15[[#This Row],[Multiplier]],0),\nIF(OR($Y$17=\"Tier I\",$Y$17=\"Tier II\",$Y$17=\"ES\"),Table10b15[[#This Row],[Q]]*Table10b15[[#This Row],[Multiplier]],0),\nIF(OR($Z$17=\"Tier I\",$Z$17=\"Tier II\",$Z$17=\"ES\"),Table10b15[[#This Row],[R]]*Table10b15[[#This Row],[Multiplier]],0),\nIF(OR($AA$17=\"Tier I\",$AA$17=\"Tier II\",$AA$17=\"ES\"),Table10b15[[#This Row],[S]]*Table10b15[[#This Row],[Multiplier]],0),\nIF(OR($AB$17=\"Tier I\",$AB$17=\"Tier II\",$AB$17=\"ES\"),Table10b15[[#This Row],[T]]*Table10b15[[#This Row],[Multiplier]],0),\nIF(OR($AC$17=\"Tier I\",$AC$17=\"Tier II\",$AC$17=\"ES\"),Table10b15[[#This Row],[U]]*Table10b15[[#This Row],[Multiplier]],0),\nIF(OR($AD$17=\"Tier I\",$AD$17=\"Tier II\",$AD$17=\"ES\"),Table10b15[[#This Row],[V]]*Table10b15[[#This Row],[Multiplier]],0),\nIF(OR($AE$17=\"Tier I\",$AE$17=\"Tier II\",$AE$17=\"ES\"),Table10b15[[#This Row],[W]]*Table10b15[[#This Row],[Multiplier]],0),\nIF(OR($AF$17=\"Tier I\",$AF$17=\"Tier II\",$AF$17=\"ES\"),Table10b15[[#This Row],[X]]*Table10b15[[#This Row],[Multiplier]],0),\nIF(OR($AG$17=\"Tier I\",$AG$17=\"Tier II\",$AG$17=\"ES\"),Table10b15[[#This Row],[Y]]*Table10b15[[#This Row],[Multiplier]],0),\nIF(OR($AH$17=\"Tier I\",$AH$17=\"Tier II\",$AH$17=\"ES\"),Table10b15[[#This Row],[Z]]*Table10b15[[#This Row],[Multiplier]],0))","v":0},{"$f":"SUM(Table10b15[[#This Row],[A]]*$I$16,Table10b15[[#This Row],[B]]*$J$16,Table10b15[[#This Row],[C]]*$K$16,Table10b15[[#This Row],[D]]*$L$16,Table10b15[[#This Row],[E]]*$M$16,Table10b15[[#This Row],[F]]*$N$16,Table10b15[[#This Row],[G]]*$O$16,Table10b15[[#This Row],[H]]*$P$16,Table10b15[[#This Row],[I]]*$Q$16,Table10b15[[#This Row],[J]]*$R$16,Table10b15[[#This Row],[K]]*$S$16,Table10b15[[#This Row],[L]]*$T$16,Table10b15[[#This Row],[M]]*$U$16,Table10b15[[#This Row],[N]]*$V$16,Table10b15[[#This Row],[O]]*$W$16,Table10b15[[#This Row],[P]]*$X$16,Table10b15[[#This Row],[Q]]*$Y$16,Table10b15[[#This Row],[R]]*$Z$16,Table10b15[[#This Row],[S]]*$AA$16,Table10b15[[#This Row],[T]]*$AB$16,Table10b15[[#This Row],[U]]*$AC$16,Table10b15[[#This Row],[V]]*$AD$16,Table10b15[[#This Row],[W]]*$AE$16,Table10b15[[#This Row],[X]]*$AF$16,Table10b15[[#This Row],[Y]]*$AG$16,Table10b15[[#This Row],[Z]]*$AH$16)*3","v":0},{"$f":"IF(AND(OR(Table10b15[[#This Row],[Room Type]]=\"Bedroom\",Table10b15[[#This Row],[Room Type]]=\"Living Room\",Table10b15[[#This Row],[Room Type]]=\"Dining Room\"),Table10b15[[#This Row],[Lit Area (SF)]]>Table10b15[[#This Row],[Watts (Lit Area) 3x]]),\"Display Lit Area Warning\",\"\")","v":""}]
[null,null,null,null,null,null,{"$f":"IFERROR(SUM(Table10b15[[#This Row],[Unlit Area (SF)]]*1.07,Table10b15[[#This Row],[A]]*$I$16,Table10b15[[#This Row],[B]]*$J$16,Table10b15[[#This Row],[C]]*$K$16,Table10b15[[#This Row],[D]]*$L$16,Table10b15[[#This Row],[E]]*$M$16,Table10b15[[#This Row],[F]]*$N$16,Table10b15[[#This Row],[G]]*$O$16,Table10b15[[#This Row],[H]]*$P$16,Table10b15[[#This Row],[I]]*$Q$16,Table10b15[[#This Row],[J]]*$R$16,Table10b15[[#This Row],[K]]*$S$16,Table10b15[[#This Row],[L]]*$T$16,Table10b15[[#This Row],[M]]*$U$16,Table10b15[[#This Row],[N]]*$V$16,Table10b15[[#This Row],[O]]*$W$16,Table10b15[[#This Row],[P]]*$X$16,Table10b15[[#This Row],[Q]]*$Y$16,Table10b15[[#This Row],[R]]*$Z$16,Table10b15[[#This Row],[S]]*$AA$16,Table10b15[[#This Row],[T]]*$AB$16,Table10b15[[#This Row],[U]]*$AC$16,Table10b15[[#This Row],[V]]*$AD$16,Table10b15[[#This Row],[W]]*$AE$16,Table10b15[[#This Row],[X]]*$AF$16,Table10b15[[#This Row],[Y]]*$AG$16,Table10b15[[#This Row],[Z]]*$AH$16)/Table10b15[[#This Row],[Lit Area (SF)]],\"\")","v":""},{"$f":"IFERROR(SUM(Table10b15[[#This Row],[Lit Area (SF)]],Table10b15[[#This Row],[Unlit Area (SF)]])*Table10b15[[#This Row],[Multiplier]]*Table10b15[[#This Row],[Watts/SF]],\"\")","v":""},null,null,null,null,null,null,null,null,null,null,null,null,null,null,null,null,null,null,null,null,null,null,null,null,null,null,null,{"$f":"SUM(Table10b15[[#This Row],[A]:[Z]])*Table10b15[[#This Row],[Multiplier]]","v":0},{"$f":"SUM(IF(OR($I$17=\"Tier I\",$I$17=\"Tier II\",$I$17=\"ES\"),Table10b15[[#This Row],[A]]*Table10b15[[#This Row],[Multiplier]],0),\nIF(OR($J$17=\"Tier I\",$J$17=\"Tier II\",$J$17=\"ES\"),Table10b15[[#This Row],[B]]*Table10b15[[#This Row],[Multiplier]],0),\nIF(OR($K$17=\"Tier I\",$K$17=\"Tier II\",$K$17=\"ES\"),Table10b15[[#This Row],[C]]*Table10b15[[#This Row],[Multiplier]],0),\nIF(OR($L$17=\"Tier I\",$L$17=\"Tier II\",$L$17=\"ES\"),Table10b15[[#This Row],[D]]*Table10b15[[#This Row],[Multiplier]],0),\nIF(OR($M$17=\"Tier I\",$M$17=\"Tier II\",$M$17=\"ES\"),Table10b15[[#This Row],[E]]*Table10b15[[#This Row],[Multiplier]],0),\nIF(OR($N$17=\"Tier I\",$N$17=\"Tier II\",$N$17=\"ES\"),Table10b15[[#This Row],[F]]*Table10b15[[#This Row],[Multiplier]],0),\nIF(OR($O$17=\"Tier I\",$O$17=\"Tier II\",$O$17=\"ES\"),Table10b15[[#This Row],[G]]*Table10b15[[#This Row],[Multiplier]],0),\nIF(OR($P$17=\"Tier I\",$P$17=\"Tier II\",$P$17=\"ES\"),Table10b15[[#This Row],[H]]*Table10b15[[#This Row],[Multiplier]],0),\nIF(OR($Q$17=\"Tier I\",$Q$17=\"Tier II\",$Q$17=\"ES\"),Table10b15[[#This Row],[I]]*Table10b15[[#This Row],[Multiplier]],0),\nIF(OR($R$17=\"Tier I\",$R$17=\"Tier II\",$R$17=\"ES\"),Table10b15[[#This Row],[J]]*Table10b15[[#This Row],[Multiplier]],0),\nIF(OR($S$17=\"Tier I\",$S$17=\"Tier II\",$S$17=\"ES\"),Table10b15[[#This Row],[K]]*Table10b15[[#This Row],[Multiplier]],0),\nIF(OR($T$17=\"Tier I\",$T$17=\"Tier II\",$T$17=\"ES\"),Table10b15[[#This Row],[L]]*Table10b15[[#This Row],[Multiplier]],0),\nIF(OR($U$17=\"Tier I\",$U$17=\"Tier II\",$U$17=\"ES\"),Table10b15[[#This Row],[M]]*Table10b15[[#This Row],[Multiplier]],0),\nIF(OR($V$17=\"Tier I\",$V$17=\"Tier II\",$V$17=\"ES\"),Table10b15[[#This Row],[N]]*Table10b15[[#This Row],[Multiplier]],0),\nIF(OR($W$17=\"Tier I\",$W$17=\"Tier II\",$W$17=\"ES\"),Table10b15[[#This Row],[O]]*Table10b15[[#This Row],[Multiplier]],0),\nIF(OR($X$17=\"Tier I\",$X$17=\"Tier II\",$X$17=\"ES\"),Table10b15[[#This Row],[P]]*Table10b15[[#This Row],[Multiplier]],0),\nIF(OR($Y$17=\"Tier I\",$Y$17=\"Tier II\",$Y$17=\"ES\"),Table10b15[[#This Row],[Q]]*Table10b15[[#This Row],[Multiplier]],0),\nIF(OR($Z$17=\"Tier I\",$Z$17=\"Tier II\",$Z$17=\"ES\"),Table10b15[[#This Row],[R]]*Table10b15[[#This Row],[Multiplier]],0),\nIF(OR($AA$17=\"Tier I\",$AA$17=\"Tier II\",$AA$17=\"ES\"),Table10b15[[#This Row],[S]]*Table10b15[[#This Row],[Multiplier]],0),\nIF(OR($AB$17=\"Tier I\",$AB$17=\"Tier II\",$AB$17=\"ES\"),Table10b15[[#This Row],[T]]*Table10b15[[#This Row],[Multiplier]],0),\nIF(OR($AC$17=\"Tier I\",$AC$17=\"Tier II\",$AC$17=\"ES\"),Table10b15[[#This Row],[U]]*Table10b15[[#This Row],[Multiplier]],0),\nIF(OR($AD$17=\"Tier I\",$AD$17=\"Tier II\",$AD$17=\"ES\"),Table10b15[[#This Row],[V]]*Table10b15[[#This Row],[Multiplier]],0),\nIF(OR($AE$17=\"Tier I\",$AE$17=\"Tier II\",$AE$17=\"ES\"),Table10b15[[#This Row],[W]]*Table10b15[[#This Row],[Multiplier]],0),\nIF(OR($AF$17=\"Tier I\",$AF$17=\"Tier II\",$AF$17=\"ES\"),Table10b15[[#This Row],[X]]*Table10b15[[#This Row],[Multiplier]],0),\nIF(OR($AG$17=\"Tier I\",$AG$17=\"Tier II\",$AG$17=\"ES\"),Table10b15[[#This Row],[Y]]*Table10b15[[#This Row],[Multiplier]],0),\nIF(OR($AH$17=\"Tier I\",$AH$17=\"Tier II\",$AH$17=\"ES\"),Table10b15[[#This Row],[Z]]*Table10b15[[#This Row],[Multiplier]],0))","v":0},{"$f":"SUM(Table10b15[[#This Row],[A]]*$I$16,Table10b15[[#This Row],[B]]*$J$16,Table10b15[[#This Row],[C]]*$K$16,Table10b15[[#This Row],[D]]*$L$16,Table10b15[[#This Row],[E]]*$M$16,Table10b15[[#This Row],[F]]*$N$16,Table10b15[[#This Row],[G]]*$O$16,Table10b15[[#This Row],[H]]*$P$16,Table10b15[[#This Row],[I]]*$Q$16,Table10b15[[#This Row],[J]]*$R$16,Table10b15[[#This Row],[K]]*$S$16,Table10b15[[#This Row],[L]]*$T$16,Table10b15[[#This Row],[M]]*$U$16,Table10b15[[#This Row],[N]]*$V$16,Table10b15[[#This Row],[O]]*$W$16,Table10b15[[#This Row],[P]]*$X$16,Table10b15[[#This Row],[Q]]*$Y$16,Table10b15[[#This Row],[R]]*$Z$16,Table10b15[[#This Row],[S]]*$AA$16,Table10b15[[#This Row],[T]]*$AB$16,Table10b15[[#This Row],[U]]*$AC$16,Table10b15[[#This Row],[V]]*$AD$16,Table10b15[[#This Row],[W]]*$AE$16,Table10b15[[#This Row],[X]]*$AF$16,Table10b15[[#This Row],[Y]]*$AG$16,Table10b15[[#This Row],[Z]]*$AH$16)*3","v":0},{"$f":"IF(AND(OR(Table10b15[[#This Row],[Room Type]]=\"Bedroom\",Table10b15[[#This Row],[Room Type]]=\"Living Room\",Table10b15[[#This Row],[Room Type]]=\"Dining Room\"),Table10b15[[#This Row],[Lit Area (SF)]]>Table10b15[[#This Row],[Watts (Lit Area) 3x]]),\"Display Lit Area Warning\",\"\")","v":""}]
[null,null,null,null,null,null,{"$f":"IFERROR(SUM(Table10b15[[#This Row],[Unlit Area (SF)]]*1.07,Table10b15[[#This Row],[A]]*$I$16,Table10b15[[#This Row],[B]]*$J$16,Table10b15[[#This Row],[C]]*$K$16,Table10b15[[#This Row],[D]]*$L$16,Table10b15[[#This Row],[E]]*$M$16,Table10b15[[#This Row],[F]]*$N$16,Table10b15[[#This Row],[G]]*$O$16,Table10b15[[#This Row],[H]]*$P$16,Table10b15[[#This Row],[I]]*$Q$16,Table10b15[[#This Row],[J]]*$R$16,Table10b15[[#This Row],[K]]*$S$16,Table10b15[[#This Row],[L]]*$T$16,Table10b15[[#This Row],[M]]*$U$16,Table10b15[[#This Row],[N]]*$V$16,Table10b15[[#This Row],[O]]*$W$16,Table10b15[[#This Row],[P]]*$X$16,Table10b15[[#This Row],[Q]]*$Y$16,Table10b15[[#This Row],[R]]*$Z$16,Table10b15[[#This Row],[S]]*$AA$16,Table10b15[[#This Row],[T]]*$AB$16,Table10b15[[#This Row],[U]]*$AC$16,Table10b15[[#This Row],[V]]*$AD$16,Table10b15[[#This Row],[W]]*$AE$16,Table10b15[[#This Row],[X]]*$AF$16,Table10b15[[#This Row],[Y]]*$AG$16,Table10b15[[#This Row],[Z]]*$AH$16)/Table10b15[[#This Row],[Lit Area (SF)]],\"\")","v":""},{"$f":"IFERROR(SUM(Table10b15[[#This Row],[Lit Area (SF)]],Table10b15[[#This Row],[Unlit Area (SF)]])*Table10b15[[#This Row],[Multiplier]]*Table10b15[[#This Row],[Watts/SF]],\"\")","v":""},null,null,null,null,null,null,null,null,null,null,null,null,null,null,null,null,null,null,null,null,null,null,null,null,null,null,null,{"$f":"SUM(Table10b15[[#This Row],[A]:[Z]])*Table10b15[[#This Row],[Multiplier]]","v":0},{"$f":"SUM(IF(OR($I$17=\"Tier I\",$I$17=\"Tier II\",$I$17=\"ES\"),Table10b15[[#This Row],[A]]*Table10b15[[#This Row],[Multiplier]],0),\nIF(OR($J$17=\"Tier I\",$J$17=\"Tier II\",$J$17=\"ES\"),Table10b15[[#This Row],[B]]*Table10b15[[#This Row],[Multiplier]],0),\nIF(OR($K$17=\"Tier I\",$K$17=\"Tier II\",$K$17=\"ES\"),Table10b15[[#This Row],[C]]*Table10b15[[#This Row],[Multiplier]],0),\nIF(OR($L$17=\"Tier I\",$L$17=\"Tier II\",$L$17=\"ES\"),Table10b15[[#This Row],[D]]*Table10b15[[#This Row],[Multiplier]],0),\nIF(OR($M$17=\"Tier I\",$M$17=\"Tier II\",$M$17=\"ES\"),Table10b15[[#This Row],[E]]*Table10b15[[#This Row],[Multiplier]],0),\nIF(OR($N$17=\"Tier I\",$N$17=\"Tier II\",$N$17=\"ES\"),Table10b15[[#This Row],[F]]*Table10b15[[#This Row],[Multiplier]],0),\nIF(OR($O$17=\"Tier I\",$O$17=\"Tier II\",$O$17=\"ES\"),Table10b15[[#This Row],[G]]*Table10b15[[#This Row],[Multiplier]],0),\nIF(OR($P$17=\"Tier I\",$P$17=\"Tier II\",$P$17=\"ES\"),Table10b15[[#This Row],[H]]*Table10b15[[#This Row],[Multiplier]],0),\nIF(OR($Q$17=\"Tier I\",$Q$17=\"Tier II\",$Q$17=\"ES\"),Table10b15[[#This Row],[I]]*Table10b15[[#This Row],[Multiplier]],0),\nIF(OR($R$17=\"Tier I\",$R$17=\"Tier II\",$R$17=\"ES\"),Table10b15[[#This Row],[J]]*Table10b15[[#This Row],[Multiplier]],0),\nIF(OR($S$17=\"Tier I\",$S$17=\"Tier II\",$S$17=\"ES\"),Table10b15[[#This Row],[K]]*Table10b15[[#This Row],[Multiplier]],0),\nIF(OR($T$17=\"Tier I\",$T$17=\"Tier II\",$T$17=\"ES\"),Table10b15[[#This Row],[L]]*Table10b15[[#This Row],[Multiplier]],0),\nIF(OR($U$17=\"Tier I\",$U$17=\"Tier II\",$U$17=\"ES\"),Table10b15[[#This Row],[M]]*Table10b15[[#This Row],[Multiplier]],0),\nIF(OR($V$17=\"Tier I\",$V$17=\"Tier II\",$V$17=\"ES\"),Table10b15[[#This Row],[N]]*Table10b15[[#This Row],[Multiplier]],0),\nIF(OR($W$17=\"Tier I\",$W$17=\"Tier II\",$W$17=\"ES\"),Table10b15[[#This Row],[O]]*Table10b15[[#This Row],[Multiplier]],0),\nIF(OR($X$17=\"Tier I\",$X$17=\"Tier II\",$X$17=\"ES\"),Table10b15[[#This Row],[P]]*Table10b15[[#This Row],[Multiplier]],0),\nIF(OR($Y$17=\"Tier I\",$Y$17=\"Tier II\",$Y$17=\"ES\"),Table10b15[[#This Row],[Q]]*Table10b15[[#This Row],[Multiplier]],0),\nIF(OR($Z$17=\"Tier I\",$Z$17=\"Tier II\",$Z$17=\"ES\"),Table10b15[[#This Row],[R]]*Table10b15[[#This Row],[Multiplier]],0),\nIF(OR($AA$17=\"Tier I\",$AA$17=\"Tier II\",$AA$17=\"ES\"),Table10b15[[#This Row],[S]]*Table10b15[[#This Row],[Multiplier]],0),\nIF(OR($AB$17=\"Tier I\",$AB$17=\"Tier II\",$AB$17=\"ES\"),Table10b15[[#This Row],[T]]*Table10b15[[#This Row],[Multiplier]],0),\nIF(OR($AC$17=\"Tier I\",$AC$17=\"Tier II\",$AC$17=\"ES\"),Table10b15[[#This Row],[U]]*Table10b15[[#This Row],[Multiplier]],0),\nIF(OR($AD$17=\"Tier I\",$AD$17=\"Tier II\",$AD$17=\"ES\"),Table10b15[[#This Row],[V]]*Table10b15[[#This Row],[Multiplier]],0),\nIF(OR($AE$17=\"Tier I\",$AE$17=\"Tier II\",$AE$17=\"ES\"),Table10b15[[#This Row],[W]]*Table10b15[[#This Row],[Multiplier]],0),\nIF(OR($AF$17=\"Tier I\",$AF$17=\"Tier II\",$AF$17=\"ES\"),Table10b15[[#This Row],[X]]*Table10b15[[#This Row],[Multiplier]],0),\nIF(OR($AG$17=\"Tier I\",$AG$17=\"Tier II\",$AG$17=\"ES\"),Table10b15[[#This Row],[Y]]*Table10b15[[#This Row],[Multiplier]],0),\nIF(OR($AH$17=\"Tier I\",$AH$17=\"Tier II\",$AH$17=\"ES\"),Table10b15[[#This Row],[Z]]*Table10b15[[#This Row],[Multiplier]],0))","v":0},{"$f":"SUM(Table10b15[[#This Row],[A]]*$I$16,Table10b15[[#This Row],[B]]*$J$16,Table10b15[[#This Row],[C]]*$K$16,Table10b15[[#This Row],[D]]*$L$16,Table10b15[[#This Row],[E]]*$M$16,Table10b15[[#This Row],[F]]*$N$16,Table10b15[[#This Row],[G]]*$O$16,Table10b15[[#This Row],[H]]*$P$16,Table10b15[[#This Row],[I]]*$Q$16,Table10b15[[#This Row],[J]]*$R$16,Table10b15[[#This Row],[K]]*$S$16,Table10b15[[#This Row],[L]]*$T$16,Table10b15[[#This Row],[M]]*$U$16,Table10b15[[#This Row],[N]]*$V$16,Table10b15[[#This Row],[O]]*$W$16,Table10b15[[#This Row],[P]]*$X$16,Table10b15[[#This Row],[Q]]*$Y$16,Table10b15[[#This Row],[R]]*$Z$16,Table10b15[[#This Row],[S]]*$AA$16,Table10b15[[#This Row],[T]]*$AB$16,Table10b15[[#This Row],[U]]*$AC$16,Table10b15[[#This Row],[V]]*$AD$16,Table10b15[[#This Row],[W]]*$AE$16,Table10b15[[#This Row],[X]]*$AF$16,Table10b15[[#This Row],[Y]]*$AG$16,Table10b15[[#This Row],[Z]]*$AH$16)*3","v":0},{"$f":"IF(AND(OR(Table10b15[[#This Row],[Room Type]]=\"Bedroom\",Table10b15[[#This Row],[Room Type]]=\"Living Room\",Table10b15[[#This Row],[Room Type]]=\"Dining Room\"),Table10b15[[#This Row],[Lit Area (SF)]]>Table10b15[[#This Row],[Watts (Lit Area) 3x]]),\"Display Lit Area Warning\",\"\")","v":""}]
[null,"TOTALS",{"$f":"IF(COUNTA(C21:C$33)=0,\"\",COUNTA(C21:C$33))","v":7},null,{"$f":"IF(SUM(E21:E$33)=0,\"\",SUMPRODUCT(E21:E$33,B21:B$33))","v":14890},{"$f":"IF(SUM(F21:F$33)=0,\"\",SUMPRODUCT(F21:F$33,$B21:$B$33))","v":2800},{"$f":"IFERROR(SUM($F$34*1.07,SUMPRODUCT($I$16:$AH$16,$I$34:$AH$34))/$E$34,\"\")","v":0.78045668233713905},{"$f":"IF(SUM(Table10b15[Installed Watts])=0,\"\",SUM(Table10b15[Installed Watts]))","v":15771.987835857351},{"$f":"SUMPRODUCT(I21:I$33,$B21:$B$33)","v":150},{"$f":"SUMPRODUCT(J21:J$33,$B21:$B$33)","v":140},{"$f":"SUMPRODUCT(K21:K$33,$B21:$B$33)","v":10},{"$f":"SUMPRODUCT(L21:L$33,$B21:$B$33)","v":70},{"$f":"SUMPRODUCT(M21:M$33,$B21:$B$33)","v":110},{"$f":"SUMPRODUCT(N21:N$33,$B21:$B$33)","v":0},{"$f":"SUMPRODUCT(O21:O$33,$B21:$B$33)","v":0},{"$f":"SUMPRODUCT(P21:P$33,$B21:$B$33)","v":0},{"$f":"SUMPRODUCT(Q21:Q$33,$B21:$B$33)","v":0},{"$f":"SUMPRODUCT(R21:R$33,$B21:$B$33)","v":0},{"$f":"SUMPRODUCT(S21:S$33,$B21:$B$33)","v":0},{"$f":"SUMPRODUCT(T21:T$33,$B21:$B$33)","v":0},{"$f":"SUMPRODUCT(U21:U$33,$B21:$B$33)","v":0},{"$f":"SUMPRODUCT(V21:V$33,$B21:$B$33)","v":0},{"$f":"SUMPRODUCT(W21:W$33,$B21:$B$33)","v":0},{"$f":"SUMPRODUCT(X21:X$33,$B21:$B$33)","v":0},{"$f":"SUMPRODUCT(Y21:Y$33,$B21:$B$33)","v":0},{"$f":"SUMPRODUCT(Z21:Z$33,$B21:$B$33)","v":0},{"$f":"SUMPRODUCT(AA21:AA$33,$B21:$B$33)","v":0},{"$f":"SUMPRODUCT(AB21:AB$33,$B21:$B$33)","v":0},{"$f":"SUMPRODUCT(AC21:AC$33,$B21:$B$33)","v":0},{"$f":"SUMPRODUCT(AD21:AD$33,$B21:$B$33)","v":0},{"$f":"SUMPRODUCT(AE21:AE$33,$B21:$B$33)","v":0},{"$f":"SUMPRODUCT(AF21:AF$33,$B21:$B$33)","v":0},{"$f":"SUMPRODUCT(AG21:AG$33,$B21:$B$33)","v":0},{"$f":"SUMPRODUCT(AH21:AH$33,$B21:$B$33)","v":0},null,{"$f":"SUM(Table10b15[Total Fixtures])","v":480},{"$f":"SUM(Table10b15[TierI/TierII/ES Fixtures])","v":480}]
[]
[null,{"$f":"IF(COUNTIF(Table10b15[Warning?],\"Display Lit Area Warning\")<>0,\"In one or more highlighted spaces above, the Lit Area exceeds the 3 ft2/W permitted. Please reduce the Lit Area until the requirement has been met. Increase Unlit area to ensure TOTAL remains consistent with what is reported on the Basic Information tab.\",\"\")","v":""}]
[]
[null,"Common Space\n(Prescriptive and ERI Path only; ASHRAE Path can enter into APC)"]
[]
[null,"Count All Fixtures",null,{"$f":"SUM(SUM(Table10e80[Total Fixtures]),$AJ$70)","v":493},null,null,null,"Fixture Label","A","B","C","D","E","F","G","H","I","J","K","L","M","N","O","P","Q","R","S","T","U","V","W","X","Y","Z","Column1","Column2","Column3","Column4","Column5","Column6","Column7","Column8","Column9"]
[null,{"$f":"IF(AND('Project Information'!$C$8=\"ASHRAE\",'Project Information'!$J$8=\"Yes\"),\"\",\"Are 90% Tier I/II or ES?\")","v":"Are 90% Tier I/II or ES?"},null,{"$f":"IF(AJ$58=0,\"\",\nIF(AND('Project Information'!$C$8=\"ASHRAE\",'Project Information'!$J$8=\"Yes\"),\"\",\nIF((AK$58/AJ$58)>0.9,\"PASS\",\"FAIL\")))","v":"PASS"},null,null,null,"Fixture Watts",10,10,15,20,30]
[null,{"$f":"IF(AND('Project Information'!$C$8=\"ASHRAE\",'Project Information'!$J$8=\"Yes\"),\"< 20% over 90.1-2007?\",\"Is it less than 90.1-2007?\")","v":"Is it less than 90.1-2007?"},null,{"$f":"IF($AN58=\"\",\"\",\nIF(AND('Project Information'!$C$8=\"ASHRAE\",'Project Information'!$J$8=\"Yes\",$AN58<=($AM58*1.2)),\"PASS\",\nIF(AND('Project Information'!$C$8=\"ASHRAE\",'Project Information'!$J$8=\"Yes\",$AN58>($AM58*1.2)),\"FAIL\",\nIF($AN58<=$AM58,\"PASS\",\"FAIL\"))))","v":"FAIL"},null,null,null,"Efficacy","ES","ES","ES","Tier II","ES"]
[]
[]
[null,"Are you using Space-by-Space Method or Building Area Method?",null,null,"Space-by-Space Method"]
[null,"Are you using 90.1-2007 or 90.1-2010?",null,null,"90.1-2007"]
[null,null,null,null,null,null,null,null,null,null,null,null,null,null,null,null,null,null,null,null,null,null,null,null,null,null,null,null,null,null,null,null,null,null,null,"hide","hide","hide","hide","hide","delete column","hide","hide"]
[null,"Multiplier","Space","ASHRAE Space Type","Lit Area (SF)","Automatic Controls?","Watts/SF","ASHRAE LPD (W/SF)",{"$f":"Table10c20[[#Headers],[A]]","v":"A"},{"$f":"Table10c20[[#Headers],[B]]","v":"B"},{"$f":"Table10c20[[#Headers],[C]]","v":"C"},{"$f":"Table10c20[[#Headers],[D]]","v":"D"},{"$f":"Table10c20[[#Headers],[E]]","v":"E"},{"$f":"Table10c20[[#Headers],[F]]","v":"F"},{"$f":"Table10c20[[#Headers],[G]]","v":"G"},{"$f":"Table10c20[[#Headers],[H]]","v":"H"},{"$f":"Table10c20[[#Headers],[I]]","v":"I"},{"$f":"Table10c20[[#Headers],[J]]","v":"J"},{"$f":"Table10c20[[#Headers],[K]]","v":"K"},{"$f":"Table10c20[[#Headers],[L]]","v":"L"},{"$f":"Table10c20[[#Headers],[M]]","v":"M"},{"$f":"Table10c20[[#Headers],[N]]","v":"N"},{"$f":"Table10c20[[#Headers],[O]]","v":"O"},{"$f":"Table10c20[[#Headers],[P]]","v":"P"},{"$f":"Table10c20[[#Headers],[Q]]","v":"Q"},{"$f":"Table10c20[[#Headers],[R]]","v":"R"},{"$f":"Table10c20[[#Headers],[S]]","v":"S"},{"$f":"Table10c20[[#Headers],[T]]","v":"T"},{"$f":"Table10c20[[#Headers],[U]]","v":"U"},{"$f":"Table10c20[[#Headers],[V]]","v":"V"},{"$f":"Table10c20[[#Headers],[W]]","v":"W"},{"$f":"Table10c20[[#Headers],[X]]","v":"X"},{"$f":"Table10c20[[#Headers],[Y]]","v":"Y"},{"$f":"Table10c20[[#Headers],[Z]]","v":"Z"},null,"Total Fixtures","Tier1/ES Fixtures","Lit Area * Multiplier","ASHRAE W","Installed Watts","PASS/FAIL"]
[null,"Multiplier","Space","ASHRAE Space Type","Lit Area (SF)","Automatic Controls?","Watts/SF","ASHRAE LPD (W/SF)","A","B","C","D","E","F","G","H","I","J","K","L","M","N","O","P","Q","R","S","T","U","V","W","X","Y","Z","Column14","Total Fixtures","Tier1/ES Fixtures","Lit Area * Multiplier","ASHRAE W","Installed Watts","PASS/FAIL","30%ASHRAE calc","ASHRAE LPD P/F"]
[null,1,"Fitness","Exercise Area / Room",805,"No",{"$f":"IFERROR(SUM(Table10e80[[#This Row],[A]]*$I$41,Table10e80[[#This Row],[B]]*$J$41,Table10e80[[#This Row],[C]]*$K$41,Table10e80[[#This Row],[D]]*$L$41,Table10e80[[#This Row],[E]]*$M$41,Table10e80[[#This Row],[F]]*$N$41,Table10e80[[#This Row],[G]]*$O$41,Table10e80[[#This Row],[H]]*$P$41,Table10e80[[#This Row],[I]]*$Q$41,Table10e80[[#This Row],[J]]*$R$41,Table10e80[[#This Row],[K]]*$S$41,Table10e80[[#This Row],[L]]*$T$41,Table10e80[[#This Row],[M]]*$U$41,Table10e80[[#This Row],[N]]*$V$41,Table10e80[[#This Row],[O]]*$W$41,Table10e80[[#This Row],[P]]*$X$41,Table10e80[[#This Row],[Q]]*$Y$41,Table10e80[[#This Row],[R]]*$Z$41,Table10e80[[#This Row],[S]]*$AA$41,Table10e80[[#This Row],[T]]*$AB$41,Table10e80[[#This Row],[U]]*$AC$41,Table10e80[[#This Row],[V]]*$AD$41,Table10e80[[#This Row],[W]]*$AE$41,Table10e80[[#This Row],[X]]*$AF$41,Table10e80[[#This Row],[Y]]*$AG$41,Table10e80[[#This Row],[Z]]*$AH$41)/Table10e80[[#This Row],[Lit Area (SF)]],\"\")","v":0.68322981366459623},{"$f":"IF(AND($E$45=\"Building Area Method\",$E$46=\"90.1-2010\",Table10e80[[#This Row],[ASHRAE Space Type]]<>\"\"),0.6,\nIF(AND($E$45=\"Building Area Method\",$E$46=\"90.1-2007\",Table10e80[[#This Row],[ASHRAE Space Type]]<>\"\"),0.7,\nIF(AND($E$45=\"Space-by-Space Method\",$E$46=\"90.1-2010\",Table10e80[[#This Row],[ASHRAE Space Type]]<>\"\"),VLOOKUP(Table10e80[[#This Row],[ASHRAE Space Type]],TableRaterFF68_2010[#Data],2,FALSE),\nIF(AND($E$45=\"Space-by-Space Method\",$E$46=\"90.1-2007\",Table10e80[[#This Row],[ASHRAE Space Type]]<>\"\"),VLOOKUP(Table10e80[[#This Row],[ASHRAE Space Type]],TableRaterFF68[#Data],2,FALSE),\"\"))))","v":0.9},40,null,10,null,null,null,null,null,null,null,null,null,null,null,null,null,null,null,null,null,null,null,null,null,null,null,null,{"$f":"SUM(Table10e80[[#This Row],[A]:[Z]])*Table10e80[[#This Row],[Multiplier]]","v":50},{"$f":"SUM(IF(OR($I$42=\"Tier I\",$I$42=\"Tier II\",$I$42=\"ES\"),Table10e80[[#This Row],[A]]*Table10e80[[#This Row],[Multiplier]],0),\nIF(OR($J$42=\"Tier I\",$J$42=\"Tier II\",$J$42=\"ES\"),Table10e80[[#This Row],[B]]*Table10e80[[#This Row],[Multiplier]],0),\nIF(OR($K$42=\"Tier I\",$K$42=\"Tier II\",$K$42=\"ES\"),Table10e80[[#This Row],[C]]*Table10e80[[#This Row],[Multiplier]],0),\nIF(OR($L$42=\"Tier I\",$L$42=\"Tier II\",$L$42=\"ES\"),Table10e80[[#This Row],[D]]*Table10e80[[#This Row],[Multiplier]],0),\nIF(OR($M$42=\"Tier I\",$M$42=\"Tier II\",$M$42=\"ES\"),Table10e80[[#This Row],[E]]*Table10e80[[#This Row],[Multiplier]],0),\nIF(OR($N$42=\"Tier I\",$N$42=\"Tier II\",$N$42=\"ES\"),Table10e80[[#This Row],[F]]*Table10e80[[#This Row],[Multiplier]],0),\nIF(OR($O$42=\"Tier I\",$O$42=\"Tier II\",$O$42=\"ES\"),Table10e80[[#This Row],[G]]*Table10e80[[#This Row],[Multiplier]],0),\nIF(OR($P$42=\"Tier I\",$P$42=\"Tier II\",$P$42=\"ES\"),Table10e80[[#This Row],[H]]*Table10e80[[#This Row],[Multiplier]],0),\nIF(OR($Q$42=\"Tier I\",$Q$42=\"Tier II\",$Q$42=\"ES\"),Table10e80[[#This Row],[I]]*Table10e80[[#This Row],[Multiplier]],0),\nIF(OR($R$42=\"Tier I\",$R$42=\"Tier II\",$R$42=\"ES\"),Table10e80[[#This Row],[J]]*Table10e80[[#This Row],[Multiplier]],0),\nIF(OR($S$42=\"Tier I\",$S$42=\"Tier II\",$S$42=\"ES\"),Table10e80[[#This Row],[K]]*Table10e80[[#This Row],[Multiplier]],0),\nIF(OR($T$42=\"Tier I\",$T$42=\"Tier II\",$T$42=\"ES\"),Table10e80[[#This Row],[L]]*Table10e80[[#This Row],[Multiplier]],0),\nIF(OR($U$42=\"Tier I\",$U$42=\"Tier II\",$U$42=\"ES\"),Table10e80[[#This Row],[M]]*Table10e80[[#This Row],[Multiplier]],0),\nIF(OR($V$42=\"Tier I\",$V$42=\"Tier II\",$V$42=\"ES\"),Table10e80[[#This Row],[N]]*Table10e80[[#This Row],[Multiplier]],0),\nIF(OR($W$42=\"Tier I\",$W$42=\"Tier II\",$W$42=\"ES\"),Table10e80[[#This Row],[O]]*Table10e80[[#This Row],[Multiplier]],0),\nIF(OR($X$42=\"Tier I\",$X$42=\"Tier II\",$X$42=\"ES\"),Table10e80[[#This Row],[P]]*Table10e80[[#This Row],[Multiplier]],0),\nIF(OR($Y$42=\"Tier I\",$Y$42=\"Tier II\",$Y$42=\"ES\"),Table10e80[[#This Row],[Q]]*Table10e80[[#This Row],[Multiplier]],0),\nIF(OR($Z$42=\"Tier I\",$Z$42=\"Tier II\",$Z$42=\"ES\"),Table10e80[[#This Row],[R]]*Table10e80[[#This Row],[Multiplier]],0),\nIF(OR($AA$42=\"Tier I\",$AA$42=\"Tier II\",$AA$42=\"ES\"),Table10e80[[#This Row],[S]]*Table10e80[[#This Row],[Multiplier]],0),\nIF(OR($AB$42=\"Tier I\",$AB$42=\"Tier II\",$AB$42=\"ES\"),Table10e80[[#This Row],[T]]*Table10e80[[#This Row],[Multiplier]],0),\nIF(OR($AC$42=\"Tier I\",$AC$42=\"Tier II\",$AC$42=\"ES\"),Table10e80[[#This Row],[U]]*Table10e80[[#This Row],[Multiplier]],0),\nIF(OR($AD$42=\"Tier I\",$AD$42=\"Tier II\",$AD$42=\"ES\"),Table10e80[[#This Row],[V]]*Table10e80[[#This Row],[Multiplier]],0),\nIF(OR($AE$42=\"Tier I\",$AE$42=\"Tier II\",$AE$42=\"ES\"),Table10e80[[#This Row],[W]]*Table10e80[[#This Row],[Multiplier]],0),\nIF(OR($AF$42=\"Tier I\",$AF$42=\"Tier II\",$AF$42=\"ES\"),Table10e80[[#This Row],[X]]*Table10e80[[#This Row],[Multiplier]],0),\nIF(OR($AG$42=\"Tier I\",$AG$42=\"Tier II\",$AG$42=\"ES\"),Table10e80[[#This Row],[Y]]*Table10e80[[#This Row],[Multiplier]],0),\nIF(OR($AH$42=\"Tier I\",$AH$42=\"Tier II\",$AH$42=\"ES\"),Table10e80[[#This Row],[Z]]*Table10e80[[#This Row],[Multiplier]],0))","v":50},{"$f":"IF((Table10e80[[#This Row],[Multiplier]]*Table10e80[[#This Row],[Lit Area (SF)]])=0,\"\",(Table10e80[[#This Row],[Multiplier]]*Table10e80[[#This Row],[Lit Area (SF)]]))","v":805},{"$f":"IFERROR((Table10e80[[#This Row],[ASHRAE LPD (W/SF)]]*Table10e80[[#This Row],[Lit Area (SF)]]*Table10e80[[#This Row],[Multiplier]]),\"\")","v":724.5},{"$f":"IFERROR((Table10e80[[#This Row],[Watts/SF]]*Table10e80[[#This Row],[Lit Area (SF)]]*Table10e80[[#This Row],[Multiplier]]),\"\")","v":550},{"$f":"IF(Table10e80[[#This Row],[Installed Watts]]=\"\",\"\",\nIF(Table10e80[[#This Row],[Installed Watts]]<=Table10e80[[#This Row],[ASHRAE W]],\"PASS\",\"FAIL\"))","v":"PASS"},{"$f":"IF(Table10e80[[#This Row],[ASHRAE LPD (W/SF)]]=\"\",\"\",0.7*Table10e80[[#This Row],[ASHRAE LPD (W/SF)]])","v":0.63},{"$f":"IF(Table10e80[[#This Row],[Watts/SF]]<(0.7*Table10e80[[#This Row],[ASHRAE LPD (W/SF)]]),\"FAIL\",\"PASS\")","v":"PASS"}]
[null,1,"Corridor 1","Corridor / Transition",2015,"No",{"$f":"IFERROR(SUM(Table10e80[[#This Row],[A]]*$I$41,Table10e80[[#This Row],[B]]*$J$41,Table10e80[[#This Row],[C]]*$K$41,Table10e80[[#This Row],[D]]*$L$41,Table10e80[[#This Row],[E]]*$M$41,Table10e80[[#This Row],[F]]*$N$41,Table10e80[[#This Row],[G]]*$O$41,Table10e80[[#This Row],[H]]*$P$41,Table10e80[[#This Row],[I]]*$Q$41,Table10e80[[#This Row],[J]]*$R$41,Table10e80[[#This Row],[K]]*$S$41,Table10e80[[#This Row],[L]]*$T$41,Table10e80[[#This Row],[M]]*$U$41,Table10e80[[#This Row],[N]]*$V$41,Table10e80[[#This Row],[O]]*$W$41,Table10e80[[#This Row],[P]]*$X$41,Table10e80[[#This Row],[Q]]*$Y$41,Table10e80[[#This Row],[R]]*$Z$41,Table10e80[[#This Row],[S]]*$AA$41,Table10e80[[#This Row],[T]]*$AB$41,Table10e80[[#This Row],[U]]*$AC$41,Table10e80[[#This Row],[V]]*$AD$41,Table10e80[[#This Row],[W]]*$AE$41,Table10e80[[#This Row],[X]]*$AF$41,Table10e80[[#This Row],[Y]]*$AG$41,Table10e80[[#This Row],[Z]]*$AH$41)/Table10e80[[#This Row],[Lit Area (SF)]],\"\")","v":0.54590570719602982},{"$f":"IF(AND($E$45=\"Building Area Method\",$E$46=\"90.1-2010\",Table10e80[[#This Row],[ASHRAE Space Type]]<>\"\"),0.6,\nIF(AND($E$45=\"Building Area Method\",$E$46=\"90.1-2007\",Table10e80[[#This Row],[ASHRAE Space Type]]<>\"\"),0.7,\nIF(AND($E$45=\"Space-by-Space Method\",$E$46=\"90.1-2010\",Table10e80[[#This Row],[ASHRAE Space Type]]<>\"\"),VLOOKUP(Table10e80[[#This Row],[ASHRAE Space Type]],TableRaterFF68_2010[#Data],2,FALSE),\nIF(AND($E$45=\"Space-by-Space Method\",$E$46=\"90.1-2007\",Table10e80[[#This Row],[ASHRAE Space Type]]<>\"\"),VLOOKUP(Table10e80[[#This Row],[ASHRAE Space Type]],TableRaterFF68[#Data],2,FALSE),\"\"))))","v":0.5},null,40,20,20,null,null,null,null,null,null,null,null,null,null,null,null,null,null,null,null,null,null,null,null,null,null,null,{"$f":"SUM(Table10e80[[#This Row],[A]:[Z]])*Table10e80[[#This Row],[Multiplier]]","v":80},{"$f":"SUM(IF(OR($I$42=\"Tier I\",$I$42=\"Tier II\",$I$42=\"ES\"),Table10e80[[#This Row],[A]]*Table10e80[[#This Row],[Multiplier]],0),\nIF(OR($J$42=\"Tier I\",$J$42=\"Tier II\",$J$42=\"ES\"),Table10e80[[#This Row],[B]]*Table10e80[[#This Row],[Multiplier]],0),\nIF(OR($K$42=\"Tier I\",$K$42=\"Tier II\",$K$42=\"ES\"),Table10e80[[#This Row],[C]]*Table10e80[[#This Row],[Multiplier]],0),\nIF(OR($L$42=\"Tier I\",$L$42=\"Tier II\",$L$42=\"ES\"),Table10e80[[#This Row],[D]]*Table10e80[[#This Row],[Multiplier]],0),\nIF(OR($M$42=\"Tier I\",$M$42=\"Tier II\",$M$42=\"ES\"),Table10e80[[#This Row],[E]]*Table10e80[[#This Row],[Multiplier]],0),\nIF(OR($N$42=\"Tier I\",$N$42=\"Tier II\",$N$42=\"ES\"),Table10e80[[#This Row],[F]]*Table10e80[[#This Row],[Multiplier]],0),\nIF(OR($O$42=\"Tier I\",$O$42=\"Tier II\",$O$42=\"ES\"),Table10e80[[#This Row],[G]]*Table10e80[[#This Row],[Multiplier]],0),\nIF(OR($P$42=\"Tier I\",$P$42=\"Tier II\",$P$42=\"ES\"),Table10e80[[#This Row],[H]]*Table10e80[[#This Row],[Multiplier]],0),\nIF(OR($Q$42=\"Tier I\",$Q$42=\"Tier II\",$Q$42=\"ES\"),Table10e80[[#This Row],[I]]*Table10e80[[#This Row],[Multiplier]],0),\nIF(OR($R$42=\"Tier I\",$R$42=\"Tier II\",$R$42=\"ES\"),Table10e80[[#This Row],[J]]*Table10e80[[#This Row],[Multiplier]],0),\nIF(OR($S$42=\"Tier I\",$S$42=\"Tier II\",$S$42=\"ES\"),Table10e80[[#This Row],[K]]*Table10e80[[#This Row],[Multiplier]],0),\nIF(OR($T$42=\"Tier I\",$T$42=\"Tier II\",$T$42=\"ES\"),Table10e80[[#This Row],[L]]*Table10e80[[#This Row],[Multiplier]],0),\nIF(OR($U$42=\"Tier I\",$U$42=\"Tier II\",$U$42=\"ES\"),Table10e80[[#This Row],[M]]*Table10e80[[#This Row],[Multiplier]],0),\nIF(OR($V$42=\"Tier I\",$V$42=\"Tier II\",$V$42=\"ES\"),Table10e80[[#This Row],[N]]*Table10e80[[#This Row],[Multiplier]],0),\nIF(OR($W$42=\"Tier I\",$W$42=\"Tier II\",$W$42=\"ES\"),Table10e80[[#This Row],[O]]*Table10e80[[#This Row],[Multiplier]],0),\nIF(OR($X$42=\"Tier I\",$X$42=\"Tier II\",$X$42=\"ES\"),Table10e80[[#This Row],[P]]*Table10e80[[#This Row],[Multiplier]],0),\nIF(OR($Y$42=\"Tier I\",$Y$42=\"Tier II\",$Y$42=\"ES\"),Table10e80[[#This Row],[Q]]*Table10e80[[#This Row],[Multiplier]],0),\nIF(OR($Z$42=\"Tier I\",$Z$42=\"Tier II\",$Z$42=\"ES\"),Table10e80[[#This Row],[R]]*Table10e80[[#This Row],[Multiplier]],0),\nIF(OR($AA$42=\"Tier I\",$AA$42=\"Tier II\",$AA$42=\"ES\"),Table10e80[[#This Row],[S]]*Table10e80[[#This Row],[Multiplier]],0),\nIF(OR($AB$42=\"Tier I\",$AB$42=\"Tier II\",$AB$42=\"ES\"),Table10e80[[#This Row],[T]]*Table10e80[[#This Row],[Multiplier]],0),\nIF(OR($AC$42=\"Tier I\",$AC$42=\"Tier II\",$AC$42=\"ES\"),Table10e80[[#This Row],[U]]*Table10e80[[#This Row],[Multiplier]],0),\nIF(OR($AD$42=\"Tier I\",$AD$42=\"Tier II\",$AD$42=\"ES\"),Table10e80[[#This Row],[V]]*Table10e80[[#This Row],[Multiplier]],0),\nIF(OR($AE$42=\"Tier I\",$AE$42=\"Tier II\",$AE$42=\"ES\"),Table10e80[[#This Row],[W]]*Table10e80[[#This Row],[Multiplier]],0),\nIF(OR($AF$42=\"Tier I\",$AF$42=\"Tier II\",$AF$42=\"ES\"),Table10e80[[#This Row],[X]]*Table10e80[[#This Row],[Multiplier]],0),\nIF(OR($AG$42=\"Tier I\",$AG$42=\"Tier II\",$AG$42=\"ES\"),Table10e80[[#This Row],[Y]]*Table10e80[[#This Row],[Multiplier]],0),\nIF(OR($AH$42=\"Tier I\",$AH$42=\"Tier II\",$AH$42=\"ES\"),Table10e80[[#This Row],[Z]]*Table10e80[[#This Row],[Multiplier]],0))","v":80},{"$f":"IF((Table10e80[[#This Row],[Multiplier]]*Table10e80[[#This Row],[Lit Area (SF)]])=0,\"\",(Table10e80[[#This Row],[Multiplier]]*Table10e80[[#This Row],[Lit Area (SF)]]))","v":2015},{"$f":"IFERROR((Table10e80[[#This Row],[ASHRAE LPD (W/SF)]]*Table10e80[[#This Row],[Lit Area (SF)]]*Table10e80[[#This Row],[Multiplier]]),\"\")","v":1007.5},{"$f":"IFERROR((Table10e80[[#This Row],[Watts/SF]]*Table10e80[[#This Row],[Lit Area (SF)]]*Table10e80[[#This Row],[Multiplier]]),\"\")","v":1100},{"$f":"IF(Table10e80[[#This Row],[Installed Watts]]=\"\",\"\",\nIF(Table10e80[[#This Row],[Installed Watts]]<=Table10e80[[#This Row],[ASHRAE W]],\"PASS\",\"FAIL\"))","v":"FAIL"},{"$f":"IF(Table10e80[[#This Row],[ASHRAE LPD (W/SF)]]=\"\",\"\",0.7*Table10e80[[#This Row],[ASHRAE LPD (W/SF)]])","v":0.35},{"$f":"IF(Table10e80[[#This Row],[Watts/SF]]<(0.7*Table10e80[[#This Row],[ASHRAE LPD (W/SF)]]),\"FAIL\",\"PASS\")","v":"PASS"}]
[null,1,"Corridor 2","Corridor / Transition",2050,"No",{"$f":"IFERROR(SUM(Table10e80[[#This Row],[A]]*$I$41,Table10e80[[#This Row],[B]]*$J$41,Table10e80[[#This Row],[C]]*$K$41,Table10e80[[#This Row],[D]]*$L$41,Table10e80[[#This Row],[E]]*$M$41,Table10e80[[#This Row],[F]]*$N$41,Table10e80[[#This Row],[G]]*$O$41,Table10e80[[#This Row],[H]]*$P$41,Table10e80[[#This Row],[I]]*$Q$41,Table10e80[[#This Row],[J]]*$R$41,Table10e80[[#This Row],[K]]*$S$41,Table10e80[[#This Row],[L]]*$T$41,Table10e80[[#This Row],[M]]*$U$41,Table10e80[[#This Row],[N]]*$V$41,Table10e80[[#This Row],[O]]*$W$41,Table10e80[[#This Row],[P]]*$X$41,Table10e80[[#This Row],[Q]]*$Y$41,Table10e80[[#This Row],[R]]*$Z$41,Table10e80[[#This Row],[S]]*$AA$41,Table10e80[[#This Row],[T]]*$AB$41,Table10e80[[#This Row],[U]]*$AC$41,Table10e80[[#This Row],[V]]*$AD$41,Table10e80[[#This Row],[W]]*$AE$41,Table10e80[[#This Row],[X]]*$AF$41,Table10e80[[#This Row],[Y]]*$AG$41,Table10e80[[#This Row],[Z]]*$AH$41)/Table10e80[[#This Row],[Lit Area (SF)]],\"\")","v":0.51219512195121952},{"$f":"IF(AND($E$45=\"Building Area Method\",$E$46=\"90.1-2010\",Table10e80[[#This Row],[ASHRAE Space Type]]<>\"\"),0.6,\nIF(AND($E$45=\"Building Area Method\",$E$46=\"90.1-2007\",Table10e80[[#This Row],[ASHRAE Space Type]]<>\"\"),0.7,\nIF(AND($E$45=\"Space-by-Space Method\",$E$46=\"90.1-2010\",Table10e80[[#This Row],[ASHRAE Space Type]]<>\"\"),VLOOKUP(Table10e80[[#This Row],[ASHRAE Space Type]],TableRaterFF68_2010[#Data],2,FALSE),\nIF(AND($E$45=\"Space-by-Space Method\",$E$46=\"90.1-2007\",Table10e80[[#This Row],[ASHRAE Space Type]]<>\"\"),VLOOKUP(Table10e80[[#This Row],[ASHRAE Space Type]],TableRaterFF68[#Data],2,FALSE),\"\"))))","v":0.5},null,35,20,20,null,null,null,null,null,null,null,null,null,null,null,null,null,null,null,null,null,null,null,null,null,null,null,{"$f":"SUM(Table10e80[[#This Row],[A]:[Z]])*Table10e80[[#This Row],[Multiplier]]","v":75},{"$f":"SUM(IF(OR($I$42=\"Tier I\",$I$42=\"Tier II\",$I$42=\"ES\"),Table10e80[[#This Row],[A]]*Table10e80[[#This Row],[Multiplier]],0),\nIF(OR($J$42=\"Tier I\",$J$42=\"Tier II\",$J$42=\"ES\"),Table10e80[[#This Row],[B]]*Table10e80[[#This Row],[Multiplier]],0),\nIF(OR($K$42=\"Tier I\",$K$42=\"Tier II\",$K$42=\"ES\"),Table10e80[[#This Row],[C]]*Table10e80[[#This Row],[Multiplier]],0),\nIF(OR($L$42=\"Tier I\",$L$42=\"Tier II\",$L$42=\"ES\"),Table10e80[[#This Row],[D]]*Table10e80[[#This Row],[Multiplier]],0),\nIF(OR($M$42=\"Tier I\",$M$42=\"Tier II\",$M$42=\"ES\"),Table10e80[[#This Row],[E]]*Table10e80[[#This Row],[Multiplier]],0),\nIF(OR($N$42=\"Tier I\",$N$42=\"Tier II\",$N$42=\"ES\"),Table10e80[[#This Row],[F]]*Table10e80[[#This Row],[Multiplier]],0),\nIF(OR($O$42=\"Tier I\",$O$42=\"Tier II\",$O$42=\"ES\"),Table10e80[[#This Row],[G]]*Table10e80[[#This Row],[Multiplier]],0),\nIF(OR($P$42=\"Tier I\",$P$42=\"Tier II\",$P$42=\"ES\"),Table10e80[[#This Row],[H]]*Table10e80[[#This Row],[Multiplier]],0),\nIF(OR($Q$42=\"Tier I\",$Q$42=\"Tier II\",$Q$42=\"ES\"),Table10e80[[#This Row],[I]]*Table10e80[[#This Row],[Multiplier]],0),\nIF(OR($R$42=\"Tier I\",$R$42=\"Tier II\",$R$42=\"ES\"),Table10e80[[#This Row],[J]]*Table10e80[[#This Row],[Multiplier]],0),\nIF(OR($S$42=\"Tier I\",$S$42=\"Tier II\",$S$42=\"ES\"),Table10e80[[#This Row],[K]]*Table10e80[[#This Row],[Multiplier]],0),\nIF(OR($T$42=\"Tier I\",$T$42=\"Tier II\",$T$42=\"ES\"),Table10e80[[#This Row],[L]]*Table10e80[[#This Row],[Multiplier]],0),\nIF(OR($U$42=\"Tier I\",$U$42=\"Tier II\",$U$42=\"ES\"),Table10e80[[#This Row],[M]]*Table10e80[[#This Row],[Multiplier]],0),\nIF(OR($V$42=\"Tier I\",$V$42=\"Tier II\",$V$42=\"ES\"),Table10e80[[#This Row],[N]]*Table10e80[[#This Row],[Multiplier]],0),\nIF(OR($W$42=\"Tier I\",$W$42=\"Tier II\",$W$42=\"ES\"),Table10e80[[#This Row],[O]]*Table10e80[[#This Row],[Multiplier]],0),\nIF(OR($X$42=\"Tier I\",$X$42=\"Tier II\",$X$42=\"ES\"),Table10e80[[#This Row],[P]]*Table10e80[[#This Row],[Multiplier]],0),\nIF(OR($Y$42=\"Tier I\",$Y$42=\"Tier II\",$Y$42=\"ES\"),Table10e80[[#This Row],[Q]]*Table10e80[[#This Row],[Multiplier]],0),\nIF(OR($Z$42=\"Tier I\",$Z$42=\"Tier II\",$Z$42=\"ES\"),Table10e80[[#This Row],[R]]*Table10e80[[#This Row],[Multiplier]],0),\nIF(OR($AA$42=\"Tier I\",$AA$42=\"Tier II\",$AA$42=\"ES\"),Table10e80[[#This Row],[S]]*Table10e80[[#This Row],[Multiplier]],0),\nIF(OR($AB$42=\"Tier I\",$AB$42=\"Tier II\",$AB$42=\"ES\"),Table10e80[[#This Row],[T]]*Table10e80[[#This Row],[Multiplier]],0),\nIF(OR($AC$42=\"Tier I\",$AC$42=\"Tier II\",$AC$42=\"ES\"),Table10e80[[#This Row],[U]]*Table10e80[[#This Row],[Multiplier]],0),\nIF(OR($AD$42=\"Tier I\",$AD$42=\"Tier II\",$AD$42=\"ES\"),Table10e80[[#This Row],[V]]*Table10e80[[#This Row],[Multiplier]],0),\nIF(OR($AE$42=\"Tier I\",$AE$42=\"Tier II\",$AE$42=\"ES\"),Table10e80[[#This Row],[W]]*Table10e80[[#This Row],[Multiplier]],0),\nIF(OR($AF$42=\"Tier I\",$AF$42=\"Tier II\",$AF$42=\"ES\"),Table10e80[[#This Row],[X]]*Table10e80[[#This Row],[Multiplier]],0),\nIF(OR($AG$42=\"Tier I\",$AG$42=\"Tier II\",$AG$42=\"ES\"),Table10e80[[#This Row],[Y]]*Table10e80[[#This Row],[Multiplier]],0),\nIF(OR($AH$42=\"Tier I\",$AH$42=\"Tier II\",$AH$42=\"ES\"),Table10e80[[#This Row],[Z]]*Table10e80[[#This Row],[Multiplier]],0))","v":75},{"$f":"IF((Table10e80[[#This Row],[Multiplier]]*Table10e80[[#This Row],[Lit Area (SF)]])=0,\"\",(Table10e80[[#This Row],[Multiplier]]*Table10e80[[#This Row],[Lit Area (SF)]]))","v":2050},{"$f":"IFERROR((Table10e80[[#This Row],[ASHRAE LPD (W/SF)]]*Table10e80[[#This Row],[Lit Area (SF)]]*Table10e80[[#This Row],[Multiplier]]),\"\")","v":1025},{"$f":"IFERROR((Table10e80[[#This Row],[Watts/SF]]*Table10e80[[#This Row],[Lit Area (SF)]]*Table10e80[[#This Row],[Multiplier]]),\"\")","v":1050},{"$f":"IF(Table10e80[[#This Row],[Installed Watts]]=\"\",\"\",\nIF(Table10e80[[#This Row],[Installed Watts]]<=Table10e80[[#This Row],[ASHRAE W]],\"PASS\",\"FAIL\"))","v":"FAIL"},{"$f":"IF(Table10e80[[#This Row],[ASHRAE LPD (W/SF)]]=\"\",\"\",0.7*Table10e80[[#This Row],[ASHRAE LPD (W/SF)]])","v":0.35},{"$f":"IF(Table10e80[[#This Row],[Watts/SF]]<(0.7*Table10e80[[#This Row],[ASHRAE LPD (W/SF)]]),\"FAIL\",\"PASS\")","v":"PASS"}]
[null,1,"Corridor 3","Corridor / Transition",2000,"No",{"$f":"IFERROR(SUM(Table10e80[[#This Row],[A]]*$I$41,Table10e80[[#This Row],[B]]*$J$41,Table10e80[[#This Row],[C]]*$K$41,Table10e80[[#This Row],[D]]*$L$41,Table10e80[[#This Row],[E]]*$M$41,Table10e80[[#This Row],[F]]*$N$41,Table10e80[[#This Row],[G]]*$O$41,Table10e80[[#This Row],[H]]*$P$41,Table10e80[[#This Row],[I]]*$Q$41,Table10e80[[#This Row],[J]]*$R$41,Table10e80[[#This Row],[K]]*$S$41,Table10e80[[#This Row],[L]]*$T$41,Table10e80[[#This Row],[M]]*$U$41,Table10e80[[#This Row],[N]]*$V$41,Table10e80[[#This Row],[O]]*$W$41,Table10e80[[#This Row],[P]]*$X$41,Table10e80[[#This Row],[Q]]*$Y$41,Table10e80[[#This Row],[R]]*$Z$41,Table10e80[[#This Row],[S]]*$AA$41,Table10e80[[#This Row],[T]]*$AB$41,Table10e80[[#This Row],[U]]*$AC$41,Table10e80[[#This Row],[V]]*$AD$41,Table10e80[[#This Row],[W]]*$AE$41,Table10e80[[#This Row],[X]]*$AF$41,Table10e80[[#This Row],[Y]]*$AG$41,Table10e80[[#This Row],[Z]]*$AH$41)/Table10e80[[#This Row],[Lit Area (SF)]],\"\")","v":0.6},{"$f":"IF(AND($E$45=\"Building Area Method\",$E$46=\"90.1-2010\",Table10e80[[#This Row],[ASHRAE Space Type]]<>\"\"),0.6,\nIF(AND($E$45=\"Building Area Method\",$E$46=\"90.1-2007\",Table10e80[[#This Row],[ASHRAE Space Type]]<>\"\"),0.7,\nIF(AND($E$45=\"Space-by-Space Method\",$E$46=\"90.1-2010\",Table10e80[[#This Row],[ASHRAE Space Type]]<>\"\"),VLOOKUP(Table10e80[[#This Row],[ASHRAE Space Type]],TableRaterFF68_2010[#Data],2,FALSE),\nIF(AND($E$45=\"Space-by-Space Method\",$E$46=\"90.1-2007\",Table10e80[[#This Row],[ASHRAE Space Type]]<>\"\"),VLOOKUP(Table10e80[[#This Row],[ASHRAE Space Type]],TableRaterFF68[#Data],2,FALSE),\"\"))))","v":0.5},null,40,40,10,null,null,null,null,null,null,null,null,null,null,null,null,null,null,null,null,null,null,null,null,null,null,null,{"$f":"SUM(Table10e80[[#This Row],[A]:[Z]])*Table10e80[[#This Row],[Multiplier]]","v":90},{"$f":"SUM(IF(OR($I$42=\"Tier I\",$I$42=\"Tier II\",$I$42=\"ES\"),Table10e80[[#This Row],[A]]*Table10e80[[#This Row],[Multiplier]],0),\nIF(OR($J$42=\"Tier I\",$J$42=\"Tier II\",$J$42=\"ES\"),Table10e80[[#This Row],[B]]*Table10e80[[#This Row],[Multiplier]],0),\nIF(OR($K$42=\"Tier I\",$K$42=\"Tier II\",$K$42=\"ES\"),Table10e80[[#This Row],[C]]*Table10e80[[#This Row],[Multiplier]],0),\nIF(OR($L$42=\"Tier I\",$L$42=\"Tier II\",$L$42=\"ES\"),Table10e80[[#This Row],[D]]*Table10e80[[#This Row],[Multiplier]],0),\nIF(OR($M$42=\"Tier I\",$M$42=\"Tier II\",$M$42=\"ES\"),Table10e80[[#This Row],[E]]*Table10e80[[#This Row],[Multiplier]],0),\nIF(OR($N$42=\"Tier I\",$N$42=\"Tier II\",$N$42=\"ES\"),Table10e80[[#This Row],[F]]*Table10e80[[#This Row],[Multiplier]],0),\nIF(OR($O$42=\"Tier I\",$O$42=\"Tier II\",$O$42=\"ES\"),Table10e80[[#This Row],[G]]*Table10e80[[#This Row],[Multiplier]],0),\nIF(OR($P$42=\"Tier I\",$P$42=\"Tier II\",$P$42=\"ES\"),Table10e80[[#This Row],[H]]*Table10e80[[#This Row],[Multiplier]],0),\nIF(OR($Q$42=\"Tier I\",$Q$42=\"Tier II\",$Q$42=\"ES\"),Table10e80[[#This Row],[I]]*Table10e80[[#This Row],[Multiplier]],0),\nIF(OR($R$42=\"Tier I\",$R$42=\"Tier II\",$R$42=\"ES\"),Table10e80[[#This Row],[J]]*Table10e80[[#This Row],[Multiplier]],0),\nIF(OR($S$42=\"Tier I\",$S$42=\"Tier II\",$S$42=\"ES\"),Table10e80[[#This Row],[K]]*Table10e80[[#This Row],[Multiplier]],0),\nIF(OR($T$42=\"Tier I\",$T$42=\"Tier II\",$T$42=\"ES\"),Table10e80[[#This Row],[L]]*Table10e80[[#This Row],[Multiplier]],0),\nIF(OR($U$42=\"Tier I\",$U$42=\"Tier II\",$U$42=\"ES\"),Table10e80[[#This Row],[M]]*Table10e80[[#This Row],[Multiplier]],0),\nIF(OR($V$42=\"Tier I\",$V$42=\"Tier II\",$V$42=\"ES\"),Table10e80[[#This Row],[N]]*Table10e80[[#This Row],[Multiplier]],0),\nIF(OR($W$42=\"Tier I\",$W$42=\"Tier II\",$W$42=\"ES\"),Table10e80[[#This Row],[O]]*Table10e80[[#This Row],[Multiplier]],0),\nIF(OR($X$42=\"Tier I\",$X$42=\"Tier II\",$X$42=\"ES\"),Table10e80[[#This Row],[P]]*Table10e80[[#This Row],[Multiplier]],0),\nIF(OR($Y$42=\"Tier I\",$Y$42=\"Tier II\",$Y$42=\"ES\"),Table10e80[[#This Row],[Q]]*Table10e80[[#This Row],[Multiplier]],0),\nIF(OR($Z$42=\"Tier I\",$Z$42=\"Tier II\",$Z$42=\"ES\"),Table10e80[[#This Row],[R]]*Table10e80[[#This Row],[Multiplier]],0),\nIF(OR($AA$42=\"Tier I\",$AA$42=\"Tier II\",$AA$42=\"ES\"),Table10e80[[#This Row],[S]]*Table10e80[[#This Row],[Multiplier]],0),\nIF(OR($AB$42=\"Tier I\",$AB$42=\"Tier II\",$AB$42=\"ES\"),Table10e80[[#This Row],[T]]*Table10e80[[#This Row],[Multiplier]],0),\nIF(OR($AC$42=\"Tier I\",$AC$42=\"Tier II\",$AC$42=\"ES\"),Table10e80[[#This Row],[U]]*Table10e80[[#This Row],[Multiplier]],0),\nIF(OR($AD$42=\"Tier I\",$AD$42=\"Tier II\",$AD$42=\"ES\"),Table10e80[[#This Row],[V]]*Table10e80[[#This Row],[Multiplier]],0),\nIF(OR($AE$42=\"Tier I\",$AE$42=\"Tier II\",$AE$42=\"ES\"),Table10e80[[#This Row],[W]]*Table10e80[[#This Row],[Multiplier]],0),\nIF(OR($AF$42=\"Tier I\",$AF$42=\"Tier II\",$AF$42=\"ES\"),Table10e80[[#This Row],[X]]*Table10e80[[#This Row],[Multiplier]],0),\nIF(OR($AG$42=\"Tier I\",$AG$42=\"Tier II\",$AG$42=\"ES\"),Table10e80[[#This Row],[Y]]*Table10e80[[#This Row],[Multiplier]],0),\nIF(OR($AH$42=\"Tier I\",$AH$42=\"Tier II\",$AH$42=\"ES\"),Table10e80[[#This Row],[Z]]*Table10e80[[#This Row],[Multiplier]],0))","v":90},{"$f":"IF((Table10e80[[#This Row],[Multiplier]]*Table10e80[[#This Row],[Lit Area (SF)]])=0,\"\",(Table10e80[[#This Row],[Multiplier]]*Table10e80[[#This Row],[Lit Area (SF)]]))","v":2000},{"$f":"IFERROR((Table10e80[[#This Row],[ASHRAE LPD (W/SF)]]*Table10e80[[#This Row],[Lit Area (SF)]]*Table10e80[[#This Row],[Multiplier]]),\"\")","v":1000},{"$f":"IFERROR((Table10e80[[#This Row],[Watts/SF]]*Table10e80[[#This Row],[Lit Area (SF)]]*Table10e80[[#This Row],[Multiplier]]),\"\")","v":1200},{"$f":"IF(Table10e80[[#This Row],[Installed Watts]]=\"\",\"\",\nIF(Table10e80[[#This Row],[Installed Watts]]<=Table10e80[[#This Row],[ASHRAE W]],\"PASS\",\"FAIL\"))","v":"FAIL"},{"$f":"IF(Table10e80[[#This Row],[ASHRAE LPD (W/SF)]]=\"\",\"\",0.7*Table10e80[[#This Row],[ASHRAE LPD (W/SF)]])","v":0.35},{"$f":"IF(Table10e80[[#This Row],[Watts/SF]]<(0.7*Table10e80[[#This Row],[ASHRAE LPD (W/SF)]]),\"FAIL\",\"PASS\")","v":"PASS"}]
[null,2,"Bike Room","Inactive Storage (e.g., tenant storage)",700,"Yes",{"$f":"IFERROR(SUM(Table10e80[[#This Row],[A]]*$I$41,Table10e80[[#This Row],[B]]*$J$41,Table10e80[[#This Row],[C]]*$K$41,Table10e80[[#This Row],[D]]*$L$41,Table10e80[[#This Row],[E]]*$M$41,Table10e80[[#This Row],[F]]*$N$41,Table10e80[[#This Row],[G]]*$O$41,Table10e80[[#This Row],[H]]*$P$41,Table10e80[[#This Row],[I]]*$Q$41,Table10e80[[#This Row],[J]]*$R$41,Table10e80[[#This Row],[K]]*$S$41,Table10e80[[#This Row],[L]]*$T$41,Table10e80[[#This Row],[M]]*$U$41,Table10e80[[#This Row],[N]]*$V$41,Table10e80[[#This Row],[O]]*$W$41,Table10e80[[#This Row],[P]]*$X$41,Table10e80[[#This Row],[Q]]*$Y$41,Table10e80[[#This Row],[R]]*$Z$41,Table10e80[[#This Row],[S]]*$AA$41,Table10e80[[#This Row],[T]]*$AB$41,Table10e80[[#This Row],[U]]*$AC$41,Table10e80[[#This Row],[V]]*$AD$41,Table10e80[[#This Row],[W]]*$AE$41,Table10e80[[#This Row],[X]]*$AF$41,Table10e80[[#This Row],[Y]]*$AG$41,Table10e80[[#This Row],[Z]]*$AH$41)/Table10e80[[#This Row],[Lit Area (SF)]],\"\")","v":0.6428571428571429},{"$f":"IF(AND($E$45=\"Building Area Method\",$E$46=\"90.1-2010\",Table10e80[[#This Row],[ASHRAE Space Type]]<>\"\"),0.6,\nIF(AND($E$45=\"Building Area Method\",$E$46=\"90.1-2007\",Table10e80[[#This Row],[ASHRAE Space Type]]<>\"\"),0.7,\nIF(AND($E$45=\"Space-by-Space Method\",$E$46=\"90.1-2010\",Table10e80[[#This Row],[ASHRAE Space Type]]<>\"\"),VLOOKUP(Table10e80[[#This Row],[ASHRAE Space Type]],TableRaterFF68_2010[#Data],2,FALSE),\nIF(AND($E$45=\"Space-by-Space Method\",$E$46=\"90.1-2007\",Table10e80[[#This Row],[ASHRAE Space Type]]<>\"\"),VLOOKUP(Table10e80[[#This Row],[ASHRAE Space Type]],TableRaterFF68[#Data],2,FALSE),\"\"))))","v":0.3},null,null,null,null,15,null,null,null,null,null,null,null,null,null,null,null,null,null,null,null,null,null,null,null,null,null,null,{"$f":"SUM(Table10e80[[#This Row],[A]:[Z]])*Table10e80[[#This Row],[Multiplier]]","v":30},{"$f":"SUM(IF(OR($I$42=\"Tier I\",$I$42=\"Tier II\",$I$42=\"ES\"),Table10e80[[#This Row],[A]]*Table10e80[[#This Row],[Multiplier]],0),\nIF(OR($J$42=\"Tier I\",$J$42=\"Tier II\",$J$42=\"ES\"),Table10e80[[#This Row],[B]]*Table10e80[[#This Row],[Multiplier]],0),\nIF(OR($K$42=\"Tier I\",$K$42=\"Tier II\",$K$42=\"ES\"),Table10e80[[#This Row],[C]]*Table10e80[[#This Row],[Multiplier]],0),\nIF(OR($L$42=\"Tier I\",$L$42=\"Tier II\",$L$42=\"ES\"),Table10e80[[#This Row],[D]]*Table10e80[[#This Row],[Multiplier]],0),\nIF(OR($M$42=\"Tier I\",$M$42=\"Tier II\",$M$42=\"ES\"),Table10e80[[#This Row],[E]]*Table10e80[[#This Row],[Multiplier]],0),\nIF(OR($N$42=\"Tier I\",$N$42=\"Tier II\",$N$42=\"ES\"),Table10e80[[#This Row],[F]]*Table10e80[[#This Row],[Multiplier]],0),\nIF(OR($O$42=\"Tier I\",$O$42=\"Tier II\",$O$42=\"ES\"),Table10e80[[#This Row],[G]]*Table10e80[[#This Row],[Multiplier]],0),\nIF(OR($P$42=\"Tier I\",$P$42=\"Tier II\",$P$42=\"ES\"),Table10e80[[#This Row],[H]]*Table10e80[[#This Row],[Multiplier]],0),\nIF(OR($Q$42=\"Tier I\",$Q$42=\"Tier II\",$Q$42=\"ES\"),Table10e80[[#This Row],[I]]*Table10e80[[#This Row],[Multiplier]],0),\nIF(OR($R$42=\"Tier I\",$R$42=\"Tier II\",$R$42=\"ES\"),Table10e80[[#This Row],[J]]*Table10e80[[#This Row],[Multiplier]],0),\nIF(OR($S$42=\"Tier I\",$S$42=\"Tier II\",$S$42=\"ES\"),Table10e80[[#This Row],[K]]*Table10e80[[#This Row],[Multiplier]],0),\nIF(OR($T$42=\"Tier I\",$T$42=\"Tier II\",$T$42=\"ES\"),Table10e80[[#This Row],[L]]*Table10e80[[#This Row],[Multiplier]],0),\nIF(OR($U$42=\"Tier I\",$U$42=\"Tier II\",$U$42=\"ES\"),Table10e80[[#This Row],[M]]*Table10e80[[#This Row],[Multiplier]],0),\nIF(OR($V$42=\"Tier I\",$V$42=\"Tier II\",$V$42=\"ES\"),Table10e80[[#This Row],[N]]*Table10e80[[#This Row],[Multiplier]],0),\nIF(OR($W$42=\"Tier I\",$W$42=\"Tier II\",$W$42=\"ES\"),Table10e80[[#This Row],[O]]*Table10e80[[#This Row],[Multiplier]],0),\nIF(OR($X$42=\"Tier I\",$X$42=\"Tier II\",$X$42=\"ES\"),Table10e80[[#This Row],[P]]*Table10e80[[#This Row],[Multiplier]],0),\nIF(OR($Y$42=\"Tier I\",$Y$42=\"Tier II\",$Y$42=\"ES\"),Table10e80[[#This Row],[Q]]*Table10e80[[#This Row],[Multiplier]],0),\nIF(OR($Z$42=\"Tier I\",$Z$42=\"Tier II\",$Z$42=\"ES\"),Table10e80[[#This Row],[R]]*Table10e80[[#This Row],[Multiplier]],0),\nIF(OR($AA$42=\"Tier I\",$AA$42=\"Tier II\",$AA$42=\"ES\"),Table10e80[[#This Row],[S]]*Table10e80[[#This Row],[Multiplier]],0),\nIF(OR($AB$42=\"Tier I\",$AB$42=\"Tier II\",$AB$42=\"ES\"),Table10e80[[#This Row],[T]]*Table10e80[[#This Row],[Multiplier]],0),\nIF(OR($AC$42=\"Tier I\",$AC$42=\"Tier II\",$AC$42=\"ES\"),Table10e80[[#This Row],[U]]*Table10e80[[#This Row],[Multiplier]],0),\nIF(OR($AD$42=\"Tier I\",$AD$42=\"Tier II\",$AD$42=\"ES\"),Table10e80[[#This Row],[V]]*Table10e80[[#This Row],[Multiplier]],0),\nIF(OR($AE$42=\"Tier I\",$AE$42=\"Tier II\",$AE$42=\"ES\"),Table10e80[[#This Row],[W]]*Table10e80[[#This Row],[Multiplier]],0),\nIF(OR($AF$42=\"Tier I\",$AF$42=\"Tier II\",$AF$42=\"ES\"),Table10e80[[#This Row],[X]]*Table10e80[[#This Row],[Multiplier]],0),\nIF(OR($AG$42=\"Tier I\",$AG$42=\"Tier II\",$AG$42=\"ES\"),Table10e80[[#This Row],[Y]]*Table10e80[[#This Row],[Multiplier]],0),\nIF(OR($AH$42=\"Tier I\",$AH$42=\"Tier II\",$AH$42=\"ES\"),Table10e80[[#This Row],[Z]]*Table10e80[[#This Row],[Multiplier]],0))","v":30},{"$f":"IF((Table10e80[[#This Row],[Multiplier]]*Table10e80[[#This Row],[Lit Area (SF)]])=0,\"\",(Table10e80[[#This Row],[Multiplier]]*Table10e80[[#This Row],[Lit Area (SF)]]))","v":1400},{"$f":"IFERROR((Table10e80[[#This Row],[ASHRAE LPD (W/SF)]]*Table10e80[[#This Row],[Lit Area (SF)]]*Table10e80[[#This Row],[Multiplier]]),\"\")","v":420},{"$f":"IFERROR((Table10e80[[#This Row],[Watts/SF]]*Table10e80[[#This Row],[Lit Area (SF)]]*Table10e80[[#This Row],[Multiplier]]),\"\")","v":900.00000000000011},{"$f":"IF(Table10e80[[#This Row],[Installed Watts]]=\"\",\"\",\nIF(Table10e80[[#This Row],[Installed Watts]]<=Table10e80[[#This Row],[ASHRAE W]],\"PASS\",\"FAIL\"))","v":"FAIL"},{"$f":"IF(Table10e80[[#This Row],[ASHRAE LPD (W/SF)]]=\"\",\"\",0.7*Table10e80[[#This Row],[ASHRAE LPD (W/SF)]])","v":0.21},{"$f":"IF(Table10e80[[#This Row],[Watts/SF]]<(0.7*Table10e80[[#This Row],[ASHRAE LPD (W/SF)]]),\"FAIL\",\"PASS\")","v":"PASS"}]
[null,2,"Mail","Active Storage (e.g., trash chute / room, janitor closet)",400,"Yes",{"$f":"IFERROR(SUM(Table10e80[[#This Row],[A]]*$I$41,Table10e80[[#This Row],[B]]*$J$41,Table10e80[[#This Row],[C]]*$K$41,Table10e80[[#This Row],[D]]*$L$41,Table10e80[[#This Row],[E]]*$M$41,Table10e80[[#This Row],[F]]*$N$41,Table10e80[[#This Row],[G]]*$O$41,Table10e80[[#This Row],[H]]*$P$41,Table10e80[[#This Row],[I]]*$Q$41,Table10e80[[#This Row],[J]]*$R$41,Table10e80[[#This Row],[K]]*$S$41,Table10e80[[#This Row],[L]]*$T$41,Table10e80[[#This Row],[M]]*$U$41,Table10e80[[#This Row],[N]]*$V$41,Table10e80[[#This Row],[O]]*$W$41,Table10e80[[#This Row],[P]]*$X$41,Table10e80[[#This Row],[Q]]*$Y$41,Table10e80[[#This Row],[R]]*$Z$41,Table10e80[[#This Row],[S]]*$AA$41,Table10e80[[#This Row],[T]]*$AB$41,Table10e80[[#This Row],[U]]*$AC$41,Table10e80[[#This Row],[V]]*$AD$41,Table10e80[[#This Row],[W]]*$AE$41,Table10e80[[#This Row],[X]]*$AF$41,Table10e80[[#This Row],[Y]]*$AG$41,Table10e80[[#This Row],[Z]]*$AH$41)/Table10e80[[#This Row],[Lit Area (SF)]],\"\")","v":0.45},{"$f":"IF(AND($E$45=\"Building Area Method\",$E$46=\"90.1-2010\",Table10e80[[#This Row],[ASHRAE Space Type]]<>\"\"),0.6,\nIF(AND($E$45=\"Building Area Method\",$E$46=\"90.1-2007\",Table10e80[[#This Row],[ASHRAE Space Type]]<>\"\"),0.7,\nIF(AND($E$45=\"Space-by-Space Method\",$E$46=\"90.1-2010\",Table10e80[[#This Row],[ASHRAE Space Type]]<>\"\"),VLOOKUP(Table10e80[[#This Row],[ASHRAE Space Type]],TableRaterFF68_2010[#Data],2,FALSE),\nIF(AND($E$45=\"Space-by-Space Method\",$E$46=\"90.1-2007\",Table10e80[[#This Row],[ASHRAE Space Type]]<>\"\"),VLOOKUP(Table10e80[[#This Row],[ASHRAE Space Type]],TableRaterFF68[#Data],2,FALSE),\"\"))))","v":0.8},null,null,null,9,null,null,null,null,null,null,null,null,null,null,null,null,null,null,null,null,null,null,null,null,null,null,null,{"$f":"SUM(Table10e80[[#This Row],[A]:[Z]])*Table10e80[[#This Row],[Multiplier]]","v":18},{"$f":"SUM(IF(OR($I$42=\"Tier I\",$I$42=\"Tier II\",$I$42=\"ES\"),Table10e80[[#This Row],[A]]*Table10e80[[#This Row],[Multiplier]],0),\nIF(OR($J$42=\"Tier I\",$J$42=\"Tier II\",$J$42=\"ES\"),Table10e80[[#This Row],[B]]*Table10e80[[#This Row],[Multiplier]],0),\nIF(OR($K$42=\"Tier I\",$K$42=\"Tier II\",$K$42=\"ES\"),Table10e80[[#This Row],[C]]*Table10e80[[#This Row],[Multiplier]],0),\nIF(OR($L$42=\"Tier I\",$L$42=\"Tier II\",$L$42=\"ES\"),Table10e80[[#This Row],[D]]*Table10e80[[#This Row],[Multiplier]],0),\nIF(OR($M$42=\"Tier I\",$M$42=\"Tier II\",$M$42=\"ES\"),Table10e80[[#This Row],[E]]*Table10e80[[#This Row],[Multiplier]],0),\nIF(OR($N$42=\"Tier I\",$N$42=\"Tier II\",$N$42=\"ES\"),Table10e80[[#This Row],[F]]*Table10e80[[#This Row],[Multiplier]],0),\nIF(OR($O$42=\"Tier I\",$O$42=\"Tier II\",$O$42=\"ES\"),Table10e80[[#This Row],[G]]*Table10e80[[#This Row],[Multiplier]],0),\nIF(OR($P$42=\"Tier I\",$P$42=\"Tier II\",$P$42=\"ES\"),Table10e80[[#This Row],[H]]*Table10e80[[#This Row],[Multiplier]],0),\nIF(OR($Q$42=\"Tier I\",$Q$42=\"Tier II\",$Q$42=\"ES\"),Table10e80[[#This Row],[I]]*Table10e80[[#This Row],[Multiplier]],0),\nIF(OR($R$42=\"Tier I\",$R$42=\"Tier II\",$R$42=\"ES\"),Table10e80[[#This Row],[J]]*Table10e80[[#This Row],[Multiplier]],0),\nIF(OR($S$42=\"Tier I\",$S$42=\"Tier II\",$S$42=\"ES\"),Table10e80[[#This Row],[K]]*Table10e80[[#This Row],[Multiplier]],0),\nIF(OR($T$42=\"Tier I\",$T$42=\"Tier II\",$T$42=\"ES\"),Table10e80[[#This Row],[L]]*Table10e80[[#This Row],[Multiplier]],0),\nIF(OR($U$42=\"Tier I\",$U$42=\"Tier II\",$U$42=\"ES\"),Table10e80[[#This Row],[M]]*Table10e80[[#This Row],[Multiplier]],0),\nIF(OR($V$42=\"Tier I\",$V$42=\"Tier II\",$V$42=\"ES\"),Table10e80[[#This Row],[N]]*Table10e80[[#This Row],[Multiplier]],0),\nIF(OR($W$42=\"Tier I\",$W$42=\"Tier II\",$W$42=\"ES\"),Table10e80[[#This Row],[O]]*Table10e80[[#This Row],[Multiplier]],0),\nIF(OR($X$42=\"Tier I\",$X$42=\"Tier II\",$X$42=\"ES\"),Table10e80[[#This Row],[P]]*Table10e80[[#This Row],[Multiplier]],0),\nIF(OR($Y$42=\"Tier I\",$Y$42=\"Tier II\",$Y$42=\"ES\"),Table10e80[[#This Row],[Q]]*Table10e80[[#This Row],[Multiplier]],0),\nIF(OR($Z$42=\"Tier I\",$Z$42=\"Tier II\",$Z$42=\"ES\"),Table10e80[[#This Row],[R]]*Table10e80[[#This Row],[Multiplier]],0),\nIF(OR($AA$42=\"Tier I\",$AA$42=\"Tier II\",$AA$42=\"ES\"),Table10e80[[#This Row],[S]]*Table10e80[[#This Row],[Multiplier]],0),\nIF(OR($AB$42=\"Tier I\",$AB$42=\"Tier II\",$AB$42=\"ES\"),Table10e80[[#This Row],[T]]*Table10e80[[#This Row],[Multiplier]],0),\nIF(OR($AC$42=\"Tier I\",$AC$42=\"Tier II\",$AC$42=\"ES\"),Table10e80[[#This Row],[U]]*Table10e80[[#This Row],[Multiplier]],0),\nIF(OR($AD$42=\"Tier I\",$AD$42=\"Tier II\",$AD$42=\"ES\"),Table10e80[[#This Row],[V]]*Table10e80[[#This Row],[Multiplier]],0),\nIF(OR($AE$42=\"Tier I\",$AE$42=\"Tier II\",$AE$42=\"ES\"),Table10e80[[#This Row],[W]]*Table10e80[[#This Row],[Multiplier]],0),\nIF(OR($AF$42=\"Tier I\",$AF$42=\"Tier II\",$AF$42=\"ES\"),Table10e80[[#This Row],[X]]*Table10e80[[#This Row],[Multiplier]],0),\nIF(OR($AG$42=\"Tier I\",$AG$42=\"Tier II\",$AG$42=\"ES\"),Table10e80[[#This Row],[Y]]*Table10e80[[#This Row],[Multiplier]],0),\nIF(OR($AH$42=\"Tier I\",$AH$42=\"Tier II\",$AH$42=\"ES\"),Table10e80[[#This Row],[Z]]*Table10e80[[#This Row],[Multiplier]],0))","v":18},{"$f":"IF((Table10e80[[#This Row],[Multiplier]]*Table10e80[[#This Row],[Lit Area (SF)]])=0,\"\",(Table10e80[[#This Row],[Multiplier]]*Table10e80[[#This Row],[Lit Area (SF)]]))","v":800},{"$f":"IFERROR((Table10e80[[#This Row],[ASHRAE LPD (W/SF)]]*Table10e80[[#This Row],[Lit Area (SF)]]*Table10e80[[#This Row],[Multiplier]]),\"\")","v":640},{"$f":"IFERROR((Table10e80[[#This Row],[Watts/SF]]*Table10e80[[#This Row],[Lit Area (SF)]]*Table10e80[[#This Row],[Multiplier]]),\"\")","v":360},{"$f":"IF(Table10e80[[#This Row],[Installed Watts]]=\"\",\"\",\nIF(Table10e80[[#This Row],[Installed Watts]]<=Table10e80[[#This Row],[ASHRAE W]],\"PASS\",\"FAIL\"))","v":"PASS"},{"$f":"IF(Table10e80[[#This Row],[ASHRAE LPD (W/SF)]]=\"\",\"\",0.7*Table10e80[[#This Row],[ASHRAE LPD (W/SF)]])","v":0.55999999999999994},{"$f":"IF(Table10e80[[#This Row],[Watts/SF]]<(0.7*Table10e80[[#This Row],[ASHRAE LPD (W/SF)]]),\"FAIL\",\"PASS\")","v":"FAIL"}]
[null,null,null,null,null,null,{"$f":"IFERROR(SUM(Table10e80[[#This Row],[A]]*$I$41,Table10e80[[#This Row],[B]]*$J$41,Table10e80[[#This Row],[C]]*$K$41,Table10e80[[#This Row],[D]]*$L$41,Table10e80[[#This Row],[E]]*$M$41,Table10e80[[#This Row],[F]]*$N$41,Table10e80[[#This Row],[G]]*$O$41,Table10e80[[#This Row],[H]]*$P$41,Table10e80[[#This Row],[I]]*$Q$41,Table10e80[[#This Row],[J]]*$R$41,Table10e80[[#This Row],[K]]*$S$41,Table10e80[[#This Row],[L]]*$T$41,Table10e80[[#This Row],[M]]*$U$41,Table10e80[[#This Row],[N]]*$V$41,Table10e80[[#This Row],[O]]*$W$41,Table10e80[[#This Row],[P]]*$X$41,Table10e80[[#This Row],[Q]]*$Y$41,Table10e80[[#This Row],[R]]*$Z$41,Table10e80[[#This Row],[S]]*$AA$41,Table10e80[[#This Row],[T]]*$AB$41,Table10e80[[#This Row],[U]]*$AC$41,Table10e80[[#This Row],[V]]*$AD$41,Table10e80[[#This Row],[W]]*$AE$41,Table10e80[[#This Row],[X]]*$AF$41,Table10e80[[#This Row],[Y]]*$AG$41,Table10e80[[#This Row],[Z]]*$AH$41)/Table10e80[[#This Row],[Lit Area (SF)]],\"\")","v":""},{"$f":"IF(AND($E$45=\"Building Area Method\",$E$46=\"90.1-2010\",Table10e80[[#This Row],[ASHRAE Space Type]]<>\"\"),0.6,\nIF(AND($E$45=\"Building Area Method\",$E$46=\"90.1-2007\",Table10e80[[#This Row],[ASHRAE Space Type]]<>\"\"),0.7,\nIF(AND($E$45=\"Space-by-Space Method\",$E$46=\"90.1-2010\",Table10e80[[#This Row],[ASHRAE Space Type]]<>\"\"),VLOOKUP(Table10e80[[#This Row],[ASHRAE Space Type]],TableRaterFF68_2010[#Data],2,FALSE),\nIF(AND($E$45=\"Space-by-Space Method\",$E$46=\"90.1-2007\",Table10e80[[#This Row],[ASHRAE Space Type]]<>\"\"),VLOOKUP(Table10e80[[#This Row],[ASHRAE Space Type]],TableRaterFF68[#Data],2,FALSE),\"\"))))","v":""},null,null,null,null,null,null,null,null,null,null,null,null,null,null,null,null,null,null,null,null,null,null,null,null,null,null,null,{"$f":"SUM(Table10e80[[#This Row],[A]:[Z]])*Table10e80[[#This Row],[Multiplier]]","v":0},{"$f":"SUM(IF(OR($I$42=\"Tier I\",$I$42=\"Tier II\",$I$42=\"ES\"),Table10e80[[#This Row],[A]]*Table10e80[[#This Row],[Multiplier]],0),\nIF(OR($J$42=\"Tier I\",$J$42=\"Tier II\",$J$42=\"ES\"),Table10e80[[#This Row],[B]]*Table10e80[[#This Row],[Multiplier]],0),\nIF(OR($K$42=\"Tier I\",$K$42=\"Tier II\",$K$42=\"ES\"),Table10e80[[#This Row],[C]]*Table10e80[[#This Row],[Multiplier]],0),\nIF(OR($L$42=\"Tier I\",$L$42=\"Tier II\",$L$42=\"ES\"),Table10e80[[#This Row],[D]]*Table10e80[[#This Row],[Multiplier]],0),\nIF(OR($M$42=\"Tier I\",$M$42=\"Tier II\",$M$42=\"ES\"),Table10e80[[#This Row],[E]]*Table10e80[[#This Row],[Multiplier]],0),\nIF(OR($N$42=\"Tier I\",$N$42=\"Tier II\",$N$42=\"ES\"),Table10e80[[#This Row],[F]]*Table10e80[[#This Row],[Multiplier]],0),\nIF(OR($O$42=\"Tier I\",$O$42=\"Tier II\",$O$42=\"ES\"),Table10e80[[#This Row],[G]]*Table10e80[[#This Row],[Multiplier]],0),\nIF(OR($P$42=\"Tier I\",$P$42=\"Tier II\",$P$42=\"ES\"),Table10e80[[#This Row],[H]]*Table10e80[[#This Row],[Multiplier]],0),\nIF(OR($Q$42=\"Tier I\",$Q$42=\"Tier II\",$Q$42=\"ES\"),Table10e80[[#This Row],[I]]*Table10e80[[#This Row],[Multiplier]],0),\nIF(OR($R$42=\"Tier I\",$R$42=\"Tier II\",$R$42=\"ES\"),Table10e80[[#This Row],[J]]*Table10e80[[#This Row],[Multiplier]],0),\nIF(OR($S$42=\"Tier I\",$S$42=\"Tier II\",$S$42=\"ES\"),Table10e80[[#This Row],[K]]*Table10e80[[#This Row],[Multiplier]],0),\nIF(OR($T$42=\"Tier I\",$T$42=\"Tier II\",$T$42=\"ES\"),Table10e80[[#This Row],[L]]*Table10e80[[#This Row],[Multiplier]],0),\nIF(OR($U$42=\"Tier I\",$U$42=\"Tier II\",$U$42=\"ES\"),Table10e80[[#This Row],[M]]*Table10e80[[#This Row],[Multiplier]],0),\nIF(OR($V$42=\"Tier I\",$V$42=\"Tier II\",$V$42=\"ES\"),Table10e80[[#This Row],[N]]*Table10e80[[#This Row],[Multiplier]],0),\nIF(OR($W$42=\"Tier I\",$W$42=\"Tier II\",$W$42=\"ES\"),Table10e80[[#This Row],[O]]*Table10e80[[#This Row],[Multiplier]],0),\nIF(OR($X$42=\"Tier I\",$X$42=\"Tier II\",$X$42=\"ES\"),Table10e80[[#This Row],[P]]*Table10e80[[#This Row],[Multiplier]],0),\nIF(OR($Y$42=\"Tier I\",$Y$42=\"Tier II\",$Y$42=\"ES\"),Table10e80[[#This Row],[Q]]*Table10e80[[#This Row],[Multiplier]],0),\nIF(OR($Z$42=\"Tier I\",$Z$42=\"Tier II\",$Z$42=\"ES\"),Table10e80[[#This Row],[R]]*Table10e80[[#This Row],[Multiplier]],0),\nIF(OR($AA$42=\"Tier I\",$AA$42=\"Tier II\",$AA$42=\"ES\"),Table10e80[[#This Row],[S]]*Table10e80[[#This Row],[Multiplier]],0),\nIF(OR($AB$42=\"Tier I\",$AB$42=\"Tier II\",$AB$42=\"ES\"),Table10e80[[#This Row],[T]]*Table10e80[[#This Row],[Multiplier]],0),\nIF(OR($AC$42=\"Tier I\",$AC$42=\"Tier II\",$AC$42=\"ES\"),Table10e80[[#This Row],[U]]*Table10e80[[#This Row],[Multiplier]],0),\nIF(OR($AD$42=\"Tier I\",$AD$42=\"Tier II\",$AD$42=\"ES\"),Table10e80[[#This Row],[V]]*Table10e80[[#This Row],[Multiplier]],0),\nIF(OR($AE$42=\"Tier I\",$AE$42=\"Tier II\",$AE$42=\"ES\"),Table10e80[[#This Row],[W]]*Table10e80[[#This Row],[Multiplier]],0),\nIF(OR($AF$42=\"Tier I\",$AF$42=\"Tier II\",$AF$42=\"ES\"),Table10e80[[#This Row],[X]]*Table10e80[[#This Row],[Multiplier]],0),\nIF(OR($AG$42=\"Tier I\",$AG$42=\"Tier II\",$AG$42=\"ES\"),Table10e80[[#This Row],[Y]]*Table10e80[[#This Row],[Multiplier]],0),\nIF(OR($AH$42=\"Tier I\",$AH$42=\"Tier II\",$AH$42=\"ES\"),Table10e80[[#This Row],[Z]]*Table10e80[[#This Row],[Multiplier]],0))","v":0},{"$f":"IF((Table10e80[[#This Row],[Multiplier]]*Table10e80[[#This Row],[Lit Area (SF)]])=0,\"\",(Table10e80[[#This Row],[Multiplier]]*Table10e80[[#This Row],[Lit Area (SF)]]))","v":""},{"$f":"IFERROR((Table10e80[[#This Row],[ASHRAE LPD (W/SF)]]*Table10e80[[#This Row],[Lit Area (SF)]]*Table10e80[[#This Row],[Multiplier]]),\"\")","v":""},{"$f":"IFERROR((Table10e80[[#This Row],[Watts/SF]]*Table10e80[[#This Row],[Lit Area (SF)]]*Table10e80[[#This Row],[Multiplier]]),\"\")","v":""},{"$f":"IF(Table10e80[[#This Row],[Installed Watts]]=\"\",\"\",\nIF(Table10e80[[#This Row],[Installed Watts]]<=Table10e80[[#This Row],[ASHRAE W]],\"PASS\",\"FAIL\"))","v":""},{"$f":"IF(Table10e80[[#This Row],[ASHRAE LPD (W/SF)]]=\"\",\"\",0.7*Table10e80[[#This Row],[ASHRAE LPD (W/SF)]])","v":""},{"$f":"IF(Table10e80[[#This Row],[Watts/SF]]<(0.7*Table10e80[[#This Row],[ASHRAE LPD (W/SF)]]),\"FAIL\",\"PASS\")","v":{"$error":"#VALUE!"}}]
[null,null,null,null,null,null,{"$f":"IFERROR(SUM(Table10e80[[#This Row],[A]]*$I$41,Table10e80[[#This Row],[B]]*$J$41,Table10e80[[#This Row],[C]]*$K$41,Table10e80[[#This Row],[D]]*$L$41,Table10e80[[#This Row],[E]]*$M$41,Table10e80[[#This Row],[F]]*$N$41,Table10e80[[#This Row],[G]]*$O$41,Table10e80[[#This Row],[H]]*$P$41,Table10e80[[#This Row],[I]]*$Q$41,Table10e80[[#This Row],[J]]*$R$41,Table10e80[[#This Row],[K]]*$S$41,Table10e80[[#This Row],[L]]*$T$41,Table10e80[[#This Row],[M]]*$U$41,Table10e80[[#This Row],[N]]*$V$41,Table10e80[[#This Row],[O]]*$W$41,Table10e80[[#This Row],[P]]*$X$41,Table10e80[[#This Row],[Q]]*$Y$41,Table10e80[[#This Row],[R]]*$Z$41,Table10e80[[#This Row],[S]]*$AA$41,Table10e80[[#This Row],[T]]*$AB$41,Table10e80[[#This Row],[U]]*$AC$41,Table10e80[[#This Row],[V]]*$AD$41,Table10e80[[#This Row],[W]]*$AE$41,Table10e80[[#This Row],[X]]*$AF$41,Table10e80[[#This Row],[Y]]*$AG$41,Table10e80[[#This Row],[Z]]*$AH$41)/Table10e80[[#This Row],[Lit Area (SF)]],\"\")","v":""},{"$f":"IF(AND($E$45=\"Building Area Method\",$E$46=\"90.1-2010\",Table10e80[[#This Row],[ASHRAE Space Type]]<>\"\"),0.6,\nIF(AND($E$45=\"Building Area Method\",$E$46=\"90.1-2007\",Table10e80[[#This Row],[ASHRAE Space Type]]<>\"\"),0.7,\nIF(AND($E$45=\"Space-by-Space Method\",$E$46=\"90.1-2010\",Table10e80[[#This Row],[ASHRAE Space Type]]<>\"\"),VLOOKUP(Table10e80[[#This Row],[ASHRAE Space Type]],TableRaterFF68_2010[#Data],2,FALSE),\nIF(AND($E$45=\"Space-by-Space Method\",$E$46=\"90.1-2007\",Table10e80[[#This Row],[ASHRAE Space Type]]<>\"\"),VLOOKUP(Table10e80[[#This Row],[ASHRAE Space Type]],TableRaterFF68[#Data],2,FALSE),\"\"))))","v":""},null,null,null,null,null,null,null,null,null,null,null,null,null,null,null,null,null,null,null,null,null,null,null,null,null,null,null,{"$f":"SUM(Table10e80[[#This Row],[A]:[Z]])*Table10e80[[#This Row],[Multiplier]]","v":0},{"$f":"SUM(IF(OR($I$42=\"Tier I\",$I$42=\"Tier II\",$I$42=\"ES\"),Table10e80[[#This Row],[A]]*Table10e80[[#This Row],[Multiplier]],0),\nIF(OR($J$42=\"Tier I\",$J$42=\"Tier II\",$J$42=\"ES\"),Table10e80[[#This Row],[B]]*Table10e80[[#This Row],[Multiplier]],0),\nIF(OR($K$42=\"Tier I\",$K$42=\"Tier II\",$K$42=\"ES\"),Table10e80[[#This Row],[C]]*Table10e80[[#This Row],[Multiplier]],0),\nIF(OR($L$42=\"Tier I\",$L$42=\"Tier II\",$L$42=\"ES\"),Table10e80[[#This Row],[D]]*Table10e80[[#This Row],[Multiplier]],0),\nIF(OR($M$42=\"Tier I\",$M$42=\"Tier II\",$M$42=\"ES\"),Table10e80[[#This Row],[E]]*Table10e80[[#This Row],[Multiplier]],0),\nIF(OR($N$42=\"Tier I\",$N$42=\"Tier II\",$N$42=\"ES\"),Table10e80[[#This Row],[F]]*Table10e80[[#This Row],[Multiplier]],0),\nIF(OR($O$42=\"Tier I\",$O$42=\"Tier II\",$O$42=\"ES\"),Table10e80[[#This Row],[G]]*Table10e80[[#This Row],[Multiplier]],0),\nIF(OR($P$42=\"Tier I\",$P$42=\"Tier II\",$P$42=\"ES\"),Table10e80[[#This Row],[H]]*Table10e80[[#This Row],[Multiplier]],0),\nIF(OR($Q$42=\"Tier I\",$Q$42=\"Tier II\",$Q$42=\"ES\"),Table10e80[[#This Row],[I]]*Table10e80[[#This Row],[Multiplier]],0),\nIF(OR($R$42=\"Tier I\",$R$42=\"Tier II\",$R$42=\"ES\"),Table10e80[[#This Row],[J]]*Table10e80[[#This Row],[Multiplier]],0),\nIF(OR($S$42=\"Tier I\",$S$42=\"Tier II\",$S$42=\"ES\"),Table10e80[[#This Row],[K]]*Table10e80[[#This Row],[Multiplier]],0),\nIF(OR($T$42=\"Tier I\",$T$42=\"Tier II\",$T$42=\"ES\"),Table10e80[[#This Row],[L]]*Table10e80[[#This Row],[Multiplier]],0),\nIF(OR($U$42=\"Tier I\",$U$42=\"Tier II\",$U$42=\"ES\"),Table10e80[[#This Row],[M]]*Table10e80[[#This Row],[Multiplier]],0),\nIF(OR($V$42=\"Tier I\",$V$42=\"Tier II\",$V$42=\"ES\"),Table10e80[[#This Row],[N]]*Table10e80[[#This Row],[Multiplier]],0),\nIF(OR($W$42=\"Tier I\",$W$42=\"Tier II\",$W$42=\"ES\"),Table10e80[[#This Row],[O]]*Table10e80[[#This Row],[Multiplier]],0),\nIF(OR($X$42=\"Tier I\",$X$42=\"Tier II\",$X$42=\"ES\"),Table10e80[[#This Row],[P]]*Table10e80[[#This Row],[Multiplier]],0),\nIF(OR($Y$42=\"Tier I\",$Y$42=\"Tier II\",$Y$42=\"ES\"),Table10e80[[#This Row],[Q]]*Table10e80[[#This Row],[Multiplier]],0),\nIF(OR($Z$42=\"Tier I\",$Z$42=\"Tier II\",$Z$42=\"ES\"),Table10e80[[#This Row],[R]]*Table10e80[[#This Row],[Multiplier]],0),\nIF(OR($AA$42=\"Tier I\",$AA$42=\"Tier II\",$AA$42=\"ES\"),Table10e80[[#This Row],[S]]*Table10e80[[#This Row],[Multiplier]],0),\nIF(OR($AB$42=\"Tier I\",$AB$42=\"Tier II\",$AB$42=\"ES\"),Table10e80[[#This Row],[T]]*Table10e80[[#This Row],[Multiplier]],0),\nIF(OR($AC$42=\"Tier I\",$AC$42=\"Tier II\",$AC$42=\"ES\"),Table10e80[[#This Row],[U]]*Table10e80[[#This Row],[Multiplier]],0),\nIF(OR($AD$42=\"Tier I\",$AD$42=\"Tier II\",$AD$42=\"ES\"),Table10e80[[#This Row],[V]]*Table10e80[[#This Row],[Multiplier]],0),\nIF(OR($AE$42=\"Tier I\",$AE$42=\"Tier II\",$AE$42=\"ES\"),Table10e80[[#This Row],[W]]*Table10e80[[#This Row],[Multiplier]],0),\nIF(OR($AF$42=\"Tier I\",$AF$42=\"Tier II\",$AF$42=\"ES\"),Table10e80[[#This Row],[X]]*Table10e80[[#This Row],[Multiplier]],0),\nIF(OR($AG$42=\"Tier I\",$AG$42=\"Tier II\",$AG$42=\"ES\"),Table10e80[[#This Row],[Y]]*Table10e80[[#This Row],[Multiplier]],0),\nIF(OR($AH$42=\"Tier I\",$AH$42=\"Tier II\",$AH$42=\"ES\"),Table10e80[[#This Row],[Z]]*Table10e80[[#This Row],[Multiplier]],0))","v":0},{"$f":"IF((Table10e80[[#This Row],[Multiplier]]*Table10e80[[#This Row],[Lit Area (SF)]])=0,\"\",(Table10e80[[#This Row],[Multiplier]]*Table10e80[[#This Row],[Lit Area (SF)]]))","v":""},{"$f":"IFERROR((Table10e80[[#This Row],[ASHRAE LPD (W/SF)]]*Table10e80[[#This Row],[Lit Area (SF)]]*Table10e80[[#This Row],[Multiplier]]),\"\")","v":""},{"$f":"IFERROR((Table10e80[[#This Row],[Watts/SF]]*Table10e80[[#This Row],[Lit Area (SF)]]*Table10e80[[#This Row],[Multiplier]]),\"\")","v":""},{"$f":"IF(Table10e80[[#This Row],[Installed Watts]]=\"\",\"\",\nIF(Table10e80[[#This Row],[Installed Watts]]<=Table10e80[[#This Row],[ASHRAE W]],\"PASS\",\"FAIL\"))","v":""},{"$f":"IF(Table10e80[[#This Row],[ASHRAE LPD (W/SF)]]=\"\",\"\",0.7*Table10e80[[#This Row],[ASHRAE LPD (W/SF)]])","v":""},{"$f":"IF(Table10e80[[#This Row],[Watts/SF]]<(0.7*Table10e80[[#This Row],[ASHRAE LPD (W/SF)]]),\"FAIL\",\"PASS\")","v":{"$error":"#VALUE!"}}]
[null,"TOTALS",null,null,{"$f":"IF(SUM(Table10e80[Lit Area (SF)])=0,\"\",SUMPRODUCT(Table10e80[Lit Area (SF)],Table10e80[Multiplier]))","v":9070},null,null,{"$f":"IF(SUM(Table10e80[ASHRAE LPD (W/SF)])=0,\"\",SUM(Table10e80[ASHRAE LPD (W/SF)]))","v":3.5},{"$f":"SUMPRODUCT(I50:I$57,$B50:$B$57)","v":40},{"$f":"SUMPRODUCT(J50:J$57,$B50:$B$57)","v":115},{"$f":"SUMPRODUCT(K50:K$57,$B50:$B$57)","v":90},{"$f":"SUMPRODUCT(L50:L$57,$B50:$B$57)","v":68},{"$f":"SUMPRODUCT(M50:M$57,$B50:$B$57)","v":30},{"$f":"SUMPRODUCT(N50:N$57,$B50:$B$57)","v":0},{"$f":"SUMPRODUCT(O50:O$57,$B50:$B$57)","v":0},{"$f":"SUMPRODUCT(P50:P$57,$B50:$B$57)","v":0},{"$f":"SUMPRODUCT(Q50:Q$57,$B50:$B$57)","v":0},{"$f":"SUMPRODUCT(R50:R$57,$B50:$B$57)","v":0},{"$f":"SUMPRODUCT(S50:S$57,$B50:$B$57)","v":0},{"$f":"SUMPRODUCT(T50:T$57,$B50:$B$57)","v":0},{"$f":"SUMPRODUCT(U50:U$57,$B50:$B$57)","v":0},{"$f":"SUMPRODUCT(V50:V$57,$B50:$B$57)","v":0},{"$f":"SUMPRODUCT(W50:W$57,$B50:$B$57)","v":0},{"$f":"SUMPRODUCT(X50:X$57,$B50:$B$57)","v":0},{"$f":"SUMPRODUCT(Y50:Y$57,$B50:$B$57)","v":0},{"$f":"SUMPRODUCT(Z50:Z$57,$B50:$B$57)","v":0},{"$f":"SUMPRODUCT(AA50:AA$57,$B50:$B$57)","v":0},{"$f":"SUMPRODUCT(AB50:AB$57,$B50:$B$57)","v":0},{"$f":"SUMPRODUCT(AC50:AC$57,$B50:$B$57)","v":0},{"$f":"SUMPRODUCT(AD50:AD$57,$B50:$B$57)","v":0},{"$f":"SUMPRODUCT(AE50:AE$57,$B50:$B$57)","v":0},{"$f":"SUMPRODUCT(AF50:AF$57,$B50:$B$57)","v":0},{"$f":"SUMPRODUCT(AG50:AG$57,$B50:$B$57)","v":0},{"$f":"SUMPRODUCT(AH50:AH$57,$B50:$B$57)","v":0},null,{"$f":"SUM(Table10e80[Total Fixtures])","v":343},{"$f":"SUM(Table10e80[Tier1/ES Fixtures])","v":343},{"$f":"SUM(Table10e80[Lit Area * Multiplier])","v":9070},{"$f":"SUM(Table10e80[ASHRAE W])","v":4817},{"$f":"SUM(Table10e80[Installed Watts])","v":5160},{"$f":"SUM(Table10e80[PASS/FAIL])","v":0}]
[]
[null,{"$f":"IF(COUNTIF(Table10e80[ASHRAE LPD P/F],\"FAIL\")<>0,\"Installed Watts/SF in one or more spaces reflects savings of 30% or greater compared to ASHRAE. Please provide supporting calculations or footcandle measurements to demonstrate that the space is illuminated to the minimum levels required by IESNA.\",\"\")","v":"Installed Watts/SF in one or more spaces reflects savings of 30% or greater compared to ASHRAE. Please provide supporting calculations or footcandle measurements to demonstrate that the space is illuminated to the minimum levels required by IESNA."}]
[]
[null,"Common Space Garage\n(Prescriptive and ERI Path only; ASHRAE Path can enter into APC)"]
[]
[null,"Less than 0.24 W/sf?",null,{"$f":"IF(Table10d122[Installed Watts]<=Table10d122[ASHRAE W],\"PASS\",IF(Table10d122[Installed Watts]=\"\",\"\",\"FAIL\"))","v":"PASS"},null,null,null,"Fixture Label","A","B","C","D","E","F","G","H","I","J","K","L","M","N","O","P","Q","R","S","T","U","V","W","X","Y","Z","Column1","Column2","Column3","Column4","Column5","Column6","Column7","Column8","Column9"]
[null,null,null,null,null,null,null,"Fixture Watts",10,10,15,20,30]
[null,null,null,null,null,null,null,"Efficacy","ES","ES","ES","Tier II","ES"]
[null,null,null,null,null,null,null,null,null,null,null,null,null,null,null,null,null,null,null,null,null,null,null,null,null,null,null,null,null,null,null,null,null,null,null,"hide","hide","hide","hide","hide","hide"]
[null,"Multiplier","Space","ASHRAE Space Type","Lit Area (SF)","Automatic Controls?","Watts/SF","MFNC LPD (W/SF)",{"$f":"Table10c20126[[#Headers],[A]]","v":"A"},{"$f":"Table10c20126[[#Headers],[B]]","v":"B"},{"$f":"Table10c20126[[#Headers],[C]]","v":"C"},{"$f":"Table10c20126[[#Headers],[D]]","v":"D"},{"$f":"Table10c20126[[#Headers],[E]]","v":"E"},{"$f":"Table10c20126[[#Headers],[F]]","v":"F"},{"$f":"Table10c20126[[#Headers],[G]]","v":"G"},{"$f":"Table10c20126[[#Headers],[H]]","v":"H"},{"$f":"Table10c20126[[#Headers],[I]]","v":"I"},{"$f":"Table10c20126[[#Headers],[J]]","v":"J"},{"$f":"Table10c20126[[#Headers],[K]]","v":"K"},{"$f":"Table10c20126[[#Headers],[L]]","v":"L"},{"$f":"Table10c20126[[#Headers],[M]]","v":"M"},{"$f":"Table10c20126[[#Headers],[N]]","v":"N"},{"$f":"Table10c20126[[#Headers],[O]]","v":"O"},{"$f":"Table10c20126[[#Headers],[P]]","v":"P"},{"$f":"Table10c20126[[#Headers],[Q]]","v":"Q"},{"$f":"Table10c20126[[#Headers],[R]]","v":"R"},{"$f":"Table10c20126[[#Headers],[S]]","v":"S"},{"$f":"Table10c20126[[#Headers],[T]]","v":"T"},{"$f":"Table10c20126[[#Headers],[U]]","v":"U"},{"$f":"Table10c20126[[#Headers],[V]]","v":"V"},{"$f":"Table10c20126[[#Headers],[W]]","v":"W"},{"$f":"Table10c20126[[#Headers],[X]]","v":"X"},{"$f":"Table10c20126[[#Headers],[Y]]","v":"Y"},{"$f":"Table10c20126[[#Headers],[Z]]","v":"Z"},null,"Total Fixtures","Tier1/ES Fixtures","ASHRAE W","Installed Watts","Column1","PASS/FAIL"]
[null,"Multiplier","Space","ASHRAE Space Type","Lit Area (SF)","Automatic Controls?","Watts/SF","MFNC LPD (W/SF)","A","B","C","D","E","F","G","H","I","J","K","L","M","N","O","P","Q","R","S","T","U","V","W","X","Y","Z","Column17","Total Fixtures","Tier1/ES Fixtures","ASHRAE W","Installed Watts","Column1","PASS/FAIL","Column2","Column3"]
[null,1,"Garage","Garage",20000,"Yes",{"$f":"IFERROR(SUMPRODUCT($I$65:$AH$65,Table10d122[[#This Row],[A]:[Z]])/Table10d122[[#This Row],[Lit Area (SF)]],\"\")","v":0.2},0.24,null,null,null,50,100,null,null,null,null,null,null,null,null,null,null,null,null,null,null,null,null,null,null,null,null,null,null,{"$f":"SUM(Table10d122[[#This Row],[A]:[Z]])*Table10d122[[#This Row],[Multiplier]]","v":150},{"$f":"SUM(IF(OR($I$66=\"Tier I\",$I$66=\"Tier II\",$I$66=\"ES\"),Table10d122[[#This Row],[A]]*Table10d122[[#This Row],[Multiplier]],0),\nIF(OR($J$66=\"Tier I\",$J$66=\"Tier II\",$J$66=\"ES\"),Table10d122[[#This Row],[B]]*Table10d122[[#This Row],[Multiplier]],0),\nIF(OR($K$66=\"Tier I\",$K$66=\"Tier II\",$K$66=\"ES\"),Table10d122[[#This Row],[C]]*Table10d122[[#This Row],[Multiplier]],0),\nIF(OR($L$66=\"Tier I\",$L$66=\"Tier II\",$L$66=\"ES\"),Table10d122[[#This Row],[D]]*Table10d122[[#This Row],[Multiplier]],0),\nIF(OR($M$66=\"Tier I\",$M$66=\"Tier II\",$M$66=\"ES\"),Table10d122[[#This Row],[E]]*Table10d122[[#This Row],[Multiplier]],0),\nIF(OR($N$66=\"Tier I\",$N$66=\"Tier II\",$N$66=\"ES\"),Table10d122[[#This Row],[F]]*Table10d122[[#This Row],[Multiplier]],0),\nIF(OR($O$66=\"Tier I\",$O$66=\"Tier II\",$O$66=\"ES\"),Table10d122[[#This Row],[G]]*Table10d122[[#This Row],[Multiplier]],0),\nIF(OR($P$66=\"Tier I\",$P$66=\"Tier II\",$P$66=\"ES\"),Table10d122[[#This Row],[H]]*Table10d122[[#This Row],[Multiplier]],0),\nIF(OR($Q$66=\"Tier I\",$Q$66=\"Tier II\",$Q$66=\"ES\"),Table10d122[[#This Row],[I]]*Table10d122[[#This Row],[Multiplier]],0),\nIF(OR($R$66=\"Tier I\",$R$66=\"Tier II\",$R$66=\"ES\"),Table10d122[[#This Row],[J]]*Table10d122[[#This Row],[Multiplier]],0),\nIF(OR($S$66=\"Tier I\",$S$66=\"Tier II\",$S$66=\"ES\"),Table10d122[[#This Row],[K]]*Table10d122[[#This Row],[Multiplier]],0),\nIF(OR($T$66=\"Tier I\",$T$66=\"Tier II\",$T$66=\"ES\"),Table10d122[[#This Row],[L]]*Table10d122[[#This Row],[Multiplier]],0),\nIF(OR($U$66=\"Tier I\",$U$66=\"Tier II\",$U$66=\"ES\"),Table10d122[[#This Row],[M]]*Table10d122[[#This Row],[Multiplier]],0),\nIF(OR($V$66=\"Tier I\",$V$66=\"Tier II\",$V$66=\"ES\"),Table10d122[[#This Row],[N]]*Table10d122[[#This Row],[Multiplier]],0),\nIF(OR($W$66=\"Tier I\",$W$66=\"Tier II\",$W$66=\"ES\"),Table10d122[[#This Row],[O]]*Table10d122[[#This Row],[Multiplier]],0),\nIF(OR($X$66=\"Tier I\",$X$66=\"Tier II\",$X$66=\"ES\"),Table10d122[[#This Row],[P]]*Table10d122[[#This Row],[Multiplier]],0),\nIF(OR($Y$66=\"Tier I\",$Y$66=\"Tier II\",$Y$66=\"ES\"),Table10d122[[#This Row],[Q]]*Table10d122[[#This Row],[Multiplier]],0),\nIF(OR($Z$66=\"Tier I\",$Z$66=\"Tier II\",$Z$66=\"ES\"),Table10d122[[#This Row],[R]]*Table10d122[[#This Row],[Multiplier]],0),\nIF(OR($AA$66=\"Tier I\",$AA$66=\"Tier II\",$AA$66=\"ES\"),Table10d122[[#This Row],[S]]*Table10d122[[#This Row],[Multiplier]],0),\nIF(OR($AB$66=\"Tier I\",$AB$66=\"Tier II\",$AB$66=\"ES\"),Table10d122[[#This Row],[T]]*Table10d122[[#This Row],[Multiplier]],0),\nIF(OR($AC$66=\"Tier I\",$AC$66=\"Tier II\",$AC$66=\"ES\"),Table10d122[[#This Row],[U]]*Table10d122[[#This Row],[Multiplier]],0),\nIF(OR($AD$66=\"Tier I\",$AD$66=\"Tier II\",$AD$66=\"ES\"),Table10d122[[#This Row],[V]]*Table10d122[[#This Row],[Multiplier]],0),\nIF(OR($AE$66=\"Tier I\",$AE$66=\"Tier II\",$AE$66=\"ES\"),Table10d122[[#This Row],[W]]*Table10d122[[#This Row],[Multiplier]],0),\nIF(OR($AF$66=\"Tier I\",$AF$66=\"Tier II\",$AF$66=\"ES\"),Table10d122[[#This Row],[X]]*Table10d122[[#This Row],[Multiplier]],0),\nIF(OR($AG$66=\"Tier I\",$AG$66=\"Tier II\",$AG$66=\"ES\"),Table10d122[[#This Row],[Y]]*Table10d122[[#This Row],[Multiplier]],0),\nIF(OR($AH$66=\"Tier I\",$AH$66=\"Tier II\",$AH$66=\"ES\"),Table10d122[[#This Row],[Z]]*Table10d122[[#This Row],[Multiplier]],0))","v":150},{"$f":"IFERROR(Table10d122[[#This Row],[MFNC LPD (W/SF)]]*Table10d122[[#This Row],[Lit Area (SF)]]*Table10d122[[#This Row],[Multiplier]],\"\")","v":4800},{"$f":"IFERROR(Table10d122[[#This Row],[Watts/SF]]*Table10d122[[#This Row],[Lit Area (SF)]]*Table10d122[[#This Row],[Multiplier]],\"\")","v":4000},{"$f":"IF(Table10d122[[#This Row],[ASHRAE W]]<=Table10d122[[#This Row],[MFNC LPD (W/SF)]],\"PASS\",IF(Table10d122[[#This Row],[ASHRAE W]]=\"\",\"\",\"FAIL\"))","v":"FAIL"},{"$f":"IF(Table10d122[[#This Row],[Installed Watts]]<=Table10d122[[#This Row],[ASHRAE W]],\"PASS\",IF(Table10d122[[#This Row],[Installed Watts]]=\"\",\"\",\"FAIL\"))","v":"PASS"}]
[null,null,null,null,null,null,null,null,null,null,null,null,null,{"$f":"IFERROR((((Table10d122[[#This Row],[Watts/SF]]*$I$41)+(Table10d122[[#This Row],[MFNC LPD (W/SF)]]*$J$41)+(Table10d122[[#This Row],[A]]*$K$41)+(Table10d122[[#This Row],[B]]*$L$41)+(Table10d122[[#This Row],[C]]*$M$41))/Table10d122[Lit Area (SF)]),\"\")","v":""},null,{"$f":"IFERROR(Table10d122[[#This Row],[G]]*Table10d122[[#This Row],[Lit Area (SF)]]*Table10d122[[#This Row],[Multiplier]],\"\")","v":""},{"$f":"IFERROR(Table10d122[[#This Row],[F]]*Table10d122[[#This Row],[Lit Area (SF)]]*Table10d122[[#This Row],[Multiplier]],\"\")","v":""}]
[]
[null,"Exterior Lighting Fixtures\n(Prescriptive and ERI Path only; ASHRAE Path can enter into APC)"]
[]
[null,"Count All Fixtures",null,{"$f":"IF(OR(SUM(Table10bCommonEx123[Total Fixtures])=\"\",SUM(Table10bCommonEx123[Total Fixtures])=0),\"\",SUM(Table10bCommonEx123[Total Fixtures]))","v":138},null,null,null,"Fixture Label","A","B","C","D","E","F","G","H","I","J","K","L","M","N","O","P","Q","R","S","T","U","V","W","X","Y","Z","Column1","Column2","Column3","Column4","Column5","Column6","Column7","Column8","Column9"]
[null,"Are 90% Tier I/II or ES?",null,{"$f":"IF(SUM(Table10bCommonEx123[Total Fixtures])=0,\"\",\nIF((SUM(Table10bCommonEx123[TierI/TierII/ES Fixtures])/SUM(Table10bCommonEx123[Total Fixtures]))>0.9,\"PASS\",\"FAIL\"))","v":"PASS"},null,null,null,"Efficacy","Tier I","Other","Tier I","ES","ES"]
[null,null,null,null,null,null,null,null,null,null,null,null,null,null,null,null,null,null,null,null,null,null,null,null,null,null,null,null,null,null,null,null,null,null,null,"hide","hide"]
[null,null,null,null,null,null,"Space","Automatic Controls?",{"$f":"Table10aCommonEx124[[#Headers],[A]]","v":"A"},{"$f":"Table10aCommonEx124[[#Headers],[B]]","v":"B"},{"$f":"Table10aCommonEx124[[#Headers],[C]]","v":"C"},{"$f":"Table10aCommonEx124[[#Headers],[D]]","v":"D"},{"$f":"Table10aCommonEx124[[#Headers],[E]]","v":"E"},{"$f":"Table10aCommonEx124[[#Headers],[F]]","v":"F"},{"$f":"Table10aCommonEx124[[#Headers],[G]]","v":"G"},{"$f":"Table10aCommonEx124[[#Headers],[H]]","v":"H"},{"$f":"Table10aCommonEx124[[#Headers],[I]]","v":"I"},{"$f":"Table10aCommonEx124[[#Headers],[J]]","v":"J"},{"$f":"Table10aCommonEx124[[#Headers],[K]]","v":"K"},{"$f":"Table10aCommonEx124[[#Headers],[L]]","v":"L"},{"$f":"Table10aCommonEx124[[#Headers],[M]]","v":"M"},{"$f":"Table10aCommonEx124[[#Headers],[N]]","v":"N"},{"$f":"Table10aCommonEx124[[#Headers],[O]]","v":"O"},{"$f":"Table10aCommonEx124[[#Headers],[P]]","v":"P"},{"$f":"Table10aCommonEx124[[#Headers],[Q]]","v":"Q"},{"$f":"Table10aCommonEx124[[#Headers],[R]]","v":"R"},{"$f":"Table10aCommonEx124[[#Headers],[S]]","v":"S"},{"$f":"Table10aCommonEx124[[#Headers],[T]]","v":"T"},{"$f":"Table10aCommonEx124[[#Headers],[U]]","v":"U"},{"$f":"Table10aCommonEx124[[#Headers],[V]]","v":"V"},{"$f":"Table10aCommonEx124[[#Headers],[W]]","v":"W"},{"$f":"Table10aCommonEx124[[#Headers],[X]]","v":"X"},{"$f":"Table10aCommonEx124[[#Headers],[Y]]","v":"Y"},{"$f":"Table10aCommonEx124[[#Headers],[Z]]","v":"Z"},null,"Total Fixtures","TierI/TierII/ES Fixtures"]
[null,null,null,null,null,null,"Space","Automatic Controls?","A","B","C","D","E","F","G","H","I","J","K","L","M","N","O","P","Q","R","S","T","U","V","W","X","Y","Z","Column20","Total Fixtures","TierI/TierII/ES Fixtures","Column1","Column2","Column3","Column4","Column5","Column6"]
[null,null,null,null,null,null,"Entry Way","Yes",null,null,10,5,null,null,null,null,null,null,null,null,null,null,null,null,null,null,null,null,null,null,null,null,null,null,null,{"$f":"SUM(Table10bCommonEx123[[#This Row],[A]:[Z]])","v":15},{"$f":"SUM(IF(OR($I$76=\"Tier I\",$I$76=\"Tier II\",$I$76=\"ES\"),Table10bCommonEx123[[#This Row],[A]],0),\nIF(OR($J$76=\"Tier I\",$J$76=\"Tier II\",$J$76=\"ES\"),Table10bCommonEx123[[#This Row],[B]],0),\nIF(OR($K$76=\"Tier I\",$K$76=\"Tier II\",$K$76=\"ES\"),Table10bCommonEx123[[#This Row],[C]],0),\nIF(OR($L$76=\"Tier I\",$L$76=\"Tier II\",$L$76=\"ES\"),Table10bCommonEx123[[#This Row],[D]],0),\nIF(OR($M$76=\"Tier I\",$M$76=\"Tier II\",$M$76=\"ES\"),Table10bCommonEx123[[#This Row],[E]],0),\nIF(OR($N$76=\"Tier I\",$N$76=\"Tier II\",$N$76=\"ES\"),Table10bCommonEx123[[#This Row],[F]],0),\nIF(OR($O$76=\"Tier I\",$O$76=\"Tier II\",$O$76=\"ES\"),Table10bCommonEx123[[#This Row],[G]],0),\nIF(OR($P$76=\"Tier I\",$P$76=\"Tier II\",$P$76=\"ES\"),Table10bCommonEx123[[#This Row],[H]],0),\nIF(OR($Q$76=\"Tier I\",$Q$76=\"Tier II\",$Q$76=\"ES\"),Table10bCommonEx123[[#This Row],[I]],0),\nIF(OR($R$76=\"Tier I\",$R$76=\"Tier II\",$R$76=\"ES\"),Table10bCommonEx123[[#This Row],[J]],0),\nIF(OR($S$76=\"Tier I\",$S$76=\"Tier II\",$S$76=\"ES\"),Table10bCommonEx123[[#This Row],[K]],0),\nIF(OR($T$76=\"Tier I\",$T$76=\"Tier II\",$T$76=\"ES\"),Table10bCommonEx123[[#This Row],[L]],0),\nIF(OR($U$76=\"Tier I\",$U$76=\"Tier II\",$U$76=\"ES\"),Table10bCommonEx123[[#This Row],[M]],0),\nIF(OR($V$76=\"Tier I\",$V$76=\"Tier II\",$V$76=\"ES\"),Table10bCommonEx123[[#This Row],[N]],0),\nIF(OR($W$76=\"Tier I\",$W$76=\"Tier II\",$W$76=\"ES\"),Table10bCommonEx123[[#This Row],[O]],0),\nIF(OR($X$76=\"Tier I\",$X$76=\"Tier II\",$X$76=\"ES\"),Table10bCommonEx123[[#This Row],[P]],0),\nIF(OR($Y$76=\"Tier I\",$Y$76=\"Tier II\",$Y$76=\"ES\"),Table10bCommonEx123[[#This Row],[Q]],0),\nIF(OR($Z$76=\"Tier I\",$Z$76=\"Tier II\",$Z$76=\"ES\"),Table10bCommonEx123[[#This Row],[R]],0),\nIF(OR($AA$76=\"Tier I\",$AA$76=\"Tier II\",$AA$76=\"ES\"),Table10bCommonEx123[[#This Row],[S]],0),\nIF(OR($AB$76=\"Tier I\",$AB$76=\"Tier II\",$AB$76=\"ES\"),Table10bCommonEx123[[#This Row],[T]],0),\nIF(OR($AC$76=\"Tier I\",$AC$76=\"Tier II\",$AC$76=\"ES\"),Table10bCommonEx123[[#This Row],[U]],0),\nIF(OR($AD$76=\"Tier I\",$AD$76=\"Tier II\",$AD$76=\"ES\"),Table10bCommonEx123[[#This Row],[V]],0),\nIF(OR($AE$76=\"Tier I\",$AE$76=\"Tier II\",$AE$76=\"ES\"),Table10bCommonEx123[[#This Row],[W]],0),\nIF(OR($AF$76=\"Tier I\",$AF$76=\"Tier II\",$AF$76=\"ES\"),Table10bCommonEx123[[#This Row],[X]],0),\nIF(OR($AG$76=\"Tier I\",$AG$76=\"Tier II\",$AG$76=\"ES\"),Table10bCommonEx123[[#This Row],[Y]],0),\nIF(OR($AH$76=\"Tier I\",$AH$76=\"Tier II\",$AH$76=\"ES\"),Table10bCommonEx123[[#This Row],[Z]],0))","v":15}]
[null,null,null,null,null,null,"Pool Deck","Yes",40,null,40,null,null,null,null,null,null,null,null,null,null,null,null,null,null,null,null,null,null,null,null,null,null,null,null,{"$f":"SUM(Table10bCommonEx123[[#This Row],[A]:[Z]])","v":80},{"$f":"SUM(IF(OR($I$76=\"Tier I\",$I$76=\"Tier II\",$I$76=\"ES\"),Table10bCommonEx123[[#This Row],[A]],0),\nIF(OR($J$76=\"Tier I\",$J$76=\"Tier II\",$J$76=\"ES\"),Table10bCommonEx123[[#This Row],[B]],0),\nIF(OR($K$76=\"Tier I\",$K$76=\"Tier II\",$K$76=\"ES\"),Table10bCommonEx123[[#This Row],[C]],0),\nIF(OR($L$76=\"Tier I\",$L$76=\"Tier II\",$L$76=\"ES\"),Table10bCommonEx123[[#This Row],[D]],0),\nIF(OR($M$76=\"Tier I\",$M$76=\"Tier II\",$M$76=\"ES\"),Table10bCommonEx123[[#This Row],[E]],0),\nIF(OR($N$76=\"Tier I\",$N$76=\"Tier II\",$N$76=\"ES\"),Table10bCommonEx123[[#This Row],[F]],0),\nIF(OR($O$76=\"Tier I\",$O$76=\"Tier II\",$O$76=\"ES\"),Table10bCommonEx123[[#This Row],[G]],0),\nIF(OR($P$76=\"Tier I\",$P$76=\"Tier II\",$P$76=\"ES\"),Table10bCommonEx123[[#This Row],[H]],0),\nIF(OR($Q$76=\"Tier I\",$Q$76=\"Tier II\",$Q$76=\"ES\"),Table10bCommonEx123[[#This Row],[I]],0),\nIF(OR($R$76=\"Tier I\",$R$76=\"Tier II\",$R$76=\"ES\"),Table10bCommonEx123[[#This Row],[J]],0),\nIF(OR($S$76=\"Tier I\",$S$76=\"Tier II\",$S$76=\"ES\"),Table10bCommonEx123[[#This Row],[K]],0),\nIF(OR($T$76=\"Tier I\",$T$76=\"Tier II\",$T$76=\"ES\"),Table10bCommonEx123[[#This Row],[L]],0),\nIF(OR($U$76=\"Tier I\",$U$76=\"Tier II\",$U$76=\"ES\"),Table10bCommonEx123[[#This Row],[M]],0),\nIF(OR($V$76=\"Tier I\",$V$76=\"Tier II\",$V$76=\"ES\"),Table10bCommonEx123[[#This Row],[N]],0),\nIF(OR($W$76=\"Tier I\",$W$76=\"Tier II\",$W$76=\"ES\"),Table10bCommonEx123[[#This Row],[O]],0),\nIF(OR($X$76=\"Tier I\",$X$76=\"Tier II\",$X$76=\"ES\"),Table10bCommonEx123[[#This Row],[P]],0),\nIF(OR($Y$76=\"Tier I\",$Y$76=\"Tier II\",$Y$76=\"ES\"),Table10bCommonEx123[[#This Row],[Q]],0),\nIF(OR($Z$76=\"Tier I\",$Z$76=\"Tier II\",$Z$76=\"ES\"),Table10bCommonEx123[[#This Row],[R]],0),\nIF(OR($AA$76=\"Tier I\",$AA$76=\"Tier II\",$AA$76=\"ES\"),Table10bCommonEx123[[#This Row],[S]],0),\nIF(OR($AB$76=\"Tier I\",$AB$76=\"Tier II\",$AB$76=\"ES\"),Table10bCommonEx123[[#This Row],[T]],0),\nIF(OR($AC$76=\"Tier I\",$AC$76=\"Tier II\",$AC$76=\"ES\"),Table10bCommonEx123[[#This Row],[U]],0),\nIF(OR($AD$76=\"Tier I\",$AD$76=\"Tier II\",$AD$76=\"ES\"),Table10bCommonEx123[[#This Row],[V]],0),\nIF(OR($AE$76=\"Tier I\",$AE$76=\"Tier II\",$AE$76=\"ES\"),Table10bCommonEx123[[#This Row],[W]],0),\nIF(OR($AF$76=\"Tier I\",$AF$76=\"Tier II\",$AF$76=\"ES\"),Table10bCommonEx123[[#This Row],[X]],0),\nIF(OR($AG$76=\"Tier I\",$AG$76=\"Tier II\",$AG$76=\"ES\"),Table10bCommonEx123[[#This Row],[Y]],0),\nIF(OR($AH$76=\"Tier I\",$AH$76=\"Tier II\",$AH$76=\"ES\"),Table10bCommonEx123[[#This Row],[Z]],0))","v":80}]
[null,null,null,null,null,null,"Rooftop","Yes",null,10,20,13,null,null,null,null,null,null,null,null,null,null,null,null,null,null,null,null,null,null,null,null,null,null,null,{"$f":"SUM(Table10bCommonEx123[[#This Row],[A]:[Z]])","v":43},{"$f":"SUM(IF(OR($I$76=\"Tier I\",$I$76=\"Tier II\",$I$76=\"ES\"),Table10bCommonEx123[[#This Row],[A]],0),\nIF(OR($J$76=\"Tier I\",$J$76=\"Tier II\",$J$76=\"ES\"),Table10bCommonEx123[[#This Row],[B]],0),\nIF(OR($K$76=\"Tier I\",$K$76=\"Tier II\",$K$76=\"ES\"),Table10bCommonEx123[[#This Row],[C]],0),\nIF(OR($L$76=\"Tier I\",$L$76=\"Tier II\",$L$76=\"ES\"),Table10bCommonEx123[[#This Row],[D]],0),\nIF(OR($M$76=\"Tier I\",$M$76=\"Tier II\",$M$76=\"ES\"),Table10bCommonEx123[[#This Row],[E]],0),\nIF(OR($N$76=\"Tier I\",$N$76=\"Tier II\",$N$76=\"ES\"),Table10bCommonEx123[[#This Row],[F]],0),\nIF(OR($O$76=\"Tier I\",$O$76=\"Tier II\",$O$76=\"ES\"),Table10bCommonEx123[[#This Row],[G]],0),\nIF(OR($P$76=\"Tier I\",$P$76=\"Tier II\",$P$76=\"ES\"),Table10bCommonEx123[[#This Row],[H]],0),\nIF(OR($Q$76=\"Tier I\",$Q$76=\"Tier II\",$Q$76=\"ES\"),Table10bCommonEx123[[#This Row],[I]],0),\nIF(OR($R$76=\"Tier I\",$R$76=\"Tier II\",$R$76=\"ES\"),Table10bCommonEx123[[#This Row],[J]],0),\nIF(OR($S$76=\"Tier I\",$S$76=\"Tier II\",$S$76=\"ES\"),Table10bCommonEx123[[#This Row],[K]],0),\nIF(OR($T$76=\"Tier I\",$T$76=\"Tier II\",$T$76=\"ES\"),Table10bCommonEx123[[#This Row],[L]],0),\nIF(OR($U$76=\"Tier I\",$U$76=\"Tier II\",$U$76=\"ES\"),Table10bCommonEx123[[#This Row],[M]],0),\nIF(OR($V$76=\"Tier I\",$V$76=\"Tier II\",$V$76=\"ES\"),Table10bCommonEx123[[#This Row],[N]],0),\nIF(OR($W$76=\"Tier I\",$W$76=\"Tier II\",$W$76=\"ES\"),Table10bCommonEx123[[#This Row],[O]],0),\nIF(OR($X$76=\"Tier I\",$X$76=\"Tier II\",$X$76=\"ES\"),Table10bCommonEx123[[#This Row],[P]],0),\nIF(OR($Y$76=\"Tier I\",$Y$76=\"Tier II\",$Y$76=\"ES\"),Table10bCommonEx123[[#This Row],[Q]],0),\nIF(OR($Z$76=\"Tier I\",$Z$76=\"Tier II\",$Z$76=\"ES\"),Table10bCommonEx123[[#This Row],[R]],0),\nIF(OR($AA$76=\"Tier I\",$AA$76=\"Tier II\",$AA$76=\"ES\"),Table10bCommonEx123[[#This Row],[S]],0),\nIF(OR($AB$76=\"Tier I\",$AB$76=\"Tier II\",$AB$76=\"ES\"),Table10bCommonEx123[[#This Row],[T]],0),\nIF(OR($AC$76=\"Tier I\",$AC$76=\"Tier II\",$AC$76=\"ES\"),Table10bCommonEx123[[#This Row],[U]],0),\nIF(OR($AD$76=\"Tier I\",$AD$76=\"Tier II\",$AD$76=\"ES\"),Table10bCommonEx123[[#This Row],[V]],0),\nIF(OR($AE$76=\"Tier I\",$AE$76=\"Tier II\",$AE$76=\"ES\"),Table10bCommonEx123[[#This Row],[W]],0),\nIF(OR($AF$76=\"Tier I\",$AF$76=\"Tier II\",$AF$76=\"ES\"),Table10bCommonEx123[[#This Row],[X]],0),\nIF(OR($AG$76=\"Tier I\",$AG$76=\"Tier II\",$AG$76=\"ES\"),Table10bCommonEx123[[#This Row],[Y]],0),\nIF(OR($AH$76=\"Tier I\",$AH$76=\"Tier II\",$AH$76=\"ES\"),Table10bCommonEx123[[#This Row],[Z]],0))","v":33}]

{"sheet":"10. Lighting APC","index":21,"n_rows":2,"n_cols":3,"rows_kept":2,"cut":false,"hidden":true,"merged":[[1,2,1,14]]}
[]
[null,"Instructions: ","ASHRAE Path Projects should use the ASHRAE Path Calculator to demonstrate compliance with the Lighting requirements."]

{"sheet":"11. Ventilation Schedule","index":22,"n_rows":19,"n_cols":17,"rows_kept":19,"cut":false,"hidden":false,"merged":[[18,16,18,21],[15,2,15,14],[5,2,5,14],[1,2,1,14],[8,16,8,21]]}
[]
[null,"Instructions: ","Using Tables: Providing data in orange cells on this tab prior to the Proposed Design submittal is optional, but recommended. \n\nPrior to As-Built submittal, complete all orange cells. See specific instructions below for completing the \"In-Unit Dwelling Unit Ventilation and Local Exhaust Fans\" and the \"Central/Shared Dwelling Unit Ventilation and Local Exhaust Fans\" tables. If make and model numbers were entered at the Proposed Design submittal, mark any changes from the Proposed Design in 'Inspection Comments' (Column O).\n\nPrinting: Optimized for printing in Landscape view."]
[]
[null,"In-Unit Dwelling Unit Ventilation and Local Exhaust Fans"]
[]
[null,"Instructions: ","Complete table. In lieu of entering MFR/model, provide photo with model number, that lists ID in the file name of the photo, AND where applicable, submit evidence of listing in the ENERGY STAR Product Search at time of purchase.\n\nNote: In-unit bathroom fans or in-line fans are ENERGY STAR certified if used as part of the dwelling-unit mechanical ventilation system."]
[]
[null,"ID","DESCRIPTION\n(bath exhaust, range hood, inline fan, balanced, other)","PURPOSE","CONTINUOUS/ INTERMITTENT","MFR","MODEL #","Sones (7.5, 8.2)","ENERGY STAR?","Column1","Column2","LOCATION\n(dwg / spec)","PLAN REVIEW","INSPECTION","INSPECTION COMMENTS \n(Problems, sample details/apt #s, etc.)"]
[null,"V-2","Range","Local-Kitchen","Intermittent","Vandeley Industries","a3-40b",3,"Yes",null,null,"M-25","Yes","Yes","All units",null,"NOTES"]
[null,"V-2a","Bath","Local-Bath","Intermittent","Vandeley Industries","cky2kb",1,"Yes",null,null,"M-26","Yes","Yes","All units"]
[null,"Vx-1","In line","Dwelling","Continuous","Vandeley Industries","WH-589","N/A","Yes",null,null,"M-27","Yes","NA","All units"]
[]
[]
[null,"Central/Shared Dwelling Unit Ventilation and Local Exhaust Fans"]
[]
[null,"Instructions: ","Complete table or provide cut sheet with photo of fan nameplate that clearly identifies features meet requirements.\n\nNote: If central exhaust fans, ≤ 1 HP, are specified as part of the dwelling-unit mechanical ventilation system, then they are direct-drive, ECM, with variable speed controllers. If greater than 1 HP, they are specified with NEMA Premium Motors."]
[]
[null,"ID","DESCRIPTION","PURPOSE","MFR","MODEL #","Greater than 1 HP?","NEMA PREMIUM?","ECM?","DIRECT-DRIVE?","VARIABLE SPEED CONTROLLERS","LOCATION\n(dwg / spec)","PLAN REVIEW","INSPECTION","INSPECTION COMMENTS \n(Problems, sample details/apt #s, etc.)"]
[null,"WhX-2","B4 Condo Shared","Multiple","Vandeley","CMX-Vp01-03","Yes","Yes","Yes","Yes","Yes","M-40","Yes","Yes",null,null,"NOTES"]

{"sheet":"Reference Tables","index":23,"n_rows":107,"n_cols":93,"rows_kept":107,"cut":false,"hidden":false,"merged":[[2,38,2,47],[1,38,1,47],[13,38,13,47],[14,38,14,47],[81,24,81,33],[50,24,50,33],[51,24,51,33],[52,24,52,33],[53,24,53,33],[54,24,54,33],[33,24,33,33],[38,24,38,33],[39,24,39,33],[44,24,44,33],[45,24,45,33],[19,24,19,33],[47,38,47,47],[48,38,48,47],[20,38,20,47],[21,38,21,47],[34,38,34,47],[35,38,35,47],[2,35,2,36],[1,35,1,36],[87,24,87,33],[92,24,92,33],[32,13,32,22],[53,13,53,22],[54,13,54,22],[33,13,33,22],[38,13,38,22],[39,13,39,22],[93,24,93,33],[67,24,67,33],[68,24,68,33],[75,24,75,33],[76,24,76,33],[80,24,80,33],[86,24,86,33],[55,24,55,33],[56,24,56,33],[57,24,57,33],[60,24,60,33],[61,24,61,33],[93,13,93,22],[76,13,76,22],[80,13,80,22],[81,13,81,22],[86,13,86,22],[87,13,87,22],[28,2,28,3],[64,2,64,3],[65,2,65,3],[92,13,92,22],[60,13,60,22],[61,13,61,22],[67,13,67,22],[68,13,68,22],[75,13,75,22],[55,13,55,22],[56,13,56,22],[57,13,57,22],[50,13,50,22],[51,13,51,22],[52,13,52,22],[67,2,67,3],[68,2,68,3],[0,0,0,8],[8,1,8,4],[9,1,9,4],[2,1,2,4],[3,7,3,11],[2,6,2,11],[1,6,1,11],[1,1,1,4],[10,2,10,3],[27,2,27,3],[11,2,11,3],[55,61,55,70],[56,61,56,70],[57,61,57,70],[44,61,44,70],[45,61,45,70],[50,61,50,70],[51,61,51,70],[52,61,52,70],[28,61,28,70],[32,61,32,70],[33,61,33,70],[38,61,38,70],[39,61,39,70],[44,13,44,22],[45,13,45,22],[20,24,20,33],[27,24,27,33],[28,24,28,33],[32,24,32,33],[92,61,92,70],[93,61,93,70],[12,72,12,81],[13,72,13,81],[19,72,19,81],[20,72,20,81],[27,72,27,81],[28,72,28,81],[32,72,32,81],[33,72,33,81],[38,72,38,81],[39,72,39,81],[76,61,76,70],[80,61,80,70],[81,61,81,70],[86,61,86,70],[87,61,87,70],[60,61,60,70],[61,61,61,70],[67,61,67,70],[68,61,68,70],[75,61,75,70],[53,61,53,70],[54,61,54,70],[28,83,28,92],[32,83,32,92],[33,83,33,92],[2,61,2,64],[1,61,1,64],[38,83,38,92],[39,83,39,92],[12,83,12,92],[13,83,13,92],[19,83,19,92],[20,83,20,92],[27,83,27,92],[12,61,12,70],[13,61,13,70],[19,61,19,70],[20,61,20,70],[27,61,27,70],[98,13,98,22],[98,24,98,33],[98,35,98,36],[99,13,99,22],[99,24,99,33],[99,35,99,36],[20,49,20,52],[21,49,21,52],[1,49,1,58],[2,49,2,58],[13,49,13,58],[14,49,14,58],[13,13,13,22],[12,13,12,22],[2,13,2,22],[2,24,2,33],[1,24,1,33],[1,13,1,22],[12,24,12,33],[13,24,13,33],[19,13,19,22],[20,13,20,22],[27,13,27,22],[28,13,28,22]]}
["This tab contains tables related to the ENERGY STAR Multifamily New Construction Program"]
[null,"TableRaterDF4",null,null,null,null,"TableRaterDF11",null,null,null,null,null,null,"ESRefDesign_Insulation_V1",null,null,null,null,null,null,null,null,null,null,"ESRefDesign_Insulation_V11",null,null,null,null,null,null,null,null,null,null,"ESRefDesign_Insulation_V12",null,null,"ESRefDesign_Fenestration_V1",null,null,null,null,null,null,null,null,null,null,"ESRefDesign_Fenestration_V11",null,null,null,null,null,null,null,null,null,null,null,"ESRefDesign_Fenestration_V12"]
[null,"ENERGY STAR Multifamily New Construction Rater Design Review Checklist - Footnote 4",null,null,null,null,"ENERGY STAR Multifamily New Construction Rater Design Review Checklist - Footnote 11",null,null,null,null,null,null,"ENERGY STAR Multifamily New Construction Reference Design, Version 1\nInsulation Levels modeled to 2009 IECC levels (Commercial, wood frame) and Grade I installation per ANSI / RESNET / ICC Standard",null,null,null,null,null,null,null,null,null,null,"ENERGY STAR Multifamily New Construction Reference Design, Version 1.1\nInsulation Levels modeled to 2012 IECC levels (Commercial, wood frame) and Grade I installation per ANSI / RESNET / ICC Standard",null,null,null,null,null,null,null,null,null,null,"ENERGY STAR Multifamily New Construction Reference Design, Version 1.2\nInsulation Levels modeled at the levels below and Grade I installation per ANSI / RESNET / ICC Standard",null,null,"ENERGY STAR Multifamily New Construction Reference Design, Version 1\nDwelling Unit Windows\nInfiltration rates modeled as follows: <0.30 CFM50/ft2 of enclosure. Windows and doors modeled, as illustrated below:",null,null,null,null,null,null,null,null,null,null,"ENERGY STAR Multifamily New Construction Reference Design, Version 1.1\nDwelling Unit Windows\nInfiltration rates modeled as follows: <0.30 CFM50/ft2 of enclosure. Windows and doors modeled, as illustrated below:",null,null,null,null,null,null,null,null,null,null,null,"ENERGY STAR Multifamily New Construction Reference Design, Version 1.2\nDwelling Unit Windows\nInfiltration rates modeled as follows: <0.30 CFM50/ft2 of enclosure. Windows and doors modeled, as illustrated below:"]
[null,"Pathway","Dwelling unit doors and windows that are not classified “Class AW”*","Dwelling unit windows and doors that are classified as “Class AW”*","Common Space†",null,null,"Number of Bedrooms",null,null,null,null,null,"Climate Zone:","CZ 1","CZ 2","CZ 3","CZ 4","CZ 4 C","CZ 5","CZ 6","CZ 7","CZ 8",null,"Climate Zone:","CZ 1","CZ 2","CZ 3","CZ 4","CZ 4 C","CZ 5","CZ 6","CZ 7","CZ 8",null,"Climate Zone:","Insulation Level",null,"Climate Zone:","CZ 1","CZ 2","CZ 3","CZ 4","CZ 4 C","CZ 5","CZ 6","CZ 7","CZ 8",null,"Climate Zone:","CZ 1","CZ 2","CZ 3","CZ 4","CZ 4 C","CZ 5","CZ 6","CZ 7","CZ 8",null,null,"Climate Zone:","CZ 4 C","CZ 5","CZ 6"]
[null,"ERI","2009 IECC Table 402.1.1","2009 IECC Table 502.3","ENERGY STAR MF Reference Design – for Class AW",null,"Floor area","1","2","3","4","5",null,"Slab Insulation R-Value:","NR","NR","NR","R-10","R-10","R-10","R-15","R-15","R-20",null,"Slab Insulation R-Value:","NR","NR","NR","R-10","R-10","R-10","R-15","R-15","R-20",null,"Above-Grade Wall","R-21",null,"Window U-Factor: ","U-0.6","U-0.6","U-0.35","U-0.32","U-0.3","U-0.3","U-0.3","U-0.3","U-0.3",null,"Window U-Factor: ","U-0.4","U-0.4","U-0.3","U-0.3","U-0.27","U-0.27","U-0.27","U-0.27","U-0.27",null,null,"Window U-Factor: ","U-0.27","U-0.27","U-0.27"]
[null,"ASHRAE","2009 IECC Table 402.1.1","2009 IECC Table 502.3","2009 IECC Table 502.3",null,"<500",45,57,67.5,79.5,90,null,"Slab Insulation Depth (ft):",0,0,0,2,2,2,2,2,2,null,"Slab Insulation Depth (ft):",0,0,0,2,2,2,2,2,2,null,"Ceiling","R-49",null,"Window SHGC:",0.27,0.27,0.3,0.4,"Any","Any","Any","Any","Any",null,"Window SHGC:",0.25,0.25,0.25,0.4,"Any","Any","Any","Any","Any",null,null,"Window SHGC:",0.3,0.3,0.3]
[null,"Prescriptive","ENERGY STAR MF Reference Design","ENERGY STAR MF Reference Design – for Class AW","ENERGY STAR MF Reference Design – for Class AW",null,"501-1000",67.5,79.5,90,102,112.5,null,"Basement Wall Continuous Insulation R-Value:","NR","NR","NR","R-7.5","R-7.5","R-7.5","R-7.5","R-10","R-12.5",null,"Basement Wall Continuous Insulation R-Value:","NR","NR","NR","R-7.5","R-7.5","R-7.5","R-7.5","R-10","R-12.5",null,"Floor","R-38",null,"Opaque Door U-Factor","U-0.21","U-0.21","U-0.21","U-0.21","U-0.21","U-0.21","U-0.21","U-0.21","U-0.21",null,"Opaque Door U-Factor","U-0.17","U-0.17","U-0.17","U-0.17","U-0.17","U-0.17","U-0.17","U-0.17","U-0.17",null,null,"Opaque Door U-Factor","U-0.17","U-0.17","U-0.17"]
[null,"* Classified as “Class AW” under the North American Fenestration Standard (AAMA / WDMA / CSA 101 / I.S.2 / A440).",null,null,null,null,"1001-1500",90,102,112.5,124.5,135,null,"Floor Assembly U-Factor:","U-0.282","U-0.052","U-0.033","U-0.033","U-0.033","U-0.033","U-0.033","U-0.033","U-0.033",null,"Floor Assembly U-Factor:","U-0.066","U-0.033","U-0.033","U-0.033","U-0.033","U-0.033","U-0.033","U-0.033","U-0.033",null,"Basement Wall","R-15 continuous or R-21 cavity",null,"≤½ lite Door U-Factor","U-0.27","U-0.27","U-0.27","U-0.27","U-0.27","U-0.27","U-0.27","U-0.27","U-0.27",null,"≤½ lite Door U-Factor","U-0.25","U-0.25","U-0.25","U-0.25","U-0.25","U-0.25","U-0.25","U-0.25","U-0.25",null,null,"≤½ lite Door U-Factor","U-0.25","U-0.25","U-0.25"]
[null,"† Opaque doors in common spaces in CZ1-6 shall not exceed U-0.70, and in CZ 7-8, shall not exceed U-0.5.",null,null,null,null,"1501-2000",112.5,124.5,135,147,157.5,null,"Wall Assembly U-Factor:","U-0.089","U-0.089","U-0.089","U-0.089","U-0.064","U-0.064","U-0.051","U-0.051","U-0.036",null,"Wall Assembly U-Factor:","U-0.064","U-0.064","U-0.064","U-0.064","U-0.064","U-0.064","U-0.051","U-0.051","U-0.036",null,"On-Grade & Below Grade Slab","R-10 at perimeter for entire depth of slab and under entire slab area",null,">½ lite Door U-Factor:","U-0.32","U-0.32","U-0.32","U-0.32","U-0.32","U-0.32","U-0.32","U-0.32","U-0.32",null,">½ lite Door U-Factor:","U-0.3","U-0.3","U-0.3","U-0.3","U-0.3","U-0.3","U-0.3","U-0.3","U-0.3",null,null,">½ lite Door U-Factor:","U-0.3","U-0.3","U-0.3"]
[null,null,null,null,null,null,"2001-2500",135,147,157.5,169.5,180,null,"Ceiling Assembly U-Factor:","U-0.027","U-0.027","U-0.027","U-0.027","U-0.027","U-0.027","U-0.027","U-0.027","U-0.027",null,"Ceiling Assembly U-Factor:","U-0.027","U-0.027","U-0.027","U-0.027","U-0.021","U-0.021","U-0.021","U-0.021","U-0.021",null,null,null,null,"Opaque Door SHGC","Any","Any","Any","Any","Any","Any","Any","Any","Any",null,"Opaque Door SHGC","Any","Any","Any","Any","Any","Any","Any","Any","Any",null,null,"Opaque Door SHGC","Any","Any","Any"]
[null,null,"TableRaterFF68",null,null,null,"2501-3000",157.5,169.5,180,192,202.5,null,null,null,null,null,null,null,null,null,null,null,null,null,null,null,null,null,null,null,null,null,null,null,null,null,null,"≤½ lite Door SHGC",0.3,0.3,0.3,0.3,0.3,0.3,0.3,0.3,0.3,null,"≤½ lite Door SHGC",0.25,0.25,0.25,0.25,0.25,0.25,0.25,0.25,0.25,null,null,"≤½ lite Door SHGC",0.25,0.25,0.25]
[null,null,"ENERGY STAR Multifamily New Construction Rater Field Checklist - Footnote 68",null,null,null,"3001-3500",180,192,202.5,214.5,225,null,null,null,null,null,null,null,null,null,null,null,null,null,null,null,null,null,null,null,null,null,null,null,null,null,null,">½ lite Door SHGC",0.3,0.3,0.3,0.3,0.3,0.3,0.3,0.3,0.3,null,">½ lite Door SHGC",0.25,0.25,0.25,0.4,0.4,0.4,0.4,0.4,0.4,null,null,">½ lite Door SHGC",0.3,0.3,0.3]
[null,null,"ASHRAE Space Type ","Lighting Power Densities (W/ft2)",null,null,"3501-4000",202.5,214.5,225,237,247.5,null,"IECC2009_R_Roofs",null,null,null,null,null,null,null,null,null,null,"IECC2012_R_Roofs",null,null,null,null,null,null,null,null,null,null,null,null,null,null,null,null,null,null,null,null,null,null,null,null,null,null,null,null,null,null,null,null,null,null,null,null,"IECC2009_RU_Roof",null,null,null,null,null,null,null,null,null,null,"IECC2009_OU_Roof",null,null,null,null,null,null,null,null,null,null,"IECC2012_OU_Roof"]
[null,null,"Lobby / Elevator",1.3,null,null,"4001-4500",225,237,247.5,259.5,270,null,"2009 IECC Table 502.2(1) - Building Envelope Requirements - Opaque Assemblies - Group R - Roofs",null,null,null,null,null,null,null,null,null,null,"2012 IECC Table C402.2 - Building Envelope Requirements - Opaque Assemblies - Group R - Roofs",null,null,null,null,null,null,null,null,null,null,null,null,null,"ESRefDesign_FenestrationAW_V1",null,null,null,null,null,null,null,null,null,null,"ESRefDesign_FenestrationAW_V11",null,null,null,null,null,null,null,null,null,null,null,"2009 IECC Table 502.1.2 - Building Envelope Requirements - Opaque Element - Maximum U-Factors - Group R - Roofs",null,null,null,null,null,null,null,null,null,null,"2009 IECC Table 502.1.2 - Building Envelope Requirements - Opaque Element - Maximum U-Factors - All Other - Roofs",null,null,null,null,null,null,null,null,null,null,"2012 IECC Table C402.1.2 - Building Envelope Requirements - Opaque Element - Maximum U-Factors - All Other - Roofs"]
[null,null,"Active Storage (e.g., trash chute / room, janitor closet)",0.8,null,null,"4501-5000",247.5,259.5,270,282,292.5,null,"Climate Zone:","CZ 1","CZ 2","CZ 3","CZ 4","CZ 4 C","CZ 5","CZ 6","CZ 7","CZ 8",null,"Climate Zone:","CZ 1","CZ 2","CZ 3","CZ 4","CZ 4 C","CZ 5","CZ 6","CZ 7","CZ 8",null,null,null,null,"ENERGY STAR Multifamily New Construction Reference Design, Version 1, Class AW\nCommon Area - Class AW Windows in Dwelling Units\nException: Class AW windows modeled to 2012 IECC levels (Commercial window U-Factor requirements)",null,null,null,null,null,null,null,null,null,null,"ENERGY STAR Multifamily New Construction Reference Design, Version 1.1, Class AW\nCommon Area - Class AW Windows in Dwelling Units\nException: Class AW windows modeled to 2012 IECC levels (Commercial window U-Factor requirements)",null,null,null,null,null,null,null,null,null,null,null,"Climate Zone:","CZ 1","CZ 2","CZ 3","CZ 4","CZ 4 C","CZ 5","CZ 6","CZ 7","CZ 8",null,"Climate Zone:","CZ 1","CZ 2","CZ 3","CZ 4","CZ 4 C","CZ 5","CZ 6","CZ 7","CZ 8",null,"Climate Zone:","CZ 1","CZ 2","CZ 3","CZ 4","CZ 4 C","CZ 5","CZ 6","CZ 7","CZ 8"]
[null,null,"Inactive Storage (e.g., tenant storage)",0.3,null,null,null,null,null,null,null,null,null,"Insulation entirely above deck","R-37ci","R-37ci","R-37ci","R-37ci","R-37ci","R-37ci","R-37ci","R-37ci","R-37ci",null,"Insulation entirely above deck","R-37ci","R-37ci","R-37ci","R-37ci","R-48ci","R-48ci","R-48ci","R-48ci","R-48ci",null,null,null,null,"Climate Zone:","CZ 1","CZ 2","CZ 3","CZ 4","CZ 4 C","CZ 5","CZ 6","CZ 7","CZ 8",null,"Climate Zone:","CZ 1","CZ 2","CZ 3","CZ 4","CZ 4 C","CZ 5","CZ 6","CZ 7","CZ 8",null,null,"Insulation entirely above deck","U-0.048","U-0.048","U-0.048","U-0.048","U-0.048","U-0.048","U-0.048","U-0.039","U-0.039",null,"Insulation entirely above deck","U-0.063","U-0.048","U-0.048","U-0.048","U-0.048","U-0.048","U-0.048","U-0.039","U-0.039",null,"Insulation entirely above deck","U-0.048","U-0.048","U-0.048","U-0.039","U-0.039","U-0.039","U-0.032","U-0.028","U-0.028"]
[null,null,"Exercise Area / Room",0.9,null,null,null,null,null,null,null,null,null," -","R-10 + R-19 + R-13","R-10 + R-19 + R-13","R-10 + R-19 + R-13","R-10 + R-19 + R-13","R-10 + R-19 + R-13","R-10 + R-19 + R-13","R-10 + R-19 + R-13","R-10 + R-19 + R-13","R-10 + R-19 + R-13",null," -","R-10 + R-19 + R-13","R-10 + R-19 + R-13","R-10 + R-19 + R-13","R-10 + R-19 + R-13","R-10 + R-19 + R-24","R-10 + R-19 + R-24","R-10 + R-19 + R-24","R-10 + R-19 + R-24","R-10 + R-19 + R-24",null,null,null,null,"Fixed Window U-Factor","U-0.5","U-0.5","U-0.46","U-0.38","U-0.38","U-0.38","U-0.36","U-0.29","U-0.29",null,"Fixed Window U-Factor","U-0.48","U-0.48","U-0.44","U-0.36","U-0.36","U-0.36","U-0.34","U-0.28","U-0.28",null,null," -","U-0.065","U-0.055","U-0.055","U-0.055","U-0.055","U-0.055","U-0.049","U-0.049","U-0.035",null," -","U-0.065","U-0.055","U-0.055","U-0.055","U-0.055","U-0.055","U-0.049","U-0.049","U-0.035",null," -","U-0.044","U-0.035","U-0.035","U-0.035","U-0.035","U-0.035","U-0.031","U-0.029","U-0.029"]
[null,null,"Corridor / Transition",0.5,null,null,null,null,null,null,null,null,null,"Attic and other","R-38","R-38","R-38","R-38",{"$f":"IECC2009_R_Roofs[[#This Row],[CZ 5]]","v":"R-38"},"R-38","R-38","R-38","R-49",null,"Attic and other","R-38","R-38","R-38","R-38","R-49","R-49","R-49","R-49","R-49",null,null,null,null,"Operable Window U-Factor","U-0.65","U-0.65","U-0.6","U-0.45","U-0.45","U-0.45","U-0.43","U-0.37","U-0.37",null,"Operable Window U-Factor","U-0.62","U-0.62","U-0.57","U-0.43","U-0.43","U-0.43","U-0.41","U-0.35","U-0.35",null,null,"Attic and other","U-0.027","U-0.027","U-0.027","U-0.027","U-0.027","U-0.027","U-0.027","U-0.027","U-0.027",null,"Attic and other","U-0.034","U-0.027","U-0.027","U-0.027","U-0.027","U-0.027","U-0.027","U-0.027","U-0.027",null,"Attic and other","U-0.027","U-0.027","U-0.027","U-0.027","U-0.027","U-0.027","U-0.021","U-0.021","U-0.021"]
[null,null,"Stairs - Active",0.6,null,null,null,null,null,null,null,null,null,null,null,null,null,null,null,null,null,null,null,null,null,null,null,null,null,null,null,null,null,null,null,null,null,null,"SHGC",0.27,0.27,0.3,0.4,0.4,0.4,0.4,"Any","Any",null,"SHGC",0.25,0.25,0.25,0.4,0.4,0.4,0.4,"Any","Any"]
[null,null,"Restroom",0.9,null,null,null,null,null,null,null,null,null,"IECC2009_R_WallsAboveGrade",null,null,null,null,null,null,null,null,null,null,"IECC2012_R_WallsAboveGrade",null,null,null,null,null,null,null,null,null,null,null,null,null,null,null,null,null,null,null,null,null,null,null,null,null,null,null,null,null,null,null,null,null,null,null,null,"IECC2009_RU_WallAboveGrade",null,null,null,null,null,null,null,null,null,null,"IECC2009_OU_WallAboveGrade",null,null,null,null,null,null,null,null,null,null,"IECC2012_OU_WallAboveGrade"]
[null,null,"Laundry Room",1.3,null,null,null,null,null,null,null,null,null,"2009 IECC Table 502.2(1) - Building Envelope Requirements - Opaque Assemblies - Group R - Walls, Above Grade",null,null,null,null,null,null,null,null,null,null,"2012 IECC Table C402.2 - Building Envelope Requirements - Opaque Assemblies - Group R - Walls, Above Grade",null,null,null,null,null,null,null,null,null,null,null,null,null,"IECC2009_Fenestration_NotAW_Windows",null,null,null,null,null,null,null,null,null,null,"ESRefDesign_FenestrationAW_V12",null,null,null,null,null,null,null,null,null,null,null,"2009 IECC Table 502.1.2 - Building Envelope Requirements - Opaque Element - Maximum U-Factors - Group R - Walls, Above Grade",null,null,null,null,null,null,null,null,null,null,"2009 IECC Table 502.1.2 - Building Envelope Requirements - Opaque Element - Maximum U-Factors - All Other - Walls, Above Grade",null,null,null,null,null,null,null,null,null,null,"2012 IECC Table C402.1.2 - Building Envelope Requirements - Opaque Element - Maximum U-Factors - All Other - Walls, Above Grade"]
[null,null,"Office",1.1000000000000001,null,null,null,null,null,null,null,null,null,"Climate Zone:","CZ 1","CZ 2","CZ 3","CZ 4","CZ 4 C","CZ 5","CZ 6","CZ 7","CZ 8",null,"Climate Zone:","CZ 1","CZ 2","CZ 3","CZ 4","CZ 4 C","CZ 5","CZ 6","CZ 7","CZ 8",null,null,null,null,"2009 IECC Table 402.1.1 - Insulation and Fenestration Requirements by Component\nDwelling unit doors and windows that are not classified “Class AW”*",null,null,null,null,null,null,null,null,null,null,"ENERGY STAR Multifamily New Construction Reference Design, Version 1.2, Class AW\nCommon Area - Class AW Windows in Dwelling Units\nException: Class AW windows modeled to 2012 IECC levels (Commercial window U-Factor requirements)",null,null,null,null,null,null,null,null,null,null,null,"Climate Zone:","CZ 1","CZ 2","CZ 3","CZ 4","CZ 4 C","CZ 5","CZ 6","CZ 7","CZ 8",null,"Climate Zone:","CZ 1","CZ 2","CZ 3","CZ 4","CZ 4 C","CZ 5","CZ 6","CZ 7","CZ 8",null,"Climate Zone:","CZ 1","CZ 2","CZ 3","CZ 4","CZ 4 C","CZ 5","CZ 6","CZ 7","CZ 8"]
[null,null,"Lounge / Recreation / Community Room / Computer Room",1.2,null,null,null,null,null,null,null,null,null,"Mass","R-12.5ci","R-12.5ci","R-12.5ci","R-18.8ci","R-18.8ci","R-18.8ci","R-25.2ci","R-25.2ci","R-37ci",null,"Mass","R-18.8ci","R-18.8ci","R-18.8ci","R-18.8ci","R-18.8ci","R-18.8ci","R-25.2ci","R-25.2ci","R-37ci",null,null,null,null,"Climate Zone:","CZ 1","CZ 2","CZ 3","CZ 4","CZ 4 C","CZ 5","CZ 6","CZ 7","CZ 8",null,"Climate Zone:","CZ 4 C","CZ 5","CZ 6",null,null,null,null,null,null,null,null,"Mass","U-0.151","U-0.123","U-0.104","U-0.090","U-0.080","U-0.080","U-0.071","U-0.071","U-0.052",null,"Mass","U-0.58","U-0.151","U-0.123","U-0.104","U-0.090","U-0.090","U-0.080","U-0.071","U-0.071",null,"Mass","U-0.142","U-0.142","U-0.110","U-0.104","U-0.078","U-0.078","U-0.078","U-0.061","U-0.061"]
[null,null,"Electrical / Mechanical",1.5,null,null,null,null,null,null,null,null,null," -","R-16 + R-5.5ci","R-16 + R-5.5ci","R-19 + R-5.2ci","R-19 + R-8.9ci","R-13 + R-9.6ci","R-13 + R-9.6ci","R-13 + R-13.5ci","R-19 + R-12.7ci","R-19 + R-30.6ci",null," -","R-13 + R-9.6ci","R-13 + R-9.6ci","R-13 + R-9.6ci","R-13 + R-9.6ci","R-13 + R-9.6ci","R-13 + R-9.6ci","R-13 + R-13.5ci","R-19 + R-12.7ci","R-19 + R-30.6ci",null,null,null,null,"Fenestration U-Factor","U-1.2","U-0.65","U-0.5","U-0.35","U-0.35","U-0.35","U-0.35","U-0.35","U-0.35",null,"Fixed Window U-Factor","U-0.36","U-0.36","U-0.34",null,null,null,null,null,null,null,null," -","U-0.093","U-0.093","U-0.084","U-0.084","U-0.069","U-0.069","U-0.069","U-0.057","U-0.057",null," -","U-0.093","U-0.093","U-0.084","U-0.084","U-0.069","U-0.069","U-0.069","U-0.057","U-0.057",null," -","U-0.079","U-0.079","U-0.079","U-0.052","U-0.052","U-0.052","U-0.052","U-0.052","U-0.052"]
[null,null,"Workshop",1.9,null,null,null,null,null,null,null,null,null,"Metal framed","R-13 + R-3.3ci OR R-19 + R-2.1ci","R-13 + R-3.3ci OR R-19 + R-2.1ci","R-13 + R-3.3ci OR R-19 + R-2.1ci","R-13 + R-7.5ci OR R-19 + R-6.5ci","R-13 + R-7.5ci OR R-19 + R-6.5ci","R-13 + R-7.5ci OR R-19 + R-6.5ci","R-13 + R-11.5ci OR R-19 + R-10.5ci","R-13 + R-11.5ci OR R-19 + R-10.5ci","R-13 + R-20ci OR R-19 + 18.6ci",null,"Metal framed","R-13 + R-7.5ci OR R-19 + R-6.5ci","R-13 + R-7.5ci OR R-19 + R-6.5ci","R-13 + R-7.5ci OR R-19 + R-6.5ci","R-13 + R-7.5ci OR R-19 + R-6.5ci","R-13 + R-7.5ci OR R-19 + R-6.5ci","R-13 + R-7.5ci OR R-19 + R-6.5ci","R-13 + R-11.5ci OR R-19 + R-10.5ci","R-13 + R-11.5ci OR R-19 + R-10.5ci","R-13 + R-20ci OR R-19 + 18.6ci",null,null,null,null,"Skylight U-Factor","U-0.75","U-0.75","U-0.65","U-0.6","U-0.6","U-0.6","U-0.6","U-0.6","U-0.6",null,"Operable Window U-Factor","U-0.43","U-0.43","U-0.41",null,null,null,null,null,null,null,null,"Metal framed","U-0.124","U-0.064","U-0.064","U-0.064","U-0.064","U-0.064","U-0.057","U-0.052","U-0.037",null,"Metal framed","U-0.124","U-0.124","U-0.084","U-0.064","U-0.064","U-0.064","U-0.064","U-0.064","U-0.064",null,"Metal framed","U-0.077","U-0.077","U-0.064","U-0.064","U-0.064","U-0.064","U-0.064","U-0.064","U-0.045"]
[null,null,"Garage",0.24,null,null,null,null,null,null,null,null,null,"Wood framed and other","R-13","R-13","R-13","R-13 + R-3.8ci",{"$f":"IECC2009_R_WallsAboveGrade[[#This Row],[CZ 5]]","v":"R-13 + R-3.8ci"},"R-13 + R-3.8ci","R-13 + R-7.5ci","R-13 + R-7.5ci","R-13 + R-15.6ci",null,"Wood framed and other","R-13 + R-3.8ci or R-20","R-13 + R-3.8ci or R-20","R-13 + R-3.8ci or R-20","R-13 + R-3.8ci or R-20","R-13 + R-7.5ci or R-20 + R-3.8ci","R-13 + R-7.5ci or R-20 + R-3.8ci","R-13 + R-7.5ci or R-20 + R-3.8ci","R-13 + R-7.5ci or R-20 + R-3.8ci","R-13 + R-15.6ci or R-20 + R-10ci",null,null,null,null,"Glazed Fenestration SHGC",0.3,0.3,0.3,"NR","NR","NR","NR","NR","NR",null,"SHGC",0.3,0.3,0.3,null,null,null,null,null,null,null,null,"Wood framed and other","U-0.089","U-0.089","U-0.089","U-0.089","U-0.064","U-0.064","U-0.051","U-0.051","U-0.036",null,"Wood framed and other","U-0.089","U-0.089","U-0.089","U-0.089","U-0.064","U-0.064","U-0.051","U-0.051","U-0.036",null,"Wood framed and other","U-0.064","U-0.064","U-0.064","U-0.064","U-0.064","U-0.064","U-0.051","U-0.051","U-0.036"]
[null,null,null,null,null,null,null,null,null,null,null,null,null,null,null,null,null,null,null,null,null,null,null,null,null,null,null,null,null,null,null,null,null,null,null,null,null,null,"Ceiling R-Value","R-30","R-30","R-30","R-38","R-38","R-38","R-49","R-49","R-49"]
[null,null,"ExhibitX",null,null,null,null,null,null,null,null,null,null,"IECC2009_R_WallsBelowGrade",null,null,null,null,null,null,null,null,null,null,"IECC2012_R_WallsBelowGrade",null,null,null,null,null,null,null,null,null,null,null,null,null,"Wood Frame Wall R-Value","R-13","R-13","R-13","R-13","R-20 or 13+5h","R-20 or 13+5h","R-20 or 13+5h","R-21","R-21",null,null,null,null,null,null,null,null,null,null,null,null,null,"IECC2009_RU_WallBelowGrade",null,null,null,null,null,null,null,null,null,null,"IECC2009_OU_WallBelowGrade",null,null,null,null,null,null,null,null,null,null,"IECC2012_OU_WallBelowGrade"]
[null,null,"ENERGY STAR Multifamily New Construction Rater Field Checklist - Exhibit X†",null,null,null,null,null,null,null,null,null,null,"2009 IECC Table 502.2(1) - Building Envelope Requirements - Opaque Assemblies - Group R - Walls, Below Grade",null,null,null,null,null,null,null,null,null,null,"2012 IECC Table C402.2 - Building Envelope Requirements - Opaque Assemblies - Group R - Walls, Below Grade",null,null,null,null,null,null,null,null,null,null,null,null,null,"Mass Wall R-Value","R-3/4","R-4/6","R-5/8","R-5/10","R-13/17","R-13/17","R-13/17","R-15/19","R-19/21",null,null,null,null,null,null,null,null,null,null,null,null,null,"2009 IECC Table 502.1.2 - Building Envelope Requirements - Opaque Element - Maximum U-Factors - Group R - Walls, Below Grade",null,null,null,null,null,null,null,null,null,null,"2009 IECC Table 502.1.2 - Building Envelope Requirements - Opaque Element - Maximum U-Factors - All Other - Walls, Below Grade",null,null,null,null,null,null,null,null,null,null,"2012 IECC Table C402.1.2 - Building Envelope Requirements - Opaque Element - Maximum U-Factors - All Other - Walls, Below Grade"]
[null,null,"Equipment Type","Minimum Efficiency",null,null,null,null,null,null,null,null,null,"Climate Zone:","CZ 1","CZ 2","CZ 3","CZ 4","CZ 4 C","CZ 5","CZ 6","CZ 7","CZ 8",null,"Climate Zone:","CZ 1","CZ 2","CZ 3","CZ 4","CZ 4 C","CZ 5","CZ 6","CZ 7","CZ 8",null,null,null,null,"Floor R-Value","R-13","R-13","R-19","R-19","R-30g","R-30g","R-30g","R-38g","R-38g",null,null,null,null,null,null,null,null,null,null,null,null,null,"Climate Zone:","CZ 1","CZ 2","CZ 3","CZ 4","CZ 4 C","CZ 5","CZ 6","CZ 7","CZ 8",null,"Climate Zone:","CZ 1","CZ 2","CZ 3","CZ 4","CZ 4 C","CZ 5","CZ 6","CZ 7","CZ 8",null,"Climate Zone:","CZ 1","CZ 2","CZ 3","CZ 4","CZ 4 C","CZ 5","CZ 6","CZ 7","CZ 8"]
[null,null,"Room AC (window, through-wall, ductless mini-splits)","ENERGY STAR certified",null,null,null,null,null,null,null,null,null,"Below grade walld","NR","NR","NR","R-7.5ci",{"$f":"IECC2009_R_WallsBelowGrade[CZ 5]","v":"R-7.5ci"},"R-7.5ci","R-7.5ci","R-10ci","R-12.5ci",null,"Below grade walld","NR","NR","NR","R-7.5ci",{"$f":"IECC2012_R_WallsBelowGrade[CZ 5]","v":"R-7.5ci"},"R-7.5ci","R-7.5ci","R-10ci","R-12.5ci",null,null,null,null,"Basement Wall R-Value","NR","NR","R-5/13f","R-10/13","R-10/13","R-10/13","R-15/19","R-15/19","R-15/19",null,null,null,null,null,null,null,null,null,null,null,null,null,"Below grade wall","C-1.140","C-1.140","C-1.140","C-0.119","C-0.119","C-0.119","C-0.119","C-0.092","C-0.075",null,"Below grade wall","C-1.140","C-1.140","C-1.140","C-1.140","C-0.119","C-0.119","C-0.119","C-0.119","C-0.119",null,"Below grade wall","C-1.140","C-1.140","C-1.140","C-0.119","C-0.119","C-0.119","C-0.119","C-0.092","C-0.092"]
[null,null,"Air conditioners, air cooled (<13 KBtu/h)","13 SEER",null,null,null,null,null,null,null,null,null,null,null,null,null,null,null,null,null,null,null,null,null,null,null,null,null,null,null,null,null,null,null,null,null,null,"Slab R-Value & Depth","NR","NR","NR","R-10, 2 ft","R-10, 2 ft","R-10, 2 ft","R-10, 4 ft","R-10, 4 ft","R-10, 4 ft"]
[null,null,"Air conditioners, air cooled (≥13 and <65 KBtu/h)","See Reference Design",null,null,null,null,null,null,null,null,null,"IECC2009_R_Floors",null,null,null,null,null,null,null,null,null,null,"IECC2012_R_Floors",null,null,null,null,null,null,null,null,null,null,null,null,null,"Crawl Space Wall R-Value","NR","NR","R-5/13","R-10/13","R-10/13","R-10/13","R-10/13","R-10/13","R-10/13",null,null,null,null,null,null,null,null,null,null,null,null,null,"IECC2009_RU_Floor",null,null,null,null,null,null,null,null,null,null,"IECC2009_OU_Floor",null,null,null,null,null,null,null,null,null,null,"IECC2012_OU_Floor"]
[null,null,"Air conditioners, air cooled (≥65 and <240 KBtu/h)","11.5 EER/12.0 IEER",null,null,null,null,null,null,null,null,null,"2009 IECC Table 502.2(1) - Building Envelope Requirements - Opaque Assemblies - Group R - Floors",null,null,null,null,null,null,null,null,null,null,"2012 IECC Table C402.2 - Building Envelope Requirements - Opaque Assemblies - Group R - Floors",null,null,null,null,null,null,null,null,null,null,null,null,null,null,null,null,null,null,null,null,null,null,null,null,null,null,null,null,null,null,null,null,null,null,null,null,"2009 IECC Table 502.1.2 - Building Envelope Requirements - Opaque Element - Maximum U-Factors - Group R - Floors",null,null,null,null,null,null,null,null,null,null,"2009 IECC Table 502.1.2 - Building Envelope Requirements - Opaque Element - Maximum U-Factors - All Other - Floors",null,null,null,null,null,null,null,null,null,null,"2012 IECC Table C402.1.2 - Building Envelope Requirements - Opaque Element - Maximum U-Factors - All Other - Floors"]
[null,null,"Air conditioners, air cooled (≥240 and < 760 KBtu/h)","10.0 EER/10.5 IEER",null,null,null,null,null,null,null,null,null,"Climate Zone:","CZ 1","CZ 2","CZ 3","CZ 4","CZ 4 C","CZ 5","CZ 6","CZ 7","CZ 8",null,"Climate Zone:","CZ 1","CZ 2","CZ 3","CZ 4","CZ 4 C","CZ 5","CZ 6","CZ 7","CZ 8",null,null,null,null,"IECC2009_Fenestration_AW_Windows",null,null,null,null,null,null,null,null,null,null,null,null,null,null,null,null,null,null,null,null,null,null,"Climate Zone:","CZ 1","CZ 2","CZ 3","CZ 4","CZ 4 C","CZ 5","CZ 6","CZ 7","CZ 8",null,"Climate Zone:","CZ 1","CZ 2","CZ 3","CZ 4","CZ 4 C","CZ 5","CZ 6","CZ 7","CZ 8",null,"Climate Zone:","CZ 1","CZ 2","CZ 3","CZ 4","CZ 4 C","CZ 5","CZ 6","CZ 7","CZ 8"]
[null,null,"Electric resistance space heating","·         Not permitted in any dwelling unit using the Prescriptive Path\n·         Electric resistance heating specified in common spaces has a total heating capacity ≤ 12 kBtu/h (3.5 kW) per enclosed space and has automatic thermostatic controls",null,null,null,null,null,null,null,null,null,"Mass","NR","R-16.3ci","R-27.5ci","R-27.5ci","R-27.5ci","R-27.5ci","R-27.5ci","R-27.5ci","R-27.5ci",null,"Mass","R-12ci","R-27.5ci","R-27.5ci","R-27.5ci","R-27.5ci","R-27.5ci","R-27.5ci","R-27.5ci","R-27.5ci",null,null,null,null,"2009 IECC Table 502.3 - Building Envelope Requirements: Fenestration",null,null,null,null,null,null,null,null,null,null,null,null,null,null,null,null,null,null,null,null,null,null,"Mass","U-0.322","U-0.087","U-0.087","U-0.074","U-0.064","U-0.064","U-0.057","U-0.051","U-0.051",null,"Mass","U-0.322","U-0.107","U-0.107","U-0.087","U-0.074","U-0.074","U-0.064","U-0.064","U-0.057",null,"Mass","U-0.322","U-0.107","U-0.076","U-0.076","U-0.074","U-0.074","U-0.064","U-0.055","U-0.055"]
[null,null,"Warm-Air Furnace (<225 KBtu/h, common spaces)","78% AFUE or 80% Et",null,null,null,null,null,null,null,null,null,"Joist/framing\nSteel/(wood)","NR","R-30","R-30","R-30",{"$f":"IECC2009_R_Floors[[#This Row],[CZ 5]]","v":"R-30"},"R-30","R-30e","R-30e","R-30e",null,"Joist/framing\nSteel/(wood)","NR","R-30","R-30","R-30",{"$f":"IECC2012_R_Floors[[#This Row],[CZ 5]]","v":"R-30"},"R-30","R-30e","R-30e","R-30e",null,null,null,null,"Climate Zone:","CZ 1","CZ 2","CZ 3","CZ 4","CZ 4 C","CZ 5","CZ 6","CZ 7","CZ 8",null,null,null,null,null,null,null,null,null,null,null,null,null,"Joist/framing","U-0.282","U-0.052","U-0.033","U-0.033","U-0.033","U-0.033","U-0.033","U-0.033","U-0.033",null,"Joist/framing","U-0.282","U-0.052","U-0.052","U-0.033","U-0.033","U-0.033","U-0.033","U-0.033","U-0.033",null,"Joist/framing","U-0.066","U-0.033","U-0.033","U-0.033","U-0.033","U-0.033","U-0.033","U-0.033","U-0.033"]
[null,null,"Warm-Air Furnace (<225 KBtu/h, dwelling units)","See Reference Design. For PTAC, use 80% Et",null,null,null,null,null,null,null,null,null,null,null,null,null,null,null,null,null,null,null,null,null,null,null,null,null,null,null,null,null,null,null,null,null,null,"Non-Metal","U-1.2","U-0.75","U-0.65","U-0.4","U-0.35","U-0.35","U-0.35","U-0.35","U-0.35"]
[null,null,"Warm-Air Furnace (≥225 KBtu/h)","80% Et (gas)    or     81% Et (oil)",null,null,null,null,null,null,null,null,null,"IECC2009_R_SlabOnGradeFloors",null,null,null,null,null,null,null,null,null,null,"IECC2012_R_SlabOnGradeFloors",null,null,null,null,null,null,null,null,null,null,null,null,null,"Metal - Curtainwall/storefront","U-1.2","U-0.7","U-0.6","U-0.5","U-0.45","U-0.45","U-0.45","U-0.4","U-0.4",null,null,null,null,null,null,null,null,null,null,null,null,null,"IECC2009_RU_SlabOnGradeFloor",null,null,null,null,null,null,null,null,null,null,"IECC2009_OU_SlabOnGradeFloor",null,null,null,null,null,null,null,null,null,null,"IECC2012_OU_SlabOnGradeFloor"]
[null,null,"Packaged Terminal Air Conditioner (PTAC < 7kBtu/h)\nPackaged Terminal Air Conditioner (PTAC > 15 kBtu/h)\nPackaged Terminal Air Conditioner (≥7 and ≤ 15 kBtu/h)","11.9 EER\n9.5 EER\n14 – (0.300 X Cap/1000) EER",null,null,null,null,null,null,null,null,null,"2009 IECC Table 502.2(1) - Building Envelope Requirements - Opaque Assemblies - Group R - Slab-on-Grade Floors",null,null,null,null,null,null,null,null,null,null,"2012 IECC Table C402.2 - Building Envelope Requirements - Opaque Assemblies - Group R - Slab-on-Grade Floors",null,null,null,null,null,null,null,null,null,null,null,null,null,"Metal - Entrance door","U-1.2","U-1.1","U-0.9","U-0.85","U-0.8","U-0.8","U-0.8","U-0.8","U-0.8",null,null,null,null,null,null,null,null,null,null,null,null,null,"2009 IECC Table 502.1.2 - Building Envelope Requirements - Opaque Element - Maximum U-Factors - Group R - Slab-on-Grade Floors",null,null,null,null,null,null,null,null,null,null,"2009 IECC Table 502.1.2 - Building Envelope Requirements - Opaque Element - Maximum U-Factors - All Other - Slab-on-Grade Floors",null,null,null,null,null,null,null,null,null,null,"2012 IECC Table C402.1.2 - Building Envelope Requirements - Opaque Element - Maximum U-Factors - All Other - Slab-on-Grade Floors"]
[null,null,"Packaged Terminal Heat Pump (PTHP) ","Cooling: 14.0– (0.3 X Cap/1000) EER       Heating: 3.7– (0.052 X Cap/1000) COP",null,null,null,null,null,null,null,null,null,"Climate Zone:","CZ 1","CZ 2","CZ 3","CZ 4","CZ 4 C","CZ 5","CZ 6","CZ 7","CZ 8",null,"Climate Zone:","CZ 1","CZ 2","CZ 3","CZ 4","CZ 4 C","CZ 5","CZ 6","CZ 7","CZ 8",null,null,null,null,"Metal - Other","U-1.2","U-0.75","U-0.65","U-0.55","U-0.55","U-0.55","U-0.55","U-0.45","U-0.45",null,null,null,null,null,null,null,null,null,null,null,null,null,"Climate Zone:","CZ 1","CZ 2","CZ 3","CZ 4","CZ 4 C","CZ 5","CZ 6","CZ 7","CZ 8",null,"Climate Zone:","CZ 1","CZ 2","CZ 3","CZ 4","CZ 4 C","CZ 5","CZ 6","CZ 7","CZ 8",null,"Climate Zone:","CZ 1","CZ 2","CZ 3","CZ 4","CZ 4 C","CZ 5","CZ 6","CZ 7","CZ 8"]
[null,null,"Air cooled heat pump (≥13 and <65 KBtu/h)","See Reference Design",null,null,null,null,null,null,null,null,null,"Unheated slabs","NR","NR","NR","R-10 for 24 in. below",{"$f":"IECC2009_R_SlabOnGradeFloors[[#This Row],[CZ 5]]","v":"R-10 for 24 in. below"},"R-10 for 24 in. below","R-15 for 24 in. below","R-15 for 24 in. below","R-20 for 24 in. below",null,"Unheated slabs","NR","NR","NR","R-10 for 24 in. below","R-10 for 24 in. below","R-10 for 24 in. below","R-15 for 24 in. below","R-15 for 24 in. below","R-20 for 24 in. below",null,null,null,null,"Skylights","U-0.75","U-0.75","U-0.65","U-0.6","U-0.6","U-0.6","U-0.6","U-0.6","U-0.6",null,null,null,null,null,null,null,null,null,null,null,null,null,"Unheated slabs","F-0.730","F-0.730","F-0.730","F-0.540","F-0.540","F-0.540","F-0.520","F-0.520","F-0.510",null,"Unheated slabs","F-0.730","F-0.730","F-0.730","F-0.730","F-0.730","F-0.730","F-0.540","F-0.520","F-0.520",null,"Unheated slabs","F-0.73","F-0.73","F-0.73","F-0.54","F-0.54","F-0.54","F-0.54","F-0.40","F-0.40"]
[null,null,"Air cooled heat pump (≥65 and <240 KBtu/h)","Cooling: 11.1 EER/11.6 IEER                    Heating: 3.3 COP (@47°F DB)",null,null,null,null,null,null,null,null,null,"Heated slabs","R-7.5 for 12 in. below","R-7.5 for 12 in. below","R-10 for 24 in. below","R-15 for 24 in. below",{"$f":"IECC2009_R_SlabOnGradeFloors[[#This Row],[CZ 5]]","v":"R-15 for 24 in. below"},"R-15 for 24 in. below","R-20 for 48 in. below","R-20 for 48 in. below","R-20 for 48 in. below",null,"Heated slabs","R-7.5 for 12 in. below","R-7.5 for 12 in. below","R-10 for 24 in. below","R-15 for 24 in. below","R-15 for 36 in. below","R-15 for 36 in. below","R-20 for 48 in. below","R-20 for 48 in. below","R-20 for 48 in. below",null,null,null,null,"SHGC PF < 0.25",0.25,0.25,0.25,0.4,0.4,0.4,0.4,0.45,0.45,null,null,null,null,null,null,null,null,null,null,null,null,null,"Heated slabs","F-1.020","F-1.020","F-0.900","F-0.860","F-0.860","F-0.860","F-0.688","F-0.688","F-0.688",null,"Heated slabs","F-1.020","F-1.020","F-0.900","F-0.860","F-0.860","F-0.860","F-0.860","F-0.830","F-0.688",null,"Heated slabs","F-0.70","F-0.70","F-0.70","F-0.65","F-0.58","F-0.58","F-0.58","F-0.55","F-0.55"]
[null,null,"Air cooled heat pump (≥240 KBtu/h)","Cooling: 9.6 EER/9.6 IEER                      Heating: 3.2 COP (@47°F DB)",null,null,null,null,null,null,null,null,null,null,null,null,null,null,null,null,null,null,null,null,null,null,null,null,null,null,null,null,null,null,null,null,null,null,"SHGC 0.25 < PF < 0.5",0.33,0.33,0.33,"NR","NR","NR","NR","NR","NR"]
[null,null,"Water-source heat pump (<135 KBtu/h)","Cooling: 14.0 EER(86°F entering water) Heating: 4.2 COP(68°F entering water)",null,null,null,null,null,null,null,null,null,"IECC2009_R_OpaqueDoors",null,null,null,null,null,null,null,null,null,null,"IECC2012_R_OpaqueDoors",null,null,null,null,null,null,null,null,null,null,null,null,null,"SHGC PF >= 0.5",0.4,0.4,0.4,"NR","NR","NR","NR","NR","NR"]
[null,null,"Boilers, hot water (<300,000 Btu/h)","See Reference Design",null,null,null,null,null,null,null,null,null,"2009 IECC Table 502.2(1) - Building Envelope Requirements - Opaque Assemblies - Group R - Opaque Doors",null,null,null,null,null,null,null,null,null,null,"2012 IECC Table C402.2 - Building Envelope Requirements - Opaque Assemblies - Group R - Opaque Doors",null,null,null,null,null,null,null,null,null,null,null,null,null,"SHGC Skylights",0.35,0.35,0.35,0.4,0.4,0.4,0.4,"NR","NR"]
[null,null,"Boilers, hot water (≥300,000 Btu/h)","86% Et  (89% Et if using heat pumps)",null,null,null,null,null,null,null,null,null,"Climate Zone:","CZ 1","CZ 2","CZ 3","CZ 4","CZ 4 C","CZ 5","CZ 6","CZ 7","CZ 8",null,"Climate Zone:","CZ 1","CZ 2","CZ 3","CZ 4","CZ 4 C","CZ 5","CZ 6","CZ 7","CZ 8"]
[null,null,"VRF Air Conditioners and Heat Pumps","See Tables 6.8.1I and 6.8.1J of ASHRAE 90.1-2010",null,null,null,null,null,null,null,null,null,"Swinging","U-0.70","U-0.70","U-0.70","U-0.70",{"$f":"IECC2009_R_OpaqueDoors[[#This Row],[CZ 5]]","v":"U-0.70"},"U-0.70","U-0.50","U-0.50","U-0.50",null,"Swinging","U-0.61","U-0.61","U-0.61","U-0.61","U-0.37","U-0.37","U-0.37","U-0.37","U-0.37",null,null,null,null,"IECC2009_Equivalent_Ufactors"]
[null,null,"Air-cooled chillers with or without condenser ","10.0 EER / 12.5 IPLV",null,null,null,null,null,null,null,null,null,"Roll-up or sliding","U-1.45","U-1.45","U-1.45","U-0.50",{"$f":"IECC2009_R_OpaqueDoors[[#This Row],[CZ 5]]","v":"U-0.50"},"U-0.50","U-0.50","U-0.50","U-0.50",null,"Roll-up or sliding","R-4.75","R-4.75","R-4.75","R-4.75","R-4.75","R-4.75","R-4.75","R-4.75","R-4.75",null,null,null,null,"2009 IECC Table 402.1.3 - Equivalent U-Factors"]
[null,null,"Water-cooled chiller, positive displacement (<75 tons)","0.780 kW/ton (Full load) /  0.630 kW/ton (IPLV)",null,null,null,null,null,null,null,null,null,null,null,null,null,null,null,null,null,null,null,null,null,null,null,null,null,null,null,null,null,null,null,null,null,null,"Climate Zone:","CZ 1","CZ 2","CZ 3","CZ 4","CZ 4 C","CZ 5","CZ 6","CZ 7","CZ 8"]
[null,null,"Water-cooled chiller, positive displacement (75-150 tons)","0.775 kW/ton (Full load) /  0.615 kW/ton (IPLV)",null,null,null,null,null,null,null,null,null,"For SI: 1 inch = 25.4 mm.",null,null,null,null,null,null,null,null,null,null,"For SI: 1 inch = 25.4 mm.",null,null,null,null,null,null,null,null,null,null,null,null,null,"Fenestration U-Factor","U-1.2","U-0.65","U-0.5","U-0.35","U-0.35","U-0.35","U-0.35","U-0.35","U-0.35"]
[null,null,"Water-cooled chiller, positive displacement (150-300tons)","0.680 kW/ton (Full load) /  0.580 kW/ton (IPLV)",null,null,null,null,null,null,null,null,null,"ci = Continuous insulation",null,null,null,null,null,null,null,null,null,null,"ci = Continuous insulation",null,null,null,null,null,null,null,null,null,null,null,null,null,"Skylight U-Factor","U-0.75","U-0.75","U-0.65","U-0.6","U-0.6","U-0.6","U-0.6","U-0.6","U-0.6"]
[null,null,"Water-cooled chiller, positive displacement (>300 tons)","0.620 kW/ton (Full load) /  0.540 kW/ton (IPLV)",null,null,null,null,null,null,null,null,null,"NR = No requirement",null,null,null,null,null,null,null,null,null,null,"NR = No requirement",null,null,null,null,null,null,null,null,null,null,null,null,null,"Ceiling U-Factor","U-0.035","U-0.035","U-0.035","U-0.03","U-0.03","U-0.03","U-0.026","U-0.026","U-0.026"]
[null,null,"Water-cooled, centrifugal (<300 tons)","0.634 kW/ton (Full load) /  0.596 kW/ton (IPLV)",null,null,null,null,null,null,null,null,null,"a. When using R-value compliance method, a thermal spacer block is required, otherwise use the U-factor complaince method. [see Tables 502.1.2 and 502.2(2)].",null,null,null,null,null,null,null,null,null,null,"a. Assembly descriptions can be found in ANSI/ASHRAE/IESNA Appendix A.",null,null,null,null,null,null,null,null,null,null,null,null,null,"Frame Wall U-Factor","U-0.082","U-0.082","U-0.082","U-0.082","U-0.057","U-0.057","U-0.057","U-0.057","U-0.057"]
[null,null,"Water-cooled, centrifugal (≥300 and <600 tons)","0.576 kW/ton (Full load) /  0.549 kW/ton (IPLV)",null,null,null,null,null,null,null,null,null,"b. Assembly descriptions can be found in Table 502.2(2).",null,null,null,null,null,null,null,null,null,null,"b. Where using R-vale compliance method, a thermal spacer block shall be provided, otherwise use the U-factor compliance method in Table C402.1.2.",null,null,null,null,null,null,null,null,null,null,null,null,null,"Mass Wall U-Factor","U-0.197","U-0.165","U-0.141","U-0.141","U-0.082","U-0.082","U-0.060","U-0.057","U-0.057"]
[null,null,"Water-cooled, centrifugal (≥600 tons)","0.570 kW/ton (Full load) /  0.539 kW/ton (IPLV)",null,null,null,null,null,null,null,null,null,"c. R-5.7 ci is allowed to be substituted with concrete block walls complying with ASTM C 90, ungrouted or partially grouted at 32 inches or less on vertically and 48 inches or less on center horizontally, with ungrouted cores filled with materials having a maximum thermal coductivity of 0.44 Btu-in./h-f2 F",null,null,null,null,null,null,null,null,null,null,"c. R-5.7 ci is allowed to be substituted with concrete block walls complying with ASTM C 90, ungrouted or partially grouted at 32 inches or less on vertically and 48 inches or less on center horizontally, with ungrouted cores filled with materials having a maximum thermal coductivity of 0.44 Btu-in./h-f2 F",null,null,null,null,null,null,null,null,null,null,null,null,null,"Floor U-Factor","U-0.064","U-0.064","U-0.047","U-0.047","U-0.033","U-0.033","U-0.033","U-0.028","U-0.028"]
[null,null,"Air-cooled absorption single effect chiller","0.6 COP",null,null,null,null,null,null,null,null,null,"d. When heated slabs are placed below grade, below-grade walls must meet the exterior insulation requirements for permimeter insulation according to heated slab-on-grade construction.",null,null,null,null,null,null,null,null,null,null,"d. Where heated slabs are placed below grade, below-grade walls shall comply with the exterior insulation requirements for heated slabs.",null,null,null,null,null,null,null,null,null,null,null,null,null,"Basement Wall U-Factor","U-0.36","U-0.36","U-0.091c","U-0.059","U-0.059","U-0.059","U-0.050","U-0.050","U-0.050"]
[null,null,"Water-cooled absorption single effect chiller","0.7 COP",null,null,null,null,null,null,null,null,null,"e. Steel floor joist systems shall be R-38.",null,null,null,null,null,null,null,null,null,null,"e. Steel floor joist systems shall be insulated to R-38.",null,null,null,null,null,null,null,null,null,null,null,null,null,"Crawl Space Wall U-Factor","U-0.477","U-0.477","U-0.136","U-0.065","U-0.065","U-0.065","U-0.065","U-0.065","U-0.065"]
[null,null,"Absorption double effect indirect-fired chiller","1.0 COP (Full load) / 1.05 COP (IPLV)"]
[null,null,"Absorption double effect direct-fired chiller","1.0 COP (Full load) / 1.00 COP (IPLV)"]
[null,null,"Open-loop propeller or axial fan cooling towers*",">40 gpm/hp (@95°F entering water, 85°F leaving water, 75°F wb entering air)",null,null,null,null,null,null,null,null,null,"IECC2009_O_Roofs",null,null,null,null,null,null,null,null,null,null,"IECC2012_O_Roofs"]
[null,null,"Closed-loop propeller or axial fan cooling towers*",">15 gpm/hp (@102°F entering water, 90°F leaving water, 75°F wb entering air)",null,null,null,null,null,null,null,null,null,"2009 IECC Table 502.2(1) - Building Envelope Requirements - Opaque Assemblies - All Other - Roofs",null,null,null,null,null,null,null,null,null,null,"2012 IECC Table C402.2 - Building Envelope Requirements - Opaque Assemblies - All Other - Roofs"]
[null,null,"Open-loop centrifugal fan cooling towers*",">22 gpm/hp (@95°F entering water, 85°F leaving water, 75°F wb entering air)",null,null,null,null,null,null,null,null,null,"Climate Zone:","CZ 1","CZ 2","CZ 3","CZ 4","CZ 4 C","CZ 5","CZ 6","CZ 7","CZ 8",null,"Climate Zone:","CZ 1","CZ 2","CZ 3","CZ 4","CZ 4 C","CZ 5","CZ 6","CZ 7","CZ 8"]
[null,null,"Closed-loop centrifugal fan cooling towers*",">8 gpm/hp (@102°F entering water, 90°F leaving water, 75°F wb entering air)",null,null,null,null,null,null,null,null,null,"Insulation entirely above deck","R-15ci","R-20ci","R-20ci","R-20ci","R-20ci","R-20ci","R-20ci","R-25ci","R-25ci",null,"Insulation entirely above deck","R-20ci","R-20ci","R-20ci","R-25ci","R-25ci","R-25ci","R-30ci","R-35ci","R-35ci"]
[null,null,"Cap means the rated capacity of the product in Btu/h. If < 7,000 Btu/h, use 7,000; if > 15,000, use 15,000 in calculation.",null,null,null,null,null,null,null,null,null,null," -","R-19","R-13 + R-13","R-13 + R-13","R-13 + R-13","R-13 + R-13","R-13 + R-13","R-13 + R-19","R-13 + R-19","R-11 + R-19",null," -","R-19 + R-11 LS","R-19 + R-11 LS","R-19 + R-11 LS","R-19 + R-11 LS","R-19 + R-11 LS","R-19 + R-11 LS","R-25 + R-11 LS","R-30 + R-11 LS","R-30 + R-11 LS"]
[null,null,"*Cooling tower fan motors must be equipped with VFD controlled by a temperature sensor on the condenser water supply pipe.\n†For Equipment Types not listed here, minimum efficiencies shall be based on those listed in ASHRAE 90.1-2010.",null,null,null,null,null,null,null,null,null,null,"Attic and other","R-30","R-38","R-38","R-38",{"$f":"IECC2009_O_Roofs[[#This Row],[CZ 5]]","v":"R-38"},"R-38","R-38","R-38","R-49",null,"Attic and other","R-38","R-38","R-38","R-38",{"$f":"IECC2012_O_Roofs[[#This Row],[CZ 5]]","v":"R-38"},"R-38","R-49","R-49","R-49"]
[]
[null,null,"TableRaterFF68_2010",null,null,null,null,null,null,null,null,null,null,"IECC2009_O_WallsAboveGrade",null,null,null,null,null,null,null,null,null,null,"IECC2012_O_WallsAboveGrade"]
[null,null,"ENERGY STAR Multifamily New Construction Rater Field Checklist - Footnote 68 2010 values",null,null,null,null,null,null,null,null,null,null,"2009 IECC Table 502.2(1) - Building Envelope Requirements - Opaque Assemblies - All Other - Walls, Above Grade",null,null,null,null,null,null,null,null,null,null,"2012 IECC Table C402.2 - Building Envelope Requirements - Opaque Assemblies - All Other - Walls, Above Grade"]
[null,null,"ASHRAE Space Type ","Lighting Power Densities (W/ft2)",null,null,null,null,null,null,null,null,null,"Climate Zone:","CZ 1","CZ 2","CZ 3","CZ 4","CZ 4 C","CZ 5","CZ 6","CZ 7","CZ 8",null,"Climate Zone:","CZ 1","CZ 2","CZ 3","CZ 4","CZ 4 C","CZ 5","CZ 6","CZ 7","CZ 8"]
[null,null,"Lobby / Elevator",0.9,null,null,null,null,null,null,null,null,null,"Mass","NR","R-5.7ci","R-7.6ci","R-9.5ci","R-11.4ci","R-11.4ci","R-13.3ci","R-15.2ci","R-25ci",null,"Mass","R-5.7ci","R-5.7ci","R-7.6ci","R-9.5ci","R-11.4ci","R-11.4ci","R-13.3ci","R-15.2ci","R-25ci"]
[null,null,"Active Storage (e.g., trash chute / room, janitor closet)",0.63,null,null,null,null,null,null,null,null,null," -","R-16","R-16","R-19","R-19","R-13 + R-5.6ci","R-13 + R-5.6ci","R-13 + R-5.6ci","R-19 + R-5.6ci","R-19 + R-5.6ci",null," -","R-13 + R-6.5ci","R-13 + R-6.5ci","R-13 + R-6.5ci","R-13 + R-13ci","R-13 + R-13ci","R-13 + R-13ci","R-13 + R-13ci","R-13 + R-13ci","R-13 + R-13ci"]
[null,null,"Inactive Storage (e.g., tenant storage)",0.63,null,null,null,null,null,null,null,null,null,"Metal framed","R-13","R-13","R-13 + R-3.8ci","R-13 + R-7.5ci","R-13 + R-7.5ci","R-13 + R-7.5ci","R-13 + R-7.5ci","R-13 + R-7.5ci","R-13 + R-7.5ci",null,"Metal framed","R-13 + R-5ci","R-13 + R-5ci","R-13 + R-7.5ci","R-13 + R-7.5ci","R-13 + R-7.5ci","R-13 + R-7.5ci","R-13 + R-7.5ci","R-13 + R-7.5ci","R-13 + R-7.5ci"]
[null,null,"Exercise Area / Room",0.72,null,null,null,null,null,null,null,null,null,"Wood framed and other","R-13","R-13","R-13","R-13","R-13 + R-3.8ci","R-13 + R-3.8ci","R-13 + R-7.5ci","R-13 + R-7.5ci","R-13 + R-15.6ci",null,"Wood framed and other","R-13 + R-3.8ci or R-20","R-13 + R-3.8ci or R-20","R-13 + R-3.8ci or R-20","R-13 + R-3.8ci or R-20","R-13 + R-3.8ci or R-20","R-13 + R-3.8ci or R-20","R-13 + R-7.5ci or R-20 +R-3.8ci","R-13 + R-7.5ci or R-20 +R-3.8ci","R-13 + R-15.6ci or R-20 +R-10ci"]
[null,null,"Corridor / Transition",0.66]
[null,null,"Stairs - Active",0.69,null,null,null,null,null,null,null,null,null,"IECC2009_O_WallsBelowGrade",null,null,null,null,null,null,null,null,null,null,"IECC2012_O_WallsBelowGrade"]
[null,null,"Restroom",0.98,null,null,null,null,null,null,null,null,null,"2009 IECC Table 502.2(1) - Building Envelope Requirements - Opaque Assemblies - All Other - Walls, Below Grade",null,null,null,null,null,null,null,null,null,null,"2012 IECC Table C402.2 - Building Envelope Requirements - Opaque Assemblies - All Other - Walls, Below Grade"]
[null,null,"Laundry Room",1.23,null,null,null,null,null,null,null,null,null,"Climate Zone:","CZ 1","CZ 2","CZ 3","CZ 4","CZ 4 C","CZ 5","CZ 6","CZ 7","CZ 8",null,"Climate Zone:","CZ 1","CZ 2","CZ 3","CZ 4","CZ 4 C","CZ 5","CZ 6","CZ 7","CZ 8"]
[null,null,"Office",1.1100000000000001,null,null,null,null,null,null,null,null,null,"Below grade walld","NR","NR","NR","NR","R-7.5ci","R-7.5ci","R-7.5ci","R-7.5ci","R-7.5ci",null,"Below grade walld","NR","NR","NR","R-7.5ci","R-7.5ci","R-7.5ci","R-7.5ci","R-10ci","R-10ci"]
[null,null,"Lounge / Recreation / Community Room / Computer Room",0.73]
[null,null,"Electrical / Mechanical",0.95,null,null,null,null,null,null,null,null,null,"IECC2009_O_Floors",null,null,null,null,null,null,null,null,null,null,"IECC2012_O_Floors"]
[null,null,"Workshop",1.59,null,null,null,null,null,null,null,null,null,"2009 IECC Table 502.2(1) - Building Envelope Requirements - Opaque Assemblies - All Other - Floors",null,null,null,null,null,null,null,null,null,null,"2012 IECC TTable C402.2 - Building Envelope Requirements - Opaque Assemblies - All Other - Floors"]
[null,null,"Garage",0.24,null,null,null,null,null,null,null,null,null,"Climate Zone:","CZ 1","CZ 2","CZ 3","CZ 4","CZ 4 C","CZ 5","CZ 6","CZ 7","CZ 8",null,"Climate Zone:","CZ 1","CZ 2","CZ 3","CZ 4","CZ 4 C","CZ 5","CZ 6","CZ 7","CZ 8"]
[null,null,null,null,null,null,null,null,null,null,null,null,null,"Mass","NR","R-6.3ci","R-6.3ci","R-10ci","R-10ci","R-10ci","R-12.5ci","R-15ci","R-15ci",null,"Mass","NR","R-6.3ci","R-10ci","R-10ci","R-10ci","R-10ci","R-12.5ci","R-15ci","R-15ci"]
[null,null,null,null,null,null,null,null,null,null,null,null,null,"Joist/framing\nSteel/(wood)","NR","R-19","R-19","R-30","R-30","R-30","R-30","R-30","R-30e",null,"Joist/framing\nSteel/(wood)","NR","R-30","R-30","R-30","R-30","R-30","R-30","R-30e","R-30e"]
[]
[null,null,null,null,null,null,null,null,null,null,null,null,null,"IECC2009_O_SlabOnGradeFloors",null,null,null,null,null,null,null,null,null,null,"IECC2012_O_SlabOnGradeFloors"]
[null,null,null,null,null,null,null,null,null,null,null,null,null,"2009 IECC Table 502.2(1) - Building Envelope Requirements - Opaque Assemblies - All Other - Slab-on-Grade Floors",null,null,null,null,null,null,null,null,null,null,"2012 IECC Table C402.2 - Building Envelope Requirements - Opaque Assemblies - All Other - Slab-on-Grade Floors"]
[null,null,null,null,null,null,null,null,null,null,null,null,null,"Climate Zone:","CZ 1","CZ 2","CZ 3","CZ 4","CZ 4 C","CZ 5","CZ 6","CZ 7","CZ 8",null,"Climate Zone:","CZ 1","CZ 2","CZ 3","CZ 4","CZ 4 C","CZ 5","CZ 6","CZ 7","CZ 8"]
[null,null,null,null,null,null,null,null,null,null,null,null,null,"Unheated slabs","NR","NR","NR","R-5","R-5","R-5","R-10 for 24 in. below","R-15 for 24 in. below","R-15 for 24 in. below",null,"Unheated slabs","NR","NR","NR","R-10 for 24 in. below","R-10 for 24 in. below","R-10 for 24 in. below","R-10 for 24 in. below","R-15 for 24 in. below","R-15 for 24 in. below"]
[null,null,null,null,null,null,null,null,null,null,null,null,null,"Heated slabs","R-7.5 for 12 in. below","R-7.5 for 12 in. below","R-10 for 24 in. below","R-15 for 24 in. below","R-15 for 24 in. below","R-15 for 24 in. below","R-15 for 24 in. below","R-20 for 24 in. below","R-20 for 48 in. below",null,"Heated slabs","R-7.5 for 12 in. below","R-7.5 for 12 in. below","R-10 for 24 in. below","R-15 for 24 in. below","R-15 for 36 in. below","R-15 for 36 in. below","R-15 for 36 in. below","R-20 for 24 in. below","R-20 for 48 in. below"]
[]
[null,null,null,null,null,null,null,null,null,null,null,null,null,"IECC2009_O_OpaqueDoors",null,null,null,null,null,null,null,null,null,null,"IECC2012_O_OpaqueDoors"]
[null,null,null,null,null,null,null,null,null,null,null,null,null,"2009 IECC Table 502.2(1) - Building Envelope Requirements - Opaque Assemblies - All Other - Opaque Doors",null,null,null,null,null,null,null,null,null,null,"2012 IECC Table C402.2 - Building Envelope Requirements - Opaque Assemblies - All Other - Opaque Doors"]
[null,null,null,null,null,null,null,null,null,null,null,null,null,"Climate Zone:","CZ 1","CZ 2","CZ 3","CZ 4","CZ 4 C","CZ 5","CZ 6","CZ 7","CZ 8",null,"Climate Zone:","CZ 1","CZ 2","CZ 3","CZ 4","CZ 4 C","CZ 5","CZ 6","CZ 7","CZ 8"]
[null,null,null,null,null,null,null,null,null,null,null,null,null,"Swinging","U-0.70","U-0.70","U-0.70","U-0.70",{"$f":"IECC2009_O_OpaqueDoors[[#This Row],[CZ 5]]","v":"U-0.70"},"U-0.70","U-0.70","U-0.50","U-0.50",null,"Swinging","U-0.61","U-0.61","U-0.61","U-0.61","U-0.37","U-0.37","U-0.37","U-0.37","U-0.37"]
[null,null,null,null,null,null,null,null,null,null,null,null,null,"Roll-up or sliding","U-1.45","U-1.45","U-1.45","U-0.50",{"$f":"IECC2009_O_OpaqueDoors[[#This Row],[CZ 5]]","v":"U-0.50"},"U-0.50","U-0.50","U-0.50","U-0.50",null,"Roll-up or sliding","R-4.75","R-4.75","R-4.75","R-4.75","R-4.75","R-4.75","R-4.75","R-4.75","R-4.75"]
[]
[null,null,null,null,null,null,null,null,null,null,null,null,null,"ESRefDesign_InsulationU_V1",null,null,null,null,null,null,null,null,null,null,"ESRefDesign_InsulationU_V11",null,null,null,null,null,null,null,null,null,null,"ESRefDesign_InsulationU_V12"]
[null,null,null,null,null,null,null,null,null,null,null,null,null,"ENERGY STAR Multifamily New Construction Reference Design, Version 1\nInsulation Levels modeled to 2009 IECC levels (Commercial, wood frame) and Grade I installation per ANSI / RESNET / ICC Standard",null,null,null,null,null,null,null,null,null,null,"ENERGY STAR Multifamily New Construction Reference Design, Version 1.1\nInsulation Levels modeled to 2012 IECC levels (Commercial, wood frame) and Grade I installation per ANSI / RESNET / ICC Standard",null,null,null,null,null,null,null,null,null,null,"ENERGY STAR Multifamily New Construction Reference Design, Version 1.2\nInsulation Levels modeled at the levels below and Grade I installation per ANSI / RESNET / ICC Standard"]
[null,null,null,null,null,null,null,null,null,null,null,null,null,"Climate Zone:","CZ 1","CZ 2","CZ 3","CZ 4","CZ 4 C","CZ 5","CZ 6","CZ 7","CZ 8",null,"Climate Zone:","CZ 1","CZ 2","CZ 3","CZ 4","CZ 4 C","CZ 5","CZ 6","CZ 7","CZ 8",null,"Climate Zone:","Insulation Level"]
[null,null,null,null,null,null,null,null,null,null,null,null,null,"Slab Insulation R-Value:","NR","NR","NR","R-10","R-10","R-10","R-15","R-15","R-20",null,"Slab Insulation R-Value:","NR","NR","NR","R-10","R-10","R-10","R-15","R-15","R-20",null,"Above-Grade Wall","R-21"]
[null,null,null,null,null,null,null,null,null,null,null,null,null,"Slab Insulation Depth (ft):",0,0,0,2,2,2,2,2,2,null,"Slab Insulation Depth (ft):",0,0,0,2,2,2,2,2,2,null,"Ceiling","R-49"]
[null,null,null,null,null,null,null,null,null,null,null,null,null,"Basement Wall Continuous Insulation R-Value:",0,0,0,"R-7.5","R-7.5","R-7.5","R-7.5","R-10","R-12.5",null,"Basement Wall Continuous Insulation R-Value:",0,0,0,"R-7.5","R-7.5","R-7.5","R-7.5","R-10","R-12.5",null,"Floor","R-38"]
[null,null,null,null,null,null,null,null,null,null,null,null,null,"Floor Assembly U-Factor:","U-0.282","U-0.052","U-0.033","U-0.033","U-0.033","U-0.033","U-0.033","U-0.033","U-0.033",null,"Floor Assembly U-Factor:","U-0.066","U-0.033","U-0.033","U-0.033","U-0.033","U-0.033","U-0.033","U-0.033","U-0.033",null,"Basement Wall","R-15 continuous or R-21 cavity"]
[null,null,null,null,null,null,null,null,null,null,null,null,null,"Wall Assembly U-Factor:","U-0.089","U-0.089","U-0.089","U-0.064","U-0.051","U-0.051","U-0.051","U-0.051","U-0.036",null,"Wall Assembly U-Factor:","U-0.064","U-0.064","U-0.064","U-0.064","U-0.064","U-0.064","U-0.051","U-0.051","U-0.036",null,"On-Grade & Below Grade Slab","R-10 at perimeter for entire depth of slab and under entire slab area"]
[null,null,null,null,null,null,null,null,null,null,null,null,null,"Ceiling Assembly U-Factor:","U-0.027","U-0.027","U-0.027","U-0.027","U-0.027","U-0.027","U-0.027","U-0.027","U-0.027",null,"Ceiling Assembly U-Factor:","U-0.027","U-0.027","U-0.027","U-0.027","U-0.021","U-0.021","U-0.021","U-0.021","U-0.021"]

{"sheet":"Dropdowns","index":24,"n_rows":35,"n_cols":30,"rows_kept":35,"cut":false,"hidden":true,"merged":[[0,5,0,7],[0,9,0,10],[0,12,0,22],[11,13,11,19]]}
["Dropdown menus",null,null,null,"1a. Rater Design Checklist","2. Unit Testing Results",null,null,"9. Heating and Cooling Schedule","12. Ventilation Schedule",null,"10. Lighting","5a. Envelope R-Values",null,null,null,null,null,null,null,null,null,null,"6. Fenestration"]
[null,null,null,null,"Rater-D 3.2.2",null,null,"AC Tons","Heating/Cooling","Purpose","Continuous/Intermittent","Bulb Type",null,null,null,null,null,null,null,null,"ES MFNC Version",null,null,"ESRefClassAW","ClassAW?","502.3 Table","Door","ESRefNotClassAW",null,"BuildingComponents_ESRefListV12_UABuildingComponents"]
["SELECT PATH",null,"Yes",null,"SELECT PATH","SELECT","SELECT","SELECT","SELECT","Local-Bath","Continuous","Tier I",null,"Building Components_IECCList","Roofs","Walls, Above Grade","Walls, Below Grade","Floors","Slab-on-Grade Floors","Opaque Doors","Version 1","BuildingComponents_ESRefList","ESRefNoCom","Fixed","Class AW","Non-Metal","Glazed Entrance Door","Window","BuildingComponents_ESRefListv12","Above-Grade Wall"]
[null,null,"No",null,"R","Rough-In","Intermittent",1,"Heating","Local-Kitchen","Intermittent","Tier II","Dwelling","Roofs","Insulation entirely above deck","Mass","Below grade wall","Mass","Unheated slabs","Swinging","Version 1.1","Slab Insulation","N/A","Operable","Not Class AW","Metal - Curtainwall/storefront","Opaque Door","Opaque Door","Above-Grade Wall","Ceiling"]
["ERI","ERI","NA",null,"U","Final","Continuous",1.5,"Cooling","Dwelling",null,"ES","Common","Walls, Above Grade","Metal buildings (with R-5 thermal blocks)"," -",null,"Joist/framing\nSteel/(wood)","Heated slabs","Roll-up or sliding","Version 1.2 OR+WA","Basement Wall Continuous Insulation",null,null,null,"Metal - Entrance door","≤½ Lite Door","≤½ lite Door","Ceiling","Basement Wall"]
["ASHRAE","ASHRAE",null,null,"UA",null,null,2,"Both","Multiple",null,"Other",null,"Walls, Below Grade","Attic and other","Metal framed",null,null,null,null,null,"Floor Assembly",null,null,null,"Metal - Other",">½ Lite Door",">½ lite Door","Floor","On-Grade & Below Grade Slab"]
["Title 24","Prescriptive",null,null,null,null,null,2.5,null,"Both",null,null,null,"Floors",null,"Wood framed and other",null,null,null,null,null,"Wall Assembly",null,null,null,null,null,null,"Basement Wall","Fenestration"]
["Prescriptive","Title 24 - Dwelling Unit Models",null,null,null,null,null,3,null,null,null,null,null,"Slab-on-Grade Floors",null,null,null,null,null,null,null,"Ceiling Assembly",null,null,null,null,null,null,"On-Grade & Below Grade Slab","Balcony"]
[null,"Title 24 - Whole Building Models",null,null,null,null,null,3.5,null,null,null,null,"removed Opaque Doors >>",null,null,null,null,null,null,null,null,null,null,null,null,null,null,null,null,"Floor Assembly"]
[null,null,null,null,null,null,null,4,null,null,null,null,null,null,null,null,null,null,null,null,null,null,null,null,null,null,null,null,null,"Floor Above Garage"]
[null,null,null,null,null,null,null,null,null,null,null,null,null,null,null,null,null,null,null,null,null,null,null,null,null,null,null,null,null,"Floor Above Garage Columns"]
["Space-by-Space Method",null,null,null,null,null,null,null,null,null,null,null,null,"5c. Total UA Compliance",null,null,null,null,null,null,null,null,"Table 502.3"]
["Whole Building Area Method",null,null,null,null,null,null,null,null,null,null,null,null,"Building Components","Roof","Wall, Above Grade","Wall, Below Grade","Floor","Slab-on-Grade Floor","Opaque Door","Floor Above Garage","Balcony","Fenestration"]
[null,null,null,null,null,null,null,null,null,null,null,null,null,"Roof","Insulation entirely above deck","Mass","Below grade wall","Mass","Unheated slabs","Swinging","Floor Above Garage","Balcony","Non-Metal"]
[null,null,"Projection Factors",null,null,null,null,null,null,null,null,null,null,"Wall, Above Grade","Metal buildings"," -",null,"Joist/framing","Heated slabs","Roll-up or sliding",null,null,"Metal - Curtainwall/storefront"]
["MANUALLY COMPARE VALUES",null,"< 0.25",null,null,null,null,null,null,null,null,null,null,"Wall, Below Grade","Attic and other","Metal framed",null,null,null,null,null,null,"Metal - Entrance door"]
["PASS",null,"0.25 < PF < 0.5",null,null,null,null,null,null,null,null,null,null,"Floor",null,"Wood framed and other",null,null,null,null,null,null,"Metal - Other"]
["FAIL",null,">= 0.5",null,null,null,null,null,null,null,null,null,null,"Floor above Garage"]
[null,null,null,null,null,null,null,null,null,null,null,null,null,"Slab-on-Grade Floor"]
[null,null,null,null,null,null,null,null,null,null,null,null,null,"Balcony"]
[null,null,null,null,null,null,null,null,null,null,null,null,null,"Fenestration"]
["HVAC Pathways"]
["Track A - HVAC Grading by Rater"]
["Track B - HVAC Testing by FT Agent"]
[]
[null,null,null,null,null,null,null,null,null,null,null,null,null,"PrescriptivePath_UABuildingComponents","ERI_AHSRAE_UABuildingComponents","FloorAssembly","WallAssembly","CeilingAssembly","NotApplicable",null,"PrescriptivePath_UBuildingComponents","ERI_AHSRAE_UBuildingComponents"]
[null,null,null,null,null,null,null,null,null,null,null,null,null,"Wall Assembly","Roofs","N/A","N/A","N/A","N/A",null,"Floor Assembly","Roofs"]
[null,null,null,null,null,null,null,null,null,null,null,null,null,"Slab Insulation","Walls, Above Grade",null,null,null,null,null,"Wall Assembly","Walls, Above Grade"]
[null,null,null,null,null,null,null,null,null,null,"Floor Assembly",null,null,"Basement Wall Continuous Insulation","Walls, Below Grade",null,null,null,null,null,"Ceiling Assembly","Walls, Below Grade"]
[null,null,null,null,null,null,null,null,null,null,"Floor Above Garage",null,null,"Ceiling Assembly","Slab-on-Grade Floors",null,null,null,null,null,null,"Floors"]
[null,null,null,null,null,null,null,null,null,null,"Floor Above Garage Columns",null,null,"Fenestration","Fenestration",null,null,null,null,null,null,"Slab-on-Grade Floors"]
[null,null,null,null,null,null,null,null,null,null,null,null,null,"Balcony","Balcony",null,null,null,null,null,null,"Floors above Garage"]
[null,null,null,null,null,null,null,null,null,null,null,null,null,"Floor Assembly","Floor Assembly"]
[null,null,null,null,null,null,null,null,null,null,null,null,null,"Floor Above Garage","Floor Above Garage"]
[null,null,null,null,null,null,null,null,null,null,null,null,null,"Floor Above Garage Columns","Floor Above Garage Columns"]